{"text_format":"1","workbook":"xlsx","n_sheets":9,"sheets":["Design","Result Print","Add module","Add Location","Module","Inverter","GeoMet","Language","test"],"not_rendered":{"charts":0,"images":14,"macros":1,"external_links":0,"defined_names":25,"comments":2,"pivot_tables":0},"unopened":[],"bounds":{"document_bytes":16777216,"sheet_cells":100000,"rows_first":2000,"rows_last":500,"rows_between":2000,"halvings":0,"cell_chars":16384,"cell_head_chars":4096},"cells_cut":0,"cells_raw":0,"read":"whole","date_system":"1900"}

{"sheet":"Design","index":0,"n_rows":141,"n_cols":51,"rows_kept":141,"cut":false,"hidden":false,"merged":[[24,13,24,14],[25,13,25,14],[26,13,26,14],[27,13,27,14],[25,19,25,20],[26,19,26,20],[28,25,28,26],[23,25,23,26],[24,25,24,26],[25,25,25,26],[26,25,26,26],[27,25,27,26],[51,15,51,16],[46,15,46,16],[29,16,29,18],[31,4,31,28],[30,16,30,18],[30,14,30,15],[47,21,48,21],[48,19,48,20],[22,4,22,5],[44,4,44,6],[44,7,44,16],[44,19,44,22],[23,7,23,8],[24,7,24,8],[25,7,25,8],[28,7,28,8],[28,13,28,14],[28,19,28,20],[23,19,23,20],[24,19,24,20],[27,19,27,20],[26,7,26,8],[27,7,27,8],[23,13,23,14],[21,4,21,5],[20,9,20,10],[20,15,20,16],[20,21,20,22],[20,4,20,5],[5,2,5,5],[13,4,14,5],[5,6,5,28],[20,2,20,3],[16,13,16,14],[16,21,16,22],[16,7,16,8],[16,9,16,10],[16,15,16,16],[16,19,16,20],[16,2,16,5],[20,27,20,28]]}
[null,null,null,null,null,null,null,null,null,null,null,null,null,null,null,null,null,null,null,null,null,null,null,null,null,null,null,null,null,null,null,null,null,null,null,null,null,null,null,null,null,null,null,null,null,null,null,null,{"$f":"Inverter!A1","v":12}]
[]
[]
[]
[]
[null,null,{"$f":"INDEX(languagearea,5,Language!$R$1)","v":"Inverter Type"},null,null,null,{"$f":"INDEX(languagearea,7,Language!$R$1)","v":"PV Module Type"}]
[null,null,null,null,null,null,null,"MPPT  A",null,null,null,null,null,"MPPT  B",null,null,null,null,null,"MPPT  C",null,null,null,null,null,"MPPT D",null,null,null,null,null,null,null,"mon",1,2,3,4,5,6,7,8,9,10,11,12]
[]
[null,null,null,null,null,null,null,{"$f":"INDEX(languagearea,8,Language!$R$1)","v":"Manufacturer"},null,null,null,null,null,{"$f":"INDEX(languagearea,8,Language!$R$1)","v":"Manufacturer"},null,null,null,null,null,{"$f":"INDEX(languagearea,8,Language!$R$1)","v":"Manufacturer"},null,null,null,null,null,{"$f":"INDEX(languagearea,8,Language!$R$1)","v":"Manufacturer"},null,null,null,null,null,null,null,"globle",{"$f":"INDEX(geomet,MATCH(INDEX(GeoMet!$BS$4:$BS$348,city),GeoMet!$BO$4:$BO$940,0),4)","v":128.69999999999999},{"$f":"INDEX(geomet,MATCH(INDEX(GeoMet!$BS$4:$BS$348,city),GeoMet!$BO$4:$BO$940,0),5)","v":135},{"$f":"INDEX(geomet,MATCH(INDEX(GeoMet!$BS$4:$BS$348,city),GeoMet!$BO$4:$BO$940,0),6)","v":179.9},{"$f":"INDEX(geomet,MATCH(INDEX(GeoMet!$BS$4:$BS$348,city),GeoMet!$BO$4:$BO$940,0),7)","v":187.9},{"$f":"INDEX(geomet,MATCH(INDEX(GeoMet!$BS$4:$BS$348,city),GeoMet!$BO$4:$BO$940,0),8)","v":174.1},{"$f":"INDEX(geomet,MATCH(INDEX(GeoMet!$BS$4:$BS$348,city),GeoMet!$BO$4:$BO$940,0),9)","v":165.6},{"$f":"INDEX(geomet,MATCH(INDEX(GeoMet!$BS$4:$BS$348,city),GeoMet!$BO$4:$BO$940,0),10)","v":149.5},{"$f":"INDEX(geomet,MATCH(INDEX(GeoMet!$BS$4:$BS$348,city),GeoMet!$BO$4:$BO$940,0),11)","v":130.19999999999999},{"$f":"INDEX(geomet,MATCH(INDEX(GeoMet!$BS$4:$BS$348,city),GeoMet!$BO$4:$BO$940,0),12)","v":140.9},{"$f":"INDEX(geomet,MATCH(INDEX(GeoMet!$BS$4:$BS$348,city),GeoMet!$BO$4:$BO$940,0),13)","v":132.4},{"$f":"INDEX(geomet,MATCH(INDEX(GeoMet!$BS$4:$BS$348,city),GeoMet!$BO$4:$BO$940,0),14)","v":128.19999999999999},{"$f":"INDEX(geomet,MATCH(INDEX(GeoMet!$BS$4:$BS$348,city),GeoMet!$BO$4:$BO$940,0),15)","v":126.5},{"$f":"SUM(AI9:AT9)","v":1778.9000000000003}]
[null,null,{"$f":"INDEX(languagearea,6,Language!$R$1)","v":"Ambient Temperature"},null,null,null,null,null,null,null,null,null,null,null,null,null,null,null,null,null,null,null,null,null,null,null,null,null,null,null,null,null,null,"incident",{"$f":"AI9-AI11","v":59.699999999999989},{"$f":"AJ9-AJ11","v":75.8},104,115,90.8,79.399999999999991,62.8,46.799999999999983,59.300000000000011,54.2,60.599999999999994,65]
[null,null,"min：","nom：","max：",null,null,null,null,null,null,null,null,null,null,null,null,null,null,null,null,null,null,null,null,null,null,null,null,null,null,null,null,"diffuse",{"$f":"IF(AI12=0,AI38,AI12)","v":69},{"$f":"IF(AJ12=0,AJ38,AJ12)","v":59.2},75.900000000000006,72.900000000000006,83.3,86.2,86.7,83.4,81.599999999999994,78.2,67.599999999999994,61.5]
[null,null,10,20,46,null,null,null,null,null,null,null,null,null,null,null,null,null,null,null,null,null,null,null,null,null,null,null,null,null,null,null,null,null,{"$f":"INDEX(geomet,MATCH(INDEX(GeoMet!$BS$4:$BS$348,city),GeoMet!$BO$4:$BO$940,0),17)","v":69},{"$f":"INDEX(geomet,MATCH(INDEX(GeoMet!$BS$4:$BS$348,city),GeoMet!$BO$4:$BO$940,0),18)","v":59.2},{"$f":"INDEX(geomet,MATCH(INDEX(GeoMet!$BS$4:$BS$348,city),GeoMet!$BO$4:$BO$940,0),19)","v":75.900000000000006},{"$f":"INDEX(geomet,MATCH(INDEX(GeoMet!$BS$4:$BS$348,city),GeoMet!$BO$4:$BO$940,0),20)","v":72.900000000000006},{"$f":"INDEX(geomet,MATCH(INDEX(GeoMet!$BS$4:$BS$348,city),GeoMet!$BO$4:$BO$940,0),21)","v":83.3},{"$f":"INDEX(geomet,MATCH(INDEX(GeoMet!$BS$4:$BS$348,city),GeoMet!$BO$4:$BO$940,0),22)","v":86.2},{"$f":"INDEX(geomet,MATCH(INDEX(GeoMet!$BS$4:$BS$348,city),GeoMet!$BO$4:$BO$940,0),23)","v":86.7},{"$f":"INDEX(geomet,MATCH(INDEX(GeoMet!$BS$4:$BS$348,city),GeoMet!$BO$4:$BO$940,0),24)","v":83.4},{"$f":"INDEX(geomet,MATCH(INDEX(GeoMet!$BS$4:$BS$348,city),GeoMet!$BO$4:$BO$940,0),25)","v":81.599999999999994},{"$f":"INDEX(geomet,MATCH(INDEX(GeoMet!$BS$4:$BS$348,city),GeoMet!$BO$4:$BO$940,0),26)","v":78.2},{"$f":"INDEX(geomet,MATCH(INDEX(GeoMet!$BS$4:$BS$348,city),GeoMet!$BO$4:$BO$940,0),27)","v":67.599999999999994},{"$f":"INDEX(geomet,MATCH(INDEX(GeoMet!$BS$4:$BS$348,city),GeoMet!$BO$4:$BO$940,0),28)","v":61.5}]
[null,null,{"$f":"INDEX(languagearea,85,Language!$R$1)","v":"Mounting Mode"},null,null,null,null,{"$f":"INDEX(languagearea,9,Language!$R$1)","v":"Model"},null,null,null,null,null,{"$f":"INDEX(languagearea,9,Language!$R$1)","v":"Model"},null,null,null,null,null,{"$f":"INDEX(languagearea,9,Language!$R$1)","v":"Model"},null,null,null,null,null,null,null,null,null,null,null,null,"方位角α",{"$f":"J20","v":8},{"$f":"AH13*PI()/180","v":0.13962634015954636},{"$f":"AI13","v":0.13962634015954636},0.13962634015954636,0.13962634015954636,0.13962634015954636,0.13962634015954636,0.13962634015954636,0.13962634015954636,0.13962634015954636,0.13962634015954636,0.13962634015954636,0.13962634015954636]
[null,null,null,null,{"$f":"INDEX(languagearea,94,Language!$R$1)","v":"Temperature rise "},null,null,null,null,null,null,null,null,null,null,null,null,null,null,null,null,null,null,null,null,null,null,null,null,null,null,null,"倾角β",{"$f":"H20","v":15},{"$f":"AH14*PI()/180","v":0.26179938779914941},0.26179938779914941,0.26179938779914941,0.26179938779914941,0.26179938779914941,0.26179938779914941,0.26179938779914941,0.26179938779914941,0.26179938779914941,0.26179938779914941,0.26179938779914941,0.26179938779914941]
[]
[null,null,null,null,null,{"$f":"IF(Language!R2=1,40,IF(Language!R2=2,30,25))","v":30},null,null,null,null,null,null,null,null,null,null,null,null,null,null,null,null,null,null,null,null,null,null,null,null,null,null,"水平日落ωt",null,{"$f":"ACOS(-TAN(AI26)*TAN(AI18))","v":1.4698076889357465},{"$f":"ACOS(-TAN(AJ26)*TAN(AJ18))","v":1.5095872177781877},1.558043714107755,1.6137542287180064,1.6590374283786926,1.6826453442411489,1.6730840212094558,1.634374432942143,1.5808223337846843,1.5269802258878789,1.4807492129391389,1.4588350547290916]
[null,null,{"$f":"INDEX(languagearea,43,Language!$R$1)","v":"Location"},null,null,null,null,{"$f":"INDEX(languagearea,3,Language!$R$1)","v":"Module in Series"},null,{"$f":"INDEX(languagearea,4,Language!$R$1)","v":"Number of strings"},null,null,null,{"$f":"INDEX(languagearea,3,Language!$R$1)","v":"Module in Series"},null,{"$f":"INDEX(languagearea,4,Language!$R$1)","v":"Number of strings"},null,null,null,{"$f":"INDEX(languagearea,3,Language!$R$1)","v":"Module in Series"},null,{"$f":"INDEX(languagearea,4,Language!$R$1)","v":"Number of strings"},null,null,null,{"$f":"INDEX(languagearea,3,Language!$R$1)","v":"Module in Series"},null,{"$f":"INDEX(languagearea,4,Language!$R$1)","v":"Number of strings"},null,null,null,null,"斜面日落ωp",null,15,46,74,105,135,166,196,227,258,288,319,349]
[null,null,null,null,null,null,null,18,null,2,null,null,null,18,null,2,null,null,null,18,null,2,null,null,null,18,null,2,null,null,null,null,"赤纬角δ",null,{"$f":"23.45*PI()/180*SIN(2*PI()*(AI17+284)/365)","v":-0.37122234990040348},-0.23193953024048514,-4.9198713707109758E-2,0.16432088762716587,0.32798083344699763,0.40691321620538906,0.37554836000057823,0.24056857736111789,3.8691973511018642E-2,-0.1675410879440869,-0.33419245656714935,-0.40727641274141729]
[null,null,null,null,{"$f":"INDEX(languagearea,54,Language!$R$1)","v":"Latitude"},{"$f":"INDEX(geomet,MATCH(INDEX(GeoMet!$BS$4:$BS$348,city),GeoMet!$BO$4:$BO$940,0),1)","v":14.52},null,{"$f":"INDEX(languagearea,44,Language!$R$1)","v":"Inclination"},null,{"$f":"INDEX(languagearea,39,Language!$R$1)","v":"Azimuth "},null,null,null,{"$f":"INDEX(languagearea,44,Language!$R$1)","v":"Inclination"},null,{"$f":"INDEX(languagearea,39,Language!$R$1)","v":"Azimuth "},null,null,null,{"$f":"INDEX(languagearea,44,Language!$R$1)","v":"Inclination"},null,{"$f":"INDEX(languagearea,39,Language!$R$1)","v":"Azimuth "},null,null,null,{"$f":"INDEX(languagearea,44,Language!$R$1)","v":"Inclination"},null,{"$f":"INDEX(languagearea,39,Language!$R$1)","v":"Azimuth "},null,null,null,null,null,null,{"$f":"10.443*AI29*AI28*31","v":255.41113650737475},{"$f":"10.443*AJ29*AJ28*28","v":255.490187158786},{"$f":"10.443*AK29*AK28*31","v":309.82108862566679},{"$f":"10.443*AL29*AL28*30","v":317.10877628431854},{"$f":"10.443*AM29*AM28*31","v":331.02973060348734},318.34726231913845,{"$f":"10.443*AO29*AO28*31","v":328.59189814100569},{"$f":"10.443*AP29*AP28*31","v":327.14172463562312},305.04138248042881,{"$f":"10.443*AR29*AR28*31","v":290.41881576601855},253.09813083871506,{"$f":"10.443*AT29*AT28*31","v":246.87592870831836}]
[null,null,null,null,{"$f":"INDEX(languagearea,53,Language!$R$1)","v":"Longitude"},{"$f":"INDEX(geomet,MATCH(INDEX(GeoMet!$BS$4:$BS$348,city),GeoMet!$BO$4:$BO$940,0),2)","v":121},null,15,null,8,null,null,null,15,null,8,null,null,null,15,null,8,null,null,null,15,null,8,null,null,null,null,null,null,{"$f":"IF(ISERROR(-1*MIN(AI16,ABS(-1*ACOS(-1*AI22/AI25)+ASIN(AI24/AI25)))),0,-1*MIN(AI16,ABS(-1*ACOS(-1*AI22/AI25)+ASIN(AI24/AI25))))","v":-1.4698076889357465},{"$f":"IF(ISERROR(-1*MIN(AJ16,ABS(-1*ACOS(-1*AJ22/AJ25)+ASIN(AJ24/AJ25)))),0,-1*MIN(AJ16,ABS(-1*ACOS(-1*AJ22/AJ25)+ASIN(AJ24/AJ25))))","v":-1.5095872177781877},-1.5350596864357569,-1.533782428809195,-1.5327463033063946,-1.5322076384819889,-1.5324256455373242,-1.5333102395249023,-1.5345373328387086,-1.5269802258878789,-1.4807492129391389,-1.4588350547290916]
[null,null,{"$f":"INDEX(languagearea,45,Language!$R$1)","v":"Global Irradiation"},null,{"$f":"AU9","v":1778.9000000000003},null,{"$f":"INDEX(languagearea,46,Language!$R$1)","v":"Irradiation on module"},null,null,{"$f":"AU35","v":1798.2303929733152},null,null,{"$f":"INDEX(languagearea,46,Language!$R$1)","v":"Irradiation on module"},null,null,{"$f":"AU70","v":1798.2303929733152},null,null,{"$f":"INDEX(languagearea,46,Language!$R$1)","v":"Irradiation on module"},null,null,{"$f":"AU104","v":1798.2303929733152},null,null,{"$f":"INDEX(languagearea,46,Language!$R$1)","v":"Irradiation on module"},null,null,{"$f":"AU138","v":1798.2303929733152},null,null,null,null,null,null,{"$f":"IF(ISERROR(MIN(AI16,ACOS(-1*AI22/AI25)+ASIN(AI24/AI25))),0,MIN(AI16,ACOS(-1*AI22/AI25)+ASIN(AI24/AI25)))","v":1.4698076889357465},{"$f":"IF(ISERROR(MIN(AJ16,ACOS(-1*AJ22/AJ25)+ASIN(AJ24/AJ25))),0,MIN(AJ16,ACOS(-1*AJ22/AJ25)+ASIN(AJ24/AJ25)))","v":1.5095872177781877},1.558043714107755,1.6058405862995311,1.6048044607967307,1.604265795972325,1.6044838030276602,1.6053683970152384,1.5808223337846843,1.5269802258878789,1.4807492129391389,1.4588350547290916]
[null,null,null,null,{"$f":"INDEX(languagearea,1,Language!$R$1)","v":"Module number:"},null,null,{"$f":"H18*J18","v":36},null,null,null,null,null,{"$f":"N18*P18","v":36},null,null,null,null,null,{"$f":"T18*V18","v":36},null,null,null,null,null,{"$f":"Z18*AB18","v":36},null,null,null,null,null,null,null,null,{"$f":"SIN(AI18)*(SIN(AI26)*COS(AI14)-COS(AI26)*SIN(AI14)*COS(AI13))","v":2.154445532005036E-3},{"$f":"SIN(AJ18)*(SIN(AJ26)*COS(AJ14)-COS(AJ26)*SIN(AJ14)*COS(AJ13))","v":1.3651998985973598E-3},2.9207937630725624E-4,-9.7153611189244242E-4,-1.9131826553060621E-3,-2.3505654173481684E-3,-2.1783679379637228E-3,-1.4150251054504983E-3,-2.2973907909675813E-4,9.9039858736094978E-4,1.9480706014720131E-3,2.3525461999378905E-3]
[null,null,null,null,{"$f":"INDEX(languagearea,2,Language!$R$1)","v":"PV Nominal Power:"},null,null,{"$f":"H22*I35","v":9000},"Wp",null,null,null,null,{"$f":"N22*O35","v":9000},"Wp",null,null,null,null,{"$f":"T22*U35","v":9000},"Wp",null,null,null,null,{"$f":"Z22*AA35","v":9000},"Wp",null,null,null,null,null,null,null,{"$f":"COS(AI18)*(COS(AI26)*COS(AI14)+SIN(AI26)*SIN(AI14)*COS(AI13))","v":0.93126343212812246},{"$f":"COS(AJ18)*(COS(AJ26)*COS(AJ14)+SIN(AJ26)*SIN(AJ14)*COS(AJ13))","v":0.97257364228441634},0.99812419162826405,0.98587205066005035,0.94606364248248964,0.91773470022191761,0.92968648822525368,0.97055525953673782,0.99858545553046207,0.98534052301528585,0.94404577414002977,0.91759099086912044]
[null,null,null,null,"Umpp(min)  at",{"$f":"E12+IF(Language!R2=1,40,IF(Language!R2=2,30,25))","v":76},null,{"$f":"(I$38+($F24-25)*I$40/1000)*H$18","v":459.40319999999997},null,null,null,null,null,{"$f":"(O$38+($F24-25)*O$40/1000)*N$18","v":459.40319999999997},null,null,null,null,null,{"$f":"(U$38+($F24-25)*U$40/1000)*T$18","v":459.40319999999997},null,null,null,null,null,{"$f":"(AA$38+($F24-25)*AA$40/1000)*Z$18","v":459.40319999999997},null,null,null,null,null,null,null,null,{"$f":"COS(AI18)*SIN(AI14)*SIN(AI13)","v":3.3567089203862033E-2},{"$f":"COS(AJ18)*SIN(AJ14)*SIN(AJ13)","v":3.5056102367600039E-2},3.5977063654647132E-2,3.5535439196271813E-2,3.4100557999115468E-2,3.3079450438026507E-2,3.3510248770928765E-2,3.498335041428427E-2,3.5993689762810983E-2,3.5516280454233211E-2,3.4027824587369429E-2,3.3074270480886188E-2]
[null,null,null,null,"Umpp        at",{"$f":"D12+IF(Language!R2=1,40,IF(Language!R2=2,30,25))","v":50},null,{"$f":"(I$38+($F25-25)*I$40/1000)*H$18","v":505.08},null,null,null,null,null,{"$f":"(O$38+($F25-25)*O$40/1000)*N$18","v":505.08},null,null,null,null,null,{"$f":"(U$38+($F25-25)*U$40/1000)*T$18","v":505.08},null,null,null,null,null,{"$f":"(AA$38+($F25-25)*AA$40/1000)*Z$18","v":505.08},null,null,null,null,null,null,null,null,{"$f":"SQRT(AI23^2+AI24^2)","v":0.9318681931993763},{"$f":"SQRT(AJ23^2+AJ24^2)","v":0.97320523014397309},0.99877237197611057,0.98651227448599177,0.94667801478807301,0.91833067575503258,0.93029022523151039,0.97118553666157592,0.99923393542239247,0.98598040166797474,0.94465883604494849,0.91818687307759805]
[null,null,null,null,"Umpp(max) at",{"$f":"C12","v":10},null,{"$f":"(I$38+($F26-25)*I$40/1000)*H$18","v":575.35199999999998},null,null,null,null,null,{"$f":"(O$38+($F26-25)*O$40/1000)*N$18","v":575.35199999999998},null,null,null,null,null,{"$f":"(U$38+($F26-25)*U$40/1000)*T$18","v":575.35199999999998},null,null,null,null,null,{"$f":"(AA$38+($F26-25)*AA$40/1000)*Z$18","v":575.35199999999998},null,null,null,null,null,null,"纬度Ф",{"$f":"INDEX(geomet,MATCH(INDEX(GeoMet!$BS$4:$BS$348,city),GeoMet!$BO$4:$BO$940,0),1)","v":14.52},{"$f":"AH26*PI()/180","v":0.25342180738957665},{"$f":"AI26","v":0.25342180738957665},{"$f":"AJ26","v":0.25342180738957665},0.25342180738957665,0.25342180738957665,0.25342180738957665,0.25342180738957665,0.25342180738957665,0.25342180738957665,0.25342180738957665,0.25342180738957665,0.25342180738957665]
[null,null,null,null,"Uoc(max)   at",{"$f":"C12","v":10},null,{"$f":"(I36+($F27-25)*I41/1000)*H18","v":711.17280000000005},null,{"$f":"IF((H27>=300)*(H27<=MIN(I48,I43)),\"OK\",IF(H27<300,INDEX(languagearea,74,Language!$R$1),INDEX(languagearea,73,Language!$R$1)))","v":"OK"},null,null,null,{"$f":"(O36+($F27-25)*O41/1000)*N18","v":711.17280000000005},null,{"$f":"IF((N27>=300)*(N27<=MIN(I48,O43)),\"OK\",IF(N27<300,INDEX(languagearea,74,Language!$R$1),INDEX(languagearea,73,Language!$R$1)))","v":"OK"},null,null,null,{"$f":"(U36+($F27-25)*U41/1000)*T18","v":711.17280000000005},null,{"$f":"IF((T27>=300)*(T27<=MIN(I48,U43)),\"OK\",IF(T27<300,INDEX(languagearea,74,Language!$R$1),INDEX(languagearea,73,Language!$R$1)))","v":"OK"},null,null,null,{"$f":"(AA36+($F27-25)*AA41/1000)*Z18","v":711.17280000000005},null,{"$f":"IF((Z27>=300)*(Z27<=MIN(O48,AA43)),\"OK\",IF(Z27<300,INDEX(languagearea,74,Language!$R$1),INDEX(languagearea,73,Language!$R$1)))","v":"OK"},null,null,null,null,"经度η",{"$f":"INDEX(geomet,MATCH(INDEX(GeoMet!$BS$4:$BS$348,city),GeoMet!$BO$4:$BO$940,0),2)","v":121},{"$f":"AH27*PI()/180","v":2.1118483949131388},{"$f":"AI27","v":2.1118483949131388},2.1118483949131388,2.1118483949131388,2.1118483949131388,2.1118483949131388,2.1118483949131388,2.1118483949131388,2.1118483949131388,2.1118483949131388,2.1118483949131388,2.1118483949131388]
[null,null,null,null,"Uoc          at  ",{"$f":"D12","v":20},null,{"$f":"(I36+($F28-25)*I41/1000)*H18","v":689.45760000000007},null,{"$f":"IF((H28>=300)*(H28<=I48),\"OK\",IF(H28<300,INDEX(languagearea,74,Language!$R$1),INDEX(languagearea,73,Language!$R$1)))","v":"OK"},null,null,null,{"$f":"(O36+($F28-25)*O41/1000)*N18","v":689.45760000000007},null,{"$f":"IF((N28>=300)*(N28<=I48),\"OK\",IF(N28<300,INDEX(languagearea,74,Language!$R$1),INDEX(languagearea,73,Language!$R$1)))","v":"OK"},null,null,null,{"$f":"(U36+($F28-25)*U41/1000)*T18","v":689.45760000000007},null,{"$f":"IF((T28>=300)*(T28<=I48),\"OK\",IF(T28<300,INDEX(languagearea,74,Language!$R$1),INDEX(languagearea,73,Language!$R$1)))","v":"OK"},null,null,null,{"$f":"(AA36+($F28-25)*AA41/1000)*Z18","v":689.45760000000007},null,{"$f":"IF((Z28>=300)*(Z28<=I48),\"OK\",IF(Z28<300,INDEX(languagearea,74,Language!$R$1),INDEX(languagearea,73,Language!$R$1)))","v":"OK"},null,null,null,null,"Al",null,{"$f":"1+0.034*COS(2*PI()*AI17/365)","v":1.0328728256625794},{"$f":"1+0.034*COS(2*PI()*AJ17/365)","v":1.0238859341217514},1.0099484114115338,0.9920272927546061,0.97674673966476322,0.96736228855156869,0.96691397653406908,0.97549731691516872,0.9908943136244861,1.0082568905512619,1.0238859341217512,1.0327185086334412]
[null,null,null,null,{"$f":"INDEX(languagearea,27,Language!$R$1)","v":"Max. MPP Current："},null,null,{"$f":"J18*I39","v":16.399999999999999},null,{"$f":"IF(H29<=(I54*1.1),\"OK\",INDEX(languagearea,75,Language!$R$1))","v":"OK"},null,null,null,{"$f":"P18*O39","v":16.399999999999999},null,{"$f":"IF(N29<=(I54*1.1),\"OK\",INDEX(languagearea,75,Language!$R$1))","v":"OK"},null,null,null,{"$f":"V18*U39","v":16.399999999999999},null,{"$f":"IF(T29<=(I54*1.1),\"OK\",INDEX(languagearea,75,Language!$R$1))","v":"OK"},null,null,null,{"$f":"AB18*AA39","v":16.399999999999999},null,{"$f":"IF(Z29<=(I54*1.1),\"OK\",INDEX(languagearea,75,Language!$R$1))","v":"OK"},null,null,null,null,null,null,{"$f":"COS(AI26)*COS(AI18)*SIN(AI16)+AI16*SIN(AI26)*SIN(AI18)","v":0.76384634736138102},{"$f":"COS(AJ26)*COS(AJ18)*SIN(AJ16)+AJ16*SIN(AJ26)*SIN(AJ18)","v":0.85337386509756774},0.94759947918462428,1.0203240142976191,1.0468827855115006,1.0504259297478384,1.0497407135845997,1.0359120569145446,0.98261839865556977,0.88974709686288478,0.78902511701293321,0.73843081940312683]
[null,null,null,null,{"$f":"INDEX(languagearea,76,Language!$R$1)","v":"Defined Layout factor"},null,null,{"$f":"ROUNDDOWN(1+AX31/100,2)","v":1.1200000000000001},null,null,null,null,null,null,null,{"$f":"INDEX(languagearea,14,Language!$R$1)","v":"Total Input Power:"},{"$f":"IF(Inverter!$A$1<3,H23+N23,IF(Inverter!$A$1>11,H23+N23+T23+Z23,H23+N23+T23))","v":36000},null,null,{"$f":"IF(V48<=H30, \"OK\",INDEX(languagearea,78,Language!$R$1))","v":"OK"},null,null,null,null,null,null,null,null,null,null,null,null,"Rb",null,{"$f":"IF(((AI21-AI20)*AI22+(SIN(AI21)-SIN(AI20))*AI23+(COS(AI21)-COS(AI20))*AI24)/(COS(AI26)*COS(AI18)*SIN(AI16)+AI16*SIN(AI26)*SIN(AI18))/2>0,((AI21-AI20)*AI22+(SIN(AI21)-SIN(AI20))*AI23+(COS(AI21)-COS(AI20))*AI24)/(COS(AI26)*COS(AI18)*SIN(AI16)+AI16*SIN(AI26)*SIN(AI18))/2,0)","v":1.2171102867457049},{"$f":"IF(((AJ21-AJ20)*AJ22+(SIN(AJ21)-SIN(AJ20))*AJ23+(COS(AJ21)-COS(AJ20))*AJ24)/(COS(AJ26)*COS(AJ18)*SIN(AJ16)+AJ16*SIN(AJ26)*SIN(AJ18))/2>0,((AJ21-AJ20)*AJ22+(SIN(AJ21)-SIN(AJ20))*AJ23+(COS(AJ21)-COS(AJ20))*AJ24)/(COS(AJ26)*COS(AJ18)*SIN(AJ16)+AJ16*SIN(AJ26)*SIN(AJ18))/2,0)","v":1.139961321531082},1.0529800686649446,0.96285747534708588,0.89906726327519504,0.8684651415039466,0.88065255883099303,0.93293977714705756,1.0146782176704796,1.10807570321881,1.1952795340590641,1.2394902780075474]
[null,null,null,null,null,null,null,null,null,null,null,null,null,null,null,null,null,null,null,null,null,null,null,null,null,null,null,null,null,null,null,null,"ρR",0.2,{"$f":"AH31","v":0.2},{"$f":"AI31","v":0.2},0.2,0.2,0.2,0.2,0.2,0.2,0.2,{"$f":"AQ31","v":0.2},0.2,0.2,null,null,null,12]
[null,null,null,null,{"$f":"INDEX(languagearea,10,Language!$R$1)","v":"PV Parameters（STC：Irradiance 1000W/m²,module temperature 25℃,AM=1.5）"},null,null,null,null,null,null,null,null,null,null,null,null,null,null,null,null,null,null,null,null,null,null,null,null,null,null,null,"直射St",null,{"$f":"AI30*AI10","v":72.661484118718562},{"$f":"AJ30*AJ10","v":86.40906817205601},109.50992714115424,110.72860966491487,81.635307505387701,68.956132235413349,55.304980694586362,43.661581570482277,60.17041830785945,60.057703114459507,72.433939763979282,80.566868070490585,{"$f":"SUM(AI32:AT32)","v":902.09602035950229}]
[null,null,null,null,{"$f":"INDEX(languagearea,8,Language!$R$1)","v":"Manufacturer"},null,null,null,{"$f":"INDEX(Module!$A$2:$K$6231,Module!X$1,1)","v":"Jinkosolar"},null,null,null,null,null,{"$f":"INDEX(Module!$A$2:$K$6231,Module!AA$1,1)","v":"Jinkosolar"},null,null,null,null,null,{"$f":"INDEX(Module!$A$2:$K$6231,Module!AD$1,1)","v":"Jinkosolar"},null,null,null,null,null,{"$f":"INDEX(Module!$A$2:$K$6231,Module!AG$1,1)","v":"Jinkosolar"},null,null,null,null,null,"漫射Dt",null,{"$f":"AI11*0.5*(1+COS(AI14))","v":67.824441006972847},{"$f":"AJ11*0.5*(1+COS(AJ14))","v":58.19140445815642},74.606885107670138,71.657996368236539,81.880810664939688,84.731403113058846,85.222884569631105,81.979106956254157,80.209773712593972,76.867699807902568,66.448292928570496,60.45221915838885,{"$f":"SUM(AI33:AT33)","v":890.07291785237544}]
[null,null,null,null,{"$f":"INDEX(languagearea,9,Language!$R$1)","v":"Model"},null,null,null,{"$f":"INDEX(Module!$A$2:$K$6231,Module!X$1,2)","v":"JKM 250P-60"},null,null,null,null,null,{"$f":"INDEX(Module!$A$2:$K$6231,Module!AA$1,2)","v":"JKM 250P-60"},null,null,null,null,null,{"$f":"INDEX(Module!$A$2:$K$6231,Module!AD$1,2)","v":"JKM 250P-60"},null,null,null,null,null,{"$f":"INDEX(Module!$A$2:$K$6231,Module!AG$1,2)","v":"JKM 250P-60"},null,null,null,null,null,"反射Rt",null,{"$f":"0.5*AI31*AI9*(1-COS(AI14))","v":0.43853461565969082},{"$f":"0.5*AJ31*AJ9*(1-COS(AJ14))","v":0.46000134509757779},0.61299438505966108,0.64025372402840652,0.59323136430732071,0.56426831665302868,0.50940889697842873,0.44364574171633053,0.48010510758702751,0.4511420599327356,0.43683090697414423,0.43103829744328587,{"$f":"SUM(AI34:AT34)","v":6.0614547614376386}]
[null,null,null,null,"Pmpp:",null,null,null,{"$f":"INDEX(Module!$A$2:$K$6231,Module!X$1,4)","v":250},null,null,null,null,null,{"$f":"INDEX(Module!$A$2:$K$6231,Module!AA$1,4)","v":250},null,null,null,null,null,{"$f":"INDEX(Module!$A$2:$K$6231,Module!AD$1,4)","v":250},null,null,null,null,null,{"$f":"INDEX(Module!$A$2:$K$6231,Module!AG$1,4)","v":250},null,null,null,null,null,"总Qt",null,{"$f":"SUM(AI32:AI34)","v":140.92445974135109},145.06047397531,184.72980663388404,183.02685975717981,164.1093495346347,154.25180366512521,141.03727416119591,126.08433426845275,140.86029712804046,137.37654498229483,139.31906359952393,{"$f":"SUM(AT32:AT34)","v":141.45012552632272},{"$f":"SUM(AI35:AT35)","v":1798.2303929733152}]
[null,null,null,null,"Uoc:",null,null,null,{"$f":"INDEX(Module!$A$2:$K$6231,Module!X$1,5)","v":37.700000000000003},null,null,null,null,null,{"$f":"INDEX(Module!$A$2:$K$6231,Module!AA$1,5)","v":37.700000000000003},null,null,null,null,null,{"$f":"INDEX(Module!$A$2:$K$6231,Module!AD$1,5)","v":37.700000000000003},null,null,null,null,null,{"$f":"INDEX(Module!$A$2:$K$6231,Module!AG$1,5)","v":37.700000000000003},null,null,null,null,null,null,null,{"$f":"AI9/AI19","v":0.50389345492099913},{"$f":"AJ9/AJ19","v":0.52839602765682003},0.58065769763451924,0.59254115323358181,0.52593463337146518,0.5201866628084536,0.45497165586184479,0.39799264415145852,0.46190454178472007,0.45589332650771014,0.50652290309364034,0.51240313570408313]
[null,null,null,null,"Isc:",null,null,null,{"$f":"INDEX(Module!$A$2:$K$6231,Module!X$1,7)","v":8.85},null,null,null,null,null,{"$f":"INDEX(Module!$A$2:$K$6231,Module!AA$1,7)","v":8.85},null,null,null,null,null,{"$f":"INDEX(Module!$A$2:$K$6231,Module!AD$1,7)","v":8.85},null,null,null,null,null,{"$f":"INDEX(Module!$A$2:$K$6231,Module!AG$1,7)","v":8.85},null,null,null,null,null,null,null,{"$f":"1.236-1.422*AI36","v":0.51946350710233924},{"$f":"1.236-1.422*AJ36","v":0.48462084867200195},0.41030475396371369,0.39340648010184665,0.48812095134577649,0.49629456548637896,0.58903030536445677,0.67005446001662605,0.57917174158212803,0.58771968970603616,0.51572443180084349,0.50736274102879375]
[null,null,null,null,"Umpp:",null,null,null,{"$f":"INDEX(Module!$A$2:$K$6231,Module!X$1,6)","v":30.5},null,null,null,null,null,{"$f":"INDEX(Module!$A$2:$K$6231,Module!AA$1,6)","v":30.5},null,null,null,null,null,{"$f":"INDEX(Module!$A$2:$K$6231,Module!AD$1,6)","v":30.5},null,null,null,null,null,{"$f":"INDEX(Module!$A$2:$K$6231,Module!AG$1,6)","v":30.5},null,null,null,null,null,null,null,{"$f":"AI37*AI9","v":66.854953364071051},{"$f":"AJ37*AJ9","v":65.423814570720268},73.813825238072099,73.921077611136994,84.981857629299682,82.18638004454435,88.060030651986281,87.241090694164711,81.605298388921838,77.814086917079194,66.115872156868136,64.181386740142415]
[null,null,null,null,"Impp:",null,null,null,{"$f":"INDEX(Module!$A$2:$K$6231,Module!X$1,8)","v":8.1999999999999993},null,null,null,null,null,{"$f":"INDEX(Module!$A$2:$K$6231,Module!AA$1,8)","v":8.1999999999999993},null,null,null,null,null,{"$f":"INDEX(Module!$A$2:$K$6231,Module!AD$1,8)","v":8.1999999999999993},null,null,null,null,null,{"$f":"INDEX(Module!$A$2:$K$6231,Module!AG$1,8)","v":8.1999999999999993}]
[null,null,null,null,"TcoUmpp:",null,null,null,{"$f":"INDEX(Module!$A$2:$K$6231,Module!X$1,11)","v":-97.600000000000023},"mV/K",null,null,null,null,{"$f":"INDEX(Module!$A$2:$K$6231,Module!AA$1,11)","v":-97.600000000000023},"mV/K",null,null,null,null,{"$f":"INDEX(Module!$A$2:$K$6231,Module!AD$1,11)","v":-97.600000000000023},"mV/K",null,null,null,null,{"$f":"INDEX(Module!$A$2:$K$6231,Module!AG$1,11)","v":-97.600000000000023},"mV/K"]
[null,null,null,null,"TcoUoc:",null,null,null,{"$f":"INDEX(Module!$A$2:$K$6231,Module!X$1,10)","v":-120.64000000000003},"mV/K",null,null,null,null,{"$f":"INDEX(Module!$A$2:$K$6231,Module!AA$1,10)","v":-120.64000000000003},"mV/K",null,null,null,null,{"$f":"INDEX(Module!$A$2:$K$6231,Module!AD$1,10)","v":-120.64000000000003},"mV/K",null,null,null,null,{"$f":"INDEX(Module!$A$2:$K$6231,Module!AG$1,10)","v":-120.64000000000003},"mV/K"]
[null,null,null,null,{"$f":"INDEX(languagearea,47,Language!$R$1)","v":"Efficiency:"},null,null,null,{"$f":"INDEX(Module!$A$2:$K$6231,Module!X$1,3)","v":0.15273704789833822},null,null,null,null,null,{"$f":"INDEX(Module!$A$2:$K$6231,Module!AA$1,3)","v":0.15273704789833822},null,null,null,null,null,{"$f":"INDEX(Module!$A$2:$K$6231,Module!AD$1,3)","v":0.15273704789833822},null,null,null,null,null,{"$f":"INDEX(Module!$A$2:$K$6231,Module!AG$1,3)","v":0.15273704789833822},null,null,null,null,null,null,"mon",1,2,3,4,5,6,7,8,9,10,11,12]
[null,null,null,null,{"$f":"INDEX(languagearea,50,Language!$R$1)","v":"Max. Voltage:"},null,null,null,{"$f":"IF(INDEX(Module!AM2:AM6231,Module!X$1)=0,1000,INDEX(Module!AM2:AM6231,Module!X$1))","v":1000},null,null,null,null,null,{"$f":"IF(INDEX(Module!AM2:AM6231,Module!AA$1)=0,1000,INDEX(Module!AM2:AM6231,Module!AA$1))","v":1000},null,null,null,null,null,{"$f":"IF(INDEX(Module!AM2:AM6231,Module!AD$1)=0,1000,INDEX(Module!AM2:AM6231,Module!AD$1))","v":1000},null,null,null,null,null,{"$f":"IF(INDEX(Module!AS2:AS6231,Module!AG$1)=0,1000,INDEX(Module!AS2:AS6231,Module!AJ$1))","v":1000}]
[null,null,null,null,null,null,null,null,null,null,null,null,null,null,null,null,null,null,null,null,null,null,null,null,null,null,null,null,null,null,null,null,null,"globle",{"$f":"INDEX(geomet,MATCH(INDEX(GeoMet!$BS$4:$BS$348,city),GeoMet!$BO$4:$BO$940,0),4)","v":128.69999999999999},{"$f":"INDEX(geomet,MATCH(INDEX(GeoMet!$BS$4:$BS$348,city),GeoMet!$BO$4:$BO$940,0),5)","v":135},{"$f":"INDEX(geomet,MATCH(INDEX(GeoMet!$BS$4:$BS$348,city),GeoMet!$BO$4:$BO$940,0),6)","v":179.9},{"$f":"INDEX(geomet,MATCH(INDEX(GeoMet!$BS$4:$BS$348,city),GeoMet!$BO$4:$BO$940,0),7)","v":187.9},{"$f":"INDEX(geomet,MATCH(INDEX(GeoMet!$BS$4:$BS$348,city),GeoMet!$BO$4:$BO$940,0),8)","v":174.1},{"$f":"INDEX(geomet,MATCH(INDEX(GeoMet!$BS$4:$BS$348,city),GeoMet!$BO$4:$BO$940,0),9)","v":165.6},{"$f":"INDEX(geomet,MATCH(INDEX(GeoMet!$BS$4:$BS$348,city),GeoMet!$BO$4:$BO$940,0),10)","v":149.5},{"$f":"INDEX(geomet,MATCH(INDEX(GeoMet!$BS$4:$BS$348,city),GeoMet!$BO$4:$BO$940,0),11)","v":130.19999999999999},{"$f":"INDEX(geomet,MATCH(INDEX(GeoMet!$BS$4:$BS$348,city),GeoMet!$BO$4:$BO$940,0),12)","v":140.9},{"$f":"INDEX(geomet,MATCH(INDEX(GeoMet!$BS$4:$BS$348,city),GeoMet!$BO$4:$BO$940,0),13)","v":132.4},{"$f":"INDEX(geomet,MATCH(INDEX(GeoMet!$BS$4:$BS$348,city),GeoMet!$BO$4:$BO$940,0),14)","v":128.19999999999999},{"$f":"INDEX(geomet,MATCH(INDEX(GeoMet!$BS$4:$BS$348,city),GeoMet!$BO$4:$BO$940,0),15)","v":126.5},{"$f":"SUM(AI44:AT44)","v":1778.9000000000003}]
[null,null,null,null,{"$f":"INDEX(languagearea,11,Language!$R$1)","v":"Inverter Parameters"},null,null,{"$f":"INDEX(Inverter!$A$2:$A$20,Inverter!$A$1)","v":"SUN2000-33KTL-A"},null,null,null,null,null,null,null,null,null,null,null,{"$f":"INDEX(languagearea,16,Language!$R$1)","v":"System Result"},null,null,null,null,null,null,null,null,null,null,null,null,null,"incident",{"$f":"AI44-AI46","v":59.699999999999989},{"$f":"AJ44-AJ46","v":75.8},104,115,90.8,79.399999999999991,62.8,46.799999999999983,59.300000000000011,54.2,60.599999999999994,65]
[null,null,null,null,{"$f":"INDEX(languagearea,19,Language!$R$1)","v":"Rated output power ："},null,null,null,{"$f":"INDEX(inverter,Inverter!$A$1,10)","v":30000},"W",{"$f":"INDEX(languagearea,28,Language!$R$1)","v":"Max. output Power："},null,null,null,null,{"$f":"INDEX(inverter,Inverter!$A$1,11)","v":33000},"VA",null,null,{"$f":"INDEX(languagearea,13,Language!$R$1)","v":"Total modules:"},null,{"$f":"IF(Inverter!$A$1<3,H22+N22,IF(Inverter!$A$1>11,H22+N22+T22+Z22,H22+N22+T22))","v":144},null,null,null,null,null,null,null,null,null,null,null,"diffuse",{"$f":"IF(AI47=0,AI73,AI47)","v":69},{"$f":"IF(AJ47=0,AJ73,AJ47)","v":59.2},75.900000000000006,72.900000000000006,83.3,86.2,86.7,83.4,81.599999999999994,78.2,67.599999999999994,61.5]
[null,null,null,null,{"$f":"INDEX(languagearea,20,Language!$R$1)","v":"Max.input Power："},null,null,null,{"$f":"INDEX(inverter,Inverter!$A$1,1)","v":30600},"W",{"$f":"INDEX(languagearea,29,Language!$R$1)","v":"Rated output Voltage："},null,null,null,null,{"$f":"INDEX(inverter,Inverter!$A$1,16)","v":"3×230/400V"},null,null,null,{"$f":"INDEX(languagearea,14,Language!$R$1)","v":"Total Input Power:"},null,{"$f":"Q30","v":36000},"Wp",null,null,null,null,null,null,null,null,null,null,null,{"$f":"INDEX(geomet,MATCH(INDEX(GeoMet!$BS$4:$BS$348,city),GeoMet!$BO$4:$BO$940,0),17)","v":69},{"$f":"INDEX(geomet,MATCH(INDEX(GeoMet!$BS$4:$BS$348,city),GeoMet!$BO$4:$BO$940,0),18)","v":59.2},{"$f":"INDEX(geomet,MATCH(INDEX(GeoMet!$BS$4:$BS$348,city),GeoMet!$BO$4:$BO$940,0),19)","v":75.900000000000006},{"$f":"INDEX(geomet,MATCH(INDEX(GeoMet!$BS$4:$BS$348,city),GeoMet!$BO$4:$BO$940,0),20)","v":72.900000000000006},{"$f":"INDEX(geomet,MATCH(INDEX(GeoMet!$BS$4:$BS$348,city),GeoMet!$BO$4:$BO$940,0),21)","v":83.3},{"$f":"INDEX(geomet,MATCH(INDEX(GeoMet!$BS$4:$BS$348,city),GeoMet!$BO$4:$BO$940,0),22)","v":86.2},{"$f":"INDEX(geomet,MATCH(INDEX(GeoMet!$BS$4:$BS$348,city),GeoMet!$BO$4:$BO$940,0),23)","v":86.7},{"$f":"INDEX(geomet,MATCH(INDEX(GeoMet!$BS$4:$BS$348,city),GeoMet!$BO$4:$BO$940,0),24)","v":83.4},{"$f":"INDEX(geomet,MATCH(INDEX(GeoMet!$BS$4:$BS$348,city),GeoMet!$BO$4:$BO$940,0),25)","v":81.599999999999994},{"$f":"INDEX(geomet,MATCH(INDEX(GeoMet!$BS$4:$BS$348,city),GeoMet!$BO$4:$BO$940,0),26)","v":78.2},{"$f":"INDEX(geomet,MATCH(INDEX(GeoMet!$BS$4:$BS$348,city),GeoMet!$BO$4:$BO$940,0),27)","v":67.599999999999994},{"$f":"INDEX(geomet,MATCH(INDEX(GeoMet!$BS$4:$BS$348,city),GeoMet!$BO$4:$BO$940,0),28)","v":61.5}]
[null,null,null,null,{"$f":"INDEX(languagearea,21,Language!$R$1)","v":"Max.input Voltage："},null,null,null,{"$f":"INDEX(inverter,Inverter!$A$1,2)","v":1100},"V",{"$f":"INDEX(languagearea,30,Language!$R$1)","v":"AC Power Frequency："},null,null,null,null,{"$f":"INDEX(inverter,Inverter!$A$1,19)","v":"50/60"},"Hz",null,null,{"$f":"INDEX(languagearea,17,Language!$R$1)","v":" Layout factor:"},null,{"$f":"ROUNDDOWN(AW57,2)","v":1.0900000000000001},null,null,null,null,null,null,null,null,null,null,"方位角α",{"$f":"P20","v":8},{"$f":"AH48*PI()/180","v":0.13962634015954636},{"$f":"AI48","v":0.13962634015954636},{"$f":"AJ48","v":0.13962634015954636},{"$f":"AK48","v":0.13962634015954636},{"$f":"AL48","v":0.13962634015954636},{"$f":"AM48","v":0.13962634015954636},{"$f":"AN48","v":0.13962634015954636},{"$f":"AO48","v":0.13962634015954636},{"$f":"AP48","v":0.13962634015954636},{"$f":"AQ48","v":0.13962634015954636},{"$f":"AR48","v":0.13962634015954636},{"$f":"AS48","v":0.13962634015954636}]
[null,null,null,null,{"$f":"INDEX(languagearea,23,Language!$R$1)","v":"MPP Voltage Range："},null,null,null,{"$f":"INDEX(inverter,Inverter!$A$1,4)","v":480},{"$f":"INDEX(inverter,Inverter!$A$1,5)","v":800},{"$f":"INDEX(languagearea,31,Language!$R$1)","v":"Max. output current："},null,null,null,null,{"$f":"INDEX(inverter,Inverter!$A$1,12)","v":48},"A",null,null,{"$f":"INDEX(languagearea,18,Language!$R$1)","v":"(Nominal PV Power / Inverter active power\n )"},null,null,null,null,null,null,null,null,null,null,null,null,"倾角β",{"$f":"N20","v":15},{"$f":"AH49*PI()/180","v":0.26179938779914941},0.26179938779914941,0.26179938779914941,0.26179938779914941,0.26179938779914941,0.26179938779914941,0.26179938779914941,0.26179938779914941,0.26179938779914941,0.26179938779914941,0.26179938779914941,0.26179938779914941,null,null,{"$f":"Q30/(P46*V51)","v":1.0909090909090908},1,"<=28kw,500kw,40kw"]
[null,null,null,null,{"$f":"INDEX(languagearea,22,Language!$R$1)","v":"Operating Voltage："},null,null,null,{"$f":"INDEX(inverter,Inverter!$A$1,6)","v":"200-1000"},"V",{"$f":"INDEX(languagearea,32,Language!$R$1)","v":"Power Factor："},null,null,null,null,"±0.8",null,null,null,{"$f":"INDEX(languagearea,48,Language!$R$1)","v":"Module area:"},null,{"$f":"IF(Inverter!$A$1<3,H23/I42+N23/O42,IF(Inverter!$A$1>11,H23/I42+N23/O42+T23/U42+Z23/AA42, H23/I42+N23/O42+T23/U42))/1000","v":235.69919999999999},"m²",null,null,null,null,null,null,null,null,null,null,null,null,null,null,null,null,null,null,null,null,null,null,null,null,null,{"$f":"Q30/(33000*V51)","v":1.0909090909090908},2,"33kw中国"]
[null,null,null,null,{"$f":"INDEX(languagearea,24,Language!$R$1)","v":"Rated input Voltage："},null,null,null,{"$f":"INDEX(inverter,Inverter!$A$1,7)","v":620},"V",{"$f":"INDEX(languagearea,33,Language!$R$1)","v":"Max. Total Harmonic Distortion(THD)："},null,null,null,null,"＜3%",null,null,null,"cos(φ):",null,1,null,null,null,null,null,null,null,null,null,null,"水平日落ωt",null,{"$f":"ACOS(-TAN(AI61)*TAN(AI53))","v":1.4698076889357465},{"$f":"ACOS(-TAN(AJ61)*TAN(AJ53))","v":1.5095872177781877},1.558043714107755,1.6137542287180064,1.6590374283786926,1.6826453442411489,1.6730840212094558,1.634374432942143,1.5808223337846843,1.5269802258878789,1.4807492129391389,1.4588350547290916,null,null,{"$f":"Q30/(33000*V51)","v":1.0909090909090908},3,"33kw英法德 cos<0.91"]
[null,null,null,null,{"$f":"INDEX(languagearea,25,Language!$R$1)","v":"Number of input："},null,null,null,{"$f":"INDEX(inverter,Inverter!$A$1,8)","v":8},null,{"$f":"INDEX(languagearea,34,Language!$R$1)","v":"Operating Temperature："},null,null,null,null,{"$f":"INDEX(inverter,Inverter!$A$1,15)","v":"-25℃~+60℃"},null,null,null,{"$f":"INDEX(languagearea,49,Language!$R$1)","v":"Yield yearly:"},null,{"$f":"IF(Inverter!$A$1<3,(J21*H23+P21*N23)*0.001*V53,IF(Inverter!$A$1>11, (J21*H23+P21*N23+V21*T23+AB21*Z23)*0.001*V53, (J21*H23+P21*N23+V21*T23)*0.001*V53))","v":52889.552318131144},"kWh",null,null,null,null,null,null,null,null,null,"斜面日落ωp",null,15,46,74,105,135,166,196,227,258,288,319,349,null,null,{"$f":"Q30/30000","v":1.2},4,"33kw英法德 cos>=0.91"]
[null,null,null,null,{"$f":"INDEX(languagearea,26,Language!$R$1)","v":"Number of MPP trackers："},null,null,null,{"$f":"INDEX(inverter,Inverter!$A$1,9)","v":4},null,{"$f":"INDEX(languagearea,35,Language!$R$1)","v":"Max. efficiency："},null,null,null,null,{"$f":"INDEX(inverter,Inverter!$A$1,13)","v":0.98599999999999999},null,null,null,{"$f":"INDEX(languagearea,72,Language!$R$1)","v":"Performance Ratio:"},null,0.81699999999999995,null,null,null,null,null,null,null,null,null,null,"赤纬角δ",null,{"$f":"23.45*PI()/180*SIN(2*PI()*(AI52+284)/365)","v":-0.37122234990040348},-0.23193953024048514,-4.9198713707109758E-2,0.16432088762716587,0.32798083344699763,0.40691321620538906,0.37554836000057823,0.24056857736111789,3.8691973511018642E-2,-0.1675410879440869,-0.33419245656714935,-0.40727641274141729]
[null,null,null,null,{"$f":"INDEX(languagearea,27,Language!$R$1)","v":"Max. MPP Current："},null,null,null,{"$f":"INDEX(inverter,Inverter!$A$1,3)","v":22},"A",{"$f":"INDEX(languagearea,36,Language!$R$1)","v":"Euro. Efficiency："},null,null,null,null,{"$f":"INDEX(inverter,Inverter!$A$1,14)","v":0.98399999999999999},null,null,null,null,null,null,null,null,null,null,null,null,null,null,null,null,null,null,{"$f":"10.443*AI64*AI63*31","v":255.41113650737475},{"$f":"10.443*AJ64*AJ63*28","v":255.490187158786},{"$f":"10.443*AK64*AK63*31","v":309.82108862566679},{"$f":"10.443*AL64*AL63*30","v":317.10877628431854},{"$f":"10.443*AM64*AM63*31","v":331.02973060348734},{"$f":"10.443*AN64*AN63*30","v":318.34726231913845},{"$f":"10.443*AO64*AO63*31","v":328.59189814100569},{"$f":"10.443*AP64*AP63*31","v":327.14172463562312},{"$f":"10.443*AQ64*AQ63*30","v":305.04138248042881},{"$f":"10.443*AR64*AR63*31","v":290.41881576601855},{"$f":"10.443*AS64*AS63*30","v":253.09813083871506},{"$f":"10.443*AT64*AT63*31","v":246.87592870831836}]
[null,null,null,null,null,null,null,null,null,null,null,null,null,null,null,null,null,null,null,null,null,null,null,null,null,null,null,null,null,null,null,null,null,null,{"$f":"IF(ISERROR(-1*MIN(AI51,ABS(-1*ACOS(-1*AI57/AI60)+ASIN(AI59/AI60)))),0,-1*MIN(AI51,ABS(-1*ACOS(-1*AI57/AI60)+ASIN(AI59/AI60))))","v":-1.4698076889357465},{"$f":"IF(ISERROR(-1*MIN(AJ51,ABS(-1*ACOS(-1*AJ57/AJ60)+ASIN(AJ59/AJ60)))),0,-1*MIN(AJ51,ABS(-1*ACOS(-1*AJ57/AJ60)+ASIN(AJ59/AJ60))))","v":-1.5095872177781877},-1.5350596864357569,-1.533782428809195,-1.5327463033063946,-1.5322076384819889,-1.5324256455373242,-1.5333102395249023,-1.5345373328387086,-1.5269802258878789,-1.4807492129391389,-1.4588350547290916]
[null,null,null,null,null,null,null,null,null,null,null,null,null,null,null,null,null,null,null,null,null,null,null,null,null,null,null,null,null,null,null,null,null,null,{"$f":"IF(ISERROR(MIN(AI51,ACOS(-1*AI57/AI60)+ASIN(AI59/AI60))),0,MIN(AI51,ACOS(-1*AI57/AI60)+ASIN(AI59/AI60)))","v":1.4698076889357465},{"$f":"IF(ISERROR(MIN(AJ51,ACOS(-1*AJ57/AJ60)+ASIN(AJ59/AJ60))),0,MIN(AJ51,ACOS(-1*AJ57/AJ60)+ASIN(AJ59/AJ60)))","v":1.5095872177781877},1.558043714107755,1.6058405862995311,1.6048044607967307,1.604265795972325,1.6044838030276602,1.6053683970152384,1.5808223337846843,1.5269802258878789,1.4807492129391389,1.4588350547290916]
[null,null,null,null,null,null,null,null,null,null,null,null,null,null,null,null,null,null,null,null,null,null,null,null,null,null,null,null,null,null,null,null,null,null,{"$f":"SIN(AI53)*(SIN(AI61)*COS(AI49)-COS(AI61)*SIN(AI49)*COS(AI48))","v":2.154445532005036E-3},{"$f":"SIN(AJ53)*(SIN(AJ61)*COS(AJ49)-COS(AJ61)*SIN(AJ49)*COS(AJ48))","v":1.3651998985973598E-3},2.9207937630725624E-4,-9.7153611189244242E-4,-1.9131826553060621E-3,-2.3505654173481684E-3,-2.1783679379637228E-3,-1.4150251054504983E-3,-2.2973907909675813E-4,9.9039858736094978E-4,1.9480706014720131E-3,2.3525461999378905E-3,null,null,{"$f":"IF(OR(Inverter!A$1<7,Inverter!A$1>7),AW49,IF(AND(Language!R$1=1,Inverter!A$1=7),AW50,IF(V51<0.91,AW51,AW52)))","v":1.0909090909090908}]
[null,null,null,null,null,null,null,null,null,null,null,null,null,null,null,null,null,null,null,null,null,null,null,null,null,null,null,null,null,null,null,null,null,null,{"$f":"COS(AI53)*(COS(AI61)*COS(AI49)+SIN(AI61)*SIN(AI49)*COS(AI48))","v":0.93126343212812246},{"$f":"COS(AJ53)*(COS(AJ61)*COS(AJ49)+SIN(AJ61)*SIN(AJ49)*COS(AJ48))","v":0.97257364228441634},0.99812419162826405,0.98587205066005035,0.94606364248248964,0.91773470022191761,0.92968648822525368,0.97055525953673782,0.99858545553046207,0.98534052301528585,0.94404577414002977,0.91759099086912044,null,null,{"$f":"IF(OR(Inverter!A$1<7,Inverter!A$1>7),AX49,IF(AND(Language!R$1=1,Inverter!A$1=7),AX50,IF(V51<0.91,AX51,AX52)))","v":1}]
[null,null,null,null,null,null,null,null,null,null,null,null,null,null,null,null,null,null,null,null,null,null,null,null,null,null,null,null,null,null,null,null,null,null,{"$f":"COS(AI53)*SIN(AI49)*SIN(AI48)","v":3.3567089203862033E-2},{"$f":"COS(AJ53)*SIN(AJ49)*SIN(AJ48)","v":3.5056102367600039E-2},3.5977063654647132E-2,3.5535439196271813E-2,3.4100557999115468E-2,3.3079450438026507E-2,3.3510248770928765E-2,3.498335041428427E-2,3.5993689762810983E-2,3.5516280454233211E-2,3.4027824587369429E-2,3.3074270480886188E-2]
[null,null,null,null,null,null,null,null,null,null,null,null,null,null,null,null,null,null,null,null,null,null,null,null,null,null,null,null,null,null,null,null,null,null,{"$f":"SQRT(AI58^2+AI59^2)","v":0.9318681931993763},{"$f":"SQRT(AJ58^2+AJ59^2)","v":0.97320523014397309},0.99877237197611057,0.98651227448599177,0.94667801478807301,0.91833067575503258,0.93029022523151039,0.97118553666157592,0.99923393542239247,0.98598040166797474,0.94465883604494849,0.91818687307759805]
[null,null,null,null,null,null,null,null,null,null,null,null,null,null,null,null,null,null,null,null,null,null,null,null,null,null,null,null,null,null,null,null,"纬度Ф",{"$f":"INDEX(geomet,MATCH(INDEX(GeoMet!$BS$4:$BS$348,city),GeoMet!$BO$4:$BO$940,0),1)","v":14.52},{"$f":"AH61*PI()/180","v":0.25342180738957665},{"$f":"AI61","v":0.25342180738957665},{"$f":"AJ61","v":0.25342180738957665},{"$f":"AK61","v":0.25342180738957665},{"$f":"AL61","v":0.25342180738957665},{"$f":"AM61","v":0.25342180738957665},{"$f":"AN61","v":0.25342180738957665},{"$f":"AO61","v":0.25342180738957665},{"$f":"AP61","v":0.25342180738957665},{"$f":"AQ61","v":0.25342180738957665},{"$f":"AR61","v":0.25342180738957665},{"$f":"AS61","v":0.25342180738957665}]
[null,null,null,null,null,null,null,null,null,null,null,null,null,null,null,null,null,null,null,null,null,null,null,null,null,null,null,null,null,null,null,null,"经度η",{"$f":"INDEX(geomet,MATCH(INDEX(GeoMet!$BS$4:$BS$348,city),GeoMet!$BO$4:$BO$940,0),2)","v":121},{"$f":"AH62*PI()/180","v":2.1118483949131388},{"$f":"AI62","v":2.1118483949131388},2.1118483949131388,2.1118483949131388,2.1118483949131388,2.1118483949131388,2.1118483949131388,2.1118483949131388,2.1118483949131388,2.1118483949131388,2.1118483949131388,2.1118483949131388]
[null,null,null,null,null,null,null,null,null,null,null,null,null,null,null,null,null,null,null,null,null,null,null,null,null,null,null,null,null,null,null,null,"Al",null,{"$f":"1+0.034*COS(2*PI()*AI52/365)","v":1.0328728256625794},{"$f":"1+0.034*COS(2*PI()*AJ52/365)","v":1.0238859341217514},1.0099484114115338,0.9920272927546061,0.97674673966476322,0.96736228855156869,0.96691397653406908,0.97549731691516872,0.9908943136244861,1.0082568905512619,1.0238859341217512,1.0327185086334412]
[null,null,null,null,null,null,null,null,null,null,null,null,null,null,null,null,null,null,null,null,null,null,null,null,null,null,null,null,null,null,null,null,null,null,{"$f":"COS(AI61)*COS(AI53)*SIN(AI51)+AI51*SIN(AI61)*SIN(AI53)","v":0.76384634736138102},{"$f":"COS(AJ61)*COS(AJ53)*SIN(AJ51)+AJ51*SIN(AJ61)*SIN(AJ53)","v":0.85337386509756774},0.94759947918462428,1.0203240142976191,1.0468827855115006,1.0504259297478384,1.0497407135845997,1.0359120569145446,0.98261839865556977,0.88974709686288478,0.78902511701293321,0.73843081940312683]
[null,null,null,null,null,null,null,null,null,null,null,null,null,null,null,null,null,null,null,null,null,null,null,null,null,null,null,null,null,null,null,null,"Rb",null,{"$f":"IF(((AI56-AI55)*AI57+(SIN(AI56)-SIN(AI55))*AI58+(COS(AI56)-COS(AI55))*AI59)/(COS(AI61)*COS(AI53)*SIN(AI51)+AI51*SIN(AI61)*SIN(AI53))/2>0,((AI56-AI55)*AI57+(SIN(AI56)-SIN(AI55))*AI58+(COS(AI56)-COS(AI55))*AI59)/(COS(AI61)*COS(AI53)*SIN(AI51)+AI51*SIN(AI61)*SIN(AI53))/2,0)","v":1.2171102867457049},{"$f":"IF(((AJ56-AJ55)*AJ57+(SIN(AJ56)-SIN(AJ55))*AJ58+(COS(AJ56)-COS(AJ55))*AJ59)/(COS(AJ61)*COS(AJ53)*SIN(AJ51)+AJ51*SIN(AJ61)*SIN(AJ53))/2>0,((AJ56-AJ55)*AJ57+(SIN(AJ56)-SIN(AJ55))*AJ58+(COS(AJ56)-COS(AJ55))*AJ59)/(COS(AJ61)*COS(AJ53)*SIN(AJ51)+AJ51*SIN(AJ61)*SIN(AJ53))/2,0)","v":1.139961321531082},1.0529800686649446,0.96285747534708588,0.89906726327519504,0.8684651415039466,0.88065255883099303,0.93293977714705756,1.0146782176704796,1.10807570321881,1.1952795340590641,1.2394902780075474]
[null,null,null,null,null,null,null,null,null,null,null,null,null,null,null,null,null,null,null,null,null,null,null,null,null,null,null,null,null,null,null,null,"ρR",0.2,{"$f":"AH66","v":0.2},{"$f":"AI66","v":0.2},{"$f":"AJ66","v":0.2},{"$f":"AK66","v":0.2},{"$f":"AL66","v":0.2},{"$f":"AM66","v":0.2},{"$f":"AN66","v":0.2},{"$f":"AO66","v":0.2},{"$f":"AP66","v":0.2},{"$f":"AQ66","v":0.2},{"$f":"AR66","v":0.2},{"$f":"AS66","v":0.2}]
[null,null,null,null,null,null,null,null,null,null,null,null,null,null,null,null,null,null,null,null,null,null,null,null,null,null,null,null,null,null,null,null,"直射St",null,{"$f":"AI65*AI45","v":72.661484118718562},{"$f":"AJ65*AJ45","v":86.40906817205601},109.50992714115424,110.72860966491487,81.635307505387701,68.956132235413349,55.304980694586362,43.661581570482277,60.17041830785945,60.057703114459507,72.433939763979282,80.566868070490585,{"$f":"SUM(AI67:AT67)","v":902.09602035950229}]
[null,null,null,null,null,null,null,null,null,null,null,null,null,null,null,null,null,null,null,null,null,null,null,null,null,null,null,null,null,null,null,null,"漫射Dt",null,{"$f":"AI46*0.5*(1+COS(AI49))","v":67.824441006972847},{"$f":"AJ46*0.5*(1+COS(AJ49))","v":58.19140445815642},74.606885107670138,71.657996368236539,81.880810664939688,84.731403113058846,85.222884569631105,81.979106956254157,80.209773712593972,76.867699807902568,66.448292928570496,60.45221915838885,{"$f":"SUM(AI68:AT68)","v":890.07291785237544}]
[null,null,null,null,null,null,null,null,null,null,null,null,null,null,null,null,null,null,null,null,null,null,null,null,null,null,null,null,null,null,null,null,"反射Rt",null,{"$f":"0.5*AI66*AI44*(1-COS(AI49))","v":0.43853461565969082},{"$f":"0.5*AJ66*AJ44*(1-COS(AJ49))","v":0.46000134509757779},0.61299438505966108,0.64025372402840652,0.59323136430732071,0.56426831665302868,0.50940889697842873,0.44364574171633053,0.48010510758702751,0.4511420599327356,0.43683090697414423,0.43103829744328587,{"$f":"SUM(AI69:AT69)","v":6.0614547614376386}]
[null,null,null,null,null,null,null,null,null,null,null,null,null,null,null,null,null,null,null,null,null,null,null,null,null,null,null,null,null,null,null,null,"总Qt",null,{"$f":"SUM(AI67:AI69)","v":140.92445974135109},145.06047397531,184.72980663388404,183.02685975717981,164.1093495346347,154.25180366512521,141.03727416119591,126.08433426845275,140.86029712804046,137.37654498229483,139.31906359952393,{"$f":"SUM(AT67:AT69)","v":141.45012552632272},{"$f":"SUM(AI70:AT70)","v":1798.2303929733152}]
[null,null,null,null,null,null,null,null,null,null,null,null,null,null,null,null,null,null,null,null,null,null,null,null,null,null,null,null,null,null,null,null,null,null,{"$f":"AI44/AI54","v":0.50389345492099913},{"$f":"AJ44/AJ54","v":0.52839602765682003},0.58065769763451924,0.59254115323358181,0.52593463337146518,0.5201866628084536,0.45497165586184479,0.39799264415145852,0.46190454178472007,0.45589332650771014,0.50652290309364034,0.51240313570408313]
[null,null,null,null,null,null,null,null,null,null,null,null,null,null,null,null,null,null,null,null,null,null,null,null,null,null,null,null,null,null,null,null,null,null,{"$f":"1.236-1.422*AI71","v":0.51946350710233924},{"$f":"1.236-1.422*AJ71","v":0.48462084867200195},0.41030475396371369,0.39340648010184665,0.48812095134577649,0.49629456548637896,0.58903030536445677,0.67005446001662605,0.57917174158212803,0.58771968970603616,0.51572443180084349,0.50736274102879375]
[null,null,null,null,null,null,null,null,null,null,null,null,null,null,null,null,null,null,null,null,null,null,null,null,null,null,null,null,null,null,null,null,null,null,{"$f":"AI72*AI44","v":66.854953364071051},{"$f":"AJ72*AJ44","v":65.423814570720268},73.813825238072099,73.921077611136994,84.981857629299682,82.18638004454435,88.060030651986281,87.241090694164711,81.605298388921838,77.814086917079194,66.115872156868136,64.181386740142415]
[]
[]
[null,null,null,null,null,null,null,null,null,null,null,null,null,null,null,null,null,null,null,null,null,null,null,null,null,null,null,null,null,null,null,null,null,"mon",1,2,3,4,5,6,7,8,9,10,11,12]
[]
[null,null,null,null,null,null,null,null,null,null,null,null,null,null,null,null,null,null,null,null,null,null,null,null,null,null,null,null,null,null,null,null,null,"globle",{"$f":"INDEX(geomet,MATCH(INDEX(GeoMet!$BS$4:$BS$348,city),GeoMet!$BO$4:$BO$940,0),4)","v":128.69999999999999},{"$f":"INDEX(geomet,MATCH(INDEX(GeoMet!$BS$4:$BS$348,city),GeoMet!$BO$4:$BO$940,0),5)","v":135},{"$f":"INDEX(geomet,MATCH(INDEX(GeoMet!$BS$4:$BS$348,city),GeoMet!$BO$4:$BO$940,0),6)","v":179.9},{"$f":"INDEX(geomet,MATCH(INDEX(GeoMet!$BS$4:$BS$348,city),GeoMet!$BO$4:$BO$940,0),7)","v":187.9},{"$f":"INDEX(geomet,MATCH(INDEX(GeoMet!$BS$4:$BS$348,city),GeoMet!$BO$4:$BO$940,0),8)","v":174.1},{"$f":"INDEX(geomet,MATCH(INDEX(GeoMet!$BS$4:$BS$348,city),GeoMet!$BO$4:$BO$940,0),9)","v":165.6},{"$f":"INDEX(geomet,MATCH(INDEX(GeoMet!$BS$4:$BS$348,city),GeoMet!$BO$4:$BO$940,0),10)","v":149.5},{"$f":"INDEX(geomet,MATCH(INDEX(GeoMet!$BS$4:$BS$348,city),GeoMet!$BO$4:$BO$940,0),11)","v":130.19999999999999},{"$f":"INDEX(geomet,MATCH(INDEX(GeoMet!$BS$4:$BS$348,city),GeoMet!$BO$4:$BO$940,0),12)","v":140.9},{"$f":"INDEX(geomet,MATCH(INDEX(GeoMet!$BS$4:$BS$348,city),GeoMet!$BO$4:$BO$940,0),13)","v":132.4},{"$f":"INDEX(geomet,MATCH(INDEX(GeoMet!$BS$4:$BS$348,city),GeoMet!$BO$4:$BO$940,0),14)","v":128.19999999999999},{"$f":"INDEX(geomet,MATCH(INDEX(GeoMet!$BS$4:$BS$348,city),GeoMet!$BO$4:$BO$940,0),15)","v":126.5},{"$f":"SUM(AI78:AT78)","v":1778.9000000000003}]
[null,null,null,null,null,null,null,null,null,null,null,null,null,null,null,null,null,null,null,null,null,null,null,null,null,null,null,null,null,null,null,null,null,"incident",{"$f":"AI78-AI80","v":59.699999999999989},{"$f":"AJ78-AJ80","v":75.8},104,115,90.8,79.399999999999991,62.8,46.799999999999983,59.300000000000011,54.2,60.599999999999994,65]
[null,null,null,null,null,null,null,null,null,null,null,null,null,null,null,null,null,null,null,null,null,null,null,null,null,null,null,null,null,null,null,null,null,"diffuse",{"$f":"IF(AI81=0,AI107,AI81)","v":69},{"$f":"IF(AJ81=0,AJ107,AJ81)","v":59.2},75.900000000000006,72.900000000000006,83.3,86.2,86.7,83.4,81.599999999999994,78.2,67.599999999999994,61.5]
[null,null,null,null,null,null,null,null,null,null,null,null,null,null,null,null,null,null,null,null,null,null,null,null,null,null,null,null,null,null,null,null,null,null,{"$f":"INDEX(geomet,MATCH(INDEX(GeoMet!$BS$4:$BS$348,city),GeoMet!$BO$4:$BO$940,0),17)","v":69},{"$f":"INDEX(geomet,MATCH(INDEX(GeoMet!$BS$4:$BS$348,city),GeoMet!$BO$4:$BO$940,0),18)","v":59.2},{"$f":"INDEX(geomet,MATCH(INDEX(GeoMet!$BS$4:$BS$348,city),GeoMet!$BO$4:$BO$940,0),19)","v":75.900000000000006},{"$f":"INDEX(geomet,MATCH(INDEX(GeoMet!$BS$4:$BS$348,city),GeoMet!$BO$4:$BO$940,0),20)","v":72.900000000000006},{"$f":"INDEX(geomet,MATCH(INDEX(GeoMet!$BS$4:$BS$348,city),GeoMet!$BO$4:$BO$940,0),21)","v":83.3},{"$f":"INDEX(geomet,MATCH(INDEX(GeoMet!$BS$4:$BS$348,city),GeoMet!$BO$4:$BO$940,0),22)","v":86.2},{"$f":"INDEX(geomet,MATCH(INDEX(GeoMet!$BS$4:$BS$348,city),GeoMet!$BO$4:$BO$940,0),23)","v":86.7},{"$f":"INDEX(geomet,MATCH(INDEX(GeoMet!$BS$4:$BS$348,city),GeoMet!$BO$4:$BO$940,0),24)","v":83.4},{"$f":"INDEX(geomet,MATCH(INDEX(GeoMet!$BS$4:$BS$348,city),GeoMet!$BO$4:$BO$940,0),25)","v":81.599999999999994},{"$f":"INDEX(geomet,MATCH(INDEX(GeoMet!$BS$4:$BS$348,city),GeoMet!$BO$4:$BO$940,0),26)","v":78.2},{"$f":"INDEX(geomet,MATCH(INDEX(GeoMet!$BS$4:$BS$348,city),GeoMet!$BO$4:$BO$940,0),27)","v":67.599999999999994},{"$f":"INDEX(geomet,MATCH(INDEX(GeoMet!$BS$4:$BS$348,city),GeoMet!$BO$4:$BO$940,0),28)","v":61.5}]
[null,null,null,null,null,null,null,null,null,null,null,null,null,null,null,null,null,null,null,null,null,null,null,null,null,null,null,null,null,null,null,null,"方位角α",{"$f":"V20","v":8},{"$f":"AH82*PI()/180","v":0.13962634015954636},{"$f":"AI82","v":0.13962634015954636},{"$f":"AJ82","v":0.13962634015954636},{"$f":"AK82","v":0.13962634015954636},{"$f":"AL82","v":0.13962634015954636},{"$f":"AM82","v":0.13962634015954636},{"$f":"AN82","v":0.13962634015954636},{"$f":"AO82","v":0.13962634015954636},{"$f":"AP82","v":0.13962634015954636},{"$f":"AQ82","v":0.13962634015954636},{"$f":"AR82","v":0.13962634015954636},{"$f":"AS82","v":0.13962634015954636}]
[null,null,null,null,null,null,null,null,null,null,null,null,null,null,null,null,null,null,null,null,null,null,null,null,null,null,null,null,null,null,null,null,"倾角β",{"$f":"T20","v":15},{"$f":"AH83*PI()/180","v":0.26179938779914941},0.26179938779914941,0.26179938779914941,0.26179938779914941,0.26179938779914941,0.26179938779914941,0.26179938779914941,0.26179938779914941,0.26179938779914941,0.26179938779914941,0.26179938779914941,0.26179938779914941]
[]
[null,null,null,null,null,null,null,null,null,null,null,null,null,null,null,null,null,null,null,null,null,null,null,null,null,null,null,null,null,null,null,null,"水平日落ωt",null,{"$f":"ACOS(-TAN(AI95)*TAN(AI87))","v":1.4698076889357465},{"$f":"ACOS(-TAN(AJ95)*TAN(AJ87))","v":1.5095872177781877},1.558043714107755,1.6137542287180064,1.6590374283786926,1.6826453442411489,1.6730840212094558,1.634374432942143,1.5808223337846843,1.5269802258878789,1.4807492129391389,1.4588350547290916]
[null,null,null,null,null,null,null,null,null,null,null,null,null,null,null,null,null,null,null,null,null,null,null,null,null,null,null,null,null,null,null,null,"斜面日落ωp",null,15,46,74,105,135,166,196,227,258,288,319,349]
[null,null,null,null,null,null,null,null,null,null,null,null,null,null,null,null,null,null,null,null,null,null,null,null,null,null,null,null,null,null,null,null,"赤纬角δ",null,{"$f":"23.45*PI()/180*SIN(2*PI()*(AI86+284)/365)","v":-0.37122234990040348},-0.23193953024048514,-4.9198713707109758E-2,0.16432088762716587,0.32798083344699763,0.40691321620538906,0.37554836000057823,0.24056857736111789,3.8691973511018642E-2,-0.1675410879440869,-0.33419245656714935,-0.40727641274141729]
[null,null,null,null,null,null,null,null,null,null,null,null,null,null,null,null,null,null,null,null,null,null,null,null,null,null,null,null,null,null,null,null,null,null,{"$f":"10.443*AI98*AI97*31","v":255.41113650737475},{"$f":"10.443*AJ98*AJ97*28","v":255.490187158786},{"$f":"10.443*AK98*AK97*31","v":309.82108862566679},{"$f":"10.443*AL98*AL97*30","v":317.10877628431854},{"$f":"10.443*AM98*AM97*31","v":331.02973060348734},{"$f":"10.443*AN98*AN97*30","v":318.34726231913845},{"$f":"10.443*AO98*AO97*31","v":328.59189814100569},{"$f":"10.443*AP98*AP97*31","v":327.14172463562312},{"$f":"10.443*AQ98*AQ97*30","v":305.04138248042881},{"$f":"10.443*AR98*AR97*31","v":290.41881576601855},{"$f":"10.443*AS98*AS97*30","v":253.09813083871506},{"$f":"10.443*AT98*AT97*31","v":246.87592870831836}]
[null,null,null,null,null,null,null,null,null,null,null,null,null,null,null,null,null,null,null,null,null,null,null,null,null,null,null,null,null,null,null,null,null,null,{"$f":"IF(ISERROR(-1*MIN(AI85,ABS(-1*ACOS(-1*AI91/AI94)+ASIN(AI93/AI94)))),0,-1*MIN(AI85,ABS(-1*ACOS(-1*AI91/AI94)+ASIN(AI93/AI94))))","v":-1.4698076889357465},{"$f":"IF(ISERROR(-1*MIN(AJ85,ABS(-1*ACOS(-1*AJ91/AJ94)+ASIN(AJ93/AJ94)))),0,-1*MIN(AJ85,ABS(-1*ACOS(-1*AJ91/AJ94)+ASIN(AJ93/AJ94))))","v":-1.5095872177781877},-1.5350596864357569,-1.533782428809195,-1.5327463033063946,-1.5322076384819889,-1.5324256455373242,-1.5333102395249023,-1.5345373328387086,-1.5269802258878789,-1.4807492129391389,-1.4588350547290916]
[null,null,null,null,null,null,null,null,null,null,null,null,null,null,null,null,null,null,null,null,null,null,null,null,null,null,null,null,null,null,null,null,null,null,{"$f":"IF(ISERROR(MIN(AI85,ACOS(-1*AI91/AI94)+ASIN(AI93/AI94))),0,MIN(AI85,ACOS(-1*AI91/AI94)+ASIN(AI93/AI94)))","v":1.4698076889357465},{"$f":"IF(ISERROR(MIN(AJ85,ACOS(-1*AJ91/AJ94)+ASIN(AJ93/AJ94))),0,MIN(AJ85,ACOS(-1*AJ91/AJ94)+ASIN(AJ93/AJ94)))","v":1.5095872177781877},1.558043714107755,1.6058405862995311,1.6048044607967307,1.604265795972325,1.6044838030276602,1.6053683970152384,1.5808223337846843,1.5269802258878789,1.4807492129391389,1.4588350547290916]
[null,null,null,null,null,null,null,null,null,null,null,null,null,null,null,null,null,null,null,null,null,null,null,null,null,null,null,null,null,null,null,null,null,null,{"$f":"SIN(AI87)*(SIN(AI95)*COS(AI83)-COS(AI95)*SIN(AI83)*COS(AI82))","v":2.154445532005036E-3},{"$f":"SIN(AJ87)*(SIN(AJ95)*COS(AJ83)-COS(AJ95)*SIN(AJ83)*COS(AJ82))","v":1.3651998985973598E-3},2.9207937630725624E-4,-9.7153611189244242E-4,-1.9131826553060621E-3,-2.3505654173481684E-3,-2.1783679379637228E-3,-1.4150251054504983E-3,-2.2973907909675813E-4,9.9039858736094978E-4,1.9480706014720131E-3,2.3525461999378905E-3]
[null,null,null,null,null,null,null,null,null,null,null,null,null,null,null,null,null,null,null,null,null,null,null,null,null,null,null,null,null,null,null,null,null,null,{"$f":"COS(AI87)*(COS(AI95)*COS(AI83)+SIN(AI95)*SIN(AI83)*COS(AI82))","v":0.93126343212812246},{"$f":"COS(AJ87)*(COS(AJ95)*COS(AJ83)+SIN(AJ95)*SIN(AJ83)*COS(AJ82))","v":0.97257364228441634},0.99812419162826405,0.98587205066005035,0.94606364248248964,0.91773470022191761,0.92968648822525368,0.97055525953673782,0.99858545553046207,0.98534052301528585,0.94404577414002977,0.91759099086912044]
[null,null,null,null,null,null,null,null,null,null,null,null,null,null,null,null,null,null,null,null,null,null,null,null,null,null,null,null,null,null,null,null,null,null,{"$f":"COS(AI87)*SIN(AI83)*SIN(AI82)","v":3.3567089203862033E-2},{"$f":"COS(AJ87)*SIN(AJ83)*SIN(AJ82)","v":3.5056102367600039E-2},3.5977063654647132E-2,3.5535439196271813E-2,3.4100557999115468E-2,3.3079450438026507E-2,3.3510248770928765E-2,3.498335041428427E-2,3.5993689762810983E-2,3.5516280454233211E-2,3.4027824587369429E-2,3.3074270480886188E-2]
[null,null,null,null,null,null,null,null,null,null,null,null,null,null,null,null,null,null,null,null,null,null,null,null,null,null,null,null,null,null,null,null,null,null,{"$f":"SQRT(AI92^2+AI93^2)","v":0.9318681931993763},{"$f":"SQRT(AJ92^2+AJ93^2)","v":0.97320523014397309},0.99877237197611057,0.98651227448599177,0.94667801478807301,0.91833067575503258,0.93029022523151039,0.97118553666157592,0.99923393542239247,0.98598040166797474,0.94465883604494849,0.91818687307759805]
[null,null,null,null,null,null,null,null,null,null,null,null,null,null,null,null,null,null,null,null,null,null,null,null,null,null,null,null,null,null,null,null,"纬度Ф",{"$f":"INDEX(geomet,MATCH(INDEX(GeoMet!$BS$4:$BS$348,city),GeoMet!$BO$4:$BO$940,0),1)","v":14.52},{"$f":"AH95*PI()/180","v":0.25342180738957665},{"$f":"AI95","v":0.25342180738957665},{"$f":"AJ95","v":0.25342180738957665},{"$f":"AK95","v":0.25342180738957665},{"$f":"AL95","v":0.25342180738957665},{"$f":"AM95","v":0.25342180738957665},{"$f":"AN95","v":0.25342180738957665},{"$f":"AO95","v":0.25342180738957665},{"$f":"AP95","v":0.25342180738957665},{"$f":"AQ95","v":0.25342180738957665},{"$f":"AR95","v":0.25342180738957665},{"$f":"AS95","v":0.25342180738957665}]
[null,null,null,null,null,null,null,null,null,null,null,null,null,null,null,null,null,null,null,null,null,null,null,null,null,null,null,null,null,null,null,null,"经度η",{"$f":"INDEX(geomet,MATCH(INDEX(GeoMet!$BS$4:$BS$348,city),GeoMet!$BO$4:$BO$940,0),2)","v":121},{"$f":"AH96*PI()/180","v":2.1118483949131388},{"$f":"AI96","v":2.1118483949131388},2.1118483949131388,2.1118483949131388,2.1118483949131388,2.1118483949131388,2.1118483949131388,2.1118483949131388,2.1118483949131388,2.1118483949131388,2.1118483949131388,2.1118483949131388]
[null,null,null,null,null,null,null,null,null,null,null,null,null,null,null,null,null,null,null,null,null,null,null,null,null,null,null,null,null,null,null,null,"Al",null,{"$f":"1+0.034*COS(2*PI()*AI86/365)","v":1.0328728256625794},{"$f":"1+0.034*COS(2*PI()*AJ86/365)","v":1.0238859341217514},1.0099484114115338,0.9920272927546061,0.97674673966476322,0.96736228855156869,0.96691397653406908,0.97549731691516872,0.9908943136244861,1.0082568905512619,1.0238859341217512,1.0327185086334412]
[null,null,null,null,null,null,null,null,null,null,null,null,null,null,null,null,null,null,null,null,null,null,null,null,null,null,null,null,null,null,null,null,null,null,{"$f":"COS(AI95)*COS(AI87)*SIN(AI85)+AI85*SIN(AI95)*SIN(AI87)","v":0.76384634736138102},{"$f":"COS(AJ95)*COS(AJ87)*SIN(AJ85)+AJ85*SIN(AJ95)*SIN(AJ87)","v":0.85337386509756774},0.94759947918462428,1.0203240142976191,1.0468827855115006,1.0504259297478384,1.0497407135845997,1.0359120569145446,0.98261839865556977,0.88974709686288478,0.78902511701293321,0.73843081940312683]
[null,null,null,null,null,null,null,null,null,null,null,null,null,null,null,null,null,null,null,null,null,null,null,null,null,null,null,null,null,null,null,null,"Rb",null,{"$f":"IF(((AI90-AI89)*AI91+(SIN(AI90)-SIN(AI89))*AI92+(COS(AI90)-COS(AI89))*AI93)/(COS(AI95)*COS(AI87)*SIN(AI85)+AI85*SIN(AI95)*SIN(AI87))/2>0,((AI90-AI89)*AI91+(SIN(AI90)-SIN(AI89))*AI92+(COS(AI90)-COS(AI89))*AI93)/(COS(AI95)*COS(AI87)*SIN(AI85)+AI85*SIN(AI95)*SIN(AI87))/2,0)","v":1.2171102867457049},{"$f":"IF(((AJ90-AJ89)*AJ91+(SIN(AJ90)-SIN(AJ89))*AJ92+(COS(AJ90)-COS(AJ89))*AJ93)/(COS(AJ95)*COS(AJ87)*SIN(AJ85)+AJ85*SIN(AJ95)*SIN(AJ87))/2>0,((AJ90-AJ89)*AJ91+(SIN(AJ90)-SIN(AJ89))*AJ92+(COS(AJ90)-COS(AJ89))*AJ93)/(COS(AJ95)*COS(AJ87)*SIN(AJ85)+AJ85*SIN(AJ95)*SIN(AJ87))/2,0)","v":1.139961321531082},1.0529800686649446,0.96285747534708588,0.89906726327519504,0.8684651415039466,0.88065255883099303,0.93293977714705756,1.0146782176704796,1.10807570321881,1.1952795340590641,1.2394902780075474]
[null,null,null,null,null,null,null,null,null,null,null,null,null,null,null,null,null,null,null,null,null,null,null,null,null,null,null,null,null,null,null,null,"ρR",0.2,{"$f":"AH100","v":0.2},{"$f":"AI100","v":0.2},{"$f":"AJ100","v":0.2},{"$f":"AK100","v":0.2},{"$f":"AL100","v":0.2},{"$f":"AM100","v":0.2},{"$f":"AN100","v":0.2},{"$f":"AO100","v":0.2},{"$f":"AP100","v":0.2},{"$f":"AQ100","v":0.2},{"$f":"AR100","v":0.2},{"$f":"AS100","v":0.2}]
[null,null,null,null,null,null,null,null,null,null,null,null,null,null,null,null,null,null,null,null,null,null,null,null,null,null,null,null,null,null,null,null,"直射St",null,{"$f":"AI99*AI79","v":72.661484118718562},{"$f":"AJ99*AJ79","v":86.40906817205601},109.50992714115424,110.72860966491487,81.635307505387701,68.956132235413349,55.304980694586362,43.661581570482277,60.17041830785945,60.057703114459507,72.433939763979282,80.566868070490585,{"$f":"SUM(AI101:AT101)","v":902.09602035950229}]
[null,null,null,null,null,null,null,null,null,null,null,null,null,null,null,null,null,null,null,null,null,null,null,null,null,null,null,null,null,null,null,null,"漫射Dt",null,{"$f":"AI80*0.5*(1+COS(AI83))","v":67.824441006972847},{"$f":"AJ80*0.5*(1+COS(AJ83))","v":58.19140445815642},74.606885107670138,71.657996368236539,81.880810664939688,84.731403113058846,85.222884569631105,81.979106956254157,80.209773712593972,76.867699807902568,66.448292928570496,60.45221915838885,{"$f":"SUM(AI102:AT102)","v":890.07291785237544}]
[null,null,null,null,null,null,null,null,null,null,null,null,null,null,null,null,null,null,null,null,null,null,null,null,null,null,null,null,null,null,null,null,"反射Rt",null,{"$f":"0.5*AI100*AI78*(1-COS(AI83))","v":0.43853461565969082},{"$f":"0.5*AJ100*AJ78*(1-COS(AJ83))","v":0.46000134509757779},0.61299438505966108,0.64025372402840652,0.59323136430732071,0.56426831665302868,0.50940889697842873,0.44364574171633053,0.48010510758702751,0.4511420599327356,0.43683090697414423,0.43103829744328587,{"$f":"SUM(AI103:AT103)","v":6.0614547614376386}]
[null,null,null,null,null,null,null,null,null,null,null,null,null,null,null,null,null,null,null,null,null,null,null,null,null,null,null,null,null,null,null,null,"总Qt",null,{"$f":"SUM(AI101:AI103)","v":140.92445974135109},145.06047397531,184.72980663388404,183.02685975717981,164.1093495346347,154.25180366512521,141.03727416119591,126.08433426845275,140.86029712804046,137.37654498229483,139.31906359952393,{"$f":"SUM(AT101:AT103)","v":141.45012552632272},{"$f":"SUM(AI104:AT104)","v":1798.2303929733152}]
[null,null,null,null,null,null,null,null,null,null,null,null,null,null,null,null,null,null,null,null,null,null,null,null,null,null,null,null,null,null,null,null,null,null,{"$f":"AI78/AI88","v":0.50389345492099913},{"$f":"AJ78/AJ88","v":0.52839602765682003},0.58065769763451924,0.59254115323358181,0.52593463337146518,0.5201866628084536,0.45497165586184479,0.39799264415145852,0.46190454178472007,0.45589332650771014,0.50652290309364034,0.51240313570408313]
[null,null,null,null,null,null,null,null,null,null,null,null,null,null,null,null,null,null,null,null,null,null,null,null,null,null,null,null,null,null,null,null,null,null,{"$f":"1.236-1.422*AI105","v":0.51946350710233924},{"$f":"1.236-1.422*AJ105","v":0.48462084867200195},0.41030475396371369,0.39340648010184665,0.48812095134577649,0.49629456548637896,0.58903030536445677,0.67005446001662605,0.57917174158212803,0.58771968970603616,0.51572443180084349,0.50736274102879375]
[null,null,null,null,null,null,null,null,null,null,null,null,null,null,null,null,null,null,null,null,null,null,null,null,null,null,null,null,null,null,null,null,null,null,{"$f":"AI106*AI78","v":66.854953364071051},{"$f":"AJ106*AJ78","v":65.423814570720268},73.813825238072099,73.921077611136994,84.981857629299682,82.18638004454435,88.060030651986281,87.241090694164711,81.605298388921838,77.814086917079194,66.115872156868136,64.181386740142415]
[]
[]
[null,null,null,null,null,null,null,null,null,null,null,null,null,null,null,null,null,null,null,null,null,null,null,null,null,null,null,null,null,null,null,null,null,"mon",1,2,3,4,5,6,7,8,9,10,11,12]
[]
[null,null,null,null,null,null,null,null,null,null,null,null,null,null,null,null,null,null,null,null,null,null,null,null,null,null,null,null,null,null,null,null,null,"globle",{"$f":"INDEX(geomet,MATCH(INDEX(GeoMet!$BS$4:$BS$348,city),GeoMet!$BO$4:$BO$940,0),4)","v":128.69999999999999},{"$f":"INDEX(geomet,MATCH(INDEX(GeoMet!$BS$4:$BS$348,city),GeoMet!$BO$4:$BO$940,0),5)","v":135},{"$f":"INDEX(geomet,MATCH(INDEX(GeoMet!$BS$4:$BS$348,city),GeoMet!$BO$4:$BO$940,0),6)","v":179.9},{"$f":"INDEX(geomet,MATCH(INDEX(GeoMet!$BS$4:$BS$348,city),GeoMet!$BO$4:$BO$940,0),7)","v":187.9},{"$f":"INDEX(geomet,MATCH(INDEX(GeoMet!$BS$4:$BS$348,city),GeoMet!$BO$4:$BO$940,0),8)","v":174.1},{"$f":"INDEX(geomet,MATCH(INDEX(GeoMet!$BS$4:$BS$348,city),GeoMet!$BO$4:$BO$940,0),9)","v":165.6},{"$f":"INDEX(geomet,MATCH(INDEX(GeoMet!$BS$4:$BS$348,city),GeoMet!$BO$4:$BO$940,0),10)","v":149.5},{"$f":"INDEX(geomet,MATCH(INDEX(GeoMet!$BS$4:$BS$348,city),GeoMet!$BO$4:$BO$940,0),11)","v":130.19999999999999},{"$f":"INDEX(geomet,MATCH(INDEX(GeoMet!$BS$4:$BS$348,city),GeoMet!$BO$4:$BO$940,0),12)","v":140.9},{"$f":"INDEX(geomet,MATCH(INDEX(GeoMet!$BS$4:$BS$348,city),GeoMet!$BO$4:$BO$940,0),13)","v":132.4},{"$f":"INDEX(geomet,MATCH(INDEX(GeoMet!$BS$4:$BS$348,city),GeoMet!$BO$4:$BO$940,0),14)","v":128.19999999999999},{"$f":"INDEX(geomet,MATCH(INDEX(GeoMet!$BS$4:$BS$348,city),GeoMet!$BO$4:$BO$940,0),15)","v":126.5},{"$f":"SUM(AI112:AT112)","v":1778.9000000000003}]
[null,null,null,null,null,null,null,null,null,null,null,null,null,null,null,null,null,null,null,null,null,null,null,null,null,null,null,null,null,null,null,null,null,"incident",{"$f":"AI112-AI114","v":59.699999999999989},{"$f":"AJ112-AJ114","v":75.8},104,115,90.8,79.399999999999991,62.8,46.799999999999983,59.300000000000011,54.2,60.599999999999994,65]
[null,null,null,null,null,null,null,null,null,null,null,null,null,null,null,null,null,null,null,null,null,null,null,null,null,null,null,null,null,null,null,null,null,"diffuse",{"$f":"IF(AI115=0,AI141,AI115)","v":69},{"$f":"IF(AJ115=0,AJ141,AJ115)","v":59.2},75.900000000000006,72.900000000000006,83.3,86.2,86.7,83.4,81.599999999999994,78.2,67.599999999999994,61.5]
[null,null,null,null,null,null,null,null,null,null,null,null,null,null,null,null,null,null,null,null,null,null,null,null,null,null,null,null,null,null,null,null,null,null,{"$f":"INDEX(geomet,MATCH(INDEX(GeoMet!$BS$4:$BS$348,city),GeoMet!$BO$4:$BO$940,0),17)","v":69},{"$f":"INDEX(geomet,MATCH(INDEX(GeoMet!$BS$4:$BS$348,city),GeoMet!$BO$4:$BO$940,0),18)","v":59.2},{"$f":"INDEX(geomet,MATCH(INDEX(GeoMet!$BS$4:$BS$348,city),GeoMet!$BO$4:$BO$940,0),19)","v":75.900000000000006},{"$f":"INDEX(geomet,MATCH(INDEX(GeoMet!$BS$4:$BS$348,city),GeoMet!$BO$4:$BO$940,0),20)","v":72.900000000000006},{"$f":"INDEX(geomet,MATCH(INDEX(GeoMet!$BS$4:$BS$348,city),GeoMet!$BO$4:$BO$940,0),21)","v":83.3},{"$f":"INDEX(geomet,MATCH(INDEX(GeoMet!$BS$4:$BS$348,city),GeoMet!$BO$4:$BO$940,0),22)","v":86.2},{"$f":"INDEX(geomet,MATCH(INDEX(GeoMet!$BS$4:$BS$348,city),GeoMet!$BO$4:$BO$940,0),23)","v":86.7},{"$f":"INDEX(geomet,MATCH(INDEX(GeoMet!$BS$4:$BS$348,city),GeoMet!$BO$4:$BO$940,0),24)","v":83.4},{"$f":"INDEX(geomet,MATCH(INDEX(GeoMet!$BS$4:$BS$348,city),GeoMet!$BO$4:$BO$940,0),25)","v":81.599999999999994},{"$f":"INDEX(geomet,MATCH(INDEX(GeoMet!$BS$4:$BS$348,city),GeoMet!$BO$4:$BO$940,0),26)","v":78.2},{"$f":"INDEX(geomet,MATCH(INDEX(GeoMet!$BS$4:$BS$348,city),GeoMet!$BO$4:$BO$940,0),27)","v":67.599999999999994},{"$f":"INDEX(geomet,MATCH(INDEX(GeoMet!$BS$4:$BS$348,city),GeoMet!$BO$4:$BO$940,0),28)","v":61.5}]
[null,null,null,null,null,null,null,null,null,null,null,null,null,null,null,null,null,null,null,null,null,null,null,null,null,null,null,null,null,null,null,null,"方位角α",{"$f":"AB20","v":8},{"$f":"AH116*PI()/180","v":0.13962634015954636},{"$f":"AI116","v":0.13962634015954636},{"$f":"AJ116","v":0.13962634015954636},{"$f":"AK116","v":0.13962634015954636},{"$f":"AL116","v":0.13962634015954636},{"$f":"AM116","v":0.13962634015954636},{"$f":"AN116","v":0.13962634015954636},{"$f":"AO116","v":0.13962634015954636},{"$f":"AP116","v":0.13962634015954636},{"$f":"AQ116","v":0.13962634015954636},{"$f":"AR116","v":0.13962634015954636},{"$f":"AS116","v":0.13962634015954636}]
[null,null,null,null,null,null,null,null,null,null,null,null,null,null,null,null,null,null,null,null,null,null,null,null,null,null,null,null,null,null,null,null,"倾角β",{"$f":"Z20","v":15},{"$f":"AH117*PI()/180","v":0.26179938779914941},0.26179938779914941,0.26179938779914941,0.26179938779914941,0.26179938779914941,0.26179938779914941,0.26179938779914941,0.26179938779914941,0.26179938779914941,0.26179938779914941,0.26179938779914941,0.26179938779914941]
[]
[null,null,null,null,null,null,null,null,null,null,null,null,null,null,null,null,null,null,null,null,null,null,null,null,null,null,null,null,null,null,null,null,"水平日落ωt",null,{"$f":"ACOS(-TAN(AI129)*TAN(AI121))","v":1.4698076889357465},{"$f":"ACOS(-TAN(AJ129)*TAN(AJ121))","v":1.5095872177781877},1.558043714107755,1.6137542287180064,1.6590374283786926,1.6826453442411489,1.6730840212094558,1.634374432942143,1.5808223337846843,1.5269802258878789,1.4807492129391389,1.4588350547290916]
[null,null,null,null,null,null,null,null,null,null,null,null,null,null,null,null,null,null,null,null,null,null,null,null,null,null,null,null,null,null,null,null,"斜面日落ωp",null,15,46,74,105,135,166,196,227,258,288,319,349]
[null,null,null,null,null,null,null,null,null,null,null,null,null,null,null,null,null,null,null,null,null,null,null,null,null,null,null,null,null,null,null,null,"赤纬角δ",null,{"$f":"23.45*PI()/180*SIN(2*PI()*(AI120+284)/365)","v":-0.37122234990040348},-0.23193953024048514,-4.9198713707109758E-2,0.16432088762716587,0.32798083344699763,0.40691321620538906,0.37554836000057823,0.24056857736111789,3.8691973511018642E-2,-0.1675410879440869,-0.33419245656714935,-0.40727641274141729]
[null,null,null,null,null,null,null,null,null,null,null,null,null,null,null,null,null,null,null,null,null,null,null,null,null,null,null,null,null,null,null,null,null,null,{"$f":"10.443*AI132*AI131*31","v":255.41113650737475},{"$f":"10.443*AJ132*AJ131*28","v":255.490187158786},{"$f":"10.443*AK132*AK131*31","v":309.82108862566679},{"$f":"10.443*AL132*AL131*30","v":317.10877628431854},{"$f":"10.443*AM132*AM131*31","v":331.02973060348734},{"$f":"10.443*AN132*AN131*30","v":318.34726231913845},{"$f":"10.443*AO132*AO131*31","v":328.59189814100569},{"$f":"10.443*AP132*AP131*31","v":327.14172463562312},{"$f":"10.443*AQ132*AQ131*30","v":305.04138248042881},{"$f":"10.443*AR132*AR131*31","v":290.41881576601855},{"$f":"10.443*AS132*AS131*30","v":253.09813083871506},{"$f":"10.443*AT132*AT131*31","v":246.87592870831836}]
[null,null,null,null,null,null,null,null,null,null,null,null,null,null,null,null,null,null,null,null,null,null,null,null,null,null,null,null,null,null,null,null,null,null,{"$f":"IF(ISERROR(-1*MIN(AI119,ABS(-1*ACOS(-1*AI125/AI128)+ASIN(AI127/AI128)))),0,-1*MIN(AI119,ABS(-1*ACOS(-1*AI125/AI128)+ASIN(AI127/AI128))))","v":-1.4698076889357465},{"$f":"IF(ISERROR(-1*MIN(AJ119,ABS(-1*ACOS(-1*AJ125/AJ128)+ASIN(AJ127/AJ128)))),0,-1*MIN(AJ119,ABS(-1*ACOS(-1*AJ125/AJ128)+ASIN(AJ127/AJ128))))","v":-1.5095872177781877},-1.5350596864357569,-1.533782428809195,-1.5327463033063946,-1.5322076384819889,-1.5324256455373242,-1.5333102395249023,-1.5345373328387086,-1.5269802258878789,-1.4807492129391389,-1.4588350547290916]
[null,null,null,null,null,null,null,null,null,null,null,null,null,null,null,null,null,null,null,null,null,null,null,null,null,null,null,null,null,null,null,null,null,null,{"$f":"IF(ISERROR(MIN(AI119,ACOS(-1*AI125/AI128)+ASIN(AI127/AI128))),0,MIN(AI119,ACOS(-1*AI125/AI128)+ASIN(AI127/AI128)))","v":1.4698076889357465},{"$f":"IF(ISERROR(MIN(AJ119,ACOS(-1*AJ125/AJ128)+ASIN(AJ127/AJ128))),0,MIN(AJ119,ACOS(-1*AJ125/AJ128)+ASIN(AJ127/AJ128)))","v":1.5095872177781877},1.558043714107755,1.6058405862995311,1.6048044607967307,1.604265795972325,1.6044838030276602,1.6053683970152384,1.5808223337846843,1.5269802258878789,1.4807492129391389,1.4588350547290916]
[null,null,null,null,null,null,null,null,null,null,null,null,null,null,null,null,null,null,null,null,null,null,null,null,null,null,null,null,null,null,null,null,null,null,{"$f":"SIN(AI121)*(SIN(AI129)*COS(AI117)-COS(AI129)*SIN(AI117)*COS(AI116))","v":2.154445532005036E-3},{"$f":"SIN(AJ121)*(SIN(AJ129)*COS(AJ117)-COS(AJ129)*SIN(AJ117)*COS(AJ116))","v":1.3651998985973598E-3},2.9207937630725624E-4,-9.7153611189244242E-4,-1.9131826553060621E-3,-2.3505654173481684E-3,-2.1783679379637228E-3,-1.4150251054504983E-3,-2.2973907909675813E-4,9.9039858736094978E-4,1.9480706014720131E-3,2.3525461999378905E-3]
[null,null,null,null,null,null,null,null,null,null,null,null,null,null,null,null,null,null,null,null,null,null,null,null,null,null,null,null,null,null,null,null,null,null,{"$f":"COS(AI121)*(COS(AI129)*COS(AI117)+SIN(AI129)*SIN(AI117)*COS(AI116))","v":0.93126343212812246},{"$f":"COS(AJ121)*(COS(AJ129)*COS(AJ117)+SIN(AJ129)*SIN(AJ117)*COS(AJ116))","v":0.97257364228441634},0.99812419162826405,0.98587205066005035,0.94606364248248964,0.91773470022191761,0.92968648822525368,0.97055525953673782,0.99858545553046207,0.98534052301528585,0.94404577414002977,0.91759099086912044]
[null,null,null,null,null,null,null,null,null,null,null,null,null,null,null,null,null,null,null,null,null,null,null,null,null,null,null,null,null,null,null,null,null,null,{"$f":"COS(AI121)*SIN(AI117)*SIN(AI116)","v":3.3567089203862033E-2},{"$f":"COS(AJ121)*SIN(AJ117)*SIN(AJ116)","v":3.5056102367600039E-2},3.5977063654647132E-2,3.5535439196271813E-2,3.4100557999115468E-2,3.3079450438026507E-2,3.3510248770928765E-2,3.498335041428427E-2,3.5993689762810983E-2,3.5516280454233211E-2,3.4027824587369429E-2,3.3074270480886188E-2]
[null,null,null,null,null,null,null,null,null,null,null,null,null,null,null,null,null,null,null,null,null,null,null,null,null,null,null,null,null,null,null,null,null,null,{"$f":"SQRT(AI126^2+AI127^2)","v":0.9318681931993763},{"$f":"SQRT(AJ126^2+AJ127^2)","v":0.97320523014397309},0.99877237197611057,0.98651227448599177,0.94667801478807301,0.91833067575503258,0.93029022523151039,0.97118553666157592,0.99923393542239247,0.98598040166797474,0.94465883604494849,0.91818687307759805]
[null,null,null,null,null,null,null,null,null,null,null,null,null,null,null,null,null,null,null,null,null,null,null,null,null,null,null,null,null,null,null,null,"纬度Ф",{"$f":"INDEX(geomet,MATCH(INDEX(GeoMet!$BS$4:$BS$348,city),GeoMet!$BO$4:$BO$940,0),1)","v":14.52},{"$f":"AH129*PI()/180","v":0.25342180738957665},{"$f":"AI129","v":0.25342180738957665},{"$f":"AJ129","v":0.25342180738957665},{"$f":"AK129","v":0.25342180738957665},{"$f":"AL129","v":0.25342180738957665},{"$f":"AM129","v":0.25342180738957665},{"$f":"AN129","v":0.25342180738957665},{"$f":"AO129","v":0.25342180738957665},{"$f":"AP129","v":0.25342180738957665},{"$f":"AQ129","v":0.25342180738957665},{"$f":"AR129","v":0.25342180738957665},{"$f":"AS129","v":0.25342180738957665}]
[null,null,null,null,null,null,null,null,null,null,null,null,null,null,null,null,null,null,null,null,null,null,null,null,null,null,null,null,null,null,null,null,"经度η",{"$f":"INDEX(geomet,MATCH(INDEX(GeoMet!$BS$4:$BS$348,city),GeoMet!$BO$4:$BO$940,0),2)","v":121},{"$f":"AH130*PI()/180","v":2.1118483949131388},{"$f":"AI130","v":2.1118483949131388},2.1118483949131388,2.1118483949131388,2.1118483949131388,2.1118483949131388,2.1118483949131388,2.1118483949131388,2.1118483949131388,2.1118483949131388,2.1118483949131388,2.1118483949131388]
[null,null,null,null,null,null,null,null,null,null,null,null,null,null,null,null,null,null,null,null,null,null,null,null,null,null,null,null,null,null,null,null,"Al",null,{"$f":"1+0.034*COS(2*PI()*AI120/365)","v":1.0328728256625794},{"$f":"1+0.034*COS(2*PI()*AJ120/365)","v":1.0238859341217514},1.0099484114115338,0.9920272927546061,0.97674673966476322,0.96736228855156869,0.96691397653406908,0.97549731691516872,0.9908943136244861,1.0082568905512619,1.0238859341217512,1.0327185086334412]
[null,null,null,null,null,null,null,null,null,null,null,null,null,null,null,null,null,null,null,null,null,null,null,null,null,null,null,null,null,null,null,null,null,null,{"$f":"COS(AI129)*COS(AI121)*SIN(AI119)+AI119*SIN(AI129)*SIN(AI121)","v":0.76384634736138102},{"$f":"COS(AJ129)*COS(AJ121)*SIN(AJ119)+AJ119*SIN(AJ129)*SIN(AJ121)","v":0.85337386509756774},0.94759947918462428,1.0203240142976191,1.0468827855115006,1.0504259297478384,1.0497407135845997,1.0359120569145446,0.98261839865556977,0.88974709686288478,0.78902511701293321,0.73843081940312683]
[null,null,null,null,null,null,null,null,null,null,null,null,null,null,null,null,null,null,null,null,null,null,null,null,null,null,null,null,null,null,null,null,"Rb",null,{"$f":"IF(((AI124-AI123)*AI125+(SIN(AI124)-SIN(AI123))*AI126+(COS(AI124)-COS(AI123))*AI127)/(COS(AI129)*COS(AI121)*SIN(AI119)+AI119*SIN(AI129)*SIN(AI121))/2>0,((AI124-AI123)*AI125+(SIN(AI124)-SIN(AI123))*AI126+(COS(AI124)-COS(AI123))*AI127)/(COS(AI129)*COS(AI121)*SIN(AI119)+AI119*SIN(AI129)*SIN(AI121))/2,0)","v":1.2171102867457049},{"$f":"IF(((AJ124-AJ123)*AJ125+(SIN(AJ124)-SIN(AJ123))*AJ126+(COS(AJ124)-COS(AJ123))*AJ127)/(COS(AJ129)*COS(AJ121)*SIN(AJ119)+AJ119*SIN(AJ129)*SIN(AJ121))/2>0,((AJ124-AJ123)*AJ125+(SIN(AJ124)-SIN(AJ123))*AJ126+(COS(AJ124)-COS(AJ123))*AJ127)/(COS(AJ129)*COS(AJ121)*SIN(AJ119)+AJ119*SIN(AJ129)*SIN(AJ121))/2,0)","v":1.139961321531082},1.0529800686649446,0.96285747534708588,0.89906726327519504,0.8684651415039466,0.88065255883099303,0.93293977714705756,1.0146782176704796,1.10807570321881,1.1952795340590641,1.2394902780075474]
[null,null,null,null,null,null,null,null,null,null,null,null,null,null,null,null,null,null,null,null,null,null,null,null,null,null,null,null,null,null,null,null,"ρR",0.2,{"$f":"AH134","v":0.2},{"$f":"AI134","v":0.2},{"$f":"AJ134","v":0.2},{"$f":"AK134","v":0.2},{"$f":"AL134","v":0.2},{"$f":"AM134","v":0.2},{"$f":"AN134","v":0.2},{"$f":"AO134","v":0.2},{"$f":"AP134","v":0.2},{"$f":"AQ134","v":0.2},{"$f":"AR134","v":0.2},{"$f":"AS134","v":0.2}]
[null,null,null,null,null,null,null,null,null,null,null,null,null,null,null,null,null,null,null,null,null,null,null,null,null,null,null,null,null,null,null,null,"直射St",null,{"$f":"AI133*AI113","v":72.661484118718562},{"$f":"AJ133*AJ113","v":86.40906817205601},109.50992714115424,110.72860966491487,81.635307505387701,68.956132235413349,55.304980694586362,43.661581570482277,60.17041830785945,60.057703114459507,72.433939763979282,80.566868070490585,{"$f":"SUM(AI135:AT135)","v":902.09602035950229}]
[null,null,null,null,null,null,null,null,null,null,null,null,null,null,null,null,null,null,null,null,null,null,null,null,null,null,null,null,null,null,null,null,"漫射Dt",null,{"$f":"AI114*0.5*(1+COS(AI117))","v":67.824441006972847},{"$f":"AJ114*0.5*(1+COS(AJ117))","v":58.19140445815642},74.606885107670138,71.657996368236539,81.880810664939688,84.731403113058846,85.222884569631105,81.979106956254157,80.209773712593972,76.867699807902568,66.448292928570496,60.45221915838885,{"$f":"SUM(AI136:AT136)","v":890.07291785237544}]
[null,null,null,null,null,null,null,null,null,null,null,null,null,null,null,null,null,null,null,null,null,null,null,null,null,null,null,null,null,null,null,null,"反射Rt",null,{"$f":"0.5*AI134*AI112*(1-COS(AI117))","v":0.43853461565969082},{"$f":"0.5*AJ134*AJ112*(1-COS(AJ117))","v":0.46000134509757779},0.61299438505966108,0.64025372402840652,0.59323136430732071,0.56426831665302868,0.50940889697842873,0.44364574171633053,0.48010510758702751,0.4511420599327356,0.43683090697414423,0.43103829744328587,{"$f":"SUM(AI137:AT137)","v":6.0614547614376386}]
[null,null,null,null,null,null,null,null,null,null,null,null,null,null,null,null,null,null,null,null,null,null,null,null,null,null,null,null,null,null,null,null,"总Qt",null,{"$f":"SUM(AI135:AI137)","v":140.92445974135109},145.06047397531,184.72980663388404,183.02685975717981,164.1093495346347,154.25180366512521,141.03727416119591,126.08433426845275,140.86029712804046,137.37654498229483,139.31906359952393,{"$f":"SUM(AT135:AT137)","v":141.45012552632272},{"$f":"SUM(AI138:AT138)","v":1798.2303929733152}]
[null,null,null,null,null,null,null,null,null,null,null,null,null,null,null,null,null,null,null,null,null,null,null,null,null,null,null,null,null,null,null,null,null,null,{"$f":"AI112/AI122","v":0.50389345492099913},{"$f":"AJ112/AJ122","v":0.52839602765682003},0.58065769763451924,0.59254115323358181,0.52593463337146518,0.5201866628084536,0.45497165586184479,0.39799264415145852,0.46190454178472007,0.45589332650771014,0.50652290309364034,0.51240313570408313]
[null,null,null,null,null,null,null,null,null,null,null,null,null,null,null,null,null,null,null,null,null,null,null,null,null,null,null,null,null,null,null,null,null,null,{"$f":"1.236-1.422*AI139","v":0.51946350710233924},{"$f":"1.236-1.422*AJ139","v":0.48462084867200195},0.41030475396371369,0.39340648010184665,0.48812095134577649,0.49629456548637896,0.58903030536445677,0.67005446001662605,0.57917174158212803,0.58771968970603616,0.51572443180084349,0.50736274102879375]
[null,null,null,null,null,null,null,null,null,null,null,null,null,null,null,null,null,null,null,null,null,null,null,null,null,null,null,null,null,null,null,null,null,null,{"$f":"AI140*AI112","v":66.854953364071051},{"$f":"AJ140*AJ112","v":65.423814570720268},73.813825238072099,73.921077611136994,84.981857629299682,82.18638004454435,88.060030651986281,87.241090694164711,81.605298388921838,77.814086917079194,66.115872156868136,64.181386740142415]

{"sheet":"Result Print","index":1,"n_rows":99,"n_cols":7,"rows_kept":99,"cut":false,"hidden":false,"merged":[[86,2,87,2],[86,3,87,3],[86,4,87,4],[86,5,87,5],[86,6,87,6],[10,3,10,6],[11,3,11,6],[93,8,94,8],[93,4,94,4],[93,3,94,3],[93,5,94,5],[93,6,94,6]]}
[]
[null,null,{"$f":"Design!C6","v":"Inverter Type"},null,{"$f":"Design!H45","v":"SUN2000-33KTL-A"}]
[]
[null,null,null,null,{"$f":"Design!C10","v":"Ambient Temperature"}]
[null,null,null,null,{"$f":"Design!C11","v":"min："},{"$f":"Design!C12","v":10}]
[null,null,null,null,{"$f":"Design!D11","v":"nom："},{"$f":"Design!D12","v":20}]
[null,null,null,null,{"$f":"Design!E11","v":"max："},{"$f":"Design!E12","v":46}]
[]
[]
[null,null,{"$f":"Design!C13","v":"Mounting Mode"}]
[null,null,null,{"$f":"INDEX(Language!A88:'Language'!D90, Language!R2, Language!R1)","v":"Ground mounted"}]
[null,null,null,{"$f":"INDEX(Language!A91:'Language'!D93, Language!R2, Language!R1)","v":"The module are on racks. "}]
[null,null,{"$f":"Design!E14","v":"Temperature rise "},{"$f":"Design!F16","v":30}]
[]
[null,null,{"$f":"Design!C17","v":"Location"},{"$f":"INDEX(GeoMet!$B$4:'GeoMet'!$B$327, MATCH(INDEX(GeoMet!$BS$4:$BS$348,city),GeoMet!$BO$4:$BO$940,0), 1)","v":"Philippines"},null,{"$f":"INDEX(GeoMet!$C$4:'GeoMet'!$C$327, MATCH(INDEX(GeoMet!$BS$4:$BS$348,city),GeoMet!$BO$4:$BO$940,0), 1)","v":"Manila/Naia"}]
[null,null,{"$f":"Design!E19","v":"Latitude"},null,{"$f":"Design!F19","v":14.52}]
[null,null,{"$f":"Design!E20","v":"Longitude"},null,{"$f":"Design!F20","v":121}]
[null,null,{"$f":"Design!C21","v":"Global Irradiation"},null,{"$f":"Design!AU9","v":1778.9000000000003}]
[]
[null,null,{"$f":"Design!G6","v":"PV Module Type"},null,{"$f":"Design!H7","v":"MPPT  A"}]
[null,null,{"$f":"Design!H9","v":"Manufacturer"},null,{"$f":"Design!I33","v":"Jinkosolar"}]
[null,null,{"$f":"Design!H13","v":"Model"},null,{"$f":"Design!I34","v":"JKM 250P-60"}]
[null,null,{"$f":"Design!H17","v":"Module in Series"},null,{"$f":"Design!H18","v":18}]
[null,null,{"$f":"Design!J17","v":"Number of strings"},null,{"$f":"Design!J18","v":2}]
[null,null,{"$f":"Design!H19","v":"Inclination"},null,{"$f":"Design!H20","v":15}]
[null,null,{"$f":"Design!J19","v":"Azimuth "},null,{"$f":"Design!J20","v":8}]
[null,null,{"$f":"Design!G21","v":"Irradiation on module"},null,{"$f":"Design!J21","v":1798.2303929733152}]
[null,null,{"$f":"Design!E22","v":"Module number:"},null,{"$f":"Design!H22","v":36}]
[null,null,{"$f":"Design!E23","v":"PV Nominal Power:"},null,{"$f":"Design!H23","v":9000}]
[null,null,{"$f":"Design!E24","v":"Umpp(min)  at"},{"$f":"Design!F24","v":76},{"$f":"Design!H24","v":459.40319999999997}]
[null,null,{"$f":"Design!E25","v":"Umpp        at"},{"$f":"Design!F25","v":50},{"$f":"Design!H25","v":505.08}]
[null,null,{"$f":"Design!E26","v":"Umpp(max) at"},{"$f":"Design!F26","v":10},{"$f":"Design!H26","v":575.35199999999998}]
[null,null,{"$f":"Design!E27","v":"Uoc(max)   at"},{"$f":"Design!F27","v":10},{"$f":"Design!H27","v":711.17280000000005},{"$f":"Design!J27","v":"OK"}]
[null,null,{"$f":"Design!E28","v":"Uoc          at  "},{"$f":"Design!F28","v":20},{"$f":"Design!H28","v":689.45760000000007},{"$f":"Design!J28","v":"OK"}]
[null,null,{"$f":"Design!E29","v":"Max. MPP Current："},null,{"$f":"Design!H29","v":16.399999999999999},{"$f":"Design!J29","v":"OK"}]
[]
[null,null,{"$f":"C20","v":"PV Module Type"},null,{"$f":"Design!N7","v":"MPPT  B"}]
[null,null,"Manufacturer",null,{"$f":"Design!O33","v":"Jinkosolar"}]
[null,null,"Model",null,{"$f":"Design!O34","v":"JKM 250P-60"}]
[null,null,"Module in Series",null,{"$f":"Design!N18","v":18}]
[null,null,"Number of strings",null,{"$f":"Design!P18","v":2}]
[null,null,"Inclination",null,{"$f":"Design!N20","v":15}]
[null,null,"Azimuth ",null,{"$f":"Design!P20","v":8}]
[null,null,"Irradiation on module",null,{"$f":"Design!P21","v":1798.2303929733152}]
[null,null,"Module number:",null,{"$f":"Design!N22","v":36}]
[null,null,"PV Nominal Power:",null,{"$f":"Design!N23","v":9000}]
[null,null,"Umpp(min)  at",{"$f":"D30","v":76},{"$f":"Design!N24","v":459.40319999999997}]
[null,null,"Umpp        at",{"$f":"D31","v":50},{"$f":"Design!N25","v":505.08}]
[null,null,"Umpp(max) at",{"$f":"D32","v":10},{"$f":"Design!N26","v":575.35199999999998}]
[null,null,"Uoc(max)   at",{"$f":"D33","v":10},{"$f":"Design!N27","v":711.17280000000005},{"$f":"Design!P27","v":"OK"}]
[null,null,"Uoc          at  ",{"$f":"D34","v":20},{"$f":"Design!N28","v":689.45760000000007},{"$f":"Design!P28","v":"OK"}]
[null,null,"Max. MPP Current：",null,{"$f":"Design!N29","v":16.399999999999999},{"$f":"Design!P29","v":"OK"}]
[]
[null,null,{"$f":"C20","v":"PV Module Type"},null,{"$f":"Design!T7","v":"MPPT  C"}]
[null,null,{"$f":"C21","v":"Manufacturer"},null,{"$f":"Design!U33","v":"Jinkosolar"}]
[null,null,{"$f":"C22","v":"Model"},null,{"$f":"Design!U34","v":"JKM 250P-60"}]
[null,null,"Module in Series",null,{"$f":"Design!T18","v":18}]
[null,null,"Number of strings",null,{"$f":"Design!V18","v":2}]
[null,null,"Inclination",null,{"$f":"Design!T20","v":15}]
[null,null,"Azimuth ",null,{"$f":"Design!V20","v":8}]
[null,null,"Irradiation on module",null,{"$f":"Design!V21","v":1798.2303929733152}]
[null,null,"Module number:",null,{"$f":"Design!T22","v":36}]
[null,null,"PV Nominal Power:",null,{"$f":"Design!T23","v":9000}]
[null,null,"Umpp(min)  at",{"$f":"D47","v":76},{"$f":"Design!T24","v":459.40319999999997}]
[null,null,"Umpp        at",{"$f":"D48","v":50},{"$f":"Design!T25","v":505.08}]
[null,null,"Umpp(max) at",{"$f":"D49","v":10},{"$f":"Design!T26","v":575.35199999999998}]
[null,null,"Uoc(max)   at",{"$f":"D50","v":10},{"$f":"Design!T27","v":711.17280000000005},{"$f":"Design!V27","v":"OK"}]
[null,null,"Uoc          at  ",{"$f":"D51","v":20},{"$f":"Design!T28","v":689.45760000000007},{"$f":"Design!V28","v":"OK"}]
[null,null,"Max. MPP Current：",null,{"$f":"Design!T29","v":16.399999999999999},{"$f":"Design!V29","v":"OK"}]
[]
[null,null,"组件选择",null,{"$f":"Design!Z7","v":"MPPT D"}]
[null,null,{"$f":"C21","v":"Manufacturer"},null,{"$f":"Design!AA33","v":"Jinkosolar"}]
[null,null,{"$f":"C22","v":"Model"},null,{"$f":"Design!AA34","v":"JKM 250P-60"}]
[null,null,"Module in Series",null,{"$f":"Design!Z18","v":18}]
[null,null,"Number of strings",null,{"$f":"Design!AB18","v":2}]
[null,null,"Inclination",null,{"$f":"Design!Z20","v":15}]
[null,null,"Azimuth ",null,{"$f":"Design!AB20","v":8}]
[null,null,"Irradiation on module",null,{"$f":"Design!AB21","v":1798.2303929733152}]
[null,null,"Module number:",null,{"$f":"Design!Z22","v":36}]
[null,null,"PV Nominal Power:",null,{"$f":"Design!Z23","v":9000}]
[null,null,"Umpp(min)  at",76,{"$f":"Design!Z24","v":459.40319999999997}]
[null,null,"Umpp        at",50,{"$f":"Design!Z25","v":505.08}]
[null,null,"Umpp(max) at",10,{"$f":"Design!Z26","v":575.35199999999998}]
[null,null,"Uoc(max)   at",10,{"$f":"Design!Z27","v":711.17280000000005},{"$f":"Design!AB27","v":"OK"}]
[null,null,{"$f":"C34","v":"Uoc          at  "},{"$f":"D34","v":20},{"$f":"Design!Z28","v":689.45760000000007},{"$f":"Design!AB28","v":"OK"}]
[null,null,"Max. MPP Current：",null,{"$f":"Design!Z29","v":16.399999999999999},{"$f":"Design!AB29","v":"OK"}]
[null,null,{"$f":"Design!E30","v":"Defined Layout factor"},{"$f":"Design!H30","v":1.1200000000000001},{"$f":"Design!P30","v":"Total Input Power:"},{"$f":"Design!Q30","v":36000},{"$f":"Design!T30","v":"OK"}]
[]
[]
[null,null,{"$f":"Design!T45","v":"System Result"}]
[null,null,{"$f":"Design!T46","v":"Total modules:"},null,{"$f":"Design!V46","v":144}]
[null,null,{"$f":"Design!T47","v":"Total Input Power:"},null,{"$f":"Design!V47","v":36000},{"$f":"Design!W47","v":"Wp"}]
[null,null,{"$f":"Design!T51","v":"cos(φ):"},null,{"$f":"Design!V51","v":1}]
[null,null,{"$f":"Design!T48","v":" Layout factor:"},null,{"$f":"Design!V48","v":1.0900000000000001}]
[null,null,{"$f":"Design!T49","v":"(Nominal PV Power / Inverter active power\n )"}]
[null,null,{"$f":"Design!T50","v":"Module area:"},null,{"$f":"Design!V50","v":235.69919999999999},{"$f":"Design!W50","v":"m²"}]
[]
[null,null,{"$f":"Design!T52","v":"Yield yearly:"},null,{"$f":"Design!V52","v":52889.552318131144},{"$f":"Design!W52","v":"kWh"}]
[null,null,{"$f":"Design!T53","v":"Performance Ratio:"},null,{"$f":"Design!V53","v":0.81699999999999995}]

{"sheet":"Add module","index":2,"n_rows":25,"n_cols":18,"rows_kept":25,"cut":false,"hidden":false,"merged":[[11,17,11,18],[12,17,12,18],[8,3,8,4],[9,3,9,4],[10,3,10,4],[11,3,11,4],[12,3,12,4],[11,10,11,11],[12,10,12,11],[8,17,8,18],[9,17,9,18],[10,17,10,18],[8,10,8,11],[9,10,9,11],[10,10,10,11],[3,3,3,4],[4,3,4,4],[5,17,5,18],[6,17,6,18],[7,17,7,18],[5,3,5,4],[6,3,6,4],[7,3,7,4],[3,10,3,11],[4,10,4,11],[5,10,5,11],[6,10,6,11],[7,10,7,11]]}
[]
[]
[]
[null,null,{"$f":"INDEX(languagearea,8,Language!$R$1)","v":"Manufacturer"},null,null,null,null,null,null,{"$f":"INDEX(languagearea,8,Language!$R$1)","v":"Manufacturer"},null,null,null,null,null,null,{"$f":"INDEX(languagearea,8,Language!$R$1)","v":"Manufacturer"}]
[null,null,{"$f":"INDEX(languagearea,9,Language!$R$1)","v":"Model"},null,null,null,null,null,null,{"$f":"INDEX(languagearea,9,Language!$R$1)","v":"Model"},null,null,null,null,null,null,{"$f":"INDEX(languagearea,9,Language!$R$1)","v":"Model"}]
[null,null,"Pmpp",null,null,"Wp",null,null,null,"Pmpp",null,null,"Wp",null,null,null,"Pmpp",{"$f":"IF(Module!AI1=0,\"\",INDEX(Module!$A$2:$K$7986,Module!AJ$1,4))","v":""}]
[null,null,"Uoc",null,null,"V",null,null,null,"Uoc",null,null,"V",null,null,null,"Uoc",{"$f":"IF(Module!AI1=0,\"\",INDEX(Module!$A$2:$K$7986,Module!AJ$1,5))","v":""}]
[null,null,"Umpp",null,null,"V",null,null,null,"Umpp",null,null,"V",null,null,null,"Umpp",{"$f":"IF(Module!AI1=0,\"\",INDEX(Module!$A$2:$K$7986,Module!AJ$1,6))","v":""}]
[null,null,"Isc",null,null,"A",null,null,null,"Isc",null,null,"A",null,null,null,"Isc",{"$f":"IF(Module!AI1=0,\"\",INDEX(Module!$A$2:$K$7986,Module!AJ$1,7))","v":""}]
[null,null,"Impp",null,null,"A",null,null,null,"Impp",null,null,"A",null,null,null,"Impp",{"$f":"IF(Module!AI1=0,\"\",INDEX(Module!$A$2:$K$7986,Module!AJ$1,8))","v":""}]
[null,null,"TcoIsc",null,null,"mA/K",null,null,null,"TcoIsc",null,null,"%/℃",null,null,null,"TcoIsc",{"$f":"IF(Module!AI1=0,\"\",INDEX(Module!$A$2:$K$7986,Module!AJ$1,9))","v":""}]
[null,null,"TcoUoc",null,null,"mV/K",null,null,null,"TcoUoc",null,null,"%/℃",null,null,null,"TcoUoc",{"$f":"IF(Module!AI1=0,\"\",INDEX(Module!$A$2:$K$7986,Module!AJ$1,10))","v":""}]
[null,null,{"$f":"INDEX(languagearea,47,Language!$R$1)","v":"Efficiency:"},null,null,null,null,null,null,{"$f":"INDEX(languagearea,47,Language!$R$1)","v":"Efficiency:"},null,null,null,null,null,null,{"$f":"INDEX(languagearea,47,Language!$R$1)","v":"Efficiency:"},{"$f":"IF(Module!AI1=0,\"\",INDEX(Module!$A$2:$K$7986,Module!AJ$1,3))","v":""}]
[]
[]
[null,{"$f":"INDEX(languagearea,38,Language!$R$1)","v":"Please make sure that all parameters are correct!"},null,null,null,null,null,null,null,{"$f":"INDEX(languagearea,41,Language!$R$1)","v":"Please make sure you want to delete the module"}]
[{"$f":"D4","v":0},{"$f":"D5","v":0},{"$f":"D13","v":0},{"$f":"D6","v":0},{"$f":"D7","v":0},{"$f":"D8","v":0},{"$f":"D9","v":0},{"$f":"D10","v":0},{"$f":"D11","v":0},{"$f":"D12","v":0}]
[{"$f":"K4","v":0},{"$f":"K5","v":0},{"$f":"K13","v":0},{"$f":"K6","v":0},{"$f":"K7","v":0},{"$f":"K8","v":0},{"$f":"K9","v":0},{"$f":"K10","v":0},{"$f":"K11*K9*10","v":0},{"$f":"K12*K7*10","v":0}]
[]
[]
[]
[]
[]
[]
[null,null,null,null,null,null,null,"ADD "]

{"sheet":"Add Location","index":3,"n_rows":33,"n_cols":31,"rows_kept":33,"cut":false,"hidden":false,"merged":[[23,7,24,7],[7,7,8,7],[10,7,11,7],[20,7,21,7]]}
[]
[]
[]
[]
[]
[]
[null,null,null,null,null,null,null,null,{"$f":"INDEX(languagearea,55,Language!$R$1)&\"(kWh/m²)\"","v":"Global Irradiation(kWh/m²)"}]
[null,null,null,null,null,{"$f":"INDEX(languagearea,51,Language!$R$1)","v":"Country"},{"$f":"INDEX(languagearea,54,Language!$R$1)","v":"Latitude"},{"$f":"INDEX(languagearea,57,Language!$R$1)","v":"Monthly"},1,2,3,4,5,6,7,8,9,10,11,12]
[]
[null,null,null,null,null,null,null,null,{"$f":"INDEX(languagearea,56,Language!$R$1)&\"(kWh/m²)\"","v":"Diffuse Irradiation(kWh/m²)"},null,null,{"$f":"INDEX(languagearea,61,Language!$R$1)","v":"(It could be left blank if no information available for diffuse irradiation.)"}]
[null,null,null,null,null,{"$f":"INDEX(languagearea,52,Language!$R$1)","v":"City"},{"$f":"INDEX(languagearea,53,Language!$R$1)","v":"Longitude"},{"$f":"INDEX(languagearea,57,Language!$R$1)","v":"Monthly"},1,2,3,4,5,6,7,8,9,10,11,12]
[]
[]
[null,null,null,null,null,null,{"$f":"INDEX(languagearea,38,Language!$R$1)","v":"Please make sure that all parameters are correct!"}]
[]
[null,null,null,null,null,null,null,null,null,null,null,null,null,null,null,null,null,"ADD "]
[]
[]
[]
[null,null,null,null,null,null,null,null,{"$f":"INDEX(languagearea,55,Language!$R$1)&\"(kWh/m²)\"","v":"Global Irradiation(kWh/m²)"}]
[null,null,null,null,null,{"$f":"INDEX(languagearea,51,Language!$R$1)","v":"Country"},{"$f":"INDEX(languagearea,54,Language!$R$1)","v":"Latitude"},{"$f":"INDEX(languagearea,57,Language!$R$1)","v":"Monthly"},1,2,3,4,5,6,7,8,9,10,11,12]
[null,null,null,null,null,null,{"$f":"IF(GeoMet!BU3=0,\"\",INDEX(geomet,MATCH(INDEX(GeoMet!$BU$4:$BU$348,GeoMet!BU3),GeoMet!$BO$4:$BO$940,0),1))","v":-16.239999999999998},null,{"$f":"IF(GeoMet!BU3=0,\"\",INDEX(geomet,MATCH(INDEX(GeoMet!$BU$4:$BU$348,GeoMet!$BU3),GeoMet!$BO$4:$BO$940,0),4))","v":229},{"$f":"IF(GeoMet!BU3=0,\"\",INDEX(geomet,MATCH(INDEX(GeoMet!$BU$4:$BU$348,GeoMet!$BU3),GeoMet!$BO$4:$BO$940,0),5))","v":179},{"$f":"IF(GeoMet!BU3=0,\"\",INDEX(geomet,MATCH(INDEX(GeoMet!$BU$4:$BU$348,GeoMet!$BU3),GeoMet!$BO$4:$BO$940,0),6))","v":201},{"$f":"IF(GeoMet!BU3=0,\"\",INDEX(geomet,MATCH(INDEX(GeoMet!$BU$4:$BU$348,GeoMet!$BU3),GeoMet!$BO$4:$BO$940,0),7))","v":196},{"$f":"IF(GeoMet!BU3=0,\"\",INDEX(geomet,MATCH(INDEX(GeoMet!$BU$4:$BU$348,GeoMet!$BU3),GeoMet!$BO$4:$BO$940,0),7))","v":196},{"$f":"IF(GeoMet!BU3=0,\"\",INDEX(geomet,MATCH(INDEX(GeoMet!$BU$4:$BU$348,GeoMet!$BU3),GeoMet!$BO$4:$BO$940,0),9))","v":165},{"$f":"IF(GeoMet!BU3=0,\"\",INDEX(geomet,MATCH(INDEX(GeoMet!$BU$4:$BU$348,GeoMet!$BU3),GeoMet!$BO$4:$BO$940,0),10))","v":179},{"$f":"IF(GeoMet!BU3=0,\"\",INDEX(geomet,MATCH(INDEX(GeoMet!$BU$4:$BU$348,GeoMet!$BU3),GeoMet!$BO$4:$BO$940,0),11))","v":202},{"$f":"IF(GeoMet!BU3=0,\"\",INDEX(geomet,MATCH(INDEX(GeoMet!$BU$4:$BU$348,GeoMet!$BU3),GeoMet!$BO$4:$BO$940,0),12))","v":220},{"$f":"IF(GeoMet!BU3=0,\"\",INDEX(geomet,MATCH(INDEX(GeoMet!$BU$4:$BU$348,GeoMet!$BU3),GeoMet!$BO$4:$BO$940,0),13))","v":248},{"$f":"IF(GeoMet!BU3=0,\"\",INDEX(geomet,MATCH(INDEX(GeoMet!$BU$4:$BU$348,GeoMet!$BU3),GeoMet!$BO$4:$BO$940,0),14))","v":241},{"$f":"IF(GeoMet!BU3=0,\"\",INDEX(geomet,MATCH(INDEX(GeoMet!$BU$4:$BU$348,GeoMet!$BU3),GeoMet!$BO$4:$BO$940,0),15))","v":233}]
[null,null,null,null,null,null,null,null,{"$f":"INDEX(languagearea,56,Language!$R$1)&\"(kWh/m²)\"","v":"Diffuse Irradiation(kWh/m²)"},null,null,{"$f":"INDEX(languagearea,61,Language!$R$1)","v":"(It could be left blank if no information available for diffuse irradiation.)"}]
[null,null,null,null,null,{"$f":"INDEX(languagearea,52,Language!$R$1)","v":"City"},{"$f":"INDEX(languagearea,53,Language!$R$1)","v":"Longitude"},{"$f":"INDEX(languagearea,57,Language!$R$1)","v":"Monthly"},1,2,3,4,5,6,7,8,9,10,11,12]
[null,null,null,null,null,null,{"$f":"IF(GeoMet!BU3=0,\"\",INDEX(geomet,MATCH(INDEX(GeoMet!$BU$4:$BU$348,GeoMet!BU3),GeoMet!$BO$4:$BO$940,0),2))","v":-67.39},null,{"$f":"IF(GeoMet!BU3=0,\"\",INDEX(geomet,MATCH(INDEX(GeoMet!$BU$4:$BU$348,GeoMet!$BU3),GeoMet!$BO$4:$BO$940,0),17))","v":68},{"$f":"IF(GeoMet!BU3=0,\"\",INDEX(geomet,MATCH(INDEX(GeoMet!$BU$4:$BU$348,GeoMet!$BU3),GeoMet!$BO$4:$BO$940,0),18))","v":65},{"$f":"IF(GeoMet!BU3=0,\"\",INDEX(geomet,MATCH(INDEX(GeoMet!$BU$4:$BU$348,GeoMet!$BU3),GeoMet!$BO$4:$BO$940,0),19))","v":62},{"$f":"IF(GeoMet!BU3=0,\"\",INDEX(geomet,MATCH(INDEX(GeoMet!$BU$4:$BU$348,GeoMet!$BU3),GeoMet!$BO$4:$BO$940,0),20))","v":44},{"$f":"IF(GeoMet!BU3=0,\"\",INDEX(geomet,MATCH(INDEX(GeoMet!$BU$4:$BU$348,GeoMet!$BU3),GeoMet!$BO$4:$BO$940,0),21))","v":36},{"$f":"IF(GeoMet!BU3=0,\"\",INDEX(geomet,MATCH(INDEX(GeoMet!$BU$4:$BU$348,GeoMet!$BU3),GeoMet!$BO$4:$BO$940,0),22))","v":32},{"$f":"IF(GeoMet!BU3=0,\"\",INDEX(geomet,MATCH(INDEX(GeoMet!$BU$4:$BU$348,GeoMet!$BU3),GeoMet!$BO$4:$BO$940,0),23))","v":32},{"$f":"IF(GeoMet!BU3=0,\"\",INDEX(geomet,MATCH(INDEX(GeoMet!$BU$4:$BU$348,GeoMet!$BU3),GeoMet!$BO$4:$BO$940,0),24))","v":37},{"$f":"IF(GeoMet!BU3=0,\"\",INDEX(geomet,MATCH(INDEX(GeoMet!$BU$4:$BU$348,GeoMet!$BU3),GeoMet!$BO$4:$BO$940,0),25))","v":42},{"$f":"IF(GeoMet!BU3=0,\"\",INDEX(geomet,MATCH(INDEX(GeoMet!$BU$4:$BU$348,GeoMet!$BU3),GeoMet!$BO$4:$BO$940,0),26))","v":50},{"$f":"IF(GeoMet!BU3=0,\"\",INDEX(geomet,MATCH(INDEX(GeoMet!$BU$4:$BU$348,GeoMet!$BU3),GeoMet!$BO$4:$BO$940,0),27))","v":57},{"$f":"IF(GeoMet!BU3=0,\"\",INDEX(geomet,MATCH(INDEX(GeoMet!$BU$4:$BU$348,GeoMet!$BU3),GeoMet!$BO$4:$BO$940,0),28))","v":68}]
[]
[null,null,null,null,null,null,{"$f":"INDEX(languagearea,60,Language!$R$1)","v":"Please make sure you want to delete the site"}]
[null,null,null,null,null,null,{"$f":"INDEX(languagearea,42,Language!$R$1)","v":" before pressing the \"DEL\" button!"}]
[]
[]
[]
[]
[null,{"$f":"F9","v":0},{"$f":"F12","v":0},{"$f":"G9","v":0},{"$f":"G12","v":0},null,{"$f":"I9","v":0},{"$f":"J9","v":0},0,0,0,0,0,0,0,0,0,0,null,{"$f":"I12","v":0},{"$f":"J12","v":0},0,0,0,0,0,0,0,0,0,0]

{"sheet":"Module","index":4,"n_rows":8676,"n_cols":39,"rows_kept":2250,"cut":true,"hidden":true,"merged":[],"bounds":{"rows_first":1000,"rows_last":250,"rows_between":1000,"halvings":1}}
["manufacturer","model","efficiency","Pnom\n（W）","Voc\n(V)","Vmpp\n（V）","Isc\n(A)","Impp\n（A）","TcoIsc \n(mA/K)","TcoVoc \n(mV/K)"," TcoVmp\n(mV/K)",1000,0,null,{"$f":"MATCH(MAX(O4:O6182),O4:O6182,0)","v":1644},{"$f":"COLUMN()","v":16},null,null,null,null,null,30,8,{"$f":"INDEX(X2:X292,W1,1)","v":647},30,8,{"$f":"INDEX(AA2:AA292,Z1,1)","v":647},30,8,{"$f":"INDEX(AD2:AD292,AC1,1)","v":647},30,8,{"$f":"INDEX(AG2:AG292,AF1,1)","v":647},0,0,{"$f":"INDEX(AJ2:AJ292,AI1,1)","v":{"$error":"#VALUE!"}},6209,null,{"$f":"COLUMN()","v":39}]
["Anel","ANP 220 NEC",0.14716270308453025,220,33.65,26.66,8.9499999999999993,8.25,6.7124999999999986,-112.45829999999999,{"$f":"F2/E2*J2","v":-89.09772000000001},null,1,{"$f":"IF(M2>MAX(Q$2:Q$7985),\"\",VLOOKUP(M2,Q$2:R$7985,2,FALSE))","v":"Anel"},{"$f":"IF($A2=\"\",\"\",COUNTIF($A$2:$A2,$A2))","v":1},{"$f":"IF($A2=\"\",\"\",$O2+thousand*VLOOKUP($A2,$A$1:Q2,17,FALSE))","v":1001},{"$f":"IF(O2=1,MAX(Q$1:Q1)+1,\"\")","v":1},{"$f":"IF(A2=\"\",\"\",A2)","v":"Anel"},{"$f":"IF(B2=\"\",\"\",B2)","v":"ANP 220 NEC"},{"$f":"$M2","v":1},null,{"$f":"V$1*thousand+$M2","v":30001},{"$f":"IF(COUNTIF($P$2:$P$7985,V2)>0,VLOOKUP(V2,$P$2:$S$7985,4,FALSE),\"\")","v":"JKM 205M-72"},{"$f":"IF(W2=\"\",\"\",VLOOKUP(V2,$P$2:$T$7985,5,FALSE))","v":640},{"$f":"Y$1*thousand+$M2","v":30001},{"$f":"IF(COUNTIF($P$2:$P$7985,Y2)>0,VLOOKUP(Y2,$P$2:$S$7985,4,FALSE),\"\")","v":"JKM 205M-72"},{"$f":"IF(Z2=\"\",\"\",VLOOKUP(Y2,$P$2:$T$7985,5,FALSE))","v":640},{"$f":"AB$1*thousand+$M2","v":30001},{"$f":"IF(COUNTIF($P$2:$P$7985,AB2)>0,VLOOKUP(AB2,$P$2:$S$7985,4,FALSE),\"\")","v":"JKM 205M-72"},{"$f":"IF(AC2=\"\",\"\",VLOOKUP(AB2,$P$2:$T$7985,5,FALSE))","v":640},{"$f":"AE$1*thousand+$M2","v":30001},{"$f":"IF(COUNTIF($P$2:$P$7985,AE2)>0,VLOOKUP(AE2,$P$2:$S$7985,4,FALSE),\"\")","v":"JKM 205M-72"},{"$f":"IF(AF2=\"\",\"\",VLOOKUP(AE2,$P$2:$T$7985,5,FALSE))","v":640},{"$f":"AH$1*thousand+$M2","v":1},{"$f":"IF(COUNTIF($P$2:$P$7985,AH2)>0,VLOOKUP(AH2,$P$2:$S$7989,4,FALSE),\"\")","v":""},{"$f":"IF(AI2=\"\",\"\",VLOOKUP(AH2,$P$2:$T$7985,5,FALSE))","v":""},null,null,1000]
["Anel","ASP 230 NEC",0.13941962640389502,230,35.869999999999997,29.57,8.2799999999999994,7.78,4.7195999999999998,-123.75149999999998,{"$f":"F3/E3*J3","v":-102.01649999999999},null,2,"Auversun",{"$f":"IF($A3=\"\",\"\",COUNTIF($A$2:$A3,$A3))","v":2},{"$f":"IF($A3=\"\",\"\",$O3+thousand*VLOOKUP($A3,$A$1:Q3,17,FALSE))","v":1002},{"$f":"IF(O3=1,MAX(Q$1:Q2)+1,\"\")","v":""},{"$f":"IF(A3=\"\",\"\",A3)","v":"Anel"},{"$f":"IF(B3=\"\",\"\",B3)","v":"ASP 230 NEC"},{"$f":"$M3","v":2},null,30002,"JKM 210M-72",641,30002,"JKM 210M-72",641,30002,"JKM 210M-72",641,30002,"JKM 210M-72",641,2,{"$f":"IF(COUNTIF($P$2:$P$7985,AH3)>0,VLOOKUP(AH3,$P$2:$S$7985,4,FALSE),\"\")","v":""},"",null,null,1000]
["Anel","ASP 235 NEC",0.14245048784745798,235,36.090000000000003,29.79,8.4,7.89,4.7880000000000003,-124.51050000000001,-102.77549999999999,null,3,"Avancis",{"$f":"IF($A4=\"\",\"\",COUNTIF($A$2:$A4,$A4))","v":3},{"$f":"IF($A4=\"\",\"\",$O4+thousand*VLOOKUP($A4,$A$1:Q4,17,FALSE))","v":1003},{"$f":"IF(O4=1,MAX(Q$1:Q3)+1,\"\")","v":""},"Anel","ASP 235 NEC",3,null,30003,"JKM 245PP-60",642,30003,"JKM 245PP-60",642,30003,"JKM 245PP-60",642,30003,"JKM 245PP-60",642,3,"","",null,null,1000]
["Anel","ASP 240 NEC",0.14548134929102088,240,36.479999999999997,30.12,8.4700000000000006,7.97,4.8279000000000005,-125.85599999999997,-103.91399999999999,null,4,"BenQ Solar",{"$f":"IF($A5=\"\",\"\",COUNTIF($A$2:$A5,$A5))","v":4},{"$f":"IF($A5=\"\",\"\",$O5+thousand*VLOOKUP($A5,$A$1:Q5,17,FALSE))","v":1004},{"$f":"IF(O5=1,MAX(Q$1:Q4)+1,\"\")","v":""},"Anel","ASP 240 NEC",4,null,30004,"JKMS 245P-60",643,30004,"JKMS 245P-60",643,30004,"JKMS 245P-60",643,30004,"JKMS 245P-60",643,4,"","",null,null,1000]
["Anel","ASP 245 NEC",0.14851221073458384,245,36.82,30.52,8.52,8.0299999999999994,4.8563999999999998,-127.029,-105.294,null,5,"Bisol",{"$f":"IF($A6=\"\",\"\",COUNTIF($A$2:$A6,$A6))","v":5},{"$f":"IF($A6=\"\",\"\",$O6+thousand*VLOOKUP($A6,$A$1:Q6,17,FALSE))","v":1005},{"$f":"IF(O6=1,MAX(Q$1:Q5)+1,\"\")","v":""},"Anel","ASP 245 NEC",5,null,30005,"JKM 245P-60",644,30005,"JKM 245P-60",644,30005,"JKM 245P-60",644,30005,"JKM 245P-60",644,5,"","",null,null,1000]
["Anel","ASP 250 NEC",0.15154307217814675,250,36.94,30.64,8.61,8.16,4.9077000000000002,-127.443,-105.708,null,6,"Bosch Solar Energy AG",{"$f":"IF($A7=\"\",\"\",COUNTIF($A$2:$A7,$A7))","v":6},{"$f":"IF($A7=\"\",\"\",$O7+thousand*VLOOKUP($A7,$A$1:Q7,17,FALSE))","v":1006},{"$f":"IF(O7=1,MAX(Q$1:Q6)+1,\"\")","v":""},"Anel","ASP 250 NEC",6,null,30006,"JKM 250PP-60",645,30006,"JKM 250PP-60",645,30006,"JKM 250PP-60",645,30006,"JKM 250PP-60",645,6,"","",null,null,1000]
["Auversun","AVA250C54NB",0.16390777106411547,250,34.1,29.46,9.2100000000000009,8.39,2.4867000000000004,-114.57600000000001,-98.985600000000005,null,7,"BYD",{"$f":"IF($A8=\"\",\"\",COUNTIF($A$2:$A8,$A8))","v":1},{"$f":"IF($A8=\"\",\"\",$O8+thousand*VLOOKUP($A8,$A$1:Q8,17,FALSE))","v":2001},{"$f":"IF(O8=1,MAX(Q$1:Q7)+1,\"\")","v":2},"Auversun","AVA250C54NB",7,null,30007,"JKMS 250P-60",646,30007,"JKMS 250P-60",646,30007,"JKMS 250P-60",646,30007,"JKMS 250P-60",646,7,"","",null,null,1000]
["Auversun","AVS270C60NB",0.13084628469243853,270,37.700000000000003,31.84,9.01,8.4499999999999993,4.3247999999999998,-130.06500000000003,-109.84800000000001,null,8,"Canadian Solar Inc.",{"$f":"IF($A9=\"\",\"\",COUNTIF($A$2:$A9,$A9))","v":2},{"$f":"IF($A9=\"\",\"\",$O9+thousand*VLOOKUP($A9,$A$1:Q9,17,FALSE))","v":2002},{"$f":"IF(O9=1,MAX(Q$1:Q8)+1,\"\")","v":""},"Auversun","AVS270C60NB",8,null,30008,"JKM 250P-60",647,30008,"JKM 250P-60",647,30008,"JKM 250P-60",647,30008,"JKM 250P-60",647,8,"","",null,null,1000]
["Auversun","AV270C60NB",0.17083763591083037,270,37.700000000000003,31.84,9.01,8.4499999999999993,4.3247999999999998,-130.06500000000003,-109.84800000000001,null,9,"Centrosolar",{"$f":"IF($A10=\"\",\"\",COUNTIF($A$2:$A10,$A10))","v":3},{"$f":"IF($A10=\"\",\"\",$O10+thousand*VLOOKUP($A10,$A$1:Q10,17,FALSE))","v":2003},{"$f":"IF(O10=1,MAX(Q$1:Q9)+1,\"\")","v":""},"Auversun","AV270C60NB",9,null,30009,"JKM 255M-60",648,30009,"JKM 255M-60",648,30009,"JKM 255M-60",648,30009,"JKM 255M-60",648,9,"","",null,null,1000]
["Auversun","AV275M96NB-5P",0.15556586375824499,275,61.7,51.23,5.8,5.45,2.9,-146.846,-121.92739999999999,null,10,"Centrosolar America",{"$f":"IF($A11=\"\",\"\",COUNTIF($A$2:$A11,$A11))","v":4},{"$f":"IF($A11=\"\",\"\",$O11+thousand*VLOOKUP($A11,$A$1:Q11,17,FALSE))","v":2004},{"$f":"IF(O11=1,MAX(Q$1:Q10)+1,\"\")","v":""},"Auversun","AV275M96NB-5P",10,null,30010,"JKM 255PP-60",649,30010,"JKM 255PP-60",649,30010,"JKM 255PP-60",649,30010,"JKM 255PP-60",649,10,"","",null,null,1000]
["Auversun","AV300M104NB-5P",0.18338036020792889,300,66.8,55.54,5.8,5.45,2.9,-158.98399999999998,-132.18519999999998,null,11,"Conergy",{"$f":"IF($A12=\"\",\"\",COUNTIF($A$2:$A12,$A12))","v":5},{"$f":"IF($A12=\"\",\"\",$O12+thousand*VLOOKUP($A12,$A$1:Q12,17,FALSE))","v":2005},{"$f":"IF(O12=1,MAX(Q$1:Q11)+1,\"\")","v":""},"Auversun","AV300M104NB-5P",11,null,30011,"JKMS 255P-60",650,30011,"JKMS 255P-60",650,30011,"JKMS 255P-60",650,30011,"JKMS 255P-60",650,11,"","",null,null,1000]
["Avancis","PowerMax SMART 105W",9.9642426036850612E-2,105,56,39,3.22,2.7,9.6600000000000005E-2,-130.48000000000002,-90.87,null,12,"DMEGC",{"$f":"IF($A13=\"\",\"\",COUNTIF($A$2:$A13,$A13))","v":1},{"$f":"IF($A13=\"\",\"\",$O13+thousand*VLOOKUP($A13,$A$1:Q13,17,FALSE))","v":3001},{"$f":"IF(O13=1,MAX(Q$1:Q12)+1,\"\")","v":3},"Avancis","PowerMax SMART 105W",12,null,30012,"JKM 255P-60",651,30012,"JKM 255P-60",651,30012,"JKM 255P-60",651,30012,"JKM 255P-60",651,12,"","",null,null,1000]
["Avancis","PowerMax SMART 110W",0.10438730346717684,110,56.7,40.200000000000003,3.23,2.74,9.6900000000000014E-2,-132.11100000000002,-93.666000000000011,null,13,"DuPont Apollo",{"$f":"IF($A14=\"\",\"\",COUNTIF($A$2:$A14,$A14))","v":2},{"$f":"IF($A14=\"\",\"\",$O14+thousand*VLOOKUP($A14,$A$1:Q14,17,FALSE))","v":3002},{"$f":"IF(O14=1,MAX(Q$1:Q13)+1,\"\")","v":""},"Avancis","PowerMax SMART 110W",13,null,30013,"JKM 260M-60",652,30013,"JKM 260M-60",652,30013,"JKM 260M-60",652,30013,"JKM 260M-60",652,13,"","",null,null,1000]
["Avancis","PowerMax STRONG 110W",0.10082677959265982,110,56.9,40.4,3.19,2.72,9.5700000000000007E-2,-132.577,-94.131999999999991,null,14,"ecoSolargy",{"$f":"IF($A15=\"\",\"\",COUNTIF($A$2:$A15,$A15))","v":3},{"$f":"IF($A15=\"\",\"\",$O15+thousand*VLOOKUP($A15,$A$1:Q15,17,FALSE))","v":3003},{"$f":"IF(O15=1,MAX(Q$1:Q14)+1,\"\")","v":""},"Avancis","PowerMax STRONG 110W",14,null,30014,"JKM 260PP-60",653,30014,"JKM 260PP-60",653,30014,"JKM 260PP-60",653,30014,"JKM 260PP-60",653,14,"","",null,null,1000]
["Avancis","PowerMax SMART 115W",0.10913218089750305,115,57.4,41.4,3.25,2.78,9.7500000000000003E-2,-133.74199999999999,-96.461999999999989,null,15,"Empire PV systems",{"$f":"IF($A16=\"\",\"\",COUNTIF($A$2:$A16,$A16))","v":4},{"$f":"IF($A16=\"\",\"\",$O16+thousand*VLOOKUP($A16,$A$1:Q16,17,FALSE))","v":3004},{"$f":"IF(O16=1,MAX(Q$1:Q15)+1,\"\")","v":""},"Avancis","PowerMax SMART 115W",15,null,30015,"JKM 260P-60",654,30015,"JKM 260P-60",654,30015,"JKM 260P-60",654,30015,"JKM 260P-60",654,15,"","",null,null,1000]
["Avancis","PowerMax STRONG 115W",0.1051024977837082,115,57.5,41.7,3.19,2.77,9.5700000000000007E-2,-133.97500000000002,-97.16100000000003,null,16,"Eoplly",{"$f":"IF($A17=\"\",\"\",COUNTIF($A$2:$A17,$A17))","v":5},{"$f":"IF($A17=\"\",\"\",$O17+thousand*VLOOKUP($A17,$A$1:Q17,17,FALSE))","v":3005},{"$f":"IF(O17=1,MAX(Q$1:Q16)+1,\"\")","v":""},"Avancis","PowerMax STRONG 115W",16,null,30016,"JKM 265M-60",655,30016,"JKM 265M-60",655,30016,"JKM 265M-60",655,30016,"JKM 265M-60",655,16,"","",null,null,1000]
["Avancis","PowerMax SMART 120W",0.11387705832782928,120,58.1,42.5,3.26,2.82,9.7799999999999984E-2,-135.37300000000002,-99.025000000000006,null,17,"ET Solar",{"$f":"IF($A18=\"\",\"\",COUNTIF($A$2:$A18,$A18))","v":6},{"$f":"IF($A18=\"\",\"\",$O18+thousand*VLOOKUP($A18,$A$1:Q18,17,FALSE))","v":3006},{"$f":"IF(O18=1,MAX(Q$1:Q17)+1,\"\")","v":""},"Avancis","PowerMax SMART 120W",17,null,30017,"JKM 265M-96",656,30017,"JKM 265M-96",656,30017,"JKM 265M-96",656,30017,"JKM 265M-96",656,17,"","",null,null,1000]
["Avancis","PowerMax STRONG 120W",0.10967217160039117,120,58.3,42.8,3.22,2.81,9.6600000000000005E-2,-135.839,-99.724000000000004,null,18,"First Solar",{"$f":"IF($A19=\"\",\"\",COUNTIF($A$2:$A19,$A19))","v":7},{"$f":"IF($A19=\"\",\"\",$O19+thousand*VLOOKUP($A19,$A$1:Q19,17,FALSE))","v":3007},{"$f":"IF(O19=1,MAX(Q$1:Q18)+1,\"\")","v":""},"Avancis","PowerMax STRONG 120W",18,null,30018,"JKM 265PP-60",657,30018,"JKM 265PP-60",657,30018,"JKM 265PP-60",657,30018,"JKM 265PP-60",657,18,"","",null,null,1000]
["Avancis","PowerMax SMART 125W",0.11862193575815549,125,58.8,43.7,3.27,2.86,9.8100000000000007E-2,-137.00400000000002,-101.82100000000003,null,19,"Goldi Green",{"$f":"IF($A20=\"\",\"\",COUNTIF($A$2:$A20,$A20))","v":8},{"$f":"IF($A20=\"\",\"\",$O20+thousand*VLOOKUP($A20,$A$1:Q20,17,FALSE))","v":3008},{"$f":"IF(O20=1,MAX(Q$1:Q19)+1,\"\")","v":""},"Avancis","PowerMax SMART 125W",19,null,30019,"JKM 265P-60",658,30019,"JKM 265P-60",658,30019,"JKM 265P-60",658,30019,"JKM 265P-60",658,19,"","",null,null,1000]
["Avancis","PowerMax STRONG 125W",0.11424184541707413,125,59.1,43.8,3.24,2.85,9.7200000000000009E-2,-137.70300000000003,-102.054,null,20,"Great Energy",{"$f":"IF($A21=\"\",\"\",COUNTIF($A$2:$A21,$A21))","v":9},{"$f":"IF($A21=\"\",\"\",$O21+thousand*VLOOKUP($A21,$A$1:Q21,17,FALSE))","v":3009},{"$f":"IF(O21=1,MAX(Q$1:Q20)+1,\"\")","v":""},"Avancis","PowerMax STRONG 125W",20,null,30020,"JKM 270M-60",659,30020,"JKM 270M-60",659,30020,"JKM 270M-60",659,30020,"JKM 270M-60",659,20,"","",null,null,1000]
["Avancis","PowerMax SMART 130W",0.12336681318848172,130,59.5,44.9,3.28,2.9,9.8400000000000001E-2,-138.63500000000002,-104.61700000000002,null,21,"Hanwha Q Cells",{"$f":"IF($A22=\"\",\"\",COUNTIF($A$2:$A22,$A22))","v":10},{"$f":"IF($A22=\"\",\"\",$O22+thousand*VLOOKUP($A22,$A$1:Q22,17,FALSE))","v":3010},{"$f":"IF(O22=1,MAX(Q$1:Q21)+1,\"\")","v":""},"Avancis","PowerMax SMART 130W",21,null,30021,"JKM 270M-96",660,30021,"JKM 270M-96",660,30021,"JKM 270M-96",660,30021,"JKM 270M-96",660,21,"","",null,null,1000]
["Avancis","PowerMax STRONG 130W",0.11881151923375709,130,59.9,44.9,3.26,2.9,9.7799999999999984E-2,-139.56700000000001,-104.617,null,22,"Hanwha SolarOne",{"$f":"IF($A23=\"\",\"\",COUNTIF($A$2:$A23,$A23))","v":11},{"$f":"IF($A23=\"\",\"\",$O23+thousand*VLOOKUP($A23,$A$1:Q23,17,FALSE))","v":3011},{"$f":"IF(O23=1,MAX(Q$1:Q22)+1,\"\")","v":""},"Avancis","PowerMax STRONG 130W",22,null,30022,"JKM 290PP-72",661,30022,"JKM 290PP-72",661,30022,"JKM 290PP-72",661,30022,"JKM 290PP-72",661,22,"","",null,null,1000]
["Avancis","PowerMax SMART 135W",0.12811169061880792,135,60.2,46.1,3.29,2.94,9.870000000000001E-2,-140.26600000000002,-107.41300000000001,null,23,"Hareon",{"$f":"IF($A24=\"\",\"\",COUNTIF($A$2:$A24,$A24))","v":12},{"$f":"IF($A24=\"\",\"\",$O24+thousand*VLOOKUP($A24,$A$1:Q24,17,FALSE))","v":3012},{"$f":"IF(O24=1,MAX(Q$1:Q23)+1,\"\")","v":""},"Avancis","PowerMax SMART 135W",23,null,30023,"JKMS 295M-72",662,30023,"JKMS 295M-72",662,30023,"JKMS 295M-72",662,30023,"JKMS 295M-72",662,23,"","",null,null,1000]
["Avancis","PowerMax STRONG 135W",0.12338119305044004,135,60.7,45.9,3.29,2.94,9.870000000000001E-2,-141.43100000000004,-106.94700000000002,null,24,"Heliene Inc",{"$f":"IF($A25=\"\",\"\",COUNTIF($A$2:$A25,$A25))","v":13},{"$f":"IF($A25=\"\",\"\",$O25+thousand*VLOOKUP($A25,$A$1:Q25,17,FALSE))","v":3013},{"$f":"IF(O25=1,MAX(Q$1:Q24)+1,\"\")","v":""},"Avancis","PowerMax STRONG 135W",24,null,30024,"JKM 295PP-72",663,30024,"JKM 295PP-72",663,30024,"JKM 295PP-72",663,30024,"JKM 295PP-72",663,24,"","",null,null,1000]
["Avancis","PowerMax STRONG 140W",0.12795086686712304,140,61.5,47,3.31,2.98,9.9299999999999999E-2,-143.29500000000002,-109.51000000000002,null,25,"Helios Energy Europe",{"$f":"IF($A26=\"\",\"\",COUNTIF($A$2:$A26,$A26))","v":14},{"$f":"IF($A26=\"\",\"\",$O26+thousand*VLOOKUP($A26,$A$1:Q26,17,FALSE))","v":3014},{"$f":"IF(O26=1,MAX(Q$1:Q25)+1,\"\")","v":""},"Avancis","PowerMax STRONG 140W",25,null,30025,"JKMS 295P-72",664,30025,"JKMS 295P-72",664,30025,"JKMS 295P-72",664,30025,"JKMS 295P-72",664,25,"","",null,null,1000]
["BenQ Solar","PM250M01_250",0.15516992037300367,250,37.86,30.82,8.66,8.2200000000000006,5.1959999999999997,-113.57999999999998,-92.45999999999998,null,26,"Helios USA",{"$f":"IF($A27=\"\",\"\",COUNTIF($A$2:$A27,$A27))","v":1},{"$f":"IF($A27=\"\",\"\",$O27+thousand*VLOOKUP($A27,$A$1:Q27,17,FALSE))","v":4001},{"$f":"IF(O27=1,MAX(Q$1:Q26)+1,\"\")","v":4},"BenQ Solar","PM250M01_250",26,null,30026,"JKM 295P-72",665,30026,"JKM 295P-72",665,30026,"JKM 295P-72",665,30026,"JKM 295P-72",665,26,"","",null,null,1000]
["BenQ Solar","PM245P00_255",0.15827331878046372,255,37.6,30.8,8.76,8.2799999999999994,3.504,-112.8,-92.4,null,27,"JA Solar",{"$f":"IF($A28=\"\",\"\",COUNTIF($A$2:$A28,$A28))","v":2},{"$f":"IF($A28=\"\",\"\",$O28+thousand*VLOOKUP($A28,$A$1:Q28,17,FALSE))","v":4002},{"$f":"IF(O28=1,MAX(Q$1:Q27)+1,\"\")","v":""},"BenQ Solar","PM245P00_255",27,null,30027,"JKMS 300M-72",666,30027,"JKMS 300M-72",666,30027,"JKMS 300M-72",666,30027,"JKMS 300M-72",666,27,"","",null,null,1000]
["BenQ Solar","PM250M01_255",0.15827331878046372,255,37.799999999999997,30.3,8.94,8.42,5.3639999999999999,-113.39999999999999,-90.899999999999991,null,28,"Jetion",{"$f":"IF($A29=\"\",\"\",COUNTIF($A$2:$A29,$A29))","v":3},{"$f":"IF($A29=\"\",\"\",$O29+thousand*VLOOKUP($A29,$A$1:Q29,17,FALSE))","v":4003},{"$f":"IF(O29=1,MAX(Q$1:Q28)+1,\"\")","v":""},"BenQ Solar","PM250M01_255",28,null,30028,"JKM 300M-72",667,30028,"JKM 300M-72",667,30028,"JKM 300M-72",667,30028,"JKM 300M-72",667,28,"","",null,null,1000]
["BenQ Solar","PM245P00_260",0.16137671718792382,260,37.700000000000003,31.2,8.83,8.34,3.532,-113.10000000000001,-93.6,null,29,"Jiangsu Linyang",{"$f":"IF($A30=\"\",\"\",COUNTIF($A$2:$A30,$A30))","v":4},{"$f":"IF($A30=\"\",\"\",$O30+thousand*VLOOKUP($A30,$A$1:Q30,17,FALSE))","v":4004},{"$f":"IF(O30=1,MAX(Q$1:Q29)+1,\"\")","v":""},"BenQ Solar","PM245P00_260",29,null,30029,"JKM 300PP-72",668,30029,"JKM 300PP-72",668,30029,"JKM 300PP-72",668,30029,"JKM 300PP-72",668,29,"","",null,null,1000]
["BenQ Solar","PM250M01_260",0.16137671718792382,260,38,30.8,8.9600000000000009,8.4499999999999993,5.3760000000000012,-114,-92.399999999999991,null,30,"Jinkosolar",{"$f":"IF($A31=\"\",\"\",COUNTIF($A$2:$A31,$A31))","v":5},{"$f":"IF($A31=\"\",\"\",$O31+thousand*VLOOKUP($A31,$A$1:Q31,17,FALSE))","v":4005},{"$f":"IF(O31=1,MAX(Q$1:Q30)+1,\"\")","v":""},"BenQ Solar","PM250M01_260",30,null,30030,"JKMS 300P-72",669,30030,"JKMS 300P-72",669,30030,"JKMS 300P-72",669,30030,"JKMS 300P-72",669,30,"","",null,null,1000]
["BenQ Solar","PM250M01_265",0.16448011559538386,265,38.200000000000003,31.3,8.98,8.4700000000000006,5.3880000000000008,-114.21800000000002,-93.587000000000003,null,31,"Kohima (Eternus)",{"$f":"IF($A32=\"\",\"\",COUNTIF($A$2:$A32,$A32))","v":6},{"$f":"IF($A32=\"\",\"\",$O32+thousand*VLOOKUP($A32,$A$1:Q32,17,FALSE))","v":4006},{"$f":"IF(O32=1,MAX(Q$1:Q31)+1,\"\")","v":""},"BenQ Solar","PM250M01_265",31,null,30031,"JKM 300P-72",670,30031,"JKM 300P-72",670,30031,"JKM 300P-72",670,30031,"JKM 300P-72",670,31,"","",null,null,1000]
["BenQ Solar","PM250M01_270",0.16758351400284396,270,38.5,31.8,9.01,8.5,5.4059999999999997,-114.345,-94.446000000000012,null,32,"LDK Solar Co., Ltd.",{"$f":"IF($A33=\"\",\"\",COUNTIF($A$2:$A33,$A33))","v":7},{"$f":"IF($A33=\"\",\"\",$O33+thousand*VLOOKUP($A33,$A$1:Q33,17,FALSE))","v":4007},{"$f":"IF(O33=1,MAX(Q$1:Q32)+1,\"\")","v":""},"BenQ Solar","PM250M01_270",32,null,30032,"JKMS 305M-72",671,30032,"JKMS 305M-72",671,30032,"JKMS 305M-72",671,30032,"JKMS 305M-72",671,32,"","",null,null,1000]
["BenQ Solar","PM250M01_275",0.17068691241030404,275,38.700000000000003,32.299999999999997,9.0299999999999994,8.52,5.4179999999999993,-114.55200000000001,-95.60799999999999,null,33,"LG Electronics",{"$f":"IF($A34=\"\",\"\",COUNTIF($A$2:$A34,$A34))","v":8},{"$f":"IF($A34=\"\",\"\",$O34+thousand*VLOOKUP($A34,$A$1:Q34,17,FALSE))","v":4008},{"$f":"IF(O34=1,MAX(Q$1:Q33)+1,\"\")","v":""},"BenQ Solar","PM250M01_275",33,null,30033,{"$f":"IF(COUNTIF($P$2:$P$7985,V34)>0,VLOOKUP(V34,$P$2:$S$7985,4,FALSE),\"\")","v":"JKM 305M-72"},{"$f":"IF(W34=\"\",\"\",VLOOKUP(V34,$P$2:$T$7985,5,FALSE))","v":672},30033,{"$f":"IF(COUNTIF($P$2:$P$7985,Y34)>0,VLOOKUP(Y34,$P$2:$S$7985,4,FALSE),\"\")","v":"JKM 305M-72"},{"$f":"IF(Z34=\"\",\"\",VLOOKUP(Y34,$P$2:$T$7985,5,FALSE))","v":672},30033,{"$f":"IF(COUNTIF($P$2:$P$7985,AB34)>0,VLOOKUP(AB34,$P$2:$S$7985,4,FALSE),\"\")","v":"JKM 305M-72"},{"$f":"IF(AC34=\"\",\"\",VLOOKUP(AB34,$P$2:$T$7985,5,FALSE))","v":672},30033,"JKM 305M-72",672,33,"",{"$f":"IF(AI34=\"\",\"\",VLOOKUP(AH34,$P$2:$T$7985,5,FALSE))","v":""},null,null,1000]
["BenQ Solar","PM300P00_300",0.15602668680451104,300,44.6,35.9,9.0500000000000007,8.4600000000000009,3.6200000000000006,-145.84200000000001,-117.39300000000001,null,34,"Lightwaysolar",{"$f":"IF($A35=\"\",\"\",COUNTIF($A$2:$A35,$A35))","v":9},{"$f":"IF($A35=\"\",\"\",$O35+thousand*VLOOKUP($A35,$A$1:Q35,17,FALSE))","v":4009},{"$f":"IF(O35=1,MAX(Q$1:Q34)+1,\"\")","v":""},"BenQ Solar","PM300P00_300",34,null,30034,"JKM 305PP-72",673,30034,"JKM 305PP-72",673,30034,"JKM 305PP-72",673,30034,"JKM 305PP-72",673,34,{"$f":"IF(COUNTIF($P$2:$P$7985,AH35)>0,VLOOKUP(AH35,$P$2:$S$7985,4,FALSE),\"\")","v":""},"",null,null,1000]
["BenQ Solar","PM300P00_305",0.15862713158458622,305,44.9,35.799999999999997,9.09,8.6,3.6359999999999997,-146.82300000000001,-117.066,null,35,"Masdar PV GmbH",{"$f":"IF($A36=\"\",\"\",COUNTIF($A$2:$A36,$A36))","v":10},{"$f":"IF($A36=\"\",\"\",$O36+thousand*VLOOKUP($A36,$A$1:Q36,17,FALSE))","v":4010},{"$f":"IF(O36=1,MAX(Q$1:Q35)+1,\"\")","v":""},"BenQ Solar","PM300P00_305",35,null,30035,"JKMS 305P-72",674,30035,"JKMS 305P-72",674,30035,"JKMS 305P-72",674,30035,"JKMS 305P-72",674,35,"","",null,null,1000]
["BenQ Solar","PM318B01_315",0.19316691952114226,315,64.599999999999994,54.7,6.14,5.76,3.6839999999999993,-211.24199999999999,-178.86900000000003,null,36,"Meyer Burger AG",{"$f":"IF($A37=\"\",\"\",COUNTIF($A$2:$A37,$A37))","v":11},{"$f":"IF($A37=\"\",\"\",$O37+thousand*VLOOKUP($A37,$A$1:Q37,17,FALSE))","v":4011},{"$f":"IF(O37=1,MAX(Q$1:Q36)+1,\"\")","v":""},"BenQ Solar","PM318B01_315",36,null,30036,"JKM 305P-72",675,30036,"JKM 305P-72",675,30036,"JKM 305P-72",675,30036,"JKM 305P-72",675,36,"","",null,null,1000]
["BenQ Solar","PM096B00_320",0.19623306110084296,320,64.8,54.7,6.27,5.86,3.7619999999999996,-211.89599999999999,-178.869,null,37,"Mitsubishi",{"$f":"IF($A38=\"\",\"\",COUNTIF($A$2:$A38,$A38))","v":12},{"$f":"IF($A38=\"\",\"\",$O38+thousand*VLOOKUP($A38,$A$1:Q38,17,FALSE))","v":4012},{"$f":"IF(O38=1,MAX(Q$1:Q37)+1,\"\")","v":""},"BenQ Solar","PM096B00_320",37,null,30037,"JKMS 310M-72",676,30037,"JKMS 310M-72",676,30037,"JKMS 310M-72",676,30037,"JKMS 310M-72",676,37,"","",null,null,1000]
["BenQ Solar","PM318B01_320",0.19623306110084296,320,64.8,54.7,6.27,5.86,3.7619999999999996,-211.89599999999999,-178.869,null,38,"MoserBaer",{"$f":"IF($A39=\"\",\"\",COUNTIF($A$2:$A39,$A39))","v":13},{"$f":"IF($A39=\"\",\"\",$O39+thousand*VLOOKUP($A39,$A$1:Q39,17,FALSE))","v":4013},{"$f":"IF(O39=1,MAX(Q$1:Q38)+1,\"\")","v":""},"BenQ Solar","PM318B01_320",38,null,30038,"JKM 310M-72",677,30038,"JKM 310M-72",677,30038,"JKM 310M-72",677,30038,"JKM 310M-72",677,38,"","",null,null,1000]
["BenQ Solar","PM318B00_320",0.19623306110084296,320,64.8,54.7,6.27,5.86,3.7619999999999996,-211.89599999999999,-178.869,null,39,"MPRIME Solar Solutions SA",{"$f":"IF($A40=\"\",\"\",COUNTIF($A$2:$A40,$A40))","v":14},{"$f":"IF($A40=\"\",\"\",$O40+thousand*VLOOKUP($A40,$A$1:Q40,17,FALSE))","v":4014},{"$f":"IF(O40=1,MAX(Q$1:Q39)+1,\"\")","v":""},"BenQ Solar","PM318B00_320",39,null,30039,"JKM 310PP-72",678,30039,"JKM 310PP-72",678,30039,"JKM 310PP-72",678,30039,"JKM 310PP-72",678,39,"","",null,null,1000]
["BenQ Solar","PM096B00_325",0.1992992026805436,325,64.900000000000006,54.7,6.39,5.94,3.8339999999999996,-210.27600000000001,-177.22800000000001,null,40,"NexPower",{"$f":"IF($A41=\"\",\"\",COUNTIF($A$2:$A41,$A41))","v":15},{"$f":"IF($A41=\"\",\"\",$O41+thousand*VLOOKUP($A41,$A$1:Q41,17,FALSE))","v":4015},{"$f":"IF(O41=1,MAX(Q$1:Q40)+1,\"\")","v":""},"BenQ Solar","PM096B00_325",40,null,30040,"JKM 310P-72",679,30040,"JKM 310P-72",679,30040,"JKM 310P-72",679,30040,"JKM 310P-72",679,40,"","",null,null,1000]
["BenQ Solar","PM318B01_325",0.1992992026805436,325,64.900000000000006,54.7,6.39,5.94,3.8339999999999996,-210.27600000000001,-177.22800000000001,null,41,"Ningbo Ulica Solar",{"$f":"IF($A42=\"\",\"\",COUNTIF($A$2:$A42,$A42))","v":16},{"$f":"IF($A42=\"\",\"\",$O42+thousand*VLOOKUP($A42,$A$1:Q42,17,FALSE))","v":4016},{"$f":"IF(O42=1,MAX(Q$1:Q41)+1,\"\")","v":""},"BenQ Solar","PM318B01_325",41,null,30041,"JKM 315M-72",680,30041,"JKM 315M-72",680,30041,"JKM 315M-72",680,30041,"JKM 315M-72",680,41,"","",null,null,1000]
["BenQ Solar","PM318B00_325",0.1992992026805436,325,64.900000000000006,54.7,6.39,5.94,3.8339999999999996,-210.27600000000001,-177.22800000000001,null,42,"Open Renewables",{"$f":"IF($A43=\"\",\"\",COUNTIF($A$2:$A43,$A43))","v":17},{"$f":"IF($A43=\"\",\"\",$O43+thousand*VLOOKUP($A43,$A$1:Q43,17,FALSE))","v":4017},{"$f":"IF(O43=1,MAX(Q$1:Q42)+1,\"\")","v":""},"BenQ Solar","PM318B00_325",42,null,30042,"","",30042,"","",30042,"","",30042,"","",42,"","",null,null,1000]
["BenQ Solar","PM096B00_327",0.20052565931242389,327,64.900000000000006,54.7,6.46,5.98,3.8759999999999999,-210.27600000000001,-177.22800000000001,null,43,"Panasonic",{"$f":"IF($A44=\"\",\"\",COUNTIF($A$2:$A44,$A44))","v":18},{"$f":"IF($A44=\"\",\"\",$O44+thousand*VLOOKUP($A44,$A$1:Q44,17,FALSE))","v":4018},{"$f":"IF(O44=1,MAX(Q$1:Q43)+1,\"\")","v":""},"BenQ Solar","PM096B00_327",43,null,30043,"","",30043,"","",30043,"","",30043,"","",43,"","",null,null,1000]
["BenQ Solar","PM318B01_327",0.20052565931242389,327,64.900000000000006,54.7,6.46,5.98,3.8759999999999999,-210.27600000000001,-177.22800000000001,null,44,"Phono Solar",{"$f":"IF($A45=\"\",\"\",COUNTIF($A$2:$A45,$A45))","v":19},{"$f":"IF($A45=\"\",\"\",$O45+thousand*VLOOKUP($A45,$A$1:Q45,17,FALSE))","v":4019},{"$f":"IF(O45=1,MAX(Q$1:Q44)+1,\"\")","v":""},"BenQ Solar","PM318B01_327",44,null,30044,"","",30044,"","",30044,"","",30044,"","",44,"","",null,null,1000]
["BenQ Solar","PM318B00_327",0.20052565931242389,327,64.900000000000006,54.7,6.46,5.98,3.8759999999999999,-210.27600000000001,-177.22800000000001,null,45,"Photonix",{"$f":"IF($A46=\"\",\"\",COUNTIF($A$2:$A46,$A46))","v":20},{"$f":"IF($A46=\"\",\"\",$O46+thousand*VLOOKUP($A46,$A$1:Q46,17,FALSE))","v":4020},{"$f":"IF(O46=1,MAX(Q$1:Q45)+1,\"\")","v":""},"BenQ Solar","PM318B00_327",45,null,30045,"","",30045,"","",30045,"","",30045,"","",45,"","",null,null,1000]
["BenQ Solar","PM096B00_330",0.20236534426024427,330,64.900000000000006,54.7,6.52,6.04,3.9119999999999995,-210.27600000000001,-177.22800000000001,null,46,"REC",{"$f":"IF($A47=\"\",\"\",COUNTIF($A$2:$A47,$A47))","v":21},{"$f":"IF($A47=\"\",\"\",$O47+thousand*VLOOKUP($A47,$A$1:Q47,17,FALSE))","v":4021},{"$f":"IF(O47=1,MAX(Q$1:Q46)+1,\"\")","v":""},"BenQ Solar","PM096B00_330",46,null,30046,"","",30046,"","",30046,"","",30046,"","",46,"","",null,null,1000]
["Bisol","BMU-215-2/225",0.13768550061530119,225,37,29,8.3000000000000007,7.75,3.9010000000000007,-113.96,-89.32,null,47,"Renesola",{"$f":"IF($A48=\"\",\"\",COUNTIF($A$2:$A48,$A48))","v":1},{"$f":"IF($A48=\"\",\"\",$O48+thousand*VLOOKUP($A48,$A$1:Q48,17,FALSE))","v":5001},{"$f":"IF(O48=1,MAX(Q$1:Q47)+1,\"\")","v":5},"Bisol","BMU-215-2/225",47,null,30047,"","",30047,"","",30047,"","",30047,"","",47,"","",null,null,1000]
["Bisol","BMU-215-2/230",0.14074517840675235,230,37.299999999999997,29.3,8.4,7.85,3.9480000000000004,-114.88399999999999,-90.244,null,48,"Risen Energy Co., Ltd",{"$f":"IF($A49=\"\",\"\",COUNTIF($A$2:$A49,$A49))","v":2},{"$f":"IF($A49=\"\",\"\",$O49+thousand*VLOOKUP($A49,$A$1:Q49,17,FALSE))","v":5002},{"$f":"IF(O49=1,MAX(Q$1:Q48)+1,\"\")","v":""},"Bisol","BMU-215-2/230",48,null,30048,"","",30048,"","",30048,"","",30048,"","",48,"","",null,null,1000]
["Bisol","BMU-215-2/235",0.14380485619820346,235,37.6,29.6,8.5,7.95,3.9950000000000001,-115.80799999999999,-91.167999999999992,null,49,"Saint-Gobain",{"$f":"IF($A50=\"\",\"\",COUNTIF($A$2:$A50,$A50))","v":3},{"$f":"IF($A50=\"\",\"\",$O50+thousand*VLOOKUP($A50,$A$1:Q50,17,FALSE))","v":5003},{"$f":"IF(O50=1,MAX(Q$1:Q49)+1,\"\")","v":""},"Bisol","BMU-215-2/235",49,null,30049,"","",30049,"","",30049,"","",30049,"","",49,"","",null,null,1000]
["Bisol","BMU-215-2/240",0.14686453398965463,240,37.9,29.9,8.5500000000000007,8.0299999999999994,4.0185000000000004,-116.732,-92.091999999999999,null,50,"Saint-Gobain Luxra",{"$f":"IF($A51=\"\",\"\",COUNTIF($A$2:$A51,$A51))","v":4},{"$f":"IF($A51=\"\",\"\",$O51+thousand*VLOOKUP($A51,$A$1:Q51,17,FALSE))","v":5004},{"$f":"IF(O51=1,MAX(Q$1:Q50)+1,\"\")","v":""},"Bisol","BMU-215-2/240",50,null,30050,"","",30050,"","",30050,"","",30050,"","",50,"","",null,null,1000]
["Bisol","BMU-215-2/250",0.15298388957255687,250,38.4,30.3,8.75,8.25,4.1124999999999998,-118.27199999999999,-93.323999999999998,null,51,"Samsung SDI. Co. Ltd.",{"$f":"IF($A52=\"\",\"\",COUNTIF($A$2:$A52,$A52))","v":5},{"$f":"IF($A52=\"\",\"\",$O52+thousand*VLOOKUP($A52,$A$1:Q52,17,FALSE))","v":5005},{"$f":"IF(O52=1,MAX(Q$1:Q51)+1,\"\")","v":""},"Bisol","BMU-215-2/250",51,null,30051,"","",30051,"","",30051,"","",30051,"","",51,"","",null,null,1000]
["Bisol","BMU-215-2/255",0.15604356736400804,255,38.700000000000003,30.5,8.85,8.35,4.1594999999999995,-119.19600000000001,-93.940000000000012,null,52,"Selfa GE S.A.",{"$f":"IF($A53=\"\",\"\",COUNTIF($A$2:$A53,$A53))","v":6},{"$f":"IF($A53=\"\",\"\",$O53+thousand*VLOOKUP($A53,$A$1:Q53,17,FALSE))","v":5006},{"$f":"IF(O53=1,MAX(Q$1:Q52)+1,\"\")","v":""},"Bisol","BMU-215-2/255",52,null,30052,"","",30052,"","",30052,"","",30052,"","",52,"","",null,null,1000]
["Bisol","BMO-215-2/255",0.15604356736400804,255,38.1,30.7,8.9,8.3000000000000007,4.1829999999999998,-117.348,-94.555999999999997,null,53,"Sharp",{"$f":"IF($A54=\"\",\"\",COUNTIF($A$2:$A54,$A54))","v":7},{"$f":"IF($A54=\"\",\"\",$O54+thousand*VLOOKUP($A54,$A$1:Q54,17,FALSE))","v":5007},{"$f":"IF(O54=1,MAX(Q$1:Q53)+1,\"\")","v":""},"Bisol","BMO-215-2/255",53,null,30053,"","",30053,"","",30053,"","",30053,"","",53,"","",null,null,1000]
["Bisol","BMU-260",0.15910324515545918,260,39,30.9,8.9,8.4,4.1829999999999998,-120.12,-95.171999999999997,null,54,"Sharp Corporation",{"$f":"IF($A55=\"\",\"\",COUNTIF($A$2:$A55,$A55))","v":8},{"$f":"IF($A55=\"\",\"\",$O55+thousand*VLOOKUP($A55,$A$1:Q55,17,FALSE))","v":5008},{"$f":"IF(O55=1,MAX(Q$1:Q54)+1,\"\")","v":""},"Bisol","BMU-260",54,null,30054,"","",30054,"","",30054,"","",30054,"","",54,"","",null,null,1000]
["Bisol","BMO-215-2/260",0.15910324515545918,260,38.299999999999997,31,9,8.4,4.2299999999999995,-117.96399999999998,-95.47999999999999,null,55,"SNAsolar",{"$f":"IF($A56=\"\",\"\",COUNTIF($A$2:$A56,$A56))","v":9},{"$f":"IF($A56=\"\",\"\",$O56+thousand*VLOOKUP($A56,$A$1:Q56,17,FALSE))","v":5009},{"$f":"IF(O56=1,MAX(Q$1:Q55)+1,\"\")","v":""},"Bisol","BMO-215-2/260",55,null,30055,"","",30055,"","",30055,"","",30055,"","",55,"","",null,null,1000]
["Bisol","BMU-265",0.16216292294691032,265,39.299999999999997,31.2,9,8.5,4.2299999999999995,-121.04399999999998,-96.095999999999989,null,56,"Solarclarity",{"$f":"IF($A57=\"\",\"\",COUNTIF($A$2:$A57,$A57))","v":10},{"$f":"IF($A57=\"\",\"\",$O57+thousand*VLOOKUP($A57,$A$1:Q57,17,FALSE))","v":5010},{"$f":"IF(O57=1,MAX(Q$1:Q56)+1,\"\")","v":""},"Bisol","BMU-265",56,null,30056,"","",30056,"","",30056,"","",30056,"","",56,"","",null,null,1000]
["Bisol","BMO-215-2/265",0.16216292294691032,265,38.5,31.2,9.1,8.5,4.2769999999999992,-118.58,-96.095999999999989,null,57,"Solarezo",{"$f":"IF($A58=\"\",\"\",COUNTIF($A$2:$A58,$A58))","v":11},{"$f":"IF($A58=\"\",\"\",$O58+thousand*VLOOKUP($A58,$A$1:Q58,17,FALSE))","v":5011},{"$f":"IF(O58=1,MAX(Q$1:Q57)+1,\"\")","v":""},"Bisol","BMO-215-2/265",57,null,30057,"","",30057,"","",30057,"","",30057,"","",57,"","",null,null,1000]
["Bisol","BMO-270",0.16522260073836145,270,38.6,31.5,9.1999999999999993,8.57,0,-118.88799999999999,-97.02,null,58,"Solar Frontier K. K.",{"$f":"IF($A59=\"\",\"\",COUNTIF($A$2:$A59,$A59))","v":12},{"$f":"IF($A59=\"\",\"\",$O59+thousand*VLOOKUP($A59,$A$1:Q59,17,FALSE))","v":5012},{"$f":"IF(O59=1,MAX(Q$1:Q58)+1,\"\")","v":""},"Bisol","BMO-270",58,null,30058,"","",30058,"","",30058,"","",30058,"","",58,"","",null,null,1000]
["Bisol","BMO-280",0.17134195632126373,280,39,31.8,9.35,8.8000000000000007,0,-120.12,-97.944000000000003,null,59,"Solarkauf",{"$f":"IF($A60=\"\",\"\",COUNTIF($A$2:$A60,$A60))","v":13},{"$f":"IF($A60=\"\",\"\",$O60+thousand*VLOOKUP($A60,$A$1:Q60,17,FALSE))","v":5013},{"$f":"IF(O60=1,MAX(Q$1:Q59)+1,\"\")","v":""},"Bisol","BMO-280",59,null,30059,"","",30059,"","",30059,"","",30059,"","",59,"","",null,null,1000]
["Bisol","BMO-285",0.17440163411271487,285,39.1,32.200000000000003,9.5,8.85,0,-120.428,-99.176000000000002,null,60,"Solibro",{"$f":"IF($A61=\"\",\"\",COUNTIF($A$2:$A61,$A61))","v":14},{"$f":"IF($A61=\"\",\"\",$O61+thousand*VLOOKUP($A61,$A$1:Q61,17,FALSE))","v":5014},{"$f":"IF(O61=1,MAX(Q$1:Q60)+1,\"\")","v":""},"Bisol","BMO-285",60,null,30060,"","",30060,"","",30060,"","",30060,"","",60,"","",null,null,1000]
["Bisol","BMO-290",0.177461311904166,290,39.299999999999997,32.4,9.6,8.9499999999999993,0,-121.04399999999998,-99.791999999999987,null,61,"Stion",{"$f":"IF($A62=\"\",\"\",COUNTIF($A$2:$A62,$A62))","v":15},{"$f":"IF($A62=\"\",\"\",$O62+thousand*VLOOKUP($A62,$A$1:Q62,17,FALSE))","v":5015},{"$f":"IF(O62=1,MAX(Q$1:Q61)+1,\"\")","v":""},"Bisol","BMO-290",61,null,30061,"","",30061,"","",30061,"","",30061,"","",61,"","",null,null,1000]
["Bosch Solar Energy AG","BSM c- Si M 48 S EU40123_V1_185 Wp",0.13924641346399913,185,29.9,23.3,8.58,7.97,2.5740000000000003,-98.67,-76.89,null,62,"Sun Earth",{"$f":"IF($A63=\"\",\"\",COUNTIF($A$2:$A63,$A63))","v":1},{"$f":"IF($A63=\"\",\"\",$O63+thousand*VLOOKUP($A63,$A$1:Q63,17,FALSE))","v":6001},{"$f":"IF(O63=1,MAX(Q$1:Q62)+1,\"\")","v":6},"Bosch Solar Energy AG","BSM c- Si M 48 S EU40123_V1_185 Wp",62,null,30062,"","",30062,"","",30062,"","",30062,"","",62,"","",null,null,1000]
["Bosch Solar Energy AG","BSM c- Si M 48 EU40123_V1_185 Wp",0.13924641346399913,185,29.9,23.3,8.58,7.97,2.5740000000000003,-98.67,-76.89,null,63,"Suniva",{"$f":"IF($A64=\"\",\"\",COUNTIF($A$2:$A64,$A64))","v":2},{"$f":"IF($A64=\"\",\"\",$O64+thousand*VLOOKUP($A64,$A$1:Q64,17,FALSE))","v":6002},{"$f":"IF(O64=1,MAX(Q$1:Q63)+1,\"\")","v":""},"Bosch Solar Energy AG","BSM c- Si M 48 EU40123_V1_185 Wp",63,null,30063,"","",30063,"","",30063,"","",30063,"","",63,"","",null,null,1000]
["Bosch Solar Energy AG","BSM c- Si M 48 S EU40123_V1_190 Wp",0.14300983004410725,190,30,23.5,8.68,8.08,2.6039999999999996,-99,-77.55,null,64,"SunPower",{"$f":"IF($A65=\"\",\"\",COUNTIF($A$2:$A65,$A65))","v":3},{"$f":"IF($A65=\"\",\"\",$O65+thousand*VLOOKUP($A65,$A$1:Q65,17,FALSE))","v":6003},{"$f":"IF(O65=1,MAX(Q$1:Q64)+1,\"\")","v":""},"Bosch Solar Energy AG","BSM c- Si M 48 S EU40123_V1_190 Wp",64,null,30064,"","",30064,"","",30064,"","",30064,"","",64,"","",null,null,1000]
["Bosch Solar Energy AG","BSM c- Si M 48 EU40123_V1_190 Wp",0.14300983004410725,190,30,23.5,8.68,8.08,2.6039999999999996,-99,-77.55,null,65,{"$f":"IF(M66>MAX(Q$2:Q$7985),\"\",VLOOKUP(M66,Q$2:R$7985,2,FALSE))","v":"Suntech"},{"$f":"IF($A66=\"\",\"\",COUNTIF($A$2:$A66,$A66))","v":4},{"$f":"IF($A66=\"\",\"\",$O66+thousand*VLOOKUP($A66,$A$1:Q66,17,FALSE))","v":6004},{"$f":"IF(O66=1,MAX(Q$1:Q65)+1,\"\")","v":""},"Bosch Solar Energy AG","BSM c- Si M 48 EU40123_V1_190 Wp",65,null,{"$f":"V$1*thousand+$M66","v":30065},{"$f":"IF(COUNTIF($P$2:$P$7985,V66)>0,VLOOKUP(V66,$P$2:$S$7985,4,FALSE),\"\")","v":""},{"$f":"IF(W66=\"\",\"\",VLOOKUP(V66,$P$2:$T$7985,5,FALSE))","v":""},{"$f":"Y$1*thousand+$M66","v":30065},{"$f":"IF(COUNTIF($P$2:$P$7985,Y66)>0,VLOOKUP(Y66,$P$2:$S$7985,4,FALSE),\"\")","v":""},{"$f":"IF(Z66=\"\",\"\",VLOOKUP(Y66,$P$2:$T$7985,5,FALSE))","v":""},{"$f":"AB$1*thousand+$M66","v":30065},{"$f":"IF(COUNTIF($P$2:$P$7985,AB66)>0,VLOOKUP(AB66,$P$2:$S$7985,4,FALSE),\"\")","v":""},{"$f":"IF(AC66=\"\",\"\",VLOOKUP(AB66,$P$2:$T$7985,5,FALSE))","v":""},{"$f":"AE$1*thousand+$M66","v":30065},{"$f":"IF(COUNTIF($P$2:$P$7985,AE66)>0,VLOOKUP(AE66,$P$2:$S$7985,4,FALSE),\"\")","v":""},{"$f":"IF(AF66=\"\",\"\",VLOOKUP(AE66,$P$2:$T$7985,5,FALSE))","v":""},{"$f":"AH$1*thousand+$M66","v":65},"",{"$f":"IF(AI66=\"\",\"\",VLOOKUP(AH66,$P$2:$T$7985,5,FALSE))","v":""},null,null,1000]
["Bosch Solar Energy AG","BSM c- Si M 48 S EU40123_V1_195Wp",0.14677324662421534,195,30.2,23.8,8.8699999999999992,8.3000000000000007,2.6609999999999996,-102.68,{"$f":"F67/E67*J67","v":-80.92},null,66,"Tamesol",{"$f":"IF($A67=\"\",\"\",COUNTIF($A$2:$A67,$A67))","v":5},{"$f":"IF($A67=\"\",\"\",$O67+thousand*VLOOKUP($A67,$A$1:Q67,17,FALSE))","v":6005},{"$f":"IF(O67=1,MAX(Q$1:Q66)+1,\"\")","v":""},{"$f":"IF(A67=\"\",\"\",A67)","v":"Bosch Solar Energy AG"},{"$f":"IF(B67=\"\",\"\",B67)","v":"BSM c- Si M 48 S EU40123_V1_195Wp"},{"$f":"$M67","v":66},null,30066,"","",30066,"","",30066,"","",30066,"","",66,{"$f":"IF(COUNTIF($P$2:$P$7985,AH67)>0,VLOOKUP(AH67,$P$2:$S$7985,4,FALSE),\"\")","v":""},"",null,null,1000]
["Bosch Solar Energy AG","BSM c- Si M 48 EU40123_V1_195 Wp",0.14677324662421534,195,30.2,23.8,8.8699999999999992,8.3000000000000007,2.6609999999999996,-102.68,-80.92,null,67,"Tianwei New Energy",{"$f":"IF($A68=\"\",\"\",COUNTIF($A$2:$A68,$A68))","v":6},{"$f":"IF($A68=\"\",\"\",$O68+thousand*VLOOKUP($A68,$A$1:Q68,17,FALSE))","v":6006},{"$f":"IF(O68=1,MAX(Q$1:Q67)+1,\"\")","v":""},"Bosch Solar Energy AG","BSM c- Si M 48 EU40123_V1_195 Wp",67,null,30067,"","",30067,"","",30067,"","",30067,"","",67,"","",null,null,1000]
["Bosch Solar Energy AG","BSM c- Si M 48 EU40123_V1_200Wp",0.15053666320432341,200,30.3,24,8.9700000000000006,8.41,2.6909999999999998,-103.02000000000001,-81.599999999999994,null,68,"TOPSUN",{"$f":"IF($A69=\"\",\"\",COUNTIF($A$2:$A69,$A69))","v":7},{"$f":"IF($A69=\"\",\"\",$O69+thousand*VLOOKUP($A69,$A$1:Q69,17,FALSE))","v":6007},{"$f":"IF(O69=1,MAX(Q$1:Q68)+1,\"\")","v":""},"Bosch Solar Energy AG","BSM c- Si M 48 EU40123_V1_200Wp",68,null,30068,"","",30068,"","",30068,"","",30068,"","",68,"","",null,null,1000]
["Bosch Solar Energy AG","BSM c- Si M 48 S EU44123_V1_205Wp",0.15430007978443153,205,30.28,24.37,8.9700000000000006,8.42,2.6909999999999998,-102.95200000000001,-82.858000000000004,null,69,"Trina Solar",{"$f":"IF($A70=\"\",\"\",COUNTIF($A$2:$A70,$A70))","v":8},{"$f":"IF($A70=\"\",\"\",$O70+thousand*VLOOKUP($A70,$A$1:Q70,17,FALSE))","v":6008},{"$f":"IF(O70=1,MAX(Q$1:Q69)+1,\"\")","v":""},"Bosch Solar Energy AG","BSM c- Si M 48 S EU44123_V1_205Wp",69,null,30069,"","",30069,"","",30069,"","",30069,"","",69,"","",null,null,1000]
["Bosch Solar Energy AG","BSM c- Si M 48 EU44123_V1_205Wp",0.15430007978443153,205,30.2,24.28,9,8.4499999999999993,2.7,-102.68,-82.552000000000021,null,70,"TSMC Solar Ltd.",{"$f":"IF($A71=\"\",\"\",COUNTIF($A$2:$A71,$A71))","v":9},{"$f":"IF($A71=\"\",\"\",$O71+thousand*VLOOKUP($A71,$A$1:Q71,17,FALSE))","v":6009},{"$f":"IF(O71=1,MAX(Q$1:Q70)+1,\"\")","v":""},"Bosch Solar Energy AG","BSM c- Si M 48 EU44123_V1_205Wp",70,null,30070,"","",30070,"","",30070,"","",30070,"","",70,"","",null,null,1000]
["Bosch Solar Energy AG","BSM c- Si M 48 S EU44123_V1_210Wp",0.15806349636453956,210,30.48,24.59,9.11,8.5500000000000007,2.7329999999999997,-103.63200000000001,-83.605999999999995,null,71,"Universal Energy",{"$f":"IF($A72=\"\",\"\",COUNTIF($A$2:$A72,$A72))","v":10},{"$f":"IF($A72=\"\",\"\",$O72+thousand*VLOOKUP($A72,$A$1:Q72,17,FALSE))","v":6010},{"$f":"IF(O72=1,MAX(Q$1:Q71)+1,\"\")","v":""},"Bosch Solar Energy AG","BSM c- Si M 48 S EU44123_V1_210Wp",71,null,30071,"","",30071,"","",30071,"","",30071,"","",71,"","",null,null,1000]
["Bosch Solar Energy AG","BSM c- Si M 48 EU44123_V1_210Wp",0.15806349636453956,210,30.4,24.5,9.15,8.58,2.7450000000000001,-103.36000000000001,-83.300000000000011,null,72,"Upsolar",{"$f":"IF($A73=\"\",\"\",COUNTIF($A$2:$A73,$A73))","v":11},{"$f":"IF($A73=\"\",\"\",$O73+thousand*VLOOKUP($A73,$A$1:Q73,17,FALSE))","v":6011},{"$f":"IF(O73=1,MAX(Q$1:Q72)+1,\"\")","v":""},"Bosch Solar Energy AG","BSM c- Si M 48 EU44123_V1_210Wp",72,null,30072,"","",30072,"","",30072,"","",30072,"","",72,"","",null,null,1000]
["Bosch Solar Energy AG","BSM c- Si M 48 S EU44123_V1_215Wp",0.16182691294464768,215,30.69,24.81,9.26,8.67,2.778,-104.346,-84.353999999999999,null,73,"Voltec Solar",{"$f":"IF($A74=\"\",\"\",COUNTIF($A$2:$A74,$A74))","v":12},{"$f":"IF($A74=\"\",\"\",$O74+thousand*VLOOKUP($A74,$A$1:Q74,17,FALSE))","v":6012},{"$f":"IF(O74=1,MAX(Q$1:Q73)+1,\"\")","v":""},"Bosch Solar Energy AG","BSM c- Si M 48 S EU44123_V1_215Wp",73,null,30073,"","",30073,"","",30073,"","",30073,"","",73,"","",null,null,1000]
["Bosch Solar Energy AG","BSM c- Si M 48 EU44123_V1_215Wp",0.16182691294464768,215,30.6,24.71,9.2899999999999991,8.7100000000000009,2.7869999999999995,-104.04000000000002,-84.014000000000024,null,74,"Winaico",{"$f":"IF($A75=\"\",\"\",COUNTIF($A$2:$A75,$A75))","v":13},{"$f":"IF($A75=\"\",\"\",$O75+thousand*VLOOKUP($A75,$A$1:Q75,17,FALSE))","v":6013},{"$f":"IF(O75=1,MAX(Q$1:Q74)+1,\"\")","v":""},"Bosch Solar Energy AG","BSM c- Si M 48 EU44123_V1_215Wp",74,null,30074,"","",30074,"","",30074,"","",30074,"","",74,"","",null,null,1000]
["Bosch Solar Energy AG","BSM c- Si M 48 S EU44123_V1_220Wp",0.16559032952475575,220,30.89,25.03,9.41,8.8000000000000007,2.823,-108.11499999999999,-87.605000000000004,null,75,"Win Win",{"$f":"IF($A76=\"\",\"\",COUNTIF($A$2:$A76,$A76))","v":14},{"$f":"IF($A76=\"\",\"\",$O76+thousand*VLOOKUP($A76,$A$1:Q76,17,FALSE))","v":6014},{"$f":"IF(O76=1,MAX(Q$1:Q75)+1,\"\")","v":""},"Bosch Solar Energy AG","BSM c- Si M 48 S EU44123_V1_220Wp",75,null,30075,"","",30075,"","",30075,"","",30075,"","",75,"","",null,null,1000]
["Bosch Solar Energy AG","BSM c- Si M 48 EU44123_V1_220Wp",0.16559032952475575,220,30.81,24.93,9.44,8.83,2.8319999999999994,-104.754,-84.762,null,76,"Xunlight Corporation",{"$f":"IF($A77=\"\",\"\",COUNTIF($A$2:$A77,$A77))","v":15},{"$f":"IF($A77=\"\",\"\",$O77+thousand*VLOOKUP($A77,$A$1:Q77,17,FALSE))","v":6015},{"$f":"IF(O77=1,MAX(Q$1:Q76)+1,\"\")","v":""},"Bosch Solar Energy AG","BSM c- Si M 48 EU44123_V1_220Wp",76,null,30076,"","",30076,"","",30076,"","",30076,"","",76,"","",null,null,1000]
["Bosch Solar Energy AG","BSM c- Si M 60 IN30125_V1_225 Wp",0.13691128148959475,225,36.9,29.4,8.3000000000000007,7.8,2.4900000000000002,-132.83999999999997,-105.83999999999997,null,77,"Yingli Solar",{"$f":"IF($A78=\"\",\"\",COUNTIF($A$2:$A78,$A78))","v":16},{"$f":"IF($A78=\"\",\"\",$O78+thousand*VLOOKUP($A78,$A$1:Q78,17,FALSE))","v":6016},{"$f":"IF(O78=1,MAX(Q$1:Q77)+1,\"\")","v":""},"Bosch Solar Energy AG","BSM c- Si M 60 IN30125_V1_225 Wp",77,null,30077,"","",30077,"","",30077,"","",30077,"","",77,"","",null,null,1000]
["Bosch Solar Energy AG","BSM c- Si M 60 S NA30117_V2_225 Wp",0.13691128148959475,225,36.9,29.4,8.3000000000000007,7.8,2.4900000000000002,-132.83999999999997,-105.83999999999997,null,78,"Zebra Energy",{"$f":"IF($A79=\"\",\"\",COUNTIF($A$2:$A79,$A79))","v":17},{"$f":"IF($A79=\"\",\"\",$O79+thousand*VLOOKUP($A79,$A$1:Q79,17,FALSE))","v":6017},{"$f":"IF(O79=1,MAX(Q$1:Q78)+1,\"\")","v":""},"Bosch Solar Energy AG","BSM c- Si M 60 S NA30117_V2_225 Wp",78,null,30078,"","",30078,"","",30078,"","",30078,"","",78,"","",null,null,1000]
["Bosch Solar Energy AG","BSM c- Si M 60 EU30123_V2_225 Wp",0.13691128148959475,225,36.9,29.4,8.3000000000000007,7.8,2.4900000000000002,-132.83999999999997,-105.83999999999997,null,79,"ZNshine Solar",{"$f":"IF($A80=\"\",\"\",COUNTIF($A$2:$A80,$A80))","v":18},{"$f":"IF($A80=\"\",\"\",$O80+thousand*VLOOKUP($A80,$A$1:Q80,17,FALSE))","v":6018},{"$f":"IF(O80=1,MAX(Q$1:Q79)+1,\"\")","v":""},"Bosch Solar Energy AG","BSM c- Si M 60 EU30123_V2_225 Wp",79,null,30079,"","",30079,"","",30079,"","",30079,"","",79,"","",null,null,1000]
["Bosch Solar Energy AG","BSM c- Si M 60 NA30117_V2_225 Wp",0.13691128148959475,225,36.9,29.4,8.3000000000000007,7.8,2.4900000000000002,-132.83999999999997,-105.83999999999997,null,80,"Sunpreme",{"$f":"IF($A81=\"\",\"\",COUNTIF($A$2:$A81,$A81))","v":19},{"$f":"IF($A81=\"\",\"\",$O81+thousand*VLOOKUP($A81,$A$1:Q81,17,FALSE))","v":6019},{"$f":"IF(O81=1,MAX(Q$1:Q80)+1,\"\")","v":""},"Bosch Solar Energy AG","BSM c- Si M 60 NA30117_V2_225 Wp",80,null,30080,"","",30080,"","",30080,"","",30080,"","",80,"","",null,null,1000]
["Bosch Solar Energy AG","BSM c- Si P 60 EU30123_V1_230 Wp",0.13995375441158572,230,37.1,29.6,8.43,7.88,3.3719999999999999,-129.85,-103.6,null,81,"",{"$f":"IF($A82=\"\",\"\",COUNTIF($A$2:$A82,$A82))","v":20},{"$f":"IF($A82=\"\",\"\",$O82+thousand*VLOOKUP($A82,$A$1:Q82,17,FALSE))","v":6020},{"$f":"IF(O82=1,MAX(Q$1:Q81)+1,\"\")","v":""},"Bosch Solar Energy AG","BSM c- Si P 60 EU30123_V1_230 Wp",81,null,30081,"","",30081,"","",30081,"","",30081,"","",81,"","",null,null,1000]
["Bosch Solar Energy AG","BSM c- Si M 60 IN30125_V1_230 Wp",0.13995375441158572,230,37,29.7,8.4,7.9,2.52,-133.20000000000002,-106.92000000000002,null,82,"",{"$f":"IF($A83=\"\",\"\",COUNTIF($A$2:$A83,$A83))","v":21},{"$f":"IF($A83=\"\",\"\",$O83+thousand*VLOOKUP($A83,$A$1:Q83,17,FALSE))","v":6021},{"$f":"IF(O83=1,MAX(Q$1:Q82)+1,\"\")","v":""},"Bosch Solar Energy AG","BSM c- Si M 60 IN30125_V1_230 Wp",82,null,30082,"","",30082,"","",30082,"","",30082,"","",82,"","",null,null,1000]
["Bosch Solar Energy AG","BSM c- Si M 60 S NA30117_V2_230 Wp",0.13995375441158572,230,37,29.7,8.4,7.9,2.52,-133.20000000000002,-106.92000000000002,null,83,"",{"$f":"IF($A84=\"\",\"\",COUNTIF($A$2:$A84,$A84))","v":22},{"$f":"IF($A84=\"\",\"\",$O84+thousand*VLOOKUP($A84,$A$1:Q84,17,FALSE))","v":6022},{"$f":"IF(O84=1,MAX(Q$1:Q83)+1,\"\")","v":""},"Bosch Solar Energy AG","BSM c- Si M 60 S NA30117_V2_230 Wp",83,null,30083,"","",30083,"","",30083,"","",30083,"","",83,"","",null,null,1000]
["Bosch Solar Energy AG","BSM c- Si M 60 EU30123_V2_230 Wp",0.13995375441158572,230,37,29.7,8.4,7.9,2.52,-133.20000000000002,-106.92000000000002,null,84,"",{"$f":"IF($A85=\"\",\"\",COUNTIF($A$2:$A85,$A85))","v":23},{"$f":"IF($A85=\"\",\"\",$O85+thousand*VLOOKUP($A85,$A$1:Q85,17,FALSE))","v":6023},{"$f":"IF(O85=1,MAX(Q$1:Q84)+1,\"\")","v":""},"Bosch Solar Energy AG","BSM c- Si M 60 EU30123_V2_230 Wp",84,null,30084,"","",30084,"","",30084,"","",30084,"","",84,"","",null,null,1000]
["Bosch Solar Energy AG","BSM c- Si M 60 NA30117_V2_230 Wp",0.13995375441158572,230,37,29.7,8.4,7.9,2.52,-133.20000000000002,-106.92000000000002,null,85,"",{"$f":"IF($A86=\"\",\"\",COUNTIF($A$2:$A86,$A86))","v":24},{"$f":"IF($A86=\"\",\"\",$O86+thousand*VLOOKUP($A86,$A$1:Q86,17,FALSE))","v":6024},{"$f":"IF(O86=1,MAX(Q$1:Q85)+1,\"\")","v":""},"Bosch Solar Energy AG","BSM c- Si M 60 NA30117_V2_230 Wp",85,null,30085,"","",30085,"","",30085,"","",30085,"","",85,"","",null,null,600]
["Bosch Solar Energy AG","BSM c- Si P 60 EU30123_V1_235 Wp",0.14299622733357673,235,37.299999999999997,29.8,8.5299999999999994,7.99,3.4119999999999999,-130.54999999999998,-104.3,null,86,"",{"$f":"IF($A87=\"\",\"\",COUNTIF($A$2:$A87,$A87))","v":25},{"$f":"IF($A87=\"\",\"\",$O87+thousand*VLOOKUP($A87,$A$1:Q87,17,FALSE))","v":6025},{"$f":"IF(O87=1,MAX(Q$1:Q86)+1,\"\")","v":""},"Bosch Solar Energy AG","BSM c- Si P 60 EU30123_V1_235 Wp",86,null,30086,"","",30086,"","",30086,"","",30086,"","",86,"","",null,null,1000]
["Bosch Solar Energy AG","BSM c- Si M 60 IN30125_V1_235 Wp",0.14299622733357673,235,37.1,29.9,8.5,8,2.5499999999999998,-133.56,-107.64,null,87,"",{"$f":"IF($A88=\"\",\"\",COUNTIF($A$2:$A88,$A88))","v":26},{"$f":"IF($A88=\"\",\"\",$O88+thousand*VLOOKUP($A88,$A$1:Q88,17,FALSE))","v":6026},{"$f":"IF(O88=1,MAX(Q$1:Q87)+1,\"\")","v":""},"Bosch Solar Energy AG","BSM c- Si M 60 IN30125_V1_235 Wp",87,null,30087,"","",30087,"","",30087,"","",30087,"","",87,"","",null,null,600]
["Bosch Solar Energy AG","BSM c- Si M 60 S NA30117_V2_235 Wp",0.14299622733357673,235,37.1,29.9,8.5,8,2.5499999999999998,-133.56,-107.64,null,88,"",{"$f":"IF($A89=\"\",\"\",COUNTIF($A$2:$A89,$A89))","v":27},{"$f":"IF($A89=\"\",\"\",$O89+thousand*VLOOKUP($A89,$A$1:Q89,17,FALSE))","v":6027},{"$f":"IF(O89=1,MAX(Q$1:Q88)+1,\"\")","v":""},"Bosch Solar Energy AG","BSM c- Si M 60 S NA30117_V2_235 Wp",88,null,30088,"","",30088,"","",30088,"","",30088,"","",88,"","",null,null,1000]
["Bosch Solar Energy AG","BSM c- Si M 60 EU30123_V2_235 Wp",0.14299622733357673,235,37.1,29.9,8.5,8,2.5499999999999998,-133.56,-107.64,null,89,"",{"$f":"IF($A90=\"\",\"\",COUNTIF($A$2:$A90,$A90))","v":28},{"$f":"IF($A90=\"\",\"\",$O90+thousand*VLOOKUP($A90,$A$1:Q90,17,FALSE))","v":6028},{"$f":"IF(O90=1,MAX(Q$1:Q89)+1,\"\")","v":""},"Bosch Solar Energy AG","BSM c- Si M 60 EU30123_V2_235 Wp",89,null,30089,"","",30089,"","",30089,"","",30089,"","",89,"","",null,null,1000]
["Bosch Solar Energy AG","BSM c- Si M 60 NA30117_V2_235 Wp",0.14299622733357673,235,37.1,29.9,8.5,8,2.5499999999999998,-133.56,-107.64,null,90,"",{"$f":"IF($A91=\"\",\"\",COUNTIF($A$2:$A91,$A91))","v":29},{"$f":"IF($A91=\"\",\"\",$O91+thousand*VLOOKUP($A91,$A$1:Q91,17,FALSE))","v":6029},{"$f":"IF(O91=1,MAX(Q$1:Q90)+1,\"\")","v":""},"Bosch Solar Energy AG","BSM c- Si M 60 NA30117_V2_235 Wp",90,null,30090,"","",30090,"","",30090,"","",30090,"","",90,"","",null,null,600]
["Bosch Solar Energy AG","BSM c- Si P 60 EU30123_V1_240 Wp",0.14603870025556773,240,37.5,30,8.64,8.11,3.4560000000000004,-131.25,-105,null,91,"",{"$f":"IF($A92=\"\",\"\",COUNTIF($A$2:$A92,$A92))","v":30},{"$f":"IF($A92=\"\",\"\",$O92+thousand*VLOOKUP($A92,$A$1:Q92,17,FALSE))","v":6030},{"$f":"IF(O92=1,MAX(Q$1:Q91)+1,\"\")","v":""},"Bosch Solar Energy AG","BSM c- Si P 60 EU30123_V1_240 Wp",91,null,30091,"","",30091,"","",30091,"","",30091,"","",91,"","",null,null,1000]
["Bosch Solar Energy AG","BSM c- Si M 60 IN30125_V1_240 Wp",0.14603870025556773,240,37.4,30,8.6,8.1,2.58,-134.63999999999999,-107.99999999999999,null,92,"",{"$f":"IF($A93=\"\",\"\",COUNTIF($A$2:$A93,$A93))","v":31},{"$f":"IF($A93=\"\",\"\",$O93+thousand*VLOOKUP($A93,$A$1:Q93,17,FALSE))","v":6031},{"$f":"IF(O93=1,MAX(Q$1:Q92)+1,\"\")","v":""},"Bosch Solar Energy AG","BSM c- Si M 60 IN30125_V1_240 Wp",92,null,30092,"","",30092,"","",30092,"","",30092,"","",92,"","",null,null,600]
["Bosch Solar Energy AG","BSM c- Si M 60 S NA30117_V2_240 Wp",0.14603870025556773,240,37.4,30,8.6,8.1,2.58,-134.63999999999999,-107.99999999999999,null,93,"",{"$f":"IF($A94=\"\",\"\",COUNTIF($A$2:$A94,$A94))","v":32},{"$f":"IF($A94=\"\",\"\",$O94+thousand*VLOOKUP($A94,$A$1:Q94,17,FALSE))","v":6032},{"$f":"IF(O94=1,MAX(Q$1:Q93)+1,\"\")","v":""},"Bosch Solar Energy AG","BSM c- Si M 60 S NA30117_V2_240 Wp",93,null,30093,"","",30093,"","",30093,"","",30093,"","",93,"","",null,null,1000]
["Bosch Solar Energy AG","BSM c- Si M 60 EU30123_V2_240 Wp",0.14603870025556773,240,37.4,30,8.6,8.1,2.58,-134.63999999999999,-107.99999999999999,null,94,"",{"$f":"IF($A95=\"\",\"\",COUNTIF($A$2:$A95,$A95))","v":33},{"$f":"IF($A95=\"\",\"\",$O95+thousand*VLOOKUP($A95,$A$1:Q95,17,FALSE))","v":6033},{"$f":"IF(O95=1,MAX(Q$1:Q94)+1,\"\")","v":""},"Bosch Solar Energy AG","BSM c- Si M 60 EU30123_V2_240 Wp",94,null,30094,"","",30094,"","",30094,"","",30094,"","",94,"","",null,null,1000]
["Bosch Solar Energy AG","BSM c- Si M 60 NA30117_V2_240 Wp",0.14603870025556773,240,37.4,30,8.6,8.1,2.58,-134.63999999999999,-107.99999999999999,null,95,"",{"$f":"IF($A96=\"\",\"\",COUNTIF($A$2:$A96,$A96))","v":34},{"$f":"IF($A96=\"\",\"\",$O96+thousand*VLOOKUP($A96,$A$1:Q96,17,FALSE))","v":6034},{"$f":"IF(O96=1,MAX(Q$1:Q95)+1,\"\")","v":""},"Bosch Solar Energy AG","BSM c- Si M 60 NA30117_V2_240 Wp",95,null,30095,"","",30095,"","",30095,"","",30095,"","",95,"","",null,null,600]
["Bosch Solar Energy AG","BSM c- Si M 60 IN30125_V1_245 Wp",0.1490811731775587,245,37.700000000000003,30.1,8.6999999999999993,8.1999999999999993,2.6099999999999994,-135.72,-108.36,null,96,"",{"$f":"IF($A97=\"\",\"\",COUNTIF($A$2:$A97,$A97))","v":35},{"$f":"IF($A97=\"\",\"\",$O97+thousand*VLOOKUP($A97,$A$1:Q97,17,FALSE))","v":6035},{"$f":"IF(O97=1,MAX(Q$1:Q96)+1,\"\")","v":""},"Bosch Solar Energy AG","BSM c- Si M 60 IN30125_V1_245 Wp",96,null,30096,"","",30096,"","",30096,"","",30096,"","",96,"","",null,null,1000]
["Bosch Solar Energy AG","BSM c- Si M S 60 NA42117_V1_245 Wp",0.1490811731775587,245,37.799999999999997,30.1,8.7200000000000006,8.14,2.6160000000000001,-124.74000000000001,-99.330000000000013,null,97,"",{"$f":"IF($A98=\"\",\"\",COUNTIF($A$2:$A98,$A98))","v":36},{"$f":"IF($A98=\"\",\"\",$O98+thousand*VLOOKUP($A98,$A$1:Q98,17,FALSE))","v":6036},{"$f":"IF(O98=1,MAX(Q$1:Q97)+1,\"\")","v":""},"Bosch Solar Energy AG","BSM c- Si M S 60 NA42117_V1_245 Wp",97,null,30097,{"$f":"IF(COUNTIF($P$2:$P$7985,V98)>0,VLOOKUP(V98,$P$2:$S$7985,4,FALSE),\"\")","v":""},{"$f":"IF(W98=\"\",\"\",VLOOKUP(V98,$P$2:$T$7985,5,FALSE))","v":""},30097,{"$f":"IF(COUNTIF($P$2:$P$7985,Y98)>0,VLOOKUP(Y98,$P$2:$S$7985,4,FALSE),\"\")","v":""},{"$f":"IF(Z98=\"\",\"\",VLOOKUP(Y98,$P$2:$T$7985,5,FALSE))","v":""},30097,{"$f":"IF(COUNTIF($P$2:$P$7985,AB98)>0,VLOOKUP(AB98,$P$2:$S$7985,4,FALSE),\"\")","v":""},{"$f":"IF(AC98=\"\",\"\",VLOOKUP(AB98,$P$2:$T$7985,5,FALSE))","v":""},30097,"","",97,"",{"$f":"IF(AI98=\"\",\"\",VLOOKUP(AH98,$P$2:$T$7985,5,FALSE))","v":""},null,null,600]
["Bosch Solar Energy AG","BSM c- Si M 60 NA42117_V1_245 Wp",0.1490811731775587,245,37.799999999999997,30.1,8.7200000000000006,8.14,2.6160000000000001,-124.74000000000001,-99.330000000000013,null,98,"",{"$f":"IF($A99=\"\",\"\",COUNTIF($A$2:$A99,$A99))","v":37},{"$f":"IF($A99=\"\",\"\",$O99+thousand*VLOOKUP($A99,$A$1:Q99,17,FALSE))","v":6037},{"$f":"IF(O99=1,MAX(Q$1:Q98)+1,\"\")","v":""},"Bosch Solar Energy AG","BSM c- Si M 60 NA42117_V1_245 Wp",98,null,30098,"","",30098,"","",30098,"","",30098,"","",98,{"$f":"IF(COUNTIF($P$2:$P$7985,AH99)>0,VLOOKUP(AH99,$P$2:$S$7985,4,FALSE),\"\")","v":""},"",null,null,1000]
["Bosch Solar Energy AG","BSM c- Si M 60 S EU42123_V1_245 Wp",0.1490811731775587,245,37.799999999999997,30.11,8.7200000000000006,8.14,2.6160000000000001,-124.74000000000001,-99.363000000000014,null,99,"",{"$f":"IF($A100=\"\",\"\",COUNTIF($A$2:$A100,$A100))","v":38},{"$f":"IF($A100=\"\",\"\",$O100+thousand*VLOOKUP($A100,$A$1:Q100,17,FALSE))","v":6038},{"$f":"IF(O100=1,MAX(Q$1:Q99)+1,\"\")","v":""},"Bosch Solar Energy AG","BSM c- Si M 60 S EU42123_V1_245 Wp",99,null,30099,"","",30099,"","",30099,"","",30099,"","",99,"","",null,null,1000]
["Bosch Solar Energy AG","BSM c- Si M 60 S EU42117_V1_245 Wp",0.1490811731775587,245,37.799999999999997,30.11,8.7200000000000006,8.14,2.6160000000000001,-124.74000000000001,-99.363000000000014,null,100,"",{"$f":"IF($A101=\"\",\"\",COUNTIF($A$2:$A101,$A101))","v":39},{"$f":"IF($A101=\"\",\"\",$O101+thousand*VLOOKUP($A101,$A$1:Q101,17,FALSE))","v":6039},{"$f":"IF(O101=1,MAX(Q$1:Q100)+1,\"\")","v":""},"Bosch Solar Energy AG","BSM c- Si M 60 S EU42117_V1_245 Wp",100,null,30100,"","",30100,"","",30100,"","",30100,"","",100,"","",null,null,600]
["Bosch Solar Energy AG","BSM c- Si M 60 EU42123_V1_245 Wp",0.1490811731775587,245,37.799999999999997,30.11,8.7200000000000006,8.14,2.6160000000000001,-124.74000000000001,-99.363000000000014,null,101,"",{"$f":"IF($A102=\"\",\"\",COUNTIF($A$2:$A102,$A102))","v":40},{"$f":"IF($A102=\"\",\"\",$O102+thousand*VLOOKUP($A102,$A$1:Q102,17,FALSE))","v":6040},{"$f":"IF(O102=1,MAX(Q$1:Q101)+1,\"\")","v":""},"Bosch Solar Energy AG","BSM c- Si M 60 EU42123_V1_245 Wp",101,null,30101,"","",30101,"","",30101,"","",30101,"","",101,"","",null,null,1000]
["Bosch Solar Energy AG","BSM c- Si M 60 EU30123_V2_245 Wp",0.1490811731775587,245,37.700000000000003,30.1,8.6999999999999993,8.1999999999999993,2.6099999999999994,-135.72,-108.36,null,102,"",{"$f":"IF($A103=\"\",\"\",COUNTIF($A$2:$A103,$A103))","v":41},{"$f":"IF($A103=\"\",\"\",$O103+thousand*VLOOKUP($A103,$A$1:Q103,17,FALSE))","v":6041},{"$f":"IF(O103=1,MAX(Q$1:Q102)+1,\"\")","v":""},"Bosch Solar Energy AG","BSM c- Si M 60 EU30123_V2_245 Wp",102,null,30102,"","",30102,"","",30102,"","",30102,"","",102,"","",null,null,600]
["Bosch Solar Energy AG","BSM c- Si M 60 NA30117_V2_245 Wp",0.1490811731775587,245,37.700000000000003,30.1,8.6999999999999993,8.1999999999999993,2.6099999999999994,-135.72,-108.36,null,103,"",{"$f":"IF($A104=\"\",\"\",COUNTIF($A$2:$A104,$A104))","v":42},{"$f":"IF($A104=\"\",\"\",$O104+thousand*VLOOKUP($A104,$A$1:Q104,17,FALSE))","v":6042},{"$f":"IF(O104=1,MAX(Q$1:Q103)+1,\"\")","v":""},"Bosch Solar Energy AG","BSM c- Si M 60 NA30117_V2_245 Wp",103,null,30103,"","",30103,"","",30103,"","",30103,"","",103,"","",null,null,1000]
["Bosch Solar Energy AG","BSM c- Si M 60 EU42117_V1_245 Wp",0.1490811731775587,245,37.799999999999997,30.1,8.7200000000000006,8.14,2.6160000000000001,-124.74000000000001,-99.330000000000013,null,104,"",{"$f":"IF($A105=\"\",\"\",COUNTIF($A$2:$A105,$A105))","v":43},{"$f":"IF($A105=\"\",\"\",$O105+thousand*VLOOKUP($A105,$A$1:Q105,17,FALSE))","v":6043},{"$f":"IF(O105=1,MAX(Q$1:Q104)+1,\"\")","v":""},"Bosch Solar Energy AG","BSM c- Si M 60 EU42117_V1_245 Wp",104,null,30104,"","",30104,"","",30104,"","",30104,"","",104,"","",null,null,600]
["Bosch Solar Energy AG","BSM c- Si M S 60 NA42117_V1_250 Wp",0.15212364609954973,250,37.9,30.3,8.82,8.25,2.6459999999999999,-128.86000000000001,-103.02000000000002,null,105,"",{"$f":"IF($A106=\"\",\"\",COUNTIF($A$2:$A106,$A106))","v":44},{"$f":"IF($A106=\"\",\"\",$O106+thousand*VLOOKUP($A106,$A$1:Q106,17,FALSE))","v":6044},{"$f":"IF(O106=1,MAX(Q$1:Q105)+1,\"\")","v":""},"Bosch Solar Energy AG","BSM c- Si M S 60 NA42117_V1_250 Wp",105,null,30105,"","",30105,"","",30105,"","",30105,"","",105,"","",null,null,600]
["Bosch Solar Energy AG","BSM c- Si M 60 NA42117_V1_250 Wp",0.15212364609954973,250,37.9,30.3,8.82,8.25,2.6459999999999999,-128.86000000000001,-103.02000000000002,null,106,"",{"$f":"IF($A107=\"\",\"\",COUNTIF($A$2:$A107,$A107))","v":45},{"$f":"IF($A107=\"\",\"\",$O107+thousand*VLOOKUP($A107,$A$1:Q107,17,FALSE))","v":6045},{"$f":"IF(O107=1,MAX(Q$1:Q106)+1,\"\")","v":""},"Bosch Solar Energy AG","BSM c- Si M 60 NA42117_V1_250 Wp",106,null,30106,"","",30106,"","",30106,"","",30106,"","",106,"","",null,null,1000]
["Bosch Solar Energy AG","BSM c- Si M 60 S EU42123_V1_250 Wp",0.15212364609954973,250,37.9,30.31,8.82,8.25,2.6459999999999999,-128.86000000000001,-103.054,null,107,"",{"$f":"IF($A108=\"\",\"\",COUNTIF($A$2:$A108,$A108))","v":46},{"$f":"IF($A108=\"\",\"\",$O108+thousand*VLOOKUP($A108,$A$1:Q108,17,FALSE))","v":6046},{"$f":"IF(O108=1,MAX(Q$1:Q107)+1,\"\")","v":""},"Bosch Solar Energy AG","BSM c- Si M 60 S EU42123_V1_250 Wp",107,null,30107,"","",30107,"","",30107,"","",30107,"","",107,"","",null,null,1000]
["Bosch Solar Energy AG","BSM c- Si M 60 S EU42117_V1_250 Wp",0.15212364609954973,250,37.9,30.31,8.82,8.25,2.6459999999999999,-128.86000000000001,-103.054,null,108,"",{"$f":"IF($A109=\"\",\"\",COUNTIF($A$2:$A109,$A109))","v":47},{"$f":"IF($A109=\"\",\"\",$O109+thousand*VLOOKUP($A109,$A$1:Q109,17,FALSE))","v":6047},{"$f":"IF(O109=1,MAX(Q$1:Q108)+1,\"\")","v":""},"Bosch Solar Energy AG","BSM c- Si M 60 S EU42117_V1_250 Wp",108,null,30108,"","",30108,"","",30108,"","",30108,"","",108,"","",null,null,1000]
["Bosch Solar Energy AG","BSM c- Si M 60 EU42123_V1_250 Wp",0.15212364609954973,250,37.9,30.31,8.82,8.25,2.6459999999999999,-128.86000000000001,-103.054,null,109,"",{"$f":"IF($A110=\"\",\"\",COUNTIF($A$2:$A110,$A110))","v":48},{"$f":"IF($A110=\"\",\"\",$O110+thousand*VLOOKUP($A110,$A$1:Q110,17,FALSE))","v":6048},{"$f":"IF(O110=1,MAX(Q$1:Q109)+1,\"\")","v":""},"Bosch Solar Energy AG","BSM c- Si M 60 EU42123_V1_250 Wp",109,null,30109,"","",30109,"","",30109,"","",30109,"","",109,"","",null,null,1000]
["Bosch Solar Energy AG","BSM c- Si M 60 EU30123_V2_250 Wp",0.15212364609954973,250,37.9,30.3,8.82,8.25,2.6459999999999999,-136.43999999999997,-109.07999999999998,null,110,"",{"$f":"IF($A111=\"\",\"\",COUNTIF($A$2:$A111,$A111))","v":49},{"$f":"IF($A111=\"\",\"\",$O111+thousand*VLOOKUP($A111,$A$1:Q111,17,FALSE))","v":6049},{"$f":"IF(O111=1,MAX(Q$1:Q110)+1,\"\")","v":""},"Bosch Solar Energy AG","BSM c- Si M 60 EU30123_V2_250 Wp",110,null,30110,"","",30110,"","",30110,"","",30110,"","",110,"","",null,null,600]
["Bosch Solar Energy AG","BSM c- Si M 60 EU30117_V2_250 Wp",0.15212364609954973,250,37.9,30.3,8.82,8.25,2.6459999999999999,-136.43999999999997,-109.07999999999998,null,111,"",{"$f":"IF($A112=\"\",\"\",COUNTIF($A$2:$A112,$A112))","v":50},{"$f":"IF($A112=\"\",\"\",$O112+thousand*VLOOKUP($A112,$A$1:Q112,17,FALSE))","v":6050},{"$f":"IF(O112=1,MAX(Q$1:Q111)+1,\"\")","v":""},"Bosch Solar Energy AG","BSM c- Si M 60 EU30117_V2_250 Wp",111,null,30111,"","",30111,"","",30111,"","",30111,"","",111,"","",null,null,1000]
["Bosch Solar Energy AG","BSM c- Si m 60 EU42117_V1_250 Wp",0.15212364609954973,250,37.9,30.3,8.82,8.25,2.6459999999999999,-128.86000000000001,-103.02000000000002,null,112,"",{"$f":"IF($A113=\"\",\"\",COUNTIF($A$2:$A113,$A113))","v":51},{"$f":"IF($A113=\"\",\"\",$O113+thousand*VLOOKUP($A113,$A$1:Q113,17,FALSE))","v":6051},{"$f":"IF(O113=1,MAX(Q$1:Q112)+1,\"\")","v":""},"Bosch Solar Energy AG","BSM c- Si m 60 EU42117_V1_250 Wp",112,null,30112,"","",30112,"","",30112,"","",30112,"","",112,"","",null,null,600]
["Bosch Solar Energy AG","BSM c- Si M S 60 NA42117_V1_255 Wp",0.1551661190215407,255,38,30.5,8.92,8.36,2.6760000000000002,-129.20000000000002,-103.70000000000002,null,113,"",{"$f":"IF($A114=\"\",\"\",COUNTIF($A$2:$A114,$A114))","v":52},{"$f":"IF($A114=\"\",\"\",$O114+thousand*VLOOKUP($A114,$A$1:Q114,17,FALSE))","v":6052},{"$f":"IF(O114=1,MAX(Q$1:Q113)+1,\"\")","v":""},"Bosch Solar Energy AG","BSM c- Si M S 60 NA42117_V1_255 Wp",113,null,30113,"","",30113,"","",30113,"","",30113,"","",113,"","",null,null,600]
["Bosch Solar Energy AG","BSM c- Si M 60 NA42117_V1_255 Wp",0.1551661190215407,255,38,30.5,8.92,8.36,2.6760000000000002,-129.20000000000002,-103.70000000000002,null,114,"",{"$f":"IF($A115=\"\",\"\",COUNTIF($A$2:$A115,$A115))","v":53},{"$f":"IF($A115=\"\",\"\",$O115+thousand*VLOOKUP($A115,$A$1:Q115,17,FALSE))","v":6053},{"$f":"IF(O115=1,MAX(Q$1:Q114)+1,\"\")","v":""},"Bosch Solar Energy AG","BSM c- Si M 60 NA42117_V1_255 Wp",114,null,30114,"","",30114,"","",30114,"","",30114,"","",114,"","",null,null,1000]
["Bosch Solar Energy AG","BSM c- Si M 60 S EU441xx_V1_255 Wp",0.1551661190215407,255,37.76,30.47,8.92,8.3800000000000008,2.6760000000000002,-128.38399999999999,-103.598,null,115,"",{"$f":"IF($A116=\"\",\"\",COUNTIF($A$2:$A116,$A116))","v":54},{"$f":"IF($A116=\"\",\"\",$O116+thousand*VLOOKUP($A116,$A$1:Q116,17,FALSE))","v":6054},{"$f":"IF(O116=1,MAX(Q$1:Q115)+1,\"\")","v":""},"Bosch Solar Energy AG","BSM c- Si M 60 S EU441xx_V1_255 Wp",115,null,30115,"","",30115,"","",30115,"","",30115,"","",115,"","",null,null,1000]
["Bosch Solar Energy AG","BSM c- Si M 60 S EU42123_V1_255 Wp",0.1551661190215407,255,38,30.51,8.92,8.36,2.6760000000000002,-129.20000000000002,-103.73400000000002,null,116,"",{"$f":"IF($A117=\"\",\"\",COUNTIF($A$2:$A117,$A117))","v":55},{"$f":"IF($A117=\"\",\"\",$O117+thousand*VLOOKUP($A117,$A$1:Q117,17,FALSE))","v":6055},{"$f":"IF(O117=1,MAX(Q$1:Q116)+1,\"\")","v":""},"Bosch Solar Energy AG","BSM c- Si M 60 S EU42123_V1_255 Wp",116,null,30116,"","",30116,"","",30116,"","",30116,"","",116,"","",null,null,1000]
["Bosch Solar Energy AG","BSM c- Si M 60 S EU42117_V1_255 Wp",0.1551661190215407,255,38,30.51,8.92,8.36,2.6760000000000002,-129.20000000000002,-103.73400000000002,null,117,"",{"$f":"IF($A118=\"\",\"\",COUNTIF($A$2:$A118,$A118))","v":56},{"$f":"IF($A118=\"\",\"\",$O118+thousand*VLOOKUP($A118,$A$1:Q118,17,FALSE))","v":6056},{"$f":"IF(O118=1,MAX(Q$1:Q117)+1,\"\")","v":""},"Bosch Solar Energy AG","BSM c- Si M 60 S EU42117_V1_255 Wp",117,null,30117,"","",30117,"","",30117,"","",30117,"","",117,"","",null,null,1000]
["Bosch Solar Energy AG","BSM c- Si M 60 EU42123_V1_255 Wp",0.1551661190215407,255,38,30.51,8.92,8.36,2.6760000000000002,-129.20000000000002,-103.73400000000002,null,118,"",{"$f":"IF($A119=\"\",\"\",COUNTIF($A$2:$A119,$A119))","v":57},{"$f":"IF($A119=\"\",\"\",$O119+thousand*VLOOKUP($A119,$A$1:Q119,17,FALSE))","v":6057},{"$f":"IF(O119=1,MAX(Q$1:Q118)+1,\"\")","v":""},"Bosch Solar Energy AG","BSM c- Si M 60 EU42123_V1_255 Wp",118,null,30118,"","",30118,"","",30118,"","",30118,"","",118,"","",null,null,1000]
["Bosch Solar Energy AG","BSM c- Si M 60 EU441xx_V1_255 Wp",0.1551661190215407,255,37.299999999999997,29.9,9.1199999999999992,8.52,2.7359999999999998,-126.82000000000002,-101.66000000000001,null,119,"",{"$f":"IF($A120=\"\",\"\",COUNTIF($A$2:$A120,$A120))","v":58},{"$f":"IF($A120=\"\",\"\",$O120+thousand*VLOOKUP($A120,$A$1:Q120,17,FALSE))","v":6058},{"$f":"IF(O120=1,MAX(Q$1:Q119)+1,\"\")","v":""},"Bosch Solar Energy AG","BSM c- Si M 60 EU441xx_V1_255 Wp",119,null,30119,"","",30119,"","",30119,"","",30119,"","",119,"","",null,null,1000]
["Bosch Solar Energy AG","BSM c- Si M 60 EU42117_V1_255 Wp",0.1551661190215407,255,38,30.5,8.92,8.36,2.6760000000000002,-129.20000000000002,-103.70000000000002,null,120,"",{"$f":"IF($A121=\"\",\"\",COUNTIF($A$2:$A121,$A121))","v":59},{"$f":"IF($A121=\"\",\"\",$O121+thousand*VLOOKUP($A121,$A$1:Q121,17,FALSE))","v":6059},{"$f":"IF(O121=1,MAX(Q$1:Q120)+1,\"\")","v":""},"Bosch Solar Energy AG","BSM c- Si M 60 EU42117_V1_255 Wp",120,null,30120,"","",30120,"","",30120,"","",30120,"","",120,"","",null,null,600]
["Bosch Solar Energy AG","BSM c- Si M S 60 NA42117_V1_260 Wp",0.15820859194353171,260,38.1,30.7,9.02,8.4700000000000006,2.7059999999999995,-129.54000000000002,-104.38000000000001,null,121,"",{"$f":"IF($A122=\"\",\"\",COUNTIF($A$2:$A122,$A122))","v":60},{"$f":"IF($A122=\"\",\"\",$O122+thousand*VLOOKUP($A122,$A$1:Q122,17,FALSE))","v":6060},{"$f":"IF(O122=1,MAX(Q$1:Q121)+1,\"\")","v":""},"Bosch Solar Energy AG","BSM c- Si M S 60 NA42117_V1_260 Wp",121,null,30121,"","",30121,"","",30121,"","",30121,"","",121,"","",null,null,600]
["Bosch Solar Energy AG","BSM c- Si M 60 NA42117_V1_260 Wp",0.15820859194353171,260,38.1,30.7,9.02,8.4700000000000006,2.7059999999999995,-129.54000000000002,-104.38000000000001,null,122,"",{"$f":"IF($A123=\"\",\"\",COUNTIF($A$2:$A123,$A123))","v":61},{"$f":"IF($A123=\"\",\"\",$O123+thousand*VLOOKUP($A123,$A$1:Q123,17,FALSE))","v":6061},{"$f":"IF(O123=1,MAX(Q$1:Q122)+1,\"\")","v":""},"Bosch Solar Energy AG","BSM c- Si M 60 NA42117_V1_260 Wp",122,null,30122,"","",30122,"","",30122,"","",30122,"","",122,"","",null,null,1000]
["Bosch Solar Energy AG","BSM c- Si M 60 S EU441xx_V1_260 Wp",0.15820859194353171,260,37.97,30.68,9.0399999999999991,8.48,2.7119999999999993,-129.09800000000001,-104.31200000000001,null,123,"",{"$f":"IF($A124=\"\",\"\",COUNTIF($A$2:$A124,$A124))","v":62},{"$f":"IF($A124=\"\",\"\",$O124+thousand*VLOOKUP($A124,$A$1:Q124,17,FALSE))","v":6062},{"$f":"IF(O124=1,MAX(Q$1:Q123)+1,\"\")","v":""},"Bosch Solar Energy AG","BSM c- Si M 60 S EU441xx_V1_260 Wp",123,null,30123,"","",30123,"","",30123,"","",30123,"","",123,"","",null,null,1000]
["Bosch Solar Energy AG","BSM c- Si M 60 S EU42123_V1_260 Wp",0.15820859194353171,260,38.1,30.71,9.02,8.4700000000000006,2.7059999999999995,-129.54000000000002,-104.41400000000002,null,124,"",{"$f":"IF($A125=\"\",\"\",COUNTIF($A$2:$A125,$A125))","v":63},{"$f":"IF($A125=\"\",\"\",$O125+thousand*VLOOKUP($A125,$A$1:Q125,17,FALSE))","v":6063},{"$f":"IF(O125=1,MAX(Q$1:Q124)+1,\"\")","v":""},"Bosch Solar Energy AG","BSM c- Si M 60 S EU42123_V1_260 Wp",124,null,30124,"","",30124,"","",30124,"","",30124,"","",124,"","",null,null,1000]
["Bosch Solar Energy AG","BSM c- Si M 60 S EU42117_V1_260 Wp",0.15820859194353171,260,38.1,30.71,9.02,8.4700000000000006,2.7059999999999995,-129.54000000000002,-104.41400000000002,null,125,"",{"$f":"IF($A126=\"\",\"\",COUNTIF($A$2:$A126,$A126))","v":64},{"$f":"IF($A126=\"\",\"\",$O126+thousand*VLOOKUP($A126,$A$1:Q126,17,FALSE))","v":6064},{"$f":"IF(O126=1,MAX(Q$1:Q125)+1,\"\")","v":""},"Bosch Solar Energy AG","BSM c- Si M 60 S EU42117_V1_260 Wp",125,null,30125,"","",30125,"","",30125,"","",30125,"","",125,"","",null,null,1000]
["Bosch Solar Energy AG","BSM c- Si M 60 EU42123_V1_260 Wp",0.15820859194353171,260,38.1,30.71,9.02,8.4700000000000006,2.7059999999999995,-129.54000000000002,-104.41400000000002,null,126,"",{"$f":"IF($A127=\"\",\"\",COUNTIF($A$2:$A127,$A127))","v":65},{"$f":"IF($A127=\"\",\"\",$O127+thousand*VLOOKUP($A127,$A$1:Q127,17,FALSE))","v":6065},{"$f":"IF(O127=1,MAX(Q$1:Q126)+1,\"\")","v":""},"Bosch Solar Energy AG","BSM c- Si M 60 EU42123_V1_260 Wp",126,null,30126,"","",30126,"","",30126,"","",30126,"","",126,"","",null,null,1000]
["Bosch Solar Energy AG","BSM c- Si M 60 EU441xx_V1_260 Wp",0.15820859194353171,260,37.6,30.3,9.19,8.6,2.7570000000000001,-127.84,-103.02,null,127,"",{"$f":"IF($A128=\"\",\"\",COUNTIF($A$2:$A128,$A128))","v":66},{"$f":"IF($A128=\"\",\"\",$O128+thousand*VLOOKUP($A128,$A$1:Q128,17,FALSE))","v":6066},{"$f":"IF(O128=1,MAX(Q$1:Q127)+1,\"\")","v":""},"Bosch Solar Energy AG","BSM c- Si M 60 EU441xx_V1_260 Wp",127,null,30127,"","",30127,"","",30127,"","",30127,"","",127,"","",null,null,1000]
["Bosch Solar Energy AG","BSM c- Si M 60 EU42117_V1_260 Wp",0.15820859194353171,260,38.1,30.7,9.02,8.4700000000000006,2.7059999999999995,-129.54000000000002,-104.38000000000001,null,128,"",{"$f":"IF($A129=\"\",\"\",COUNTIF($A$2:$A129,$A129))","v":67},{"$f":"IF($A129=\"\",\"\",$O129+thousand*VLOOKUP($A129,$A$1:Q129,17,FALSE))","v":6067},{"$f":"IF(O129=1,MAX(Q$1:Q128)+1,\"\")","v":""},"Bosch Solar Energy AG","BSM c- Si M 60 EU42117_V1_260 Wp",128,null,30128,"","",30128,"","",30128,"","",30128,"","",128,"","",null,null,600]
["Bosch Solar Energy AG","BSM c- Si M 60 S EU441xx_V1_265 Wp",0.16125106486552268,265,38.18,30.9,9.15,8.58,2.7450000000000001,-133.63,-108.14999999999999,null,129,{"$f":"IF(M130>MAX(Q$2:Q$7985),\"\",VLOOKUP(M130,Q$2:R$7985,2,FALSE))","v":""},{"$f":"IF($A130=\"\",\"\",COUNTIF($A$2:$A130,$A130))","v":68},{"$f":"IF($A130=\"\",\"\",$O130+thousand*VLOOKUP($A130,$A$1:Q130,17,FALSE))","v":6068},{"$f":"IF(O130=1,MAX(Q$1:Q129)+1,\"\")","v":""},"Bosch Solar Energy AG","BSM c- Si M 60 S EU441xx_V1_265 Wp",129,null,{"$f":"V$1*thousand+$M130","v":30129},{"$f":"IF(COUNTIF($P$2:$P$7985,V130)>0,VLOOKUP(V130,$P$2:$S$7985,4,FALSE),\"\")","v":""},{"$f":"IF(W130=\"\",\"\",VLOOKUP(V130,$P$2:$T$7985,5,FALSE))","v":""},{"$f":"Y$1*thousand+$M130","v":30129},{"$f":"IF(COUNTIF($P$2:$P$7985,Y130)>0,VLOOKUP(Y130,$P$2:$S$7985,4,FALSE),\"\")","v":""},{"$f":"IF(Z130=\"\",\"\",VLOOKUP(Y130,$P$2:$T$7985,5,FALSE))","v":""},{"$f":"AB$1*thousand+$M130","v":30129},{"$f":"IF(COUNTIF($P$2:$P$7985,AB130)>0,VLOOKUP(AB130,$P$2:$S$7985,4,FALSE),\"\")","v":""},{"$f":"IF(AC130=\"\",\"\",VLOOKUP(AB130,$P$2:$T$7985,5,FALSE))","v":""},{"$f":"AE$1*thousand+$M130","v":30129},{"$f":"IF(COUNTIF($P$2:$P$7985,AE130)>0,VLOOKUP(AE130,$P$2:$S$7985,4,FALSE),\"\")","v":""},{"$f":"IF(AF130=\"\",\"\",VLOOKUP(AE130,$P$2:$T$7985,5,FALSE))","v":""},{"$f":"AH$1*thousand+$M130","v":129},"",{"$f":"IF(AI130=\"\",\"\",VLOOKUP(AH130,$P$2:$T$7985,5,FALSE))","v":""},null,null,600]
["Bosch Solar Energy AG","BSM c- Si M 60 EU441xx_V1_265 Wp",0.16125106486552268,265,37.9,30.5,9.26,8.68,2.778,-128.86000000000001,{"$f":"F131/E131*J131","v":-103.70000000000002},null,130,"",{"$f":"IF($A131=\"\",\"\",COUNTIF($A$2:$A131,$A131))","v":69},{"$f":"IF($A131=\"\",\"\",$O131+thousand*VLOOKUP($A131,$A$1:Q131,17,FALSE))","v":6069},{"$f":"IF(O131=1,MAX(Q$1:Q130)+1,\"\")","v":""},{"$f":"IF(A131=\"\",\"\",A131)","v":"Bosch Solar Energy AG"},{"$f":"IF(B131=\"\",\"\",B131)","v":"BSM c- Si M 60 EU441xx_V1_265 Wp"},{"$f":"$M131","v":130},null,30130,"","",30130,"","",30130,"","",30130,"","",130,{"$f":"IF(COUNTIF($P$2:$P$7985,AH131)>0,VLOOKUP(AH131,$P$2:$S$7985,4,FALSE),\"\")","v":""},"",null,null,1000]
["Bosch Solar Energy AG","BSM c- Si M 60 S EU441xx_V1_270 Wp",0.16429353778751368,270,38.380000000000003,31.12,9.27,8.68,2.7809999999999997,-134.33000000000001,-108.92,null,131,"",{"$f":"IF($A132=\"\",\"\",COUNTIF($A$2:$A132,$A132))","v":70},{"$f":"IF($A132=\"\",\"\",$O132+thousand*VLOOKUP($A132,$A$1:Q132,17,FALSE))","v":6070},{"$f":"IF(O132=1,MAX(Q$1:Q131)+1,\"\")","v":""},"Bosch Solar Energy AG","BSM c- Si M 60 S EU441xx_V1_270 Wp",131,null,30131,"","",30131,"","",30131,"","",30131,"","",131,"","",null,null,1000]
["Bosch Solar Energy AG","BSM c- Si M 60 EU441xx_V1_270 Wp",0.16429353778751368,270,38.200000000000003,30.9,9.33,8.76,2.7989999999999999,-133.70000000000002,-108.15,null,132,"",{"$f":"IF($A133=\"\",\"\",COUNTIF($A$2:$A133,$A133))","v":71},{"$f":"IF($A133=\"\",\"\",$O133+thousand*VLOOKUP($A133,$A$1:Q133,17,FALSE))","v":6071},{"$f":"IF(O133=1,MAX(Q$1:Q132)+1,\"\")","v":""},"Bosch Solar Energy AG","BSM c- Si M 60 EU441xx_V1_270 Wp",132,null,30132,"","",30132,"","",30132,"","",30132,"","",132,"","",null,null,1000]
["Bosch Solar Energy AG","BSM c- Si M 60plus S EU56117_V1_275 Wp",0.16593654586486128,275,38.61,30.91,9.3800000000000008,8.9,4.6900000000000013,-119.69099999999999,-95.820999999999984,null,133,"",{"$f":"IF($A134=\"\",\"\",COUNTIF($A$2:$A134,$A134))","v":72},{"$f":"IF($A134=\"\",\"\",$O134+thousand*VLOOKUP($A134,$A$1:Q134,17,FALSE))","v":6072},{"$f":"IF(O134=1,MAX(Q$1:Q133)+1,\"\")","v":""},"Bosch Solar Energy AG","BSM c- Si M 60plus S EU56117_V1_275 Wp",133,null,30133,"","",30133,"","",30133,"","",30133,"","",133,"","",null,null,1000]
["Bosch Solar Energy AG","BSM c- Si M 60plus EU56117_V1_280Wp",0.1689535739714951,280,38.520000000000003,30.81,9.59,9.09,4.3155000000000001,-131.35320000000004,-105.06210000000002,null,134,"",{"$f":"IF($A135=\"\",\"\",COUNTIF($A$2:$A135,$A135))","v":73},{"$f":"IF($A135=\"\",\"\",$O135+thousand*VLOOKUP($A135,$A$1:Q135,17,FALSE))","v":6073},{"$f":"IF(O135=1,MAX(Q$1:Q134)+1,\"\")","v":""},"Bosch Solar Energy AG","BSM c- Si M 60plus EU56117_V1_280Wp",134,null,30134,"","",30134,"","",30134,"","",30134,"","",134,"","",null,null,1000]
["Bosch Solar Energy AG","BSM c- Si M 60plus S EU56117_V1_280Wp",0.1689535739714951,280,38.869999999999997,31.16,9.4700000000000006,8.99,4.7350000000000003,-120.497,-96.596000000000004,null,135,"",{"$f":"IF($A136=\"\",\"\",COUNTIF($A$2:$A136,$A136))","v":74},{"$f":"IF($A136=\"\",\"\",$O136+thousand*VLOOKUP($A136,$A$1:Q136,17,FALSE))","v":6074},{"$f":"IF(O136=1,MAX(Q$1:Q135)+1,\"\")","v":""},"Bosch Solar Energy AG","BSM c- Si M 60plus S EU56117_V1_280Wp",135,null,30135,"","",30135,"","",30135,"","",30135,"","",135,"","",null,null,1000]
["Bosch Solar Energy AG","BSM c- Si M 60plus EU56117_V1_285Wp",0.17197060207812898,285,38.78,31.06,9.67,9.18,4.2547999999999995,-133.4032,-106.84639999999999,null,136,"",{"$f":"IF($A137=\"\",\"\",COUNTIF($A$2:$A137,$A137))","v":75},{"$f":"IF($A137=\"\",\"\",$O137+thousand*VLOOKUP($A137,$A$1:Q137,17,FALSE))","v":6075},{"$f":"IF(O137=1,MAX(Q$1:Q136)+1,\"\")","v":""},"Bosch Solar Energy AG","BSM c- Si M 60plus EU56117_V1_285Wp",136,null,30136,"","",30136,"","",30136,"","",30136,"","",136,"","",null,null,1000]
["Bosch Solar Energy AG","BSM c- Si M 60plus S EU56117_V1_285Wp",0.17197060207812898,285,39.130000000000003,31.42,9.56,9.08,4.3020000000000005,-121.303,-97.402000000000001,null,137,"",{"$f":"IF($A138=\"\",\"\",COUNTIF($A$2:$A138,$A138))","v":76},{"$f":"IF($A138=\"\",\"\",$O138+thousand*VLOOKUP($A138,$A$1:Q138,17,FALSE))","v":6076},{"$f":"IF(O138=1,MAX(Q$1:Q137)+1,\"\")","v":""},"Bosch Solar Energy AG","BSM c- Si M 60plus S EU56117_V1_285Wp",137,null,30137,"","",30137,"","",30137,"","",30137,"","",137,"","",null,null,1000]
["Bosch Solar Energy AG","BSM c- Si M 60plus EU56117_V1_290Wp",0.17498763018476282,290,39.03,31.31,9.76,9.27,4.3919999999999995,-135.4341,-108.64570000000001,null,138,"",{"$f":"IF($A139=\"\",\"\",COUNTIF($A$2:$A139,$A139))","v":77},{"$f":"IF($A139=\"\",\"\",$O139+thousand*VLOOKUP($A139,$A$1:Q139,17,FALSE))","v":6077},{"$f":"IF(O139=1,MAX(Q$1:Q138)+1,\"\")","v":""},"Bosch Solar Energy AG","BSM c- Si M 60plus EU56117_V1_290Wp",138,null,30138,"","",30138,"","",30138,"","",30138,"","",138,"","",null,null,1000]
["BYD","BYD 225P6-30",0.13830153422501967,225,36.340000000000003,28.7,8.32,7.84,5.2416000000000009,-126.82660000000001,-100.163,null,139,"",{"$f":"IF($A140=\"\",\"\",COUNTIF($A$2:$A140,$A140))","v":1},{"$f":"IF($A140=\"\",\"\",$O140+thousand*VLOOKUP($A140,$A$1:Q140,17,FALSE))","v":7001},{"$f":"IF(O140=1,MAX(Q$1:Q139)+1,\"\")","v":7},"BYD","BYD 225P6-30",139,null,30139,"","",30139,"","",30139,"","",30139,"","",139,"","",null,null,1000]
["BYD","BYD 290 P6-36",0.14945741803549048,290,44.77,35.65,8.58,8.14,5.2337999999999996,-159.38120000000001,-126.91399999999999,null,140,"",{"$f":"IF($A141=\"\",\"\",COUNTIF($A$2:$A141,$A141))","v":2},{"$f":"IF($A141=\"\",\"\",$O141+thousand*VLOOKUP($A141,$A$1:Q141,17,FALSE))","v":7002},{"$f":"IF(O141=1,MAX(Q$1:Q140)+1,\"\")","v":""},"BYD","BYD 290 P6-36",140,null,30140,"","",30140,"","",30140,"","",30140,"","",140,"","",null,null,1000]
["Canadian Solar Inc.","CS6A - 195PM",0.14998061788938044,195,29.6,24,8.69,8.1300000000000008,5.1271000000000004,-107.44800000000001,-87.12,null,141,"",{"$f":"IF($A142=\"\",\"\",COUNTIF($A$2:$A142,$A142))","v":1},{"$f":"IF($A142=\"\",\"\",$O142+thousand*VLOOKUP($A142,$A$1:Q142,17,FALSE))","v":8001},{"$f":"IF(O142=1,MAX(Q$1:Q141)+1,\"\")","v":8},"Canadian Solar Inc.","CS6A - 195PM",141,null,30141,"","",30141,"","",30141,"","",30141,"","",141,"","",null,null,1000]
["Canadian Solar Inc.","CS6A - 200PM",0.1538262747583389,200,29.8,24.1,8.8699999999999992,8.3000000000000007,5.3219999999999992,-108.17399999999999,-87.48299999999999,null,142,"",{"$f":"IF($A143=\"\",\"\",COUNTIF($A$2:$A143,$A143))","v":2},{"$f":"IF($A143=\"\",\"\",$O143+thousand*VLOOKUP($A143,$A$1:Q143,17,FALSE))","v":8002},{"$f":"IF(O143=1,MAX(Q$1:Q142)+1,\"\")","v":""},"Canadian Solar Inc.","CS6A - 200PM",142,null,30142,"","",30142,"","",30142,"","",30142,"","",142,"","",null,null,1000]
["Canadian Solar Inc.","CS6A - 200MM",0.1538262747583389,200,30,24.3,8.74,8.2200000000000006,5.0692000000000004,-115.5,-93.555000000000007,null,143,"",{"$f":"IF($A144=\"\",\"\",COUNTIF($A$2:$A144,$A144))","v":3},{"$f":"IF($A144=\"\",\"\",$O144+thousand*VLOOKUP($A144,$A$1:Q144,17,FALSE))","v":8003},{"$f":"IF(O144=1,MAX(Q$1:Q143)+1,\"\")","v":""},"Canadian Solar Inc.","CS6A - 200MM",143,null,30143,"","",30143,"","",30143,"","",30143,"","",143,"","",null,null,1000]
["Canadian Solar Inc.","CS5A - 200M",0.15654413174754125,200,45.3,37.4,5.71,5.35,3.3118000000000003,-179.38800000000001,-148.10400000000001,null,144,"",{"$f":"IF($A145=\"\",\"\",COUNTIF($A$2:$A145,$A145))","v":4},{"$f":"IF($A145=\"\",\"\",$O145+thousand*VLOOKUP($A145,$A$1:Q145,17,FALSE))","v":8004},{"$f":"IF(O145=1,MAX(Q$1:Q144)+1,\"\")","v":""},"Canadian Solar Inc.","CS5A - 200M",144,null,30144,"","",30144,"","",30144,"","",30144,"","",144,"","",null,null,1000]
["Canadian Solar Inc.","CS6A - 205PM",0.15767193162729737,205,29.9,24.2,9.0299999999999994,8.4700000000000006,5.4179999999999993,-108.23799999999999,-87.603999999999985,null,145,"",{"$f":"IF($A146=\"\",\"\",COUNTIF($A$2:$A146,$A146))","v":5},{"$f":"IF($A146=\"\",\"\",$O146+thousand*VLOOKUP($A146,$A$1:Q146,17,FALSE))","v":8005},{"$f":"IF(O146=1,MAX(Q$1:Q145)+1,\"\")","v":""},"Canadian Solar Inc.","CS6A - 205PM",145,null,30145,"","",30145,"","",30145,"","",30145,"","",145,"","",null,null,1000]
["Canadian Solar Inc.","CS6A - 205M",0.15735146022155086,205,30.2,24.5,8.9,8.3800000000000008,5.34,-114.75999999999999,-93.1,null,146,"",{"$f":"IF($A147=\"\",\"\",COUNTIF($A$2:$A147,$A147))","v":6},{"$f":"IF($A147=\"\",\"\",$O147+thousand*VLOOKUP($A147,$A$1:Q147,17,FALSE))","v":8006},{"$f":"IF(O147=1,MAX(Q$1:Q146)+1,\"\")","v":""},"Canadian Solar Inc.","CS6A - 205M",146,null,30146,"","",30146,"","",30146,"","",30146,"","",146,"","",null,null,1000]
["Canadian Solar Inc.","CS6A - 205MM",0.15767193162729737,205,30.2,24.5,8.9,8.3800000000000008,5.4290000000000003,-111.43799999999999,-90.405000000000001,null,147,"",{"$f":"IF($A148=\"\",\"\",COUNTIF($A$2:$A148,$A148))","v":7},{"$f":"IF($A148=\"\",\"\",$O148+thousand*VLOOKUP($A148,$A$1:Q148,17,FALSE))","v":8007},{"$f":"IF(O148=1,MAX(Q$1:Q147)+1,\"\")","v":""},"Canadian Solar Inc.","CS6A - 205MM",147,null,30147,"","",30147,"","",30147,"","",30147,"","",147,"","",null,null,1000]
["Canadian Solar Inc.","CS5A - 205M",0.16045773504122982,205,45.4,37.700000000000003,5.81,5.43,3.4859999999999998,-181.60000000000002,-150.80000000000004,null,148,"",{"$f":"IF($A149=\"\",\"\",COUNTIF($A$2:$A149,$A149))","v":8},{"$f":"IF($A149=\"\",\"\",$O149+thousand*VLOOKUP($A149,$A$1:Q149,17,FALSE))","v":8008},{"$f":"IF(O149=1,MAX(Q$1:Q148)+1,\"\")","v":""},"Canadian Solar Inc.","CS5A - 205M",148,null,30148,"","",30148,"","",30148,"","",30148,"","",148,"","",null,null,1000]
["Canadian Solar Inc.","CS6V - 210P",0.15521201961879927,210,31.1,25.1,8.92,8.35,5.798,-115.07,-92.87,null,149,"",{"$f":"IF($A150=\"\",\"\",COUNTIF($A$2:$A150,$A150))","v":9},{"$f":"IF($A150=\"\",\"\",$O150+thousand*VLOOKUP($A150,$A$1:Q150,17,FALSE))","v":8009},{"$f":"IF(O150=1,MAX(Q$1:Q149)+1,\"\")","v":""},"Canadian Solar Inc.","CS6V - 210P",149,null,30149,"","",30149,"","",30149,"","",30149,"","",149,"","",null,null,1000]
["Canadian Solar Inc.","CS6A - 210PM",0.16151758849625586,210,30,24.3,9.19,8.6300000000000008,5.0544999999999991,-109.2,-88.452000000000012,null,150,"",{"$f":"IF($A151=\"\",\"\",COUNTIF($A$2:$A151,$A151))","v":10},{"$f":"IF($A151=\"\",\"\",$O151+thousand*VLOOKUP($A151,$A$1:Q151,17,FALSE))","v":8010},{"$f":"IF(O151=1,MAX(Q$1:Q150)+1,\"\")","v":""},"Canadian Solar Inc.","CS6A - 210PM",150,null,30150,"","",30150,"","",30150,"","",30150,"","",150,"","",null,null,1000]
["Canadian Solar Inc.","CS6A - 210M",0.16118930071475943,210,30.3,24.6,9.06,8.5399999999999991,5.4359999999999999,-115.14,-93.48,null,151,"",{"$f":"IF($A152=\"\",\"\",COUNTIF($A$2:$A152,$A152))","v":11},{"$f":"IF($A152=\"\",\"\",$O152+thousand*VLOOKUP($A152,$A$1:Q152,17,FALSE))","v":8011},{"$f":"IF(O152=1,MAX(Q$1:Q151)+1,\"\")","v":""},"Canadian Solar Inc.","CS6A - 210M",151,null,30151,"","",30151,"","",30151,"","",30151,"","",151,"","",null,null,1000]
["Canadian Solar Inc.","CS5A - 210M",0.16437133833491835,210,45.4,37.700000000000003,5.81,5.57,3.3698000000000001,-179.78399999999999,-149.292,null,152,"",{"$f":"IF($A153=\"\",\"\",COUNTIF($A$2:$A153,$A153))","v":12},{"$f":"IF($A153=\"\",\"\",$O153+thousand*VLOOKUP($A153,$A$1:Q153,17,FALSE))","v":8012},{"$f":"IF(O153=1,MAX(Q$1:Q152)+1,\"\")","v":""},"Canadian Solar Inc.","CS5A - 210M",152,null,30152,"","",30152,"","",30152,"","",30152,"","",152,"","",null,null,1000]
["Canadian Solar Inc.","CS6A - 210MM",0.16118930071475943,210,30.3,24.6,9.06,8.5399999999999991,5.4359999999999999,-112.11,-91.02000000000001,null,153,"",{"$f":"IF($A154=\"\",\"\",COUNTIF($A$2:$A154,$A154))","v":13},{"$f":"IF($A154=\"\",\"\",$O154+thousand*VLOOKUP($A154,$A$1:Q154,17,FALSE))","v":8013},{"$f":"IF(O154=1,MAX(Q$1:Q153)+1,\"\")","v":""},"Canadian Solar Inc.","CS6A - 210MM",153,null,30153,"","",30153,"","",30153,"","",30153,"","",153,"","",null,null,1000]
["Canadian Solar Inc.","CS6V - 215P",0.15890754389543735,215,31.2,25.3,9.07,8.51,5.8955000000000002,-115.44,-93.61,null,154,"",{"$f":"IF($A155=\"\",\"\",COUNTIF($A$2:$A155,$A155))","v":14},{"$f":"IF($A155=\"\",\"\",$O155+thousand*VLOOKUP($A155,$A$1:Q155,17,FALSE))","v":8014},{"$f":"IF(O155=1,MAX(Q$1:Q154)+1,\"\")","v":""},"Canadian Solar Inc.","CS6V - 215P",154,null,30154,"","",30154,"","",30154,"","",30154,"","",154,"","",null,null,1000]
["Canadian Solar Inc.","CS6A - 215PM",0.16536324536521435,215,30.2,24.5,9.35,8.7799999999999994,5.6099999999999994,-111.136,-90.16,null,155,"",{"$f":"IF($A156=\"\",\"\",COUNTIF($A$2:$A156,$A156))","v":15},{"$f":"IF($A156=\"\",\"\",$O156+thousand*VLOOKUP($A156,$A$1:Q156,17,FALSE))","v":8015},{"$f":"IF(O156=1,MAX(Q$1:Q155)+1,\"\")","v":""},"Canadian Solar Inc.","CS6A - 215PM",155,null,30155,"","",30155,"","",30155,"","",30155,"","",155,"","",null,null,1000]
["Canadian Solar Inc.","CS6A - 215MM",0.16502714120796796,215,30.4,24.7,9.2200000000000006,8.6999999999999993,5.532,-112.78399999999999,-91.637,null,156,"",{"$f":"IF($A157=\"\",\"\",COUNTIF($A$2:$A157,$A157))","v":16},{"$f":"IF($A157=\"\",\"\",$O157+thousand*VLOOKUP($A157,$A$1:Q157,17,FALSE))","v":8016},{"$f":"IF(O157=1,MAX(Q$1:Q156)+1,\"\")","v":""},"Canadian Solar Inc.","CS6A - 215MM",156,null,30156,"","",30156,"","",30156,"","",30156,"","",156,"","",null,null,1000]
["Canadian Solar Inc.","CS6V - 220P",0.16260306817207543,220,31.4,25.5,9.2100000000000009,8.64,5.9865000000000013,-116.17999999999999,-94.35,null,157,"",{"$f":"IF($A158=\"\",\"\",COUNTIF($A$2:$A158,$A158))","v":17},{"$f":"IF($A158=\"\",\"\",$O158+thousand*VLOOKUP($A158,$A$1:Q158,17,FALSE))","v":8017},{"$f":"IF(O158=1,MAX(Q$1:Q157)+1,\"\")","v":""},"Canadian Solar Inc.","CS6V - 220P",157,null,30157,"","",30157,"","",30157,"","",30157,"","",157,"","",null,null,1000]
["Canadian Solar Inc.","CS6P - 220PT",0.13677203086571721,220,36.6,29.2,8.09,7.53,5.3393999999999995,-132.126,-105.41200000000001,null,158,"",{"$f":"IF($A159=\"\",\"\",COUNTIF($A$2:$A159,$A159))","v":18},{"$f":"IF($A159=\"\",\"\",$O159+thousand*VLOOKUP($A159,$A$1:Q159,17,FALSE))","v":8018},{"$f":"IF(O159=1,MAX(Q$1:Q158)+1,\"\")","v":""},"Canadian Solar Inc.","CS6P - 220PT",158,null,30158,"","",30158,"","",30158,"","",30158,"","",158,"","",null,null,1000]
["Canadian Solar Inc.","CS6V - 220MM",0.16260306817207543,220,31.6,25.7,9.08,8.56,5.4479999999999995,-120.08000000000001,-97.66,null,159,"",{"$f":"IF($A160=\"\",\"\",COUNTIF($A$2:$A160,$A160))","v":19},{"$f":"IF($A160=\"\",\"\",$O160+thousand*VLOOKUP($A160,$A$1:Q160,17,FALSE))","v":8019},{"$f":"IF(O160=1,MAX(Q$1:Q159)+1,\"\")","v":""},"Canadian Solar Inc.","CS6V - 220MM",159,null,30159,"","",30159,"","",30159,"","",30159,"","",159,"","",null,null,1000]
["Canadian Solar Inc.","CS6A - 220MM",0.16886498170117653,220,30.5,24.8,9.3800000000000008,8.86,6.5660000000000007,-120.47500000000001,-97.960000000000008,null,160,"",{"$f":"IF($A161=\"\",\"\",COUNTIF($A$2:$A161,$A161))","v":20},{"$f":"IF($A161=\"\",\"\",$O161+thousand*VLOOKUP($A161,$A$1:Q161,17,FALSE))","v":8020},{"$f":"IF(O161=1,MAX(Q$1:Q160)+1,\"\")","v":""},"Canadian Solar Inc.","CS6A - 220MM",160,null,30160,"","",30160,"","",30160,"","",30160,"","",160,"","",null,null,1000]
["Canadian Solar Inc.","CS6V - 225P",0.16629859244871353,225,31.6,25.7,9.32,8.75,6.0579999999999998,-116.92,-95.089999999999989,null,161,"",{"$f":"IF($A162=\"\",\"\",COUNTIF($A$2:$A162,$A162))","v":21},{"$f":"IF($A162=\"\",\"\",$O162+thousand*VLOOKUP($A162,$A$1:Q162,17,FALSE))","v":8021},{"$f":"IF(O162=1,MAX(Q$1:Q161)+1,\"\")","v":""},"Canadian Solar Inc.","CS6V - 225P",161,null,30161,{"$f":"IF(COUNTIF($P$2:$P$7985,V162)>0,VLOOKUP(V162,$P$2:$S$7985,4,FALSE),\"\")","v":""},{"$f":"IF(W162=\"\",\"\",VLOOKUP(V162,$P$2:$T$7985,5,FALSE))","v":""},30161,{"$f":"IF(COUNTIF($P$2:$P$7985,Y162)>0,VLOOKUP(Y162,$P$2:$S$7985,4,FALSE),\"\")","v":""},{"$f":"IF(Z162=\"\",\"\",VLOOKUP(Y162,$P$2:$T$7985,5,FALSE))","v":""},30161,{"$f":"IF(COUNTIF($P$2:$P$7985,AB162)>0,VLOOKUP(AB162,$P$2:$S$7985,4,FALSE),\"\")","v":""},{"$f":"IF(AC162=\"\",\"\",VLOOKUP(AB162,$P$2:$T$7985,5,FALSE))","v":""},30161,"","",161,"",{"$f":"IF(AI162=\"\",\"\",VLOOKUP(AH162,$P$2:$T$7985,5,FALSE))","v":""},null,null,1000]
["Canadian Solar Inc.","CS6P - 225PT",0.13988048611266538,225,36.700000000000003,29.4,8.19,7.65,5.3235000000000001,-133.221,-106.72199999999999,null,162,"",{"$f":"IF($A163=\"\",\"\",COUNTIF($A$2:$A163,$A163))","v":22},{"$f":"IF($A163=\"\",\"\",$O163+thousand*VLOOKUP($A163,$A$1:Q163,17,FALSE))","v":8022},{"$f":"IF(O163=1,MAX(Q$1:Q162)+1,\"\")","v":""},"Canadian Solar Inc.","CS6P - 225PT",162,null,30162,"","",30162,"","",30162,"","",30162,"","",162,{"$f":"IF(COUNTIF($P$2:$P$7985,AH163)>0,VLOOKUP(AH163,$P$2:$S$7985,4,FALSE),\"\")","v":""},"",null,null,1000]
["Canadian Solar Inc.","CS6V - 225MM",0.16629859244871353,225,31.8,26,9.19,8.67,5.5140000000000002,-120.84,-98.8,null,163,"",{"$f":"IF($A164=\"\",\"\",COUNTIF($A$2:$A164,$A164))","v":23},{"$f":"IF($A164=\"\",\"\",$O164+thousand*VLOOKUP($A164,$A$1:Q164,17,FALSE))","v":8023},{"$f":"IF(O164=1,MAX(Q$1:Q163)+1,\"\")","v":""},"Canadian Solar Inc.","CS6V - 225MM",163,null,30163,"","",30163,"","",30163,"","",30163,"","",163,"","",null,null,1000]
["Canadian Solar Inc.","CS6V - 230P",0.16999411672535161,230,31.8,25.9,9.42,8.8800000000000008,6.1230000000000011,-117.66,-95.829999999999984,null,164,"",{"$f":"IF($A165=\"\",\"\",COUNTIF($A$2:$A165,$A165))","v":24},{"$f":"IF($A165=\"\",\"\",$O165+thousand*VLOOKUP($A165,$A$1:Q165,17,FALSE))","v":8024},{"$f":"IF(O165=1,MAX(Q$1:Q164)+1,\"\")","v":""},"Canadian Solar Inc.","CS6V - 230P",164,null,30164,"","",30164,"","",30164,"","",30164,"","",164,"","",null,null,1000]
["Canadian Solar Inc.","CS6P - 230PT",0.14298894135961346,230,36.799999999999997,29.6,8.34,7.78,5.4210000000000003,-134.68799999999999,-108.33600000000001,null,165,"",{"$f":"IF($A166=\"\",\"\",COUNTIF($A$2:$A166,$A166))","v":25},{"$f":"IF($A166=\"\",\"\",$O166+thousand*VLOOKUP($A166,$A$1:Q166,17,FALSE))","v":8025},{"$f":"IF(O166=1,MAX(Q$1:Q165)+1,\"\")","v":""},"Canadian Solar Inc.","CS6P - 230PT",165,null,30165,"","",30165,"","",30165,"","",30165,"","",165,"","",null,null,1000]
["Canadian Solar Inc.","CS6V - 230MM",0.16999411672535161,230,31.9,26.1,9.33,8.81,5.5979999999999999,-121.22,-99.18,null,166,"",{"$f":"IF($A167=\"\",\"\",COUNTIF($A$2:$A167,$A167))","v":26},{"$f":"IF($A167=\"\",\"\",$O167+thousand*VLOOKUP($A167,$A$1:Q167,17,FALSE))","v":8026},{"$f":"IF(O167=1,MAX(Q$1:Q166)+1,\"\")","v":""},"Canadian Solar Inc.","CS6V - 230MM",166,null,30166,"","",30166,"","",30166,"","",30166,"","",166,"","",null,null,1000]
["Canadian Solar Inc.","CS6P - 235PT",0.14609739660656157,235,36.9,29.8,8.4600000000000009,7.9,5.4990000000000006,-135.792,-109.66400000000002,null,167,"",{"$f":"IF($A168=\"\",\"\",COUNTIF($A$2:$A168,$A168))","v":27},{"$f":"IF($A168=\"\",\"\",$O168+thousand*VLOOKUP($A168,$A$1:Q168,17,FALSE))","v":8027},{"$f":"IF(O168=1,MAX(Q$1:Q167)+1,\"\")","v":""},"Canadian Solar Inc.","CS6P - 235PT",167,null,30167,"","",30167,"","",30167,"","",30167,"","",167,"","",null,null,1000]
["Canadian Solar Inc.","ELPS CS6P - 235MM",0.14609739660656157,235,37.200000000000003,30.1,8.34,7.82,5.838000000000001,-146.19600000000003,-118.29300000000002,null,168,"",{"$f":"IF($A169=\"\",\"\",COUNTIF($A$2:$A169,$A169))","v":28},{"$f":"IF($A169=\"\",\"\",$O169+thousand*VLOOKUP($A169,$A$1:Q169,17,FALSE))","v":8028},{"$f":"IF(O169=1,MAX(Q$1:Q168)+1,\"\")","v":""},"Canadian Solar Inc.","ELPS CS6P - 235MM",168,null,30168,"","",30168,"","",30168,"","",30168,"","",168,"","",null,null,1000]
["Canadian Solar Inc.","CS6P - 240PT",0.14920585185350971,240,37,29.9,8.59,8.0299999999999994,5.5834999999999999,-137.63999999999999,-111.22799999999998,null,169,"",{"$f":"IF($A170=\"\",\"\",COUNTIF($A$2:$A170,$A170))","v":29},{"$f":"IF($A170=\"\",\"\",$O170+thousand*VLOOKUP($A170,$A$1:Q170,17,FALSE))","v":8029},{"$f":"IF(O170=1,MAX(Q$1:Q169)+1,\"\")","v":""},"Canadian Solar Inc.","CS6P - 240PT",169,null,30169,"","",30169,"","",30169,"","",30169,"","",169,"","",null,null,1000]
["Canadian Solar Inc.","ELPS CS6P - 240PM",0.14920585185350971,240,37,29.9,8.59,8.0299999999999994,5.5834999999999999,-136.9,-110.63,null,170,"",{"$f":"IF($A171=\"\",\"\",COUNTIF($A$2:$A171,$A171))","v":30},{"$f":"IF($A171=\"\",\"\",$O171+thousand*VLOOKUP($A171,$A$1:Q171,17,FALSE))","v":8030},{"$f":"IF(O171=1,MAX(Q$1:Q170)+1,\"\")","v":""},"Canadian Solar Inc.","ELPS CS6P - 240PM",170,null,30170,"","",30170,"","",30170,"","",30170,"","",170,"","",null,null,1000]
["Canadian Solar Inc.","CS6P - 240P",0.14920585185350971,240,37,29.9,8.59,8.0299999999999994,5.5834999999999999,-119.14,-96.277999999999992,null,171,"",{"$f":"IF($A172=\"\",\"\",COUNTIF($A$2:$A172,$A172))","v":31},{"$f":"IF($A172=\"\",\"\",$O172+thousand*VLOOKUP($A172,$A$1:Q172,17,FALSE))","v":8031},{"$f":"IF(O172=1,MAX(Q$1:Q171)+1,\"\")","v":""},"Canadian Solar Inc.","CS6P - 240P",171,null,30171,"","",30171,"","",30171,"","",30171,"","",171,"","",null,null,1000]
["Canadian Solar Inc.","ELPS CS6P - 240MM",0.14920585185350971,240,37.299999999999997,30.2,8.4600000000000009,7.95,5.0760000000000005,-143.97800000000001,-116.57200000000002,null,172,"",{"$f":"IF($A173=\"\",\"\",COUNTIF($A$2:$A173,$A173))","v":32},{"$f":"IF($A173=\"\",\"\",$O173+thousand*VLOOKUP($A173,$A$1:Q173,17,FALSE))","v":8032},{"$f":"IF(O173=1,MAX(Q$1:Q172)+1,\"\")","v":""},"Canadian Solar Inc.","ELPS CS6P - 240MM",172,null,30172,"","",30172,"","",30172,"","",30172,"","",172,"","",null,null,1000]
["Canadian Solar Inc.","CS6P - 245PT",0.15231430710045782,245,37.1,30,8.74,8.17,5.6810000000000009,-137.27000000000001,-111.00000000000001,null,173,"",{"$f":"IF($A174=\"\",\"\",COUNTIF($A$2:$A174,$A174))","v":33},{"$f":"IF($A174=\"\",\"\",$O174+thousand*VLOOKUP($A174,$A$1:Q174,17,FALSE))","v":8033},{"$f":"IF(O174=1,MAX(Q$1:Q173)+1,\"\")","v":""},"Canadian Solar Inc.","CS6P - 245PT",173,null,30173,"","",30173,"","",30173,"","",30173,"","",173,"","",null,null,1000]
["Canadian Solar Inc.","ELPS CS6P - 245PM",0.15231430710045782,245,37.1,30,8.74,8.17,5.6810000000000009,-137.27000000000001,-111.00000000000001,null,174,"",{"$f":"IF($A175=\"\",\"\",COUNTIF($A$2:$A175,$A175))","v":34},{"$f":"IF($A175=\"\",\"\",$O175+thousand*VLOOKUP($A175,$A$1:Q175,17,FALSE))","v":8034},{"$f":"IF(O175=1,MAX(Q$1:Q174)+1,\"\")","v":""},"Canadian Solar Inc.","ELPS CS6P - 245PM",174,null,30174,"","",30174,"","",30174,"","",30174,"","",174,"","",null,null,1000]
["Canadian Solar Inc.","CS6P - 245P",0.15231430710045782,245,37.1,30,8.74,8.17,5.6810000000000009,-119.09100000000001,-96.300000000000011,null,175,"",{"$f":"IF($A176=\"\",\"\",COUNTIF($A$2:$A176,$A176))","v":35},{"$f":"IF($A176=\"\",\"\",$O176+thousand*VLOOKUP($A176,$A$1:Q176,17,FALSE))","v":8035},{"$f":"IF(O176=1,MAX(Q$1:Q175)+1,\"\")","v":""},"Canadian Solar Inc.","CS6P - 245P",175,null,30175,"","",30175,"","",30175,"","",30175,"","",175,"","",null,null,1000]
["Canadian Solar Inc.","ELPS CS6P - 245MM",0.15231430710045782,245,37.4,30.3,8.61,8.09,6.0270000000000001,-147.72999999999999,-119.68499999999999,null,176,"",{"$f":"IF($A177=\"\",\"\",COUNTIF($A$2:$A177,$A177))","v":36},{"$f":"IF($A177=\"\",\"\",$O177+thousand*VLOOKUP($A177,$A$1:Q177,17,FALSE))","v":8036},{"$f":"IF(O177=1,MAX(Q$1:Q176)+1,\"\")","v":""},"Canadian Solar Inc.","ELPS CS6P - 245MM",176,null,30176,"","",30176,"","",30176,"","",30176,"","",176,"","",null,null,1000]
["Canadian Solar Inc.","CS6K - 250P",0.15273704789833822,250,37.200000000000003,30.1,8.8699999999999992,8.3000000000000007,5.7655000000000003,-137.64000000000001,-111.37,null,177,"",{"$f":"IF($A178=\"\",\"\",COUNTIF($A$2:$A178,$A178))","v":37},{"$f":"IF($A178=\"\",\"\",$O178+thousand*VLOOKUP($A178,$A$1:Q178,17,FALSE))","v":8037},{"$f":"IF(O178=1,MAX(Q$1:Q177)+1,\"\")","v":""},"Canadian Solar Inc.","CS6K - 250P",177,null,30177,"","",30177,"","",30177,"","",30177,"","",177,"","",null,null,1000]
["Canadian Solar Inc.","CS6P - 250PT",0.15542276234740593,250,37.200000000000003,30.1,8.8699999999999992,8.3000000000000007,5.3219999999999992,-136.524,-110.467,null,178,"",{"$f":"IF($A179=\"\",\"\",COUNTIF($A$2:$A179,$A179))","v":38},{"$f":"IF($A179=\"\",\"\",$O179+thousand*VLOOKUP($A179,$A$1:Q179,17,FALSE))","v":8038},{"$f":"IF(O179=1,MAX(Q$1:Q178)+1,\"\")","v":""},"Canadian Solar Inc.","CS6P - 250PT",178,null,30178,"","",30178,"","",30178,"","",30178,"","",178,"","",null,null,1000]
["Canadian Solar Inc.","ELPS CS6P - 250PM",0.15542276234740593,250,37.200000000000003,30.1,8.8699999999999992,8.3000000000000007,5.7655000000000003,-138.01200000000003,-111.67100000000002,null,179,"",{"$f":"IF($A180=\"\",\"\",COUNTIF($A$2:$A180,$A180))","v":39},{"$f":"IF($A180=\"\",\"\",$O180+thousand*VLOOKUP($A180,$A$1:Q180,17,FALSE))","v":8039},{"$f":"IF(O180=1,MAX(Q$1:Q179)+1,\"\")","v":""},"Canadian Solar Inc.","ELPS CS6P - 250PM",179,null,30179,"","",30179,"","",30179,"","",30179,"","",179,"","",null,null,1000]
["Canadian Solar Inc.","CS6P - 250P",0.15542276234740593,250,37.200000000000003,30.1,8.8699999999999992,8.3000000000000007,5.7655000000000003,-119.78400000000001,-96.921999999999997,null,180,"",{"$f":"IF($A181=\"\",\"\",COUNTIF($A$2:$A181,$A181))","v":40},{"$f":"IF($A181=\"\",\"\",$O181+thousand*VLOOKUP($A181,$A$1:Q181,17,FALSE))","v":8040},{"$f":"IF(O181=1,MAX(Q$1:Q180)+1,\"\")","v":""},"Canadian Solar Inc.","CS6P - 250P",180,null,30180,"","",30180,"","",30180,"","",30180,"","",180,"","",null,null,1000]
["Canadian Solar Inc.","ELPS CS6P - 250MM",0.15542276234740593,250,37.5,30.4,8.74,8.2200000000000006,6.1180000000000012,-148.50000000000003,-120.38400000000001,null,181,"",{"$f":"IF($A182=\"\",\"\",COUNTIF($A$2:$A182,$A182))","v":41},{"$f":"IF($A182=\"\",\"\",$O182+thousand*VLOOKUP($A182,$A$1:Q182,17,FALSE))","v":8041},{"$f":"IF(O182=1,MAX(Q$1:Q181)+1,\"\")","v":""},"Canadian Solar Inc.","ELPS CS6P - 250MM",181,null,30181,"","",30181,"","",30181,"","",30181,"","",181,"","",null,null,1000]
["Canadian Solar Inc.","CS6K - 255P",0.15579178885630496,255,37.4,30.2,9,8.43,5.85,-138.38,-111.74,null,182,"",{"$f":"IF($A183=\"\",\"\",COUNTIF($A$2:$A183,$A183))","v":42},{"$f":"IF($A183=\"\",\"\",$O183+thousand*VLOOKUP($A183,$A$1:Q183,17,FALSE))","v":8042},{"$f":"IF(O183=1,MAX(Q$1:Q182)+1,\"\")","v":""},"Canadian Solar Inc.","CS6K - 255P",182,null,30182,"","",30182,"","",30182,"","",30182,"","",182,"","",null,null,1000]
["Canadian Solar Inc.","CS6P - 255PT",0.15853121759435404,255,37.4,30.2,9,8.43,6.3000000000000007,-140.25,-113.25,null,183,"",{"$f":"IF($A184=\"\",\"\",COUNTIF($A$2:$A184,$A184))","v":43},{"$f":"IF($A184=\"\",\"\",$O184+thousand*VLOOKUP($A184,$A$1:Q184,17,FALSE))","v":8043},{"$f":"IF(O184=1,MAX(Q$1:Q183)+1,\"\")","v":""},"Canadian Solar Inc.","CS6P - 255PT",183,null,30183,"","",30183,"","",30183,"","",30183,"","",183,"","",null,null,1000]
["Canadian Solar Inc.","ELPS CS6P - 255PM",0.15853121759435404,255,37.4,30.2,9,8.43,6.3000000000000007,-130.52599999999998,-105.39799999999998,null,184,"",{"$f":"IF($A185=\"\",\"\",COUNTIF($A$2:$A185,$A185))","v":44},{"$f":"IF($A185=\"\",\"\",$O185+thousand*VLOOKUP($A185,$A$1:Q185,17,FALSE))","v":8044},{"$f":"IF(O185=1,MAX(Q$1:Q184)+1,\"\")","v":""},"Canadian Solar Inc.","ELPS CS6P - 255PM",184,null,30184,"","",30184,"","",30184,"","",30184,"","",184,"","",null,null,1000]
["Canadian Solar Inc.","CS5P - 255M",0.15002453342370106,255,59.8,49,5.55,5.21,3.2744999999999997,-234.41600000000003,-192.08,null,185,"",{"$f":"IF($A186=\"\",\"\",COUNTIF($A$2:$A186,$A186))","v":45},{"$f":"IF($A186=\"\",\"\",$O186+thousand*VLOOKUP($A186,$A$1:Q186,17,FALSE))","v":8045},{"$f":"IF(O186=1,MAX(Q$1:Q185)+1,\"\")","v":""},"Canadian Solar Inc.","CS5P - 255M",185,null,30185,"","",30185,"","",30185,"","",30185,"","",185,"","",null,null,1000]
["Canadian Solar Inc.","ELPS CS6P - 255MM",0.15853121759435404,255,37.700000000000003,30.5,8.8699999999999992,8.35,6.2089999999999996,-149.292,-120.78,null,186,"",{"$f":"IF($A187=\"\",\"\",COUNTIF($A$2:$A187,$A187))","v":46},{"$f":"IF($A187=\"\",\"\",$O187+thousand*VLOOKUP($A187,$A$1:Q187,17,FALSE))","v":8046},{"$f":"IF(O187=1,MAX(Q$1:Q186)+1,\"\")","v":""},"Canadian Solar Inc.","ELPS CS6P - 255MM",186,null,30186,"","",30186,"","",30186,"","",30186,"","",186,"","",null,null,1000]
["Canadian Solar Inc.","CS6K - 260P",0.15884652981427175,260,37.5,30.4,9.1199999999999992,8.56,5.9279999999999999,-138.75,-112.48,null,187,"",{"$f":"IF($A188=\"\",\"\",COUNTIF($A$2:$A188,$A188))","v":47},{"$f":"IF($A188=\"\",\"\",$O188+thousand*VLOOKUP($A188,$A$1:Q188,17,FALSE))","v":8047},{"$f":"IF(O188=1,MAX(Q$1:Q187)+1,\"\")","v":""},"Canadian Solar Inc.","CS6K - 260P",187,null,30187,"","",30187,"","",30187,"","",30187,"","",187,"","",null,null,1000]
["Canadian Solar Inc.","CS6P - 260PT",0.16163967284130218,260,37.5,30.4,9.1199999999999992,8.56,6.2927999999999997,-141.75000000000003,-114.91200000000002,null,188,"",{"$f":"IF($A189=\"\",\"\",COUNTIF($A$2:$A189,$A189))","v":48},{"$f":"IF($A189=\"\",\"\",$O189+thousand*VLOOKUP($A189,$A$1:Q189,17,FALSE))","v":8048},{"$f":"IF(O189=1,MAX(Q$1:Q188)+1,\"\")","v":""},"Canadian Solar Inc.","CS6P - 260PT",188,null,30188,"","",30188,"","",30188,"","",30188,"","",188,"","",null,null,1000]
["Canadian Solar Inc.","ELPS CS6P - 260PM",0.16163967284130218,260,37.5,30.4,9.1199999999999992,8.56,6.2927999999999997,-132.74999999999997,-107.61599999999997,null,189,"",{"$f":"IF($A190=\"\",\"\",COUNTIF($A$2:$A190,$A190))","v":49},{"$f":"IF($A190=\"\",\"\",$O190+thousand*VLOOKUP($A190,$A$1:Q190,17,FALSE))","v":8049},{"$f":"IF(O190=1,MAX(Q$1:Q189)+1,\"\")","v":""},"Canadian Solar Inc.","ELPS CS6P - 260PM",189,null,30189,"","",30189,"","",30189,"","",30189,"","",189,"","",null,null,1000]
["Canadian Solar Inc.","CS5P - 260M",0.15296619094181285,260,60,49.3,5.62,5.27,3.3157999999999999,-234.6,-192.76300000000001,null,190,"",{"$f":"IF($A191=\"\",\"\",COUNTIF($A$2:$A191,$A191))","v":50},{"$f":"IF($A191=\"\",\"\",$O191+thousand*VLOOKUP($A191,$A$1:Q191,17,FALSE))","v":8050},{"$f":"IF(O191=1,MAX(Q$1:Q190)+1,\"\")","v":""},"Canadian Solar Inc.","CS5P - 260M",190,null,30190,"","",30190,"","",30190,"","",30190,"","",190,"","",null,null,1000]
["Canadian Solar Inc.","ELPS CS6P - 260MM",0.16163967284130218,260,37.799999999999997,30.7,8.99,8.48,6.293000000000001,-150.822,-122.49300000000001,null,191,"",{"$f":"IF($A192=\"\",\"\",COUNTIF($A$2:$A192,$A192))","v":51},{"$f":"IF($A192=\"\",\"\",$O192+thousand*VLOOKUP($A192,$A$1:Q192,17,FALSE))","v":8051},{"$f":"IF(O192=1,MAX(Q$1:Q191)+1,\"\")","v":""},"Canadian Solar Inc.","ELPS CS6P - 260MM",191,null,30191,"","",30191,"","",30191,"","",30191,"","",191,"","",null,null,1000]
["Canadian Solar Inc.","CS6P - 265P",0.16474812808825032,265,37.700000000000003,30.6,9.1,8.66,5.915,-139.49,-113.22,null,192,"",{"$f":"IF($A193=\"\",\"\",COUNTIF($A$2:$A193,$A193))","v":52},{"$f":"IF($A193=\"\",\"\",$O193+thousand*VLOOKUP($A193,$A$1:Q193,17,FALSE))","v":8052},{"$f":"IF(O193=1,MAX(Q$1:Q192)+1,\"\")","v":""},"Canadian Solar Inc.","CS6P - 265P",192,null,30192,"","",30192,"","",30192,"","",30192,"","",192,"","",null,null,1000]
["Canadian Solar Inc.","CS6P - 265M",0.16474812808825032,265,37.9,30.9,9.11,8.61,6.3770000000000007,-151.221,-123.291,null,193,{"$f":"IF(M194>MAX(Q$2:Q$7985),\"\",VLOOKUP(M194,Q$2:R$7985,2,FALSE))","v":""},{"$f":"IF($A194=\"\",\"\",COUNTIF($A$2:$A194,$A194))","v":53},{"$f":"IF($A194=\"\",\"\",$O194+thousand*VLOOKUP($A194,$A$1:Q194,17,FALSE))","v":8053},{"$f":"IF(O194=1,MAX(Q$1:Q193)+1,\"\")","v":""},"Canadian Solar Inc.","CS6P - 265M",193,null,{"$f":"V$1*thousand+$M194","v":30193},{"$f":"IF(COUNTIF($P$2:$P$7985,V194)>0,VLOOKUP(V194,$P$2:$S$7985,4,FALSE),\"\")","v":""},{"$f":"IF(W194=\"\",\"\",VLOOKUP(V194,$P$2:$T$7985,5,FALSE))","v":""},{"$f":"Y$1*thousand+$M194","v":30193},{"$f":"IF(COUNTIF($P$2:$P$7985,Y194)>0,VLOOKUP(Y194,$P$2:$S$7985,4,FALSE),\"\")","v":""},{"$f":"IF(Z194=\"\",\"\",VLOOKUP(Y194,$P$2:$T$7985,5,FALSE))","v":""},{"$f":"AB$1*thousand+$M194","v":30193},{"$f":"IF(COUNTIF($P$2:$P$7985,AB194)>0,VLOOKUP(AB194,$P$2:$S$7985,4,FALSE),\"\")","v":""},{"$f":"IF(AC194=\"\",\"\",VLOOKUP(AB194,$P$2:$T$7985,5,FALSE))","v":""},{"$f":"AE$1*thousand+$M194","v":30193},{"$f":"IF(COUNTIF($P$2:$P$7985,AE194)>0,VLOOKUP(AE194,$P$2:$S$7985,4,FALSE),\"\")","v":""},{"$f":"IF(AF194=\"\",\"\",VLOOKUP(AE194,$P$2:$T$7985,5,FALSE))","v":""},{"$f":"AH$1*thousand+$M194","v":193},"",{"$f":"IF(AI194=\"\",\"\",VLOOKUP(AH194,$P$2:$T$7985,5,FALSE))","v":""},null,null,1000]
["Canadian Solar Inc.","ELPS CS6P - 265MM",0.16474812808825032,265,37.9,30.8,9.1199999999999992,8.61,6.3839999999999995,-149.70500000000001,{"$f":"F195/E195*J195","v":-121.66000000000001},null,194,"",{"$f":"IF($A195=\"\",\"\",COUNTIF($A$2:$A195,$A195))","v":54},{"$f":"IF($A195=\"\",\"\",$O195+thousand*VLOOKUP($A195,$A$1:Q195,17,FALSE))","v":8054},{"$f":"IF(O195=1,MAX(Q$1:Q194)+1,\"\")","v":""},{"$f":"IF(A195=\"\",\"\",A195)","v":"Canadian Solar Inc."},{"$f":"IF(B195=\"\",\"\",B195)","v":"ELPS CS6P - 265MM"},{"$f":"$M195","v":194},null,30194,"","",30194,"","",30194,"","",30194,"","",194,{"$f":"IF(COUNTIF($P$2:$P$7985,AH195)>0,VLOOKUP(AH195,$P$2:$S$7985,4,FALSE),\"\")","v":""},"",null,null,1000]
["Canadian Solar Inc.","CS6P - 270P",0.1678565833351984,270,37.9,30.8,9.32,8.75,6.0579999999999998,-140.22999999999999,-113.96,null,195,"",{"$f":"IF($A196=\"\",\"\",COUNTIF($A$2:$A196,$A196))","v":55},{"$f":"IF($A196=\"\",\"\",$O196+thousand*VLOOKUP($A196,$A$1:Q196,17,FALSE))","v":8055},{"$f":"IF(O196=1,MAX(Q$1:Q195)+1,\"\")","v":""},"Canadian Solar Inc.","CS6P - 270P",195,null,30195,"","",30195,"","",30195,"","",30195,"","",195,"","",null,null,1000]
["Canadian Solar Inc.","CS6P - 270M",0.1678565833351984,270,38.200000000000003,31.1,9.19,8.67,6.4329999999999998,-152.41800000000003,-124.08900000000003,null,196,"",{"$f":"IF($A197=\"\",\"\",COUNTIF($A$2:$A197,$A197))","v":56},{"$f":"IF($A197=\"\",\"\",$O197+thousand*VLOOKUP($A197,$A$1:Q197,17,FALSE))","v":8056},{"$f":"IF(O197=1,MAX(Q$1:Q196)+1,\"\")","v":""},"Canadian Solar Inc.","CS6P - 270M",196,null,30196,"","",30196,"","",30196,"","",30196,"","",196,"","",null,null,1000]
["Canadian Solar Inc.","ELPS CS6P - 270MM",0.1678565833351984,270,38,30.9,9.25,8.74,6.4750000000000005,-150.10000000000002,-122.05500000000002,null,197,"",{"$f":"IF($A198=\"\",\"\",COUNTIF($A$2:$A198,$A198))","v":57},{"$f":"IF($A198=\"\",\"\",$O198+thousand*VLOOKUP($A198,$A$1:Q198,17,FALSE))","v":8057},{"$f":"IF(O198=1,MAX(Q$1:Q197)+1,\"\")","v":""},"Canadian Solar Inc.","ELPS CS6P - 270MM",197,null,30197,"","",30197,"","",30197,"","",30197,"","",197,"","",null,null,1000]
["Canadian Solar Inc.","CS6X - 290P",0.15113392133114589,290,44.4,35.9,8.64,8.08,5.6160000000000014,-163.392,-132.11199999999999,null,198,"",{"$f":"IF($A199=\"\",\"\",COUNTIF($A$2:$A199,$A199))","v":58},{"$f":"IF($A199=\"\",\"\",$O199+thousand*VLOOKUP($A199,$A$1:Q199,17,FALSE))","v":8058},{"$f":"IF(O199=1,MAX(Q$1:Q198)+1,\"\")","v":""},"Canadian Solar Inc.","CS6X - 290P",198,null,30198,"","",30198,"","",30198,"","",30198,"","",198,"","",null,null,1000]
["Canadian Solar Inc.","CS6X - 295P",0.15373967859547599,295,44.5,36,8.76,8.19,5.694,-164.20500000000001,-132.84,null,199,"",{"$f":"IF($A200=\"\",\"\",COUNTIF($A$2:$A200,$A200))","v":59},{"$f":"IF($A200=\"\",\"\",$O200+thousand*VLOOKUP($A200,$A$1:Q200,17,FALSE))","v":8059},{"$f":"IF(O200=1,MAX(Q$1:Q199)+1,\"\")","v":""},"Canadian Solar Inc.","CS6X - 295P",199,null,30199,"","",30199,"","",30199,"","",30199,"","",199,"","",null,null,1000]
["Canadian Solar Inc.","CS6X - 300P",0.15634543585980609,300,44.6,36.1,8.8699999999999992,8.3000000000000007,5.7655000000000003,-165.02,-133.57000000000002,null,200,"",{"$f":"IF($A201=\"\",\"\",COUNTIF($A$2:$A201,$A201))","v":60},{"$f":"IF($A201=\"\",\"\",$O201+thousand*VLOOKUP($A201,$A$1:Q201,17,FALSE))","v":8060},{"$f":"IF(O201=1,MAX(Q$1:Q200)+1,\"\")","v":""},"Canadian Solar Inc.","CS6X - 300P",200,null,null,null,null,null,null,null,null,null,null,30200,"","",null,null,null,null,null,1000]
["Canadian Solar Inc.","CS6X - 305P",0.15895119312413619,305,44.8,36.299999999999997,8.9700000000000006,8.41,5.8305000000000007,-166.208,-134.673,null,201,"",{"$f":"IF($A202=\"\",\"\",COUNTIF($A$2:$A202,$A202))","v":61},{"$f":"IF($A202=\"\",\"\",$O202+thousand*VLOOKUP($A202,$A$1:Q202,17,FALSE))","v":8061},{"$f":"IF(O202=1,MAX(Q$1:Q201)+1,\"\")","v":""},"Canadian Solar Inc.","CS6X - 305P",201,null,null,null,null,null,null,null,null,null,null,30201,"","",null,null,null,null,null,1000]
["Canadian Solar Inc.","CS6X - 310P",0.16155695038846629,310,44.9,36.4,9.08,8.52,5.902000000000001,-166.57899999999998,-135.04399999999998,null,202,"",{"$f":"IF($A203=\"\",\"\",COUNTIF($A$2:$A203,$A203))","v":62},{"$f":"IF($A203=\"\",\"\",$O203+thousand*VLOOKUP($A203,$A$1:Q203,17,FALSE))","v":8062},{"$f":"IF(O203=1,MAX(Q$1:Q202)+1,\"\")","v":""},"Canadian Solar Inc.","CS6X - 310P",202,null,null,null,null,null,null,null,null,null,null,30202,"","",null,null,null,null,null,1000]
["Canadian Solar Inc.","CS6X - 315P",0.16416270765279639,315,45.1,36.6,9.18,8.61,5.9670000000000005,-167.321,-135.786,null,203,"",{"$f":"IF($A204=\"\",\"\",COUNTIF($A$2:$A204,$A204))","v":63},{"$f":"IF($A204=\"\",\"\",$O204+thousand*VLOOKUP($A204,$A$1:Q204,17,FALSE))","v":8063},{"$f":"IF(O204=1,MAX(Q$1:Q203)+1,\"\")","v":""},"Canadian Solar Inc.","CS6X - 315P",203,null,null,null,null,null,null,null,null,null,null,30203,"","",null,null,null,null,null,1000]
["Canadian Solar Inc.","CS6X - 315M",0.16416270765279639,315,45.5,36.9,9.0399999999999991,8.5299999999999994,5.4239999999999986,-176.995,-143.541,null,204,"",{"$f":"IF($A205=\"\",\"\",COUNTIF($A$2:$A205,$A205))","v":64},{"$f":"IF($A205=\"\",\"\",$O205+thousand*VLOOKUP($A205,$A$1:Q205,17,FALSE))","v":8064},{"$f":"IF(O205=1,MAX(Q$1:Q204)+1,\"\")","v":""},"Canadian Solar Inc.","CS6X - 315M",204,null,null,null,null,null,null,null,null,null,null,30204,"","",null,null,null,null,null,1000]
["Canadian Solar Inc.","CS6X - 320P",0.16676846491712649,320,45.3,36.799999999999997,9.26,8.69,6.0190000000000001,-168.06299999999999,-136.52799999999999,null,205,"",{"$f":"IF($A206=\"\",\"\",COUNTIF($A$2:$A206,$A206))","v":65},{"$f":"IF($A206=\"\",\"\",$O206+thousand*VLOOKUP($A206,$A$1:Q206,17,FALSE))","v":8065},{"$f":"IF(O206=1,MAX(Q$1:Q205)+1,\"\")","v":""},"Canadian Solar Inc.","CS6X - 320P",205,null,null,null,null,null,null,null,null,null,null,30205,"","",null,null,null,null,null,1000]
["Canadian Solar Inc.","CS6X - 320M",0.16676846491712649,320,45.6,37.200000000000003,9.1300000000000008,8.61,5.4780000000000006,-177.38400000000001,-144.708,null,206,"",{"$f":"IF($A207=\"\",\"\",COUNTIF($A$2:$A207,$A207))","v":66},{"$f":"IF($A207=\"\",\"\",$O207+thousand*VLOOKUP($A207,$A$1:Q207,17,FALSE))","v":8066},{"$f":"IF(O207=1,MAX(Q$1:Q206)+1,\"\")","v":""},"Canadian Solar Inc.","CS6X - 320M",206,null,null,null,null,null,null,null,null,null,null,30206,"","",null,null,null,null,null,1000]
["Centrosolar","S 210P54 Vision",0.1428019649550378,210,33.369999999999997,26.03,8.7200000000000006,8.07,2.4416000000000002,-120.13199999999999,-93.707999999999998,null,207,"",{"$f":"IF($A208=\"\",\"\",COUNTIF($A$2:$A208,$A208))","v":1},{"$f":"IF($A208=\"\",\"\",$O208+thousand*VLOOKUP($A208,$A$1:Q208,17,FALSE))","v":9001},{"$f":"IF(O208=1,MAX(Q$1:Q207)+1,\"\")","v":9},"Centrosolar","S 210P54 Vision",207,null,null,null,null,null,null,null,null,null,null,30207,"","",null,null,null,null,null,1000]
["Centrosolar","S215M50 Integration Deluxe",0.14794446646408599,215,31.75,25.24,9.1300000000000008,8.52,2.7390000000000003,-114.3,-90.86399999999999,null,208,"",{"$f":"IF($A209=\"\",\"\",COUNTIF($A$2:$A209,$A209))","v":2},{"$f":"IF($A209=\"\",\"\",$O209+thousand*VLOOKUP($A209,$A$1:Q209,17,FALSE))","v":9002},{"$f":"IF(O209=1,MAX(Q$1:Q208)+1,\"\")","v":""},"Centrosolar","S215M50 Integration Deluxe",208,null,null,null,null,null,null,null,null,null,null,30208,"","",null,null,null,null,null,1000]
["Centrosolar","S 215P54 Vision",0.14620201173968153,215,33.57,26.29,8.82,8.18,2.4696000000000002,-120.852,-94.644000000000005,null,209,"",{"$f":"IF($A210=\"\",\"\",COUNTIF($A$2:$A210,$A210))","v":3},{"$f":"IF($A210=\"\",\"\",$O210+thousand*VLOOKUP($A210,$A$1:Q210,17,FALSE))","v":9003},{"$f":"IF(O210=1,MAX(Q$1:Q209)+1,\"\")","v":""},"Centrosolar","S 215P54 Vision",209,null,null,null,null,null,null,null,null,null,null,30209,"","",null,null,null,null,null,1000]
["Centrosolar","S 220M54 Vision",0.14960205852432529,220,33.4,26.5,8.93,8.32,2.5004,-120.23999999999998,-95.399999999999977,null,210,"",{"$f":"IF($A211=\"\",\"\",COUNTIF($A$2:$A211,$A211))","v":4},{"$f":"IF($A211=\"\",\"\",$O211+thousand*VLOOKUP($A211,$A$1:Q211,17,FALSE))","v":9004},{"$f":"IF(O211=1,MAX(Q$1:Q210)+1,\"\")","v":""},"Centrosolar","S 220M54 Vision",210,null,null,null,null,null,null,null,null,null,null,30210,"","",null,null,null,null,null,1000]
["Centrosolar","S 220P54 Vision",0.14960205852432529,220,33.630000000000003,26.67,8.8800000000000008,8.25,2.4864000000000002,-121.068,-96.011999999999986,null,211,"",{"$f":"IF($A212=\"\",\"\",COUNTIF($A$2:$A212,$A212))","v":5},{"$f":"IF($A212=\"\",\"\",$O212+thousand*VLOOKUP($A212,$A$1:Q212,17,FALSE))","v":9005},{"$f":"IF(O212=1,MAX(Q$1:Q211)+1,\"\")","v":""},"Centrosolar","S 220P54 Vision",211,null,null,null,null,null,null,null,null,null,null,30211,"","",null,null,null,null,null,1000]
["Centrosolar","S 225M54 Vision",0.15300210530896904,225,33.72,26.9,8.99,8.3699999999999992,2.5171999999999999,-121.39199999999998,-96.839999999999975,null,212,"",{"$f":"IF($A213=\"\",\"\",COUNTIF($A$2:$A213,$A213))","v":6},{"$f":"IF($A213=\"\",\"\",$O213+thousand*VLOOKUP($A213,$A$1:Q213,17,FALSE))","v":9006},{"$f":"IF(O213=1,MAX(Q$1:Q212)+1,\"\")","v":""},"Centrosolar","S 225M54 Vision",212,null,null,null,null,null,null,null,null,null,null,30212,"","",null,null,null,null,null,1000]
["Centrosolar","S 225P54 Vision",0.15300210530896904,225,33.75,26.97,8.94,8.35,2.5031999999999996,-121.5,-97.091999999999999,null,213,"",{"$f":"IF($A214=\"\",\"\",COUNTIF($A$2:$A214,$A214))","v":7},{"$f":"IF($A214=\"\",\"\",$O214+thousand*VLOOKUP($A214,$A$1:Q214,17,FALSE))","v":9007},{"$f":"IF(O214=1,MAX(Q$1:Q213)+1,\"\")","v":""},"Centrosolar","S 225P54 Vision",213,null,null,null,null,null,null,null,null,null,null,30213,"","",null,null,null,null,null,1000]
["Centrosolar","S 230M54 Vision",0.1564021520936128,230,33.97,27.19,9.06,8.4600000000000009,2.5368000000000004,-122.29199999999999,-97.884,null,214,"",{"$f":"IF($A215=\"\",\"\",COUNTIF($A$2:$A215,$A215))","v":8},{"$f":"IF($A215=\"\",\"\",$O215+thousand*VLOOKUP($A215,$A$1:Q215,17,FALSE))","v":9008},{"$f":"IF(O215=1,MAX(Q$1:Q214)+1,\"\")","v":""},"Centrosolar","S 230M54 Vision",214,null,null,null,null,null,null,null,null,null,null,30214,"","",null,null,null,null,null,1000]
["Centrosolar","S 230P54 Vision",0.1564021520936128,230,33.950000000000003,27.21,9.02,8.4499999999999993,2.5255999999999998,-122.22000000000001,-97.956000000000003,null,215,"",{"$f":"IF($A216=\"\",\"\",COUNTIF($A$2:$A216,$A216))","v":9},{"$f":"IF($A216=\"\",\"\",$O216+thousand*VLOOKUP($A216,$A$1:Q216,17,FALSE))","v":9009},{"$f":"IF(O216=1,MAX(Q$1:Q215)+1,\"\")","v":""},"Centrosolar","S 230P54 Vision",215,null,null,null,null,null,null,null,null,null,null,30215,"","",null,null,null,null,null,1000]
["Centrosolar","S 235M54 Vision",0.15980219887825653,235,34.200000000000003,27.45,9.1300000000000008,8.57,2.5564000000000004,-123.12,-98.82,null,216,"",{"$f":"IF($A217=\"\",\"\",COUNTIF($A$2:$A217,$A217))","v":10},{"$f":"IF($A217=\"\",\"\",$O217+thousand*VLOOKUP($A217,$A$1:Q217,17,FALSE))","v":9010},{"$f":"IF(O217=1,MAX(Q$1:Q216)+1,\"\")","v":""},"Centrosolar","S 235M54 Vision",216,null,null,null,null,null,null,null,null,null,null,30216,"","",null,null,null,null,null,1000]
["Centrosolar","S 235P60 Vision black",0.14154665317456014,235,37.14,29.24,8.61,8.0399999999999991,2.5829999999999997,-129.98999999999998,-102.33999999999999,null,217,"",{"$f":"IF($A218=\"\",\"\",COUNTIF($A$2:$A218,$A218))","v":11},{"$f":"IF($A218=\"\",\"\",$O218+thousand*VLOOKUP($A218,$A$1:Q218,17,FALSE))","v":9011},{"$f":"IF(O218=1,MAX(Q$1:Q217)+1,\"\")","v":""},"Centrosolar","S 235P60 Vision black",217,null,null,null,null,null,null,null,null,null,null,30217,"","",null,null,null,null,null,1000]
["Centrosolar","S 235P60 Vision balance",0.14154665317456014,235,37.14,29.24,8.61,8.0399999999999991,2.5829999999999997,-129.98999999999998,-102.33999999999999,null,218,"",{"$f":"IF($A219=\"\",\"\",COUNTIF($A$2:$A219,$A219))","v":12},{"$f":"IF($A219=\"\",\"\",$O219+thousand*VLOOKUP($A219,$A$1:Q219,17,FALSE))","v":9012},{"$f":"IF(O219=1,MAX(Q$1:Q218)+1,\"\")","v":""},"Centrosolar","S 235P60 Vision balance",218,null,null,null,null,null,null,null,null,null,null,30218,"","",null,null,null,null,null,1000]
["Centrosolar","S 235P60 Vision smart",0.14154665317456014,235,37.14,29.24,8.61,8.0399999999999991,2.5829999999999997,-129.98999999999998,-102.33999999999999,null,219,"",{"$f":"IF($A220=\"\",\"\",COUNTIF($A$2:$A220,$A220))","v":13},{"$f":"IF($A220=\"\",\"\",$O220+thousand*VLOOKUP($A220,$A$1:Q220,17,FALSE))","v":9013},{"$f":"IF(O220=1,MAX(Q$1:Q219)+1,\"\")","v":""},"Centrosolar","S 235P60 Vision smart",219,null,null,null,null,null,null,null,null,null,null,30219,"","",null,null,null,null,null,1000]
["Centrosolar","S 235P60 Professional black",0.14299622733357673,235,37.14,29.24,8.61,8.0399999999999991,2.5829999999999997,-129.98999999999998,-102.33999999999999,null,220,"",{"$f":"IF($A221=\"\",\"\",COUNTIF($A$2:$A221,$A221))","v":14},{"$f":"IF($A221=\"\",\"\",$O221+thousand*VLOOKUP($A221,$A$1:Q221,17,FALSE))","v":9014},{"$f":"IF(O221=1,MAX(Q$1:Q220)+1,\"\")","v":""},"Centrosolar","S 235P60 Professional black",220,null,null,null,null,null,null,null,null,null,null,30220,"","",null,null,null,null,null,1000]
["Centrosolar","S 235P54 Vision",0.15980219887825653,235,34.229999999999997,27.47,9.11,8.56,2.5507999999999997,-123.22799999999999,-98.891999999999996,null,221,"",{"$f":"IF($A222=\"\",\"\",COUNTIF($A$2:$A222,$A222))","v":15},{"$f":"IF($A222=\"\",\"\",$O222+thousand*VLOOKUP($A222,$A$1:Q222,17,FALSE))","v":9015},{"$f":"IF(O222=1,MAX(Q$1:Q221)+1,\"\")","v":""},"Centrosolar","S 235P54 Vision",221,null,null,null,null,null,null,null,null,null,null,30221,"","",null,null,null,null,null,1000]
["Centrosolar","S 240M54 Vision",0.16320224566290034,240,34.479999999999997,27.71,9.1999999999999993,8.67,2.5760000000000001,-124.12799999999999,-99.756,null,222,"",{"$f":"IF($A223=\"\",\"\",COUNTIF($A$2:$A223,$A223))","v":16},{"$f":"IF($A223=\"\",\"\",$O223+thousand*VLOOKUP($A223,$A$1:Q223,17,FALSE))","v":9016},{"$f":"IF(O223=1,MAX(Q$1:Q222)+1,\"\")","v":""},"Centrosolar","S 240M54 Vision",222,null,null,null,null,null,null,null,null,null,null,30222,"","",null,null,null,null,null,1000]
["Centrosolar","S 240P60 Professional black",0.14603870025556773,240,37.32,29.4,8.7200000000000006,8.17,2.6160000000000001,-134.352,-105.84,null,223,"",{"$f":"IF($A224=\"\",\"\",COUNTIF($A$2:$A224,$A224))","v":17},{"$f":"IF($A224=\"\",\"\",$O224+thousand*VLOOKUP($A224,$A$1:Q224,17,FALSE))","v":9017},{"$f":"IF(O224=1,MAX(Q$1:Q223)+1,\"\")","v":""},"Centrosolar","S 240P60 Professional black",223,null,null,null,null,null,null,null,null,null,null,30223,"","",null,null,null,null,null,1000]
["Centrosolar","S 240P60 Vision black",0.14455828409316782,240,37.32,29.4,8.7200000000000006,8.17,2.6160000000000001,-134.352,-105.84,null,224,"",{"$f":"IF($A225=\"\",\"\",COUNTIF($A$2:$A225,$A225))","v":18},{"$f":"IF($A225=\"\",\"\",$O225+thousand*VLOOKUP($A225,$A$1:Q225,17,FALSE))","v":9018},{"$f":"IF(O225=1,MAX(Q$1:Q224)+1,\"\")","v":""},"Centrosolar","S 240P60 Vision black",224,null,null,null,null,null,null,null,null,null,null,30224,"","",null,null,null,null,null,1000]
["Centrosolar","S 240P60 Vision balance",0.14455828409316782,240,37.32,29.4,8.7200000000000006,8.17,2.6160000000000001,-134.352,-105.84,null,225,"",{"$f":"IF($A226=\"\",\"\",COUNTIF($A$2:$A226,$A226))","v":19},{"$f":"IF($A226=\"\",\"\",$O226+thousand*VLOOKUP($A226,$A$1:Q226,17,FALSE))","v":9019},{"$f":"IF(O226=1,MAX(Q$1:Q225)+1,\"\")","v":""},"Centrosolar","S 240P60 Vision balance",225,null,null,null,null,null,null,null,null,null,null,30225,"","",null,null,null,null,null,1000]
["Centrosolar","S 240P60 Vision smart",0.14455828409316782,240,37.32,29.4,8.7200000000000006,8.17,2.6160000000000001,-134.352,-105.84,null,226,"",{"$f":"IF($A227=\"\",\"\",COUNTIF($A$2:$A227,$A227))","v":20},{"$f":"IF($A227=\"\",\"\",$O227+thousand*VLOOKUP($A227,$A$1:Q227,17,FALSE))","v":9020},{"$f":"IF(O227=1,MAX(Q$1:Q226)+1,\"\")","v":""},"Centrosolar","S 240P60 Vision smart",226,null,null,null,null,null,null,null,null,null,null,30226,"","",null,null,null,null,null,1000]
["Centrosolar","S 240P60 Vision",0.14619793982736459,240,37.32,29.4,8.7200000000000006,8.17,2.6160000000000001,-134.352,-105.84,null,227,"",{"$f":"IF($A228=\"\",\"\",COUNTIF($A$2:$A228,$A228))","v":21},{"$f":"IF($A228=\"\",\"\",$O228+thousand*VLOOKUP($A228,$A$1:Q228,17,FALSE))","v":9021},{"$f":"IF(O228=1,MAX(Q$1:Q227)+1,\"\")","v":""},"Centrosolar","S 240P60 Vision",227,null,null,null,null,null,null,null,null,null,null,30227,"","",null,null,null,null,null,1000]
["Centrosolar","S 245P60 Professional black",0.1490811731775587,245,37.49,29.55,8.83,8.3000000000000007,2.6489999999999996,-134.964,-106.38,null,228,"",{"$f":"IF($A229=\"\",\"\",COUNTIF($A$2:$A229,$A229))","v":22},{"$f":"IF($A229=\"\",\"\",$O229+thousand*VLOOKUP($A229,$A$1:Q229,17,FALSE))","v":9022},{"$f":"IF(O229=1,MAX(Q$1:Q228)+1,\"\")","v":""},"Centrosolar","S 245P60 Professional black",228,null,null,null,null,null,null,null,null,null,null,30228,"","",null,null,null,null,null,1000]
["Centrosolar","S 245P60 Vision black",0.14756991501177547,245,37.49,29.55,8.83,8.3000000000000007,2.6489999999999996,-134.964,-106.38,null,229,"",{"$f":"IF($A230=\"\",\"\",COUNTIF($A$2:$A230,$A230))","v":23},{"$f":"IF($A230=\"\",\"\",$O230+thousand*VLOOKUP($A230,$A$1:Q230,17,FALSE))","v":9023},{"$f":"IF(O230=1,MAX(Q$1:Q229)+1,\"\")","v":""},"Centrosolar","S 245P60 Vision black",229,null,null,null,null,null,null,null,null,null,null,30229,"","",null,null,null,null,null,1000]
["Centrosolar","S 245P60 Vision balance",0.14756991501177547,245,37.49,29.55,8.83,8.3000000000000007,2.6489999999999996,-134.964,-106.38,null,230,"",{"$f":"IF($A231=\"\",\"\",COUNTIF($A$2:$A231,$A231))","v":24},{"$f":"IF($A231=\"\",\"\",$O231+thousand*VLOOKUP($A231,$A$1:Q231,17,FALSE))","v":9024},{"$f":"IF(O231=1,MAX(Q$1:Q230)+1,\"\")","v":""},"Centrosolar","S 245P60 Vision balance",230,null,null,null,null,null,null,null,null,null,null,30230,"","",null,null,null,null,null,1000]
["Centrosolar","S 245P60 Vision smart",0.14756991501177547,245,37.49,29.55,8.83,8.3000000000000007,2.6489999999999996,-134.964,-106.38,null,231,"",{"$f":"IF($A232=\"\",\"\",COUNTIF($A$2:$A232,$A232))","v":25},{"$f":"IF($A232=\"\",\"\",$O232+thousand*VLOOKUP($A232,$A$1:Q232,17,FALSE))","v":9025},{"$f":"IF(O232=1,MAX(Q$1:Q231)+1,\"\")","v":""},"Centrosolar","S 245P60 Vision smart",231,null,null,null,null,null,null,null,null,null,null,30231,"","",null,null,null,null,null,1000]
["Centrosolar","S 245P60 Vision",0.14924373024043469,245,37.49,29.55,8.83,8.3000000000000007,2.6489999999999996,-134.964,-106.38,null,232,"",{"$f":"IF($A233=\"\",\"\",COUNTIF($A$2:$A233,$A233))","v":26},{"$f":"IF($A233=\"\",\"\",$O233+thousand*VLOOKUP($A233,$A$1:Q233,17,FALSE))","v":9026},{"$f":"IF(O233=1,MAX(Q$1:Q232)+1,\"\")","v":""},"Centrosolar","S 245P60 Vision",232,null,null,null,null,null,null,null,null,null,null,30232,"","",null,null,null,null,null,1000]
["Centrosolar","S 250P60 Professional black",0.15212364609954973,250,37.619999999999997,29.73,8.91,8.41,2.673,-135.43199999999999,-107.02799999999999,null,233,"",{"$f":"IF($A234=\"\",\"\",COUNTIF($A$2:$A234,$A234))","v":27},{"$f":"IF($A234=\"\",\"\",$O234+thousand*VLOOKUP($A234,$A$1:Q234,17,FALSE))","v":9027},{"$f":"IF(O234=1,MAX(Q$1:Q233)+1,\"\")","v":""},"Centrosolar","S 250P60 Professional black",233,null,null,null,null,null,null,null,null,null,null,30233,"","",null,null,null,null,null,1000]
["Centrosolar","S 250P60 Vision black",0.15058154593038314,250,37.619999999999997,29.73,8.91,8.41,2.673,-135.43199999999999,-107.02799999999999,null,234,"",{"$f":"IF($A235=\"\",\"\",COUNTIF($A$2:$A235,$A235))","v":28},{"$f":"IF($A235=\"\",\"\",$O235+thousand*VLOOKUP($A235,$A$1:Q235,17,FALSE))","v":9028},{"$f":"IF(O235=1,MAX(Q$1:Q234)+1,\"\")","v":""},"Centrosolar","S 250P60 Vision black",234,null,null,null,null,null,null,null,null,null,null,30234,"","",null,null,null,null,null,1000]
["Centrosolar","S 250P60 Vision balance",0.15058154593038314,250,37.619999999999997,29.73,8.91,8.41,2.673,-135.43199999999999,-107.02799999999999,null,235,"",{"$f":"IF($A236=\"\",\"\",COUNTIF($A$2:$A236,$A236))","v":29},{"$f":"IF($A236=\"\",\"\",$O236+thousand*VLOOKUP($A236,$A$1:Q236,17,FALSE))","v":9029},{"$f":"IF(O236=1,MAX(Q$1:Q235)+1,\"\")","v":""},"Centrosolar","S 250P60 Vision balance",235,null,null,null,null,null,null,null,null,null,null,30235,"","",null,null,null,null,null,1000]
["Centrosolar","S 250P60 Vision smart",0.15058154593038314,250,37.619999999999997,29.73,8.91,8.41,2.673,-135.43199999999999,-107.02799999999999,null,236,"",{"$f":"IF($A237=\"\",\"\",COUNTIF($A$2:$A237,$A237))","v":30},{"$f":"IF($A237=\"\",\"\",$O237+thousand*VLOOKUP($A237,$A$1:Q237,17,FALSE))","v":9030},{"$f":"IF(O237=1,MAX(Q$1:Q236)+1,\"\")","v":""},"Centrosolar","S 250P60 Vision smart",236,null,null,null,null,null,null,null,null,null,null,30236,"","",null,null,null,null,null,1000]
["Centrosolar","S 250P60 Vision",0.15228952065350476,250,37.619999999999997,29.73,8.91,8.41,2.673,-135.43199999999999,-107.02799999999999,null,237,"",{"$f":"IF($A238=\"\",\"\",COUNTIF($A$2:$A238,$A238))","v":31},{"$f":"IF($A238=\"\",\"\",$O238+thousand*VLOOKUP($A238,$A$1:Q238,17,FALSE))","v":9031},{"$f":"IF(O238=1,MAX(Q$1:Q237)+1,\"\")","v":""},"Centrosolar","S 250P60 Vision",237,null,null,null,null,null,null,null,null,null,null,30237,"","",null,null,null,null,null,1000]
["Centrosolar","S250P60 Professional",0.15212364609954973,250,37.619999999999997,29.73,8.91,8.41,2.673,-135.43199999999999,-107.02799999999999,null,238,"",{"$f":"IF($A239=\"\",\"\",COUNTIF($A$2:$A239,$A239))","v":32},{"$f":"IF($A239=\"\",\"\",$O239+thousand*VLOOKUP($A239,$A$1:Q239,17,FALSE))","v":9032},{"$f":"IF(O239=1,MAX(Q$1:Q238)+1,\"\")","v":""},"Centrosolar","S250P60 Professional",238,null,null,null,null,null,null,null,null,null,null,30238,"","",null,null,null,null,null,1000]
["Centrosolar","S 255P60 Professional black",0.1551661190215407,255,37.69,29.87,8.99,8.5399999999999991,2.6970000000000001,-135.684,-107.532,null,239,"",{"$f":"IF($A240=\"\",\"\",COUNTIF($A$2:$A240,$A240))","v":33},{"$f":"IF($A240=\"\",\"\",$O240+thousand*VLOOKUP($A240,$A$1:Q240,17,FALSE))","v":9033},{"$f":"IF(O240=1,MAX(Q$1:Q239)+1,\"\")","v":""},"Centrosolar","S 255P60 Professional black",239,null,null,null,null,null,null,null,null,null,null,30239,"","",null,null,null,null,null,1000]
["Centrosolar","S 255P60 Vision black",0.15359317684899079,255,37.69,29.87,8.99,8.5399999999999991,2.6970000000000001,-135.684,-107.532,null,240,"",{"$f":"IF($A241=\"\",\"\",COUNTIF($A$2:$A241,$A241))","v":34},{"$f":"IF($A241=\"\",\"\",$O241+thousand*VLOOKUP($A241,$A$1:Q241,17,FALSE))","v":9034},{"$f":"IF(O241=1,MAX(Q$1:Q240)+1,\"\")","v":""},"Centrosolar","S 255P60 Vision black",240,null,null,null,null,null,null,null,null,null,null,30240,"","",null,null,null,null,null,1000]
["Centrosolar","S 255P60 Vision balance",0.15359317684899079,255,37.69,29.87,8.99,8.5399999999999991,2.6970000000000001,-135.684,-107.532,null,241,"",{"$f":"IF($A242=\"\",\"\",COUNTIF($A$2:$A242,$A242))","v":35},{"$f":"IF($A242=\"\",\"\",$O242+thousand*VLOOKUP($A242,$A$1:Q242,17,FALSE))","v":9035},{"$f":"IF(O242=1,MAX(Q$1:Q241)+1,\"\")","v":""},"Centrosolar","S 255P60 Vision balance",241,null,null,null,null,null,null,null,null,null,null,30241,"","",null,null,null,null,null,1000]
["Centrosolar","S 255P60 Vision smart",0.15359317684899079,255,37.69,29.87,8.99,8.5399999999999991,2.6970000000000001,-135.684,-107.532,null,242,"",{"$f":"IF($A243=\"\",\"\",COUNTIF($A$2:$A243,$A243))","v":36},{"$f":"IF($A243=\"\",\"\",$O243+thousand*VLOOKUP($A243,$A$1:Q243,17,FALSE))","v":9036},{"$f":"IF(O243=1,MAX(Q$1:Q242)+1,\"\")","v":""},"Centrosolar","S 255P60 Vision smart",242,null,null,null,null,null,null,null,null,null,null,30242,"","",null,null,null,null,null,1000]
["Centrosolar","S 255P60 Vision",0.15533531106657489,255,37.69,29.87,8.99,8.5399999999999991,2.6970000000000001,-135.684,-107.532,null,243,"",{"$f":"IF($A244=\"\",\"\",COUNTIF($A$2:$A244,$A244))","v":37},{"$f":"IF($A244=\"\",\"\",$O244+thousand*VLOOKUP($A244,$A$1:Q244,17,FALSE))","v":9037},{"$f":"IF(O244=1,MAX(Q$1:Q243)+1,\"\")","v":""},"Centrosolar","S 255P60 Vision",243,null,null,null,null,null,null,null,null,null,null,30243,"","",null,null,null,null,null,1000]
["Centrosolar","S 255P60 Professional",0.1551661190215407,255,37.69,29.87,8.99,8.5399999999999991,2.5171999999999999,-135.684,-107.532,null,244,"",{"$f":"IF($A245=\"\",\"\",COUNTIF($A$2:$A245,$A245))","v":38},{"$f":"IF($A245=\"\",\"\",$O245+thousand*VLOOKUP($A245,$A$1:Q245,17,FALSE))","v":9038},{"$f":"IF(O245=1,MAX(Q$1:Q244)+1,\"\")","v":""},"Centrosolar","S 255P60 Professional",244,null,null,null,null,null,null,null,null,null,null,30244,"","",null,null,null,null,null,1000]
["Centrosolar","S 260P60 Vision black",0.15660480776759847,260,37.79,30.06,9.07,8.65,2.7210000000000001,-132.26499999999999,-105.20999999999998,null,245,"",{"$f":"IF($A246=\"\",\"\",COUNTIF($A$2:$A246,$A246))","v":39},{"$f":"IF($A246=\"\",\"\",$O246+thousand*VLOOKUP($A246,$A$1:Q246,17,FALSE))","v":9039},{"$f":"IF(O246=1,MAX(Q$1:Q245)+1,\"\")","v":""},"Centrosolar","S 260P60 Vision black",245,null,null,null,null,null,null,null,null,null,null,30245,"","",null,null,null,null,null,1000]
["Centrosolar","S 260P60 Vision balance",0.15660480776759847,260,37.79,30.06,9.07,8.65,2.7210000000000001,-132.26499999999999,-105.20999999999998,null,246,"",{"$f":"IF($A247=\"\",\"\",COUNTIF($A$2:$A247,$A247))","v":40},{"$f":"IF($A247=\"\",\"\",$O247+thousand*VLOOKUP($A247,$A$1:Q247,17,FALSE))","v":9040},{"$f":"IF(O247=1,MAX(Q$1:Q246)+1,\"\")","v":""},"Centrosolar","S 260P60 Vision balance",246,null,null,null,null,null,null,null,null,null,null,30246,"","",null,null,null,null,null,1000]
["Centrosolar","S 260P60 Vision smart",0.15660480776759847,260,37.79,30.06,9.07,8.65,2.7210000000000001,-132.26499999999999,-105.20999999999998,null,247,"",{"$f":"IF($A248=\"\",\"\",COUNTIF($A$2:$A248,$A248))","v":41},{"$f":"IF($A248=\"\",\"\",$O248+thousand*VLOOKUP($A248,$A$1:Q248,17,FALSE))","v":9041},{"$f":"IF(O248=1,MAX(Q$1:Q247)+1,\"\")","v":""},"Centrosolar","S 260P60 Vision smart",247,null,null,null,null,null,null,null,null,null,null,30247,"","",null,null,null,null,null,1000]
["Centrosolar","S 260P60 Professional black",0.15820859194353171,260,37.79,30.06,9.07,8.65,2.7210000000000001,-132.26499999999999,-105.20999999999998,null,248,"",{"$f":"IF($A249=\"\",\"\",COUNTIF($A$2:$A249,$A249))","v":42},{"$f":"IF($A249=\"\",\"\",$O249+thousand*VLOOKUP($A249,$A$1:Q249,17,FALSE))","v":9042},{"$f":"IF(O249=1,MAX(Q$1:Q248)+1,\"\")","v":""},"Centrosolar","S 260P60 Professional black",248,null,null,null,null,null,null,null,null,null,null,30248,"","",null,null,null,null,null,1000]
["Centrosolar America","CP6 250",0.15212364609954973,250,37.619999999999997,29.73,8.91,8.41,2.673,-131.66999999999999,-104.05499999999999,null,249,"",{"$f":"IF($A250=\"\",\"\",COUNTIF($A$2:$A250,$A250))","v":1},{"$f":"IF($A250=\"\",\"\",$O250+thousand*VLOOKUP($A250,$A$1:Q250,17,FALSE))","v":10001},{"$f":"IF(O250=1,MAX(Q$1:Q249)+1,\"\")","v":10},"Centrosolar America","CP6 250",249,null,null,null,null,null,null,null,null,null,null,30249,"","",null,null,null,null,null,1000]
["Conergy","Conergy E 245P",0.1490811731775587,245,37.49,29.55,8.83,8.3000000000000007,2.6489999999999996,-131.215,-103.425,null,250,"",{"$f":"IF($A251=\"\",\"\",COUNTIF($A$2:$A251,$A251))","v":1},{"$f":"IF($A251=\"\",\"\",$O251+thousand*VLOOKUP($A251,$A$1:Q251,17,FALSE))","v":11001},{"$f":"IF(O251=1,MAX(Q$1:Q250)+1,\"\")","v":11},"Conergy","Conergy E 245P",250,null,null,null,null,null,null,null,null,null,null,30250,"","",null,null,null,null,null,1000]
["Conergy","Conergy E 250P",0.15212364609954973,250,37.619999999999997,29.73,8.91,8.41,2.673,-131.66999999999999,-104.05499999999999,null,251,"",{"$f":"IF($A252=\"\",\"\",COUNTIF($A$2:$A252,$A252))","v":2},{"$f":"IF($A252=\"\",\"\",$O252+thousand*VLOOKUP($A252,$A$1:Q252,17,FALSE))","v":11002},{"$f":"IF(O252=1,MAX(Q$1:Q251)+1,\"\")","v":""},"Conergy","Conergy E 250P",251,null,null,null,null,null,null,null,null,null,null,30251,"","",null,null,null,null,null,1000]
["DMEGC","DM195-M125-72",0.15274470485023187,195,45.8,36.799999999999997,6.05,5.3,3.3879999999999999,-148.85000000000002,-119.60000000000002,null,252,"",{"$f":"IF($A253=\"\",\"\",COUNTIF($A$2:$A253,$A253))","v":1},{"$f":"IF($A253=\"\",\"\",$O253+thousand*VLOOKUP($A253,$A$1:Q253,17,FALSE))","v":12001},{"$f":"IF(O253=1,MAX(Q$1:Q252)+1,\"\")","v":12},"DMEGC","DM195-M125-72",252,null,null,null,null,null,null,null,null,null,null,30252,"","",null,null,null,null,null,1000]
["DMEGC","DM235-P156-60",0.14357282502443794,235,36.9,29.8,8.8699999999999992,7.89,4.0801999999999996,-119.925,-96.850000000000009,null,253,"",{"$f":"IF($A254=\"\",\"\",COUNTIF($A$2:$A254,$A254))","v":2},{"$f":"IF($A254=\"\",\"\",$O254+thousand*VLOOKUP($A254,$A$1:Q254,17,FALSE))","v":12002},{"$f":"IF(O254=1,MAX(Q$1:Q253)+1,\"\")","v":""},"DMEGC","DM235-P156-60",253,null,null,null,null,null,null,null,null,null,null,30253,"","",null,null,null,null,null,1000]
["DMEGC","DM240-P156-60",0.1466275659824047,240,37.5,30,8.9600000000000009,8,4.1215999999999999,-121.875,-97.5,null,254,"",{"$f":"IF($A255=\"\",\"\",COUNTIF($A$2:$A255,$A255))","v":3},{"$f":"IF($A255=\"\",\"\",$O255+thousand*VLOOKUP($A255,$A$1:Q255,17,FALSE))","v":12003},{"$f":"IF(O255=1,MAX(Q$1:Q254)+1,\"\")","v":""},"DMEGC","DM240-P156-60",254,null,null,null,null,null,null,null,null,null,null,30254,"","",null,null,null,null,null,1000]
["DMEGC","DM250-M156-60",0.15273704789833822,250,37.200000000000003,30.4,9.1999999999999993,8.2200000000000006,3.8640000000000003,-125.73600000000002,-102.75200000000001,null,255,"",{"$f":"IF($A256=\"\",\"\",COUNTIF($A$2:$A256,$A256))","v":4},{"$f":"IF($A256=\"\",\"\",$O256+thousand*VLOOKUP($A256,$A$1:Q256,17,FALSE))","v":12004},{"$f":"IF(O256=1,MAX(Q$1:Q255)+1,\"\")","v":""},"DMEGC","DM250-M156-60",255,null,null,null,null,null,null,null,null,null,null,30255,"","",null,null,null,null,null,1000]
["DMEGC","DM250-M156-60 (Black series?",0.15273704789833822,250,37.200000000000003,30.4,9.1999999999999993,8.2200000000000006,3.8640000000000003,-125.73600000000002,-102.75200000000001,null,256,"",{"$f":"IF($A257=\"\",\"\",COUNTIF($A$2:$A257,$A257))","v":5},{"$f":"IF($A257=\"\",\"\",$O257+thousand*VLOOKUP($A257,$A$1:Q257,17,FALSE))","v":12005},{"$f":"IF(O257=1,MAX(Q$1:Q256)+1,\"\")","v":""},"DMEGC","DM250-M156-60 (Black series?",256,null,null,null,null,null,null,null,null,null,null,30256,"","",null,null,null,null,null,600]
["DMEGC","DM260-M125-96",0.15368610204757174,260,60.5,50.1,5.67,5.19,3.3452999999999999,-204.49,-169.33799999999999,null,257,{"$f":"IF(M258>MAX(Q$2:Q$7985),\"\",VLOOKUP(M258,Q$2:R$7985,2,FALSE))","v":""},{"$f":"IF($A258=\"\",\"\",COUNTIF($A$2:$A258,$A258))","v":6},{"$f":"IF($A258=\"\",\"\",$O258+thousand*VLOOKUP($A258,$A$1:Q258,17,FALSE))","v":12006},{"$f":"IF(O258=1,MAX(Q$1:Q257)+1,\"\")","v":""},"DMEGC","DM260-M125-96",257,null,null,null,null,null,null,null,null,null,null,{"$f":"AE$1*thousand+$M258","v":30257},{"$f":"IF(COUNTIF($P$2:$P$7985,AE258)>0,VLOOKUP(AE258,$P$2:$S$7985,4,FALSE),\"\")","v":""},{"$f":"IF(AF258=\"\",\"\",VLOOKUP(AE258,$P$2:$T$7985,5,FALSE))","v":""},null,null,null,null,null,1000]
["DuPont Apollo","DA136-C3",8.6957077730676041E-2,136,61,47,3.42,2.9,2.8044000000000002,-152.5,{"$f":"F259/E259*J259","v":-117.5},null,258,"",{"$f":"IF($A259=\"\",\"\",COUNTIF($A$2:$A259,$A259))","v":1},{"$f":"IF($A259=\"\",\"\",$O259+thousand*VLOOKUP($A259,$A$1:Q259,17,FALSE))","v":13001},{"$f":"IF(O259=1,MAX(Q$1:Q258)+1,\"\")","v":13},{"$f":"IF(A259=\"\",\"\",A259)","v":"DuPont Apollo"},{"$f":"IF(B259=\"\",\"\",B259)","v":"DA136-C3"},{"$f":"$M259","v":258},null,null,null,null,null,null,null,null,null,null,30258,"","",null,null,null,null,null,1000]
["DuPont Apollo","DA139-C3",8.8875248562970355E-2,139,62,48,3.47,2.9,2.8107000000000006,-155,-120,null,259,"",{"$f":"IF($A260=\"\",\"\",COUNTIF($A$2:$A260,$A260))","v":2},{"$f":"IF($A260=\"\",\"\",$O260+thousand*VLOOKUP($A260,$A$1:Q260,17,FALSE))","v":13002},{"$f":"IF(O260=1,MAX(Q$1:Q259)+1,\"\")","v":""},"DuPont Apollo","DA139-C3",259,null,null,null,null,null,null,null,null,null,null,30259,"","",null,null,null,null,null,1000]
["DuPont Apollo","DA142-C3",9.0793419395264668E-2,142,62,48,3.62,2.96,2.8960000000000004,-155,-120,null,260,"",{"$f":"IF($A261=\"\",\"\",COUNTIF($A$2:$A261,$A261))","v":3},{"$f":"IF($A261=\"\",\"\",$O261+thousand*VLOOKUP($A261,$A$1:Q261,17,FALSE))","v":13003},{"$f":"IF(O261=1,MAX(Q$1:Q260)+1,\"\")","v":""},"DuPont Apollo","DA142-C3",260,null,null,null,null,null,null,null,null,null,null,30260,"","",null,null,null,null,null,1000]
["DuPont Apollo","DA145-C3",9.2711590227558996E-2,145,62,48,3.72,3.02,2.9016000000000002,-155,-120,null,261,"",{"$f":"IF($A262=\"\",\"\",COUNTIF($A$2:$A262,$A262))","v":4},{"$f":"IF($A262=\"\",\"\",$O262+thousand*VLOOKUP($A262,$A$1:Q262,17,FALSE))","v":13004},{"$f":"IF(O262=1,MAX(Q$1:Q261)+1,\"\")","v":""},"DuPont Apollo","DA145-C3",261,null,null,null,null,null,null,null,null,null,null,30261,"","",null,null,null,null,null,1000]
["DuPont Apollo","DA148-C3",9.4629761059853323E-2,148,62.5,48,3.81,3.09,3.0099,-156.25,-120,null,262,"",{"$f":"IF($A263=\"\",\"\",COUNTIF($A$2:$A263,$A263))","v":5},{"$f":"IF($A263=\"\",\"\",$O263+thousand*VLOOKUP($A263,$A$1:Q263,17,FALSE))","v":13005},{"$f":"IF(O263=1,MAX(Q$1:Q262)+1,\"\")","v":""},"DuPont Apollo","DA148-C3",262,null,null,null,null,null,null,null,null,null,null,30262,"","",null,null,null,null,null,1000]
["DuPont Apollo","DA151-C3",9.6547931892147651E-2,151,62.5,48.5,3.88,3.12,3.1040000000000001,-156.25,-121.25,null,263,"",{"$f":"IF($A264=\"\",\"\",COUNTIF($A$2:$A264,$A264))","v":6},{"$f":"IF($A264=\"\",\"\",$O264+thousand*VLOOKUP($A264,$A$1:Q264,17,FALSE))","v":13006},{"$f":"IF(O264=1,MAX(Q$1:Q263)+1,\"\")","v":""},"DuPont Apollo","DA151-C3",263,null,null,null,null,null,null,null,null,null,null,30263,"","",null,null,null,null,null,1000]
["DuPont Apollo","DA154-C3",9.8466102724441978E-2,154,63,48.5,3.95,3.18,3.0810000000000004,-157.5,-121.25,null,264,"",{"$f":"IF($A265=\"\",\"\",COUNTIF($A$2:$A265,$A265))","v":7},{"$f":"IF($A265=\"\",\"\",$O265+thousand*VLOOKUP($A265,$A$1:Q265,17,FALSE))","v":13007},{"$f":"IF(O265=1,MAX(Q$1:Q264)+1,\"\")","v":""},"DuPont Apollo","DA154-C3",264,null,null,null,null,null,null,null,null,null,null,30264,"","",null,null,null,null,null,1000]
["DuPont Apollo","DA157-C3",0.10038427355673629,157,63,49,3.95,3.21,3.0810000000000004,-157.5,-122.5,null,265,"",{"$f":"IF($A266=\"\",\"\",COUNTIF($A$2:$A266,$A266))","v":8},{"$f":"IF($A266=\"\",\"\",$O266+thousand*VLOOKUP($A266,$A$1:Q266,17,FALSE))","v":13008},{"$f":"IF(O266=1,MAX(Q$1:Q265)+1,\"\")","v":""},"DuPont Apollo","DA157-C3",265,null,null,null,null,null,null,null,null,null,null,30265,"","",null,null,null,null,null,1000]
["DuPont Apollo","DA160-C3",0.10230244438903062,160,63,49,4.2,3.21,3.1080000000000001,-157.5,-122.5,null,266,"",{"$f":"IF($A267=\"\",\"\",COUNTIF($A$2:$A267,$A267))","v":9},{"$f":"IF($A267=\"\",\"\",$O267+thousand*VLOOKUP($A267,$A$1:Q267,17,FALSE))","v":13009},{"$f":"IF(O267=1,MAX(Q$1:Q266)+1,\"\")","v":""},"DuPont Apollo","DA160-C3",266,null,null,null,null,null,null,null,null,null,null,30266,"","",null,null,null,null,null,1000]
["ecoSolargy","ECO230A156M-60",0.14137490165224234,230,37.06,29.49,8.39,7.8,8.39,-127.11580000000001,-101.15069999999999,null,267,"",{"$f":"IF($A268=\"\",\"\",COUNTIF($A$2:$A268,$A268))","v":1},{"$f":"IF($A268=\"\",\"\",$O268+thousand*VLOOKUP($A268,$A$1:Q268,17,FALSE))","v":14001},{"$f":"IF(O268=1,MAX(Q$1:Q267)+1,\"\")","v":14},"ecoSolargy","ECO230A156M-60",267,null,null,null,null,null,null,null,null,null,null,30267,"","",null,null,null,null,null,1000]
["ecoSolargy","ECO235A156P-60",0.14444826907946495,235,37.200000000000003,29.62,8.4,7.94,8.4,-127.59600000000002,-101.59660000000001,null,268,"",{"$f":"IF($A269=\"\",\"\",COUNTIF($A$2:$A269,$A269))","v":2},{"$f":"IF($A269=\"\",\"\",$O269+thousand*VLOOKUP($A269,$A$1:Q269,17,FALSE))","v":14002},{"$f":"IF(O269=1,MAX(Q$1:Q268)+1,\"\")","v":""},"ecoSolargy","ECO235A156P-60",268,null,null,null,null,null,null,null,null,null,null,30268,"","",null,null,null,null,null,1000]
["ecoSolargy","ECO235A156M-60",0.14444826907946495,235,37.26,29.86,8.4600000000000009,7.87,8.4600000000000009,-127.8018,-102.4198,null,269,"",{"$f":"IF($A270=\"\",\"\",COUNTIF($A$2:$A270,$A270))","v":3},{"$f":"IF($A270=\"\",\"\",$O270+thousand*VLOOKUP($A270,$A$1:Q270,17,FALSE))","v":14003},{"$f":"IF(O270=1,MAX(Q$1:Q269)+1,\"\")","v":""},"ecoSolargy","ECO235A156M-60",269,null,null,null,null,null,null,null,null,null,null,30269,"","",null,null,null,null,null,1000]
["ecoSolargy","ECO240A156P-60",0.14752163650668765,240,37.4,29.85,8.48,8.0399999999999991,8.48,-128.28200000000001,-102.38550000000002,null,270,"",{"$f":"IF($A271=\"\",\"\",COUNTIF($A$2:$A271,$A271))","v":4},{"$f":"IF($A271=\"\",\"\",$O271+thousand*VLOOKUP($A271,$A$1:Q271,17,FALSE))","v":14004},{"$f":"IF(O271=1,MAX(Q$1:Q270)+1,\"\")","v":""},"ecoSolargy","ECO240A156P-60",270,null,null,null,null,null,null,null,null,null,null,30270,"","",null,null,null,null,null,1000]
["ecoSolargy","ECO240A156M-60",0.14752163650668765,240,37.47,30.23,8.5299999999999994,7.94,8.5299999999999994,-128.52209999999999,-103.6889,null,271,"",{"$f":"IF($A272=\"\",\"\",COUNTIF($A$2:$A272,$A272))","v":5},{"$f":"IF($A272=\"\",\"\",$O272+thousand*VLOOKUP($A272,$A$1:Q272,17,FALSE))","v":14005},{"$f":"IF(O272=1,MAX(Q$1:Q271)+1,\"\")","v":""},"ecoSolargy","ECO240A156M-60",271,null,null,null,null,null,null,null,null,null,null,30271,"","",null,null,null,null,null,1000]
["ecoSolargy","ECO245A156P-60",0.15059500393391032,245,37.61,30.17,8.52,8.1199999999999992,8.52,-129.00230000000002,-103.48310000000004,null,272,"",{"$f":"IF($A273=\"\",\"\",COUNTIF($A$2:$A273,$A273))","v":6},{"$f":"IF($A273=\"\",\"\",$O273+thousand*VLOOKUP($A273,$A$1:Q273,17,FALSE))","v":14006},{"$f":"IF(O273=1,MAX(Q$1:Q272)+1,\"\")","v":""},"ecoSolargy","ECO245A156P-60",272,null,null,null,null,null,null,null,null,null,null,30272,"","",null,null,null,null,null,1000]
["ecoSolargy","ECO245A156M-60",0.15059500393391032,245,37.67,30.59,8.6,8.01,8.6,-129.20810000000003,-104.92370000000001,null,273,"",{"$f":"IF($A274=\"\",\"\",COUNTIF($A$2:$A274,$A274))","v":7},{"$f":"IF($A274=\"\",\"\",$O274+thousand*VLOOKUP($A274,$A$1:Q274,17,FALSE))","v":14007},{"$f":"IF(O274=1,MAX(Q$1:Q273)+1,\"\")","v":""},"ecoSolargy","ECO245A156M-60",273,null,null,null,null,null,null,null,null,null,null,30273,"","",null,null,null,null,null,1000]
["ecoSolargy","ECO250A156P-60",0.15366837136113295,250,37.729999999999997,30.41,8.5299999999999994,8.2200000000000006,8.5299999999999994,-129.41390000000001,-104.30630000000002,null,274,"",{"$f":"IF($A275=\"\",\"\",COUNTIF($A$2:$A275,$A275))","v":8},{"$f":"IF($A275=\"\",\"\",$O275+thousand*VLOOKUP($A275,$A$1:Q275,17,FALSE))","v":14008},{"$f":"IF(O275=1,MAX(Q$1:Q274)+1,\"\")","v":""},"ecoSolargy","ECO250A156P-60",274,null,null,null,null,null,null,null,null,null,null,30274,"","",null,null,null,null,null,1000]
["ecoSolargy","ECO250A156M-60",0.15366837136113295,250,37.880000000000003,30.94,8.67,8.08,8.67,-129.92840000000001,-106.1242,null,275,"",{"$f":"IF($A276=\"\",\"\",COUNTIF($A$2:$A276,$A276))","v":9},{"$f":"IF($A276=\"\",\"\",$O276+thousand*VLOOKUP($A276,$A$1:Q276,17,FALSE))","v":14009},{"$f":"IF(O276=1,MAX(Q$1:Q275)+1,\"\")","v":""},"ecoSolargy","ECO250A156M-60",275,null,null,null,null,null,null,null,null,null,null,30275,"","",null,null,null,null,null,1000]
["ecoSolargy","ECO280A156P-72",0.14430371396530114,280,45.22,35.85,8.25,7.81,9.9,-164.60079999999999,-130.494,null,276,"",{"$f":"IF($A277=\"\",\"\",COUNTIF($A$2:$A277,$A277))","v":10},{"$f":"IF($A277=\"\",\"\",$O277+thousand*VLOOKUP($A277,$A$1:Q277,17,FALSE))","v":14010},{"$f":"IF(O277=1,MAX(Q$1:Q276)+1,\"\")","v":""},"ecoSolargy","ECO280A156P-72",276,null,null,null,null,null,null,null,null,null,null,30276,"","",null,null,null,null,null,1000]
["ecoSolargy","ECO280A156M-72",0.14430371396530114,280,44.58,35.68,8.41,7.85,10.091999999999999,-162.27119999999999,-129.87519999999998,null,277,"",{"$f":"IF($A278=\"\",\"\",COUNTIF($A$2:$A278,$A278))","v":11},{"$f":"IF($A278=\"\",\"\",$O278+thousand*VLOOKUP($A278,$A$1:Q278,17,FALSE))","v":14011},{"$f":"IF(O278=1,MAX(Q$1:Q277)+1,\"\")","v":""},"ecoSolargy","ECO280A156M-72",277,null,null,null,null,null,null,null,null,null,null,30277,"","",null,null,null,null,null,1000]
["ecoSolargy","ECO285A156P-72",0.14688056600039581,285,45.3,36.1,8.31,7.89,9.9719999999999995,-164.89199999999997,-131.404,null,278,"",{"$f":"IF($A279=\"\",\"\",COUNTIF($A$2:$A279,$A279))","v":12},{"$f":"IF($A279=\"\",\"\",$O279+thousand*VLOOKUP($A279,$A$1:Q279,17,FALSE))","v":14012},{"$f":"IF(O279=1,MAX(Q$1:Q278)+1,\"\")","v":""},"ecoSolargy","ECO285A156P-72",278,null,null,null,null,null,null,null,null,null,null,30278,"","",null,null,null,null,null,1000]
["ecoSolargy","ECO285A156M-72",0.14688056600039581,285,44.78,36.03,8.48,7.91,10.176,-162.9992,-131.14920000000001,null,279,"",{"$f":"IF($A280=\"\",\"\",COUNTIF($A$2:$A280,$A280))","v":13},{"$f":"IF($A280=\"\",\"\",$O280+thousand*VLOOKUP($A280,$A$1:Q280,17,FALSE))","v":14013},{"$f":"IF(O280=1,MAX(Q$1:Q279)+1,\"\")","v":""},"ecoSolargy","ECO285A156M-72",279,null,null,null,null,null,null,null,null,null,null,30279,"","",null,null,null,null,null,1000]
["ecoSolargy","ECO290A156P-72",0.14945741803549048,290,45.38,36.29,8.42,7.98,10.103999999999999,-165.1832,-132.09559999999999,null,280,"",{"$f":"IF($A281=\"\",\"\",COUNTIF($A$2:$A281,$A281))","v":14},{"$f":"IF($A281=\"\",\"\",$O281+thousand*VLOOKUP($A281,$A$1:Q281,17,FALSE))","v":14014},{"$f":"IF(O281=1,MAX(Q$1:Q280)+1,\"\")","v":""},"ecoSolargy","ECO290A156P-72",280,null,null,null,null,null,null,null,null,null,null,30280,"","",null,null,null,null,null,1000]
["ecoSolargy","ECO290A156M-72",0.14945741803549048,290,44.98,36.4,8.5500000000000007,7.97,10.26,-163.72719999999995,-132.49599999999998,null,281,"",{"$f":"IF($A282=\"\",\"\",COUNTIF($A$2:$A282,$A282))","v":15},{"$f":"IF($A282=\"\",\"\",$O282+thousand*VLOOKUP($A282,$A$1:Q282,17,FALSE))","v":14015},{"$f":"IF(O282=1,MAX(Q$1:Q281)+1,\"\")","v":""},"ecoSolargy","ECO290A156M-72",281,null,null,null,null,null,null,null,null,null,null,30281,"","",null,null,null,null,null,1000]
["ecoSolargy","ECO295A156P-72",0.15203427007058515,295,45.46,36.47,8.5299999999999994,8.09,10.235999999999999,-165.4744,-132.7508,null,282,"",{"$f":"IF($A283=\"\",\"\",COUNTIF($A$2:$A283,$A283))","v":16},{"$f":"IF($A283=\"\",\"\",$O283+thousand*VLOOKUP($A283,$A$1:Q283,17,FALSE))","v":14016},{"$f":"IF(O283=1,MAX(Q$1:Q282)+1,\"\")","v":""},"ecoSolargy","ECO295A156P-72",282,null,null,null,null,null,null,null,null,null,null,30282,"","",null,null,null,null,null,1000]
["ecoSolargy","ECO295A156M-72",0.15203427007058515,295,45.2,36.74,8.6199999999999992,8.0299999999999994,10.343999999999998,-164.52800000000002,-133.73360000000002,null,283,"",{"$f":"IF($A284=\"\",\"\",COUNTIF($A$2:$A284,$A284))","v":17},{"$f":"IF($A284=\"\",\"\",$O284+thousand*VLOOKUP($A284,$A$1:Q284,17,FALSE))","v":14017},{"$f":"IF(O284=1,MAX(Q$1:Q283)+1,\"\")","v":""},"ecoSolargy","ECO295A156M-72",283,null,null,null,null,null,null,null,null,null,null,30283,"","",null,null,null,null,null,1000]
["ecoSolargy","ECO300A156M-72",0.15461112210567979,300,45.42,37.090000000000003,8.69,8.09,10.427999999999999,-165.3288,-135.0076,null,284,"",{"$f":"IF($A285=\"\",\"\",COUNTIF($A$2:$A285,$A285))","v":18},{"$f":"IF($A285=\"\",\"\",$O285+thousand*VLOOKUP($A285,$A$1:Q285,17,FALSE))","v":14018},{"$f":"IF(O285=1,MAX(Q$1:Q284)+1,\"\")","v":""},"ecoSolargy","ECO300A156M-72",284,null,null,null,null,null,null,null,null,null,null,30284,"","",null,null,null,null,null,1000]
["Empire PV systems","EPG 235 Wp  60 cells",0.14322709539716874,235,36.479999999999997,29.46,8.5500000000000007,7.98,5.9850000000000012,-124.032,-100.164,null,285,"",{"$f":"IF($A286=\"\",\"\",COUNTIF($A$2:$A286,$A286))","v":1},{"$f":"IF($A286=\"\",\"\",$O286+thousand*VLOOKUP($A286,$A$1:Q286,17,FALSE))","v":15001},{"$f":"IF(O286=1,MAX(Q$1:Q285)+1,\"\")","v":15},"Empire PV systems","EPG 235 Wp  60 cells",285,null,null,null,null,null,null,null,null,null,null,30285,"","",null,null,null,null,null,1000]
["Empire PV systems","EPG 240 Wp  60 cells",0.14627448040561916,240,37.020000000000003,29.88,8.6,8.0299999999999994,6.02,-125.86800000000001,-101.592,null,286,"",{"$f":"IF($A287=\"\",\"\",COUNTIF($A$2:$A287,$A287))","v":2},{"$f":"IF($A287=\"\",\"\",$O287+thousand*VLOOKUP($A287,$A$1:Q287,17,FALSE))","v":15002},{"$f":"IF(O287=1,MAX(Q$1:Q286)+1,\"\")","v":""},"Empire PV systems","EPG 240 Wp  60 cells",286,null,null,null,null,null,null,null,null,null,null,30286,"","",null,null,null,null,null,1000]
["Empire PV systems","EPG 245 Wp  60 cells",0.1490811731775587,245,37.14,30,8.65,8.17,6.0550000000000006,-126.276,-101.99999999999999,null,287,"",{"$f":"IF($A288=\"\",\"\",COUNTIF($A$2:$A288,$A288))","v":3},{"$f":"IF($A288=\"\",\"\",$O288+thousand*VLOOKUP($A288,$A$1:Q288,17,FALSE))","v":15003},{"$f":"IF(O288=1,MAX(Q$1:Q287)+1,\"\")","v":""},"Empire PV systems","EPG 245 Wp  60 cells",287,null,null,null,null,null,null,null,null,null,null,30287,"","",null,null,null,null,null,1000]
["Empire PV systems","EPG 250 Wp  60 cells",0.15212364609954973,250,37.5,30.5,8.69,8.1999999999999993,6.0830000000000002,-127.50000000000003,-103.70000000000003,null,288,"",{"$f":"IF($A289=\"\",\"\",COUNTIF($A$2:$A289,$A289))","v":4},{"$f":"IF($A289=\"\",\"\",$O289+thousand*VLOOKUP($A289,$A$1:Q289,17,FALSE))","v":15004},{"$f":"IF(O289=1,MAX(Q$1:Q288)+1,\"\")","v":""},"Empire PV systems","EPG 250 Wp  60 cells",288,null,null,null,null,null,null,null,null,null,null,30288,"","",null,null,null,null,null,1000]
["Eoplly","EP125M/72-200W",0.15666123574382756,200,45.73,37,5.86,5.45,3.516,-180.17619999999999,-145.78,null,289,"",{"$f":"IF($A290=\"\",\"\",COUNTIF($A$2:$A290,$A290))","v":1},{"$f":"IF($A290=\"\",\"\",$O290+thousand*VLOOKUP($A290,$A$1:Q290,17,FALSE))","v":16001},{"$f":"IF(O290=1,MAX(Q$1:Q289)+1,\"\")","v":16},"Eoplly","EP125M/72-200W",289,null,null,null,null,null,null,null,null,null,null,30289,"","",null,null,null,null,null,1000]
["Eoplly","EP156P/60-250W",0.15366837136113295,250,37.56,31.32,8.7899999999999991,8,5.0981999999999994,-129.95760000000001,-108.36720000000001,null,290,"",{"$f":"IF($A291=\"\",\"\",COUNTIF($A$2:$A291,$A291))","v":2},{"$f":"IF($A291=\"\",\"\",$O291+thousand*VLOOKUP($A291,$A$1:Q291,17,FALSE))","v":16002},{"$f":"IF(O291=1,MAX(Q$1:Q290)+1,\"\")","v":""},"Eoplly","EP156P/60-250W",290,null,null,null,null,null,null,null,null,null,null,30290,"","",null,null,null,null,null,1000]
["Eoplly","EP156M/60-255W",0.15674173878835562,255,37.56,31.2,8.98,8.2200000000000006,6.1064000000000007,-149.86440000000002,-124.488,null,291,"",{"$f":"IF($A292=\"\",\"\",COUNTIF($A$2:$A292,$A292))","v":3},{"$f":"IF($A292=\"\",\"\",$O292+thousand*VLOOKUP($A292,$A$1:Q292,17,FALSE))","v":16003},{"$f":"IF(O292=1,MAX(Q$1:Q291)+1,\"\")","v":""},"Eoplly","EP156M/60-255W",291,null,null,null,null,null,null,null,null,null,null,30291,"","",null,null,null,null,null,1000]
["Eoplly","EP156P/72-285W",0.14636844481216307,285,44.43,36.65,8.6300000000000008,7.83,5.1780000000000008,-150.17340000000002,-123.87700000000001,null,292,"",{"$f":"IF($A293=\"\",\"\",COUNTIF($A$2:$A293,$A293))","v":4},{"$f":"IF($A293=\"\",\"\",$O293+thousand*VLOOKUP($A293,$A$1:Q293,17,FALSE))","v":16004},{"$f":"IF(O293=1,MAX(Q$1:Q292)+1,\"\")","v":""},"Eoplly","EP156P/72-285W",292,null,null,null,null,null,null,null,null,null,null,null,null,null,null,null,null,null,null,1000]
["Eoplly","EP156P/72-290W",0.14893631226500803,290,44.64,37.15,8.6999999999999993,7.89,5.2199999999999989,-149.99039999999999,-124.82399999999998,null,293,"",{"$f":"IF($A294=\"\",\"\",COUNTIF($A$2:$A294,$A294))","v":5},{"$f":"IF($A294=\"\",\"\",$O294+thousand*VLOOKUP($A294,$A$1:Q294,17,FALSE))","v":16005},{"$f":"IF(O294=1,MAX(Q$1:Q293)+1,\"\")","v":""},"Eoplly","EP156P/72-290W",293,null,null,null,null,null,null,null,null,null,null,null,null,null,null,null,null,null,null,1000]
["Eoplly","EP156P/72-295W",0.15150417971785299,295,44.86,37.22,8.7799999999999994,7.96,5.1801999999999992,-149.83240000000001,-124.31480000000001,null,294,"",{"$f":"IF($A295=\"\",\"\",COUNTIF($A$2:$A295,$A295))","v":6},{"$f":"IF($A295=\"\",\"\",$O295+thousand*VLOOKUP($A295,$A$1:Q295,17,FALSE))","v":16006},{"$f":"IF(O295=1,MAX(Q$1:Q294)+1,\"\")","v":""},"Eoplly","EP156P/72-295W",294,null,null,null,null,null,null,null,null,null,null,null,null,null,null,null,null,null,null,1000]
["Eoplly","EP156M/72-305W",0.15663991462354293,305,45.07,37.44,8.93,8.2200000000000006,6.0724,-179.82929999999999,-149.38559999999998,null,295,"",{"$f":"IF($A296=\"\",\"\",COUNTIF($A$2:$A296,$A296))","v":7},{"$f":"IF($A296=\"\",\"\",$O296+thousand*VLOOKUP($A296,$A$1:Q296,17,FALSE))","v":16007},{"$f":"IF(O296=1,MAX(Q$1:Q295)+1,\"\")","v":""},"Eoplly","EP156M/72-305W",295,null,null,null,null,null,null,null,null,null,null,null,null,null,null,null,null,null,null,1000]
["ET Solar","ET-M572185BB",0.1449116430630405,185,45.03,36.29,5.47,5.1100000000000003,1.0939999999999999,-154.00260000000003,-124.11180000000002,null,296,"",{"$f":"IF($A297=\"\",\"\",COUNTIF($A$2:$A297,$A297))","v":1},{"$f":"IF($A297=\"\",\"\",$O297+thousand*VLOOKUP($A297,$A$1:Q297,17,FALSE))","v":17001},{"$f":"IF(O297=1,MAX(Q$1:Q296)+1,\"\")","v":17},"ET Solar","ET-M572185BB",296,null,null,null,null,null,null,null,null,null,null,null,null,null,null,null,null,null,null,1000]
["ET Solar","ET-M572185WW",0.1449116430630405,185,45.03,36.29,5.47,5.1100000000000003,1.0939999999999999,-154.00260000000003,-124.11180000000002,null,297,"",{"$f":"IF($A298=\"\",\"\",COUNTIF($A$2:$A298,$A298))","v":2},{"$f":"IF($A298=\"\",\"\",$O298+thousand*VLOOKUP($A298,$A$1:Q298,17,FALSE))","v":17002},{"$f":"IF(O298=1,MAX(Q$1:Q297)+1,\"\")","v":""},"ET Solar","ET-M572185WW",297,null,null,null,null,null,null,null,null,null,null,null,null,null,null,null,null,null,null,1000]
["ET Solar","ET-P648190WW",0.1446618263327161,190,29.66,23.99,8.5,7.92,3.4000000000000004,-101.4372,-82.0458,null,298,"",{"$f":"IF($A299=\"\",\"\",COUNTIF($A$2:$A299,$A299))","v":3},{"$f":"IF($A299=\"\",\"\",$O299+thousand*VLOOKUP($A299,$A$1:Q299,17,FALSE))","v":17003},{"$f":"IF(O299=1,MAX(Q$1:Q298)+1,\"\")","v":""},"ET Solar","ET-P648190WW",298,null,null,null,null,null,null,null,null,null,null,null,null,null,null,null,null,null,null,1000]
["ET Solar","ET-M572190BB",0.14882817395663617,190,45.21,36.68,5.56,5.18,1.1119999999999999,-154.6182,-125.4456,null,299,"",{"$f":"IF($A300=\"\",\"\",COUNTIF($A$2:$A300,$A300))","v":4},{"$f":"IF($A300=\"\",\"\",$O300+thousand*VLOOKUP($A300,$A$1:Q300,17,FALSE))","v":17004},{"$f":"IF(O300=1,MAX(Q$1:Q299)+1,\"\")","v":""},"ET Solar","ET-M572190BB",299,null,null,null,null,null,null,null,null,null,null,null,null,null,null,null,null,null,null,1000]
["ET Solar","ET-M572190WW",0.14882817395663617,190,45.21,36.68,5.56,5.18,1.1119999999999999,-154.6182,-125.4456,null,300,"",{"$f":"IF($A301=\"\",\"\",COUNTIF($A$2:$A301,$A301))","v":5},{"$f":"IF($A301=\"\",\"\",$O301+thousand*VLOOKUP($A301,$A$1:Q301,17,FALSE))","v":17005},{"$f":"IF(O301=1,MAX(Q$1:Q300)+1,\"\")","v":""},"ET Solar","ET-M572190WW",300,null,null,null,null,null,null,null,null,null,null,null,null,null,null,null,null,null,null,1000]
["ET Solar","ET-P648195WW",0.14846871649936652,195,29.88,24.11,8.75,8.09,3.5000000000000004,-102.1896,-82.45620000000001,null,301,"",{"$f":"IF($A302=\"\",\"\",COUNTIF($A$2:$A302,$A302))","v":6},{"$f":"IF($A302=\"\",\"\",$O302+thousand*VLOOKUP($A302,$A$1:Q302,17,FALSE))","v":17006},{"$f":"IF(O302=1,MAX(Q$1:Q301)+1,\"\")","v":""},"ET Solar","ET-P648195WW",301,null,null,null,null,null,null,null,null,null,null,null,null,null,null,null,null,null,null,1000]
["ET Solar","ET-M648195BB",0.14846871649936652,195,29.9,24.26,8.6,8.02,1.7199999999999998,-102.258,-82.969200000000001,null,302,"",{"$f":"IF($A303=\"\",\"\",COUNTIF($A$2:$A303,$A303))","v":7},{"$f":"IF($A303=\"\",\"\",$O303+thousand*VLOOKUP($A303,$A$1:Q303,17,FALSE))","v":17007},{"$f":"IF(O303=1,MAX(Q$1:Q302)+1,\"\")","v":""},"ET Solar","ET-M648195BB",302,null,null,null,null,null,null,null,null,null,null,null,null,null,null,null,null,null,null,1000]
["ET Solar","ET-M648195WW",0.14846871649936652,195,29.9,24.26,8.6,8.02,1.7199999999999998,-102.258,-82.969200000000001,null,303,"",{"$f":"IF($A304=\"\",\"\",COUNTIF($A$2:$A304,$A304))","v":8},{"$f":"IF($A304=\"\",\"\",$O304+thousand*VLOOKUP($A304,$A$1:Q304,17,FALSE))","v":17008},{"$f":"IF(O304=1,MAX(Q$1:Q303)+1,\"\")","v":""},"ET Solar","ET-M648195WW",303,null,null,null,null,null,null,null,null,null,null,null,null,null,null,null,null,null,null,1000]
["ET Solar","ET-M572195BB",0.15274470485023187,195,45.33,36.94,5.68,5.28,1.1359999999999999,-155.02859999999998,-126.33479999999999,null,304,"",{"$f":"IF($A305=\"\",\"\",COUNTIF($A$2:$A305,$A305))","v":9},{"$f":"IF($A305=\"\",\"\",$O305+thousand*VLOOKUP($A305,$A$1:Q305,17,FALSE))","v":17009},{"$f":"IF(O305=1,MAX(Q$1:Q304)+1,\"\")","v":""},"ET Solar","ET-M572195BB",304,null,null,null,null,null,null,null,null,null,null,null,null,null,null,null,null,null,null,1000]
["ET Solar","ET-M572195WW",0.15274470485023187,195,45.33,36.94,5.68,5.28,1.1359999999999999,-155.02859999999998,-126.33479999999999,null,305,"",{"$f":"IF($A306=\"\",\"\",COUNTIF($A$2:$A306,$A306))","v":10},{"$f":"IF($A306=\"\",\"\",$O306+thousand*VLOOKUP($A306,$A$1:Q306,17,FALSE))","v":17010},{"$f":"IF(O306=1,MAX(Q$1:Q305)+1,\"\")","v":""},"ET Solar","ET-M572195WW",305,null,null,null,null,null,null,null,null,null,null,null,null,null,null,null,null,null,null,1000]
["ET Solar","ET-P648200WW",0.15227560666601694,200,29.98,24.27,8.76,8.24,3.504,-102.53160000000001,-83.003400000000013,null,306,"",{"$f":"IF($A307=\"\",\"\",COUNTIF($A$2:$A307,$A307))","v":11},{"$f":"IF($A307=\"\",\"\",$O307+thousand*VLOOKUP($A307,$A$1:Q307,17,FALSE))","v":17011},{"$f":"IF(O307=1,MAX(Q$1:Q306)+1,\"\")","v":""},"ET Solar","ET-P648200WW",306,null,null,null,null,null,null,null,null,null,null,null,null,null,null,null,null,null,null,1000]
["ET Solar","ET-M648200BB",0.15227560666601694,200,30.16,24.34,8.69,8.2200000000000006,1.7379999999999998,-103.14720000000001,-83.242800000000003,null,307,"",{"$f":"IF($A308=\"\",\"\",COUNTIF($A$2:$A308,$A308))","v":12},{"$f":"IF($A308=\"\",\"\",$O308+thousand*VLOOKUP($A308,$A$1:Q308,17,FALSE))","v":17012},{"$f":"IF(O308=1,MAX(Q$1:Q307)+1,\"\")","v":""},"ET Solar","ET-M648200BB",307,null,null,null,null,null,null,null,null,null,null,null,null,null,null,null,null,null,null,1000]
["ET Solar","ET-M648200WW",0.15227560666601694,200,30.16,24.34,8.69,8.2200000000000006,1.7379999999999998,-103.14720000000001,-83.242800000000003,null,308,"",{"$f":"IF($A309=\"\",\"\",COUNTIF($A$2:$A309,$A309))","v":13},{"$f":"IF($A309=\"\",\"\",$O309+thousand*VLOOKUP($A309,$A$1:Q309,17,FALSE))","v":17013},{"$f":"IF(O309=1,MAX(Q$1:Q308)+1,\"\")","v":""},"ET Solar","ET-M648200WW",308,null,null,null,null,null,null,null,null,null,null,null,null,null,null,null,null,null,null,1000]
["ET Solar","ET-M572200BB",0.15666123574382756,200,45.84,36.97,5.7,5.41,1.1400000000000001,-156.77280000000005,-126.43740000000003,null,309,"",{"$f":"IF($A310=\"\",\"\",COUNTIF($A$2:$A310,$A310))","v":14},{"$f":"IF($A310=\"\",\"\",$O310+thousand*VLOOKUP($A310,$A$1:Q310,17,FALSE))","v":17014},{"$f":"IF(O310=1,MAX(Q$1:Q309)+1,\"\")","v":""},"ET Solar","ET-M572200BB",309,null,null,null,null,null,null,null,null,null,null,null,null,null,null,null,null,null,null,1000]
["ET Solar","ET-M572200WW",0.15666123574382756,200,45.84,36.97,5.7,5.41,1.1400000000000001,-156.77280000000005,-126.43740000000003,null,310,"",{"$f":"IF($A311=\"\",\"\",COUNTIF($A$2:$A311,$A311))","v":15},{"$f":"IF($A311=\"\",\"\",$O311+thousand*VLOOKUP($A311,$A$1:Q311,17,FALSE))","v":17015},{"$f":"IF(O311=1,MAX(Q$1:Q310)+1,\"\")","v":""},"ET Solar","ET-M572200WW",310,null,null,null,null,null,null,null,null,null,null,null,null,null,null,null,null,null,null,1000]
["ET Solar","ET-M648205BB",0.15608249683266737,205,30.26,24.78,8.8800000000000008,8.27,1.776,-103.48920000000001,-84.747600000000006,null,311,"",{"$f":"IF($A312=\"\",\"\",COUNTIF($A$2:$A312,$A312))","v":16},{"$f":"IF($A312=\"\",\"\",$O312+thousand*VLOOKUP($A312,$A$1:Q312,17,FALSE))","v":17016},{"$f":"IF(O312=1,MAX(Q$1:Q311)+1,\"\")","v":""},"ET Solar","ET-M648205BB",311,null,null,null,null,null,null,null,null,null,null,null,null,null,null,null,null,null,null,1000]
["ET Solar","ET-M648205WW",0.15608249683266737,205,30.26,24.78,8.8800000000000008,8.27,1.776,-103.48920000000001,-84.747600000000006,null,312,"",{"$f":"IF($A313=\"\",\"\",COUNTIF($A$2:$A313,$A313))","v":17},{"$f":"IF($A313=\"\",\"\",$O313+thousand*VLOOKUP($A313,$A$1:Q313,17,FALSE))","v":17017},{"$f":"IF(O313=1,MAX(Q$1:Q312)+1,\"\")","v":""},"ET Solar","ET-M648205WW",312,null,null,null,null,null,null,null,null,null,null,null,null,null,null,null,null,null,null,1000]
["ET Solar","ET-M572205BB",0.16057776663742324,205,46.15,37.130000000000003,5.81,5.53,1.1619999999999999,-157.833,-126.9846,null,313,"",{"$f":"IF($A314=\"\",\"\",COUNTIF($A$2:$A314,$A314))","v":18},{"$f":"IF($A314=\"\",\"\",$O314+thousand*VLOOKUP($A314,$A$1:Q314,17,FALSE))","v":17018},{"$f":"IF(O314=1,MAX(Q$1:Q313)+1,\"\")","v":""},"ET Solar","ET-M572205BB",313,null,null,null,null,null,null,null,null,null,null,null,null,null,null,null,null,null,null,1000]
["ET Solar","ET-M572205WW",0.16057776663742324,205,46.15,37.130000000000003,5.81,5.53,1.1619999999999999,-157.833,-126.9846,null,314,"",{"$f":"IF($A315=\"\",\"\",COUNTIF($A$2:$A315,$A315))","v":19},{"$f":"IF($A315=\"\",\"\",$O315+thousand*VLOOKUP($A315,$A$1:Q315,17,FALSE))","v":17019},{"$f":"IF(O315=1,MAX(Q$1:Q314)+1,\"\")","v":""},"ET Solar","ET-M572205WW",314,null,null,null,null,null,null,null,null,null,null,null,null,null,null,null,null,null,null,1000]
["ET Solar","ET-M648210WW",0.15988938699931782,210,30.29,25.06,8.9600000000000009,8.36,1.7920000000000003,-103.59179999999999,-85.705199999999991,null,315,"",{"$f":"IF($A316=\"\",\"\",COUNTIF($A$2:$A316,$A316))","v":20},{"$f":"IF($A316=\"\",\"\",$O316+thousand*VLOOKUP($A316,$A$1:Q316,17,FALSE))","v":17020},{"$f":"IF(O316=1,MAX(Q$1:Q315)+1,\"\")","v":""},"ET Solar","ET-M648210WW",315,null,null,null,null,null,null,null,null,null,null,null,null,null,null,null,null,null,null,1000]
["ET Solar","ET-M572210WW",0.16449429753101891,210,46.82,37.5,5.86,5.61,1.1720000000000002,-160.12440000000004,-128.25000000000003,null,316,"",{"$f":"IF($A317=\"\",\"\",COUNTIF($A$2:$A317,$A317))","v":21},{"$f":"IF($A317=\"\",\"\",$O317+thousand*VLOOKUP($A317,$A$1:Q317,17,FALSE))","v":17021},{"$f":"IF(O317=1,MAX(Q$1:Q316)+1,\"\")","v":""},"ET Solar","ET-M572210WW",316,null,null,null,null,null,null,null,null,null,null,null,null,null,null,null,null,null,null,1000]
["ET Solar","ET-P660230BB",0.14137490165224234,230,36.75,29.64,8.33,7.76,3.3319999999999999,-125.68499999999999,-101.36879999999999,null,317,"",{"$f":"IF($A318=\"\",\"\",COUNTIF($A$2:$A318,$A318))","v":22},{"$f":"IF($A318=\"\",\"\",$O318+thousand*VLOOKUP($A318,$A$1:Q318,17,FALSE))","v":17022},{"$f":"IF(O318=1,MAX(Q$1:Q317)+1,\"\")","v":""},"ET Solar","ET-P660230BB",317,null,null,null,null,null,null,null,null,null,null,null,null,null,null,null,null,null,null,1000]
["ET Solar","ET-P660235BB",0.14444826907946495,235,37.08,29.83,8.5,7.88,3.4000000000000004,-126.81359999999999,-102.01859999999999,null,318,"",{"$f":"IF($A319=\"\",\"\",COUNTIF($A$2:$A319,$A319))","v":23},{"$f":"IF($A319=\"\",\"\",$O319+thousand*VLOOKUP($A319,$A$1:Q319,17,FALSE))","v":17023},{"$f":"IF(O319=1,MAX(Q$1:Q318)+1,\"\")","v":""},"ET Solar","ET-P660235BB",318,null,null,null,null,null,null,null,null,null,null,null,null,null,null,null,null,null,null,1000]
["ET Solar","ET-P660235WW",0.14444826907946495,235,37.08,29.83,8.5,7.88,3.4000000000000004,-126.81359999999999,-102.01859999999999,null,319,"",{"$f":"IF($A320=\"\",\"\",COUNTIF($A$2:$A320,$A320))","v":24},{"$f":"IF($A320=\"\",\"\",$O320+thousand*VLOOKUP($A320,$A$1:Q320,17,FALSE))","v":17024},{"$f":"IF(O320=1,MAX(Q$1:Q319)+1,\"\")","v":""},"ET Solar","ET-P660235WW",319,null,null,null,null,null,null,null,null,null,null,null,null,null,null,null,null,null,null,1000]
["ET Solar","ET-M660235BB",0.14444826907946495,235,37.01,29.69,8.49,7.92,1.698,-126.5742,-101.53980000000001,null,320,"",{"$f":"IF($A321=\"\",\"\",COUNTIF($A$2:$A321,$A321))","v":25},{"$f":"IF($A321=\"\",\"\",$O321+thousand*VLOOKUP($A321,$A$1:Q321,17,FALSE))","v":17025},{"$f":"IF(O321=1,MAX(Q$1:Q320)+1,\"\")","v":""},"ET Solar","ET-M660235BB",320,null,null,null,null,null,null,null,null,null,null,null,null,null,null,null,null,null,null,1000]
["ET Solar","ET-M660235WW",0.14444826907946495,235,37.01,29.69,8.49,7.92,1.698,-126.5742,-101.53980000000001,null,321,{"$f":"IF(M322>MAX(Q$2:Q$7985),\"\",VLOOKUP(M322,Q$2:R$7985,2,FALSE))","v":""},{"$f":"IF($A322=\"\",\"\",COUNTIF($A$2:$A322,$A322))","v":26},{"$f":"IF($A322=\"\",\"\",$O322+thousand*VLOOKUP($A322,$A$1:Q322,17,FALSE))","v":17026},{"$f":"IF(O322=1,MAX(Q$1:Q321)+1,\"\")","v":""},"ET Solar","ET-M660235WW",321,null,null,null,null,null,null,null,null,null,null,null,null,null,null,null,null,null,null,1000]
["ET Solar","ET-P660240BB",0.14752163650668765,240,37.17,29.96,8.58,8.02,3.4319999999999999,-127.12140000000002,{"$f":"F323/E323*J323","v":-102.46320000000001},null,322,"",{"$f":"IF($A323=\"\",\"\",COUNTIF($A$2:$A323,$A323))","v":27},{"$f":"IF($A323=\"\",\"\",$O323+thousand*VLOOKUP($A323,$A$1:Q323,17,FALSE))","v":17027},{"$f":"IF(O323=1,MAX(Q$1:Q322)+1,\"\")","v":""},{"$f":"IF(A323=\"\",\"\",A323)","v":"ET Solar"},{"$f":"IF(B323=\"\",\"\",B323)","v":"ET-P660240BB"},{"$f":"$M323","v":322},null,null,null,null,null,null,null,null,null,null,null,null,null,null,null,null,null,null,1000]
["ET Solar","ET-P660240WW",0.14752163650668765,240,37.17,29.96,8.58,8.02,3.4319999999999999,-127.12140000000002,-102.46320000000001,null,323,"",{"$f":"IF($A324=\"\",\"\",COUNTIF($A$2:$A324,$A324))","v":28},{"$f":"IF($A324=\"\",\"\",$O324+thousand*VLOOKUP($A324,$A$1:Q324,17,FALSE))","v":17028},{"$f":"IF(O324=1,MAX(Q$1:Q323)+1,\"\")","v":""},"ET Solar","ET-P660240WW",323,null,null,null,null,null,null,null,null,null,null,null,null,null,null,null,null,null,null,1000]
["ET Solar","ET-M660240BB",0.14752163650668765,240,37.369999999999997,30.12,8.6,8.02,1.7199999999999998,-127.80540000000002,-103.01040000000002,null,324,"",{"$f":"IF($A325=\"\",\"\",COUNTIF($A$2:$A325,$A325))","v":29},{"$f":"IF($A325=\"\",\"\",$O325+thousand*VLOOKUP($A325,$A$1:Q325,17,FALSE))","v":17029},{"$f":"IF(O325=1,MAX(Q$1:Q324)+1,\"\")","v":""},"ET Solar","ET-M660240BB",324,null,null,null,null,null,null,null,null,null,null,null,null,null,null,null,null,null,null,1000]
["ET Solar","ET-M660240WW",0.14752163650668765,240,37.369999999999997,30.12,8.6,8.02,1.7199999999999998,-127.80540000000002,-103.01040000000002,null,325,"",{"$f":"IF($A326=\"\",\"\",COUNTIF($A$2:$A326,$A326))","v":30},{"$f":"IF($A326=\"\",\"\",$O326+thousand*VLOOKUP($A326,$A$1:Q326,17,FALSE))","v":17030},{"$f":"IF(O326=1,MAX(Q$1:Q325)+1,\"\")","v":""},"ET Solar","ET-M660240WW",325,null,null,null,null,null,null,null,null,null,null,null,null,null,null,null,null,null,null,1000]
["ET Solar","ET-P660245BB",0.15059500393391032,245,37.270000000000003,30.14,8.73,8.1300000000000008,3.492,-127.46340000000001,-103.07879999999999,null,326,"",{"$f":"IF($A327=\"\",\"\",COUNTIF($A$2:$A327,$A327))","v":31},{"$f":"IF($A327=\"\",\"\",$O327+thousand*VLOOKUP($A327,$A$1:Q327,17,FALSE))","v":17031},{"$f":"IF(O327=1,MAX(Q$1:Q326)+1,\"\")","v":""},"ET Solar","ET-P660245BB",326,null,null,null,null,null,null,null,null,null,null,null,null,null,null,null,null,null,null,1000]
["ET Solar","ET-P660245WW",0.15059500393391032,245,37.270000000000003,30.14,8.73,8.1300000000000008,3.492,-127.46340000000001,-103.07879999999999,null,327,"",{"$f":"IF($A328=\"\",\"\",COUNTIF($A$2:$A328,$A328))","v":32},{"$f":"IF($A328=\"\",\"\",$O328+thousand*VLOOKUP($A328,$A$1:Q328,17,FALSE))","v":17032},{"$f":"IF(O328=1,MAX(Q$1:Q327)+1,\"\")","v":""},"ET Solar","ET-P660245WW",327,null,null,null,null,null,null,null,null,null,null,null,null,null,null,null,null,null,null,1000]
["ET Solar","ET-M660245BB",0.15059500393391032,245,37.4,30.08,8.61,8.15,1.722,-127.90800000000002,-102.87360000000001,null,328,"",{"$f":"IF($A329=\"\",\"\",COUNTIF($A$2:$A329,$A329))","v":33},{"$f":"IF($A329=\"\",\"\",$O329+thousand*VLOOKUP($A329,$A$1:Q329,17,FALSE))","v":17033},{"$f":"IF(O329=1,MAX(Q$1:Q328)+1,\"\")","v":""},"ET Solar","ET-M660245BB",328,null,null,null,null,null,null,null,null,null,null,null,null,null,null,null,null,null,null,1000]
["ET Solar","ET-M660245WW",0.15059500393391032,245,37.4,30.08,8.61,8.15,1.722,-127.90800000000002,-102.87360000000001,null,329,"",{"$f":"IF($A330=\"\",\"\",COUNTIF($A$2:$A330,$A330))","v":34},{"$f":"IF($A330=\"\",\"\",$O330+thousand*VLOOKUP($A330,$A$1:Q330,17,FALSE))","v":17034},{"$f":"IF(O330=1,MAX(Q$1:Q329)+1,\"\")","v":""},"ET Solar","ET-M660245WW",329,null,null,null,null,null,null,null,null,null,null,null,null,null,null,null,null,null,null,1000]
["ET Solar","ET-P660250BB",0.15366837136113295,250,37.47,30.34,8.76,8.24,3.504,-128.1474,-103.7628,null,330,"",{"$f":"IF($A331=\"\",\"\",COUNTIF($A$2:$A331,$A331))","v":35},{"$f":"IF($A331=\"\",\"\",$O331+thousand*VLOOKUP($A331,$A$1:Q331,17,FALSE))","v":17035},{"$f":"IF(O331=1,MAX(Q$1:Q330)+1,\"\")","v":""},"ET Solar","ET-P660250BB",330,null,null,null,null,null,null,null,null,null,null,null,null,null,null,null,null,null,null,1000]
["ET Solar","ET-P660250WW",0.15366837136113295,250,37.47,30.34,8.76,8.24,3.504,-128.1474,-103.7628,null,331,"",{"$f":"IF($A332=\"\",\"\",COUNTIF($A$2:$A332,$A332))","v":36},{"$f":"IF($A332=\"\",\"\",$O332+thousand*VLOOKUP($A332,$A$1:Q332,17,FALSE))","v":17036},{"$f":"IF(O332=1,MAX(Q$1:Q331)+1,\"\")","v":""},"ET Solar","ET-P660250WW",331,null,null,null,null,null,null,null,null,null,null,null,null,null,null,null,null,null,null,1000]
["ET Solar","ET-M660250BB",0.15366837136113295,250,37.700000000000003,30.43,8.69,8.2200000000000006,1.7379999999999998,-128.93400000000003,-104.07060000000001,null,332,"",{"$f":"IF($A333=\"\",\"\",COUNTIF($A$2:$A333,$A333))","v":37},{"$f":"IF($A333=\"\",\"\",$O333+thousand*VLOOKUP($A333,$A$1:Q333,17,FALSE))","v":17037},{"$f":"IF(O333=1,MAX(Q$1:Q332)+1,\"\")","v":""},"ET Solar","ET-M660250BB",332,null,null,null,null,null,null,null,null,null,null,null,null,null,null,null,null,null,null,1000]
["ET Solar","ET-M660250WW",0.15366837136113295,250,37.700000000000003,30.43,8.69,8.2200000000000006,1.7379999999999998,-128.93400000000003,-104.07060000000001,null,333,"",{"$f":"IF($A334=\"\",\"\",COUNTIF($A$2:$A334,$A334))","v":38},{"$f":"IF($A334=\"\",\"\",$O334+thousand*VLOOKUP($A334,$A$1:Q334,17,FALSE))","v":17038},{"$f":"IF(O334=1,MAX(Q$1:Q333)+1,\"\")","v":""},"ET Solar","ET-M660250WW",333,null,null,null,null,null,null,null,null,null,null,null,null,null,null,null,null,null,null,1000]
["ET Solar","ET-P660255BB",0.15674173878835562,255,37.54,30.91,8.82,8.25,3.528,-128.38679999999999,-105.7122,null,334,"",{"$f":"IF($A335=\"\",\"\",COUNTIF($A$2:$A335,$A335))","v":39},{"$f":"IF($A335=\"\",\"\",$O335+thousand*VLOOKUP($A335,$A$1:Q335,17,FALSE))","v":17039},{"$f":"IF(O335=1,MAX(Q$1:Q334)+1,\"\")","v":""},"ET Solar","ET-P660255BB",334,null,null,null,null,null,null,null,null,null,null,null,null,null,null,null,null,null,null,1000]
["ET Solar","ET-P660255WW",0.15674173878835562,255,37.54,30.91,8.82,8.25,3.528,-128.38679999999999,-105.7122,null,335,"",{"$f":"IF($A336=\"\",\"\",COUNTIF($A$2:$A336,$A336))","v":40},{"$f":"IF($A336=\"\",\"\",$O336+thousand*VLOOKUP($A336,$A$1:Q336,17,FALSE))","v":17040},{"$f":"IF(O336=1,MAX(Q$1:Q335)+1,\"\")","v":""},"ET Solar","ET-P660255WW",335,null,null,null,null,null,null,null,null,null,null,null,null,null,null,null,null,null,null,1000]
["ET Solar","ET-M660255BB",0.15674173878835562,255,37.82,30.91,8.8800000000000008,8.25,1.776,-129.34440000000001,-105.7122,null,336,"",{"$f":"IF($A337=\"\",\"\",COUNTIF($A$2:$A337,$A337))","v":41},{"$f":"IF($A337=\"\",\"\",$O337+thousand*VLOOKUP($A337,$A$1:Q337,17,FALSE))","v":17041},{"$f":"IF(O337=1,MAX(Q$1:Q336)+1,\"\")","v":""},"ET Solar","ET-M660255BB",336,null,null,null,null,null,null,null,null,null,null,null,null,null,null,null,null,null,null,1000]
["ET Solar","ET-M660255WW",0.15674173878835562,255,37.82,30.91,8.8800000000000008,8.25,1.776,-129.34440000000001,-105.7122,null,337,"",{"$f":"IF($A338=\"\",\"\",COUNTIF($A$2:$A338,$A338))","v":42},{"$f":"IF($A338=\"\",\"\",$O338+thousand*VLOOKUP($A338,$A$1:Q338,17,FALSE))","v":17042},{"$f":"IF(O338=1,MAX(Q$1:Q337)+1,\"\")","v":""},"ET Solar","ET-M660255WW",337,null,null,null,null,null,null,null,null,null,null,null,null,null,null,null,null,null,null,1000]
["ET Solar","ET-P660260WW",0.15981510621557829,260,38.090000000000003,31.48,8.84,8.26,3.5360000000000005,-130.26780000000002,-107.66160000000001,null,338,"",{"$f":"IF($A339=\"\",\"\",COUNTIF($A$2:$A339,$A339))","v":43},{"$f":"IF($A339=\"\",\"\",$O339+thousand*VLOOKUP($A339,$A$1:Q339,17,FALSE))","v":17043},{"$f":"IF(O339=1,MAX(Q$1:Q338)+1,\"\")","v":""},"ET Solar","ET-P660260WW",338,null,null,null,null,null,null,null,null,null,null,null,null,null,null,null,null,null,null,1000]
["ET Solar","ET-M660260WW",0.15981510621557829,260,37.86,31.14,8.9600000000000009,8.35,1.7920000000000003,-129.48120000000003,-106.49880000000003,null,339,"",{"$f":"IF($A340=\"\",\"\",COUNTIF($A$2:$A340,$A340))","v":44},{"$f":"IF($A340=\"\",\"\",$O340+thousand*VLOOKUP($A340,$A$1:Q340,17,FALSE))","v":17044},{"$f":"IF(O340=1,MAX(Q$1:Q339)+1,\"\")","v":""},"ET Solar","ET-M660260WW",339,null,null,null,null,null,null,null,null,null,null,null,null,null,null,null,null,null,null,1000]
["ET Solar","ET-P672280BB",0.14430371396530114,280,44.27,35.54,8.48,7.88,3.3919999999999999,-151.40340000000003,-121.54680000000002,null,340,"",{"$f":"IF($A341=\"\",\"\",COUNTIF($A$2:$A341,$A341))","v":45},{"$f":"IF($A341=\"\",\"\",$O341+thousand*VLOOKUP($A341,$A$1:Q341,17,FALSE))","v":17045},{"$f":"IF(O341=1,MAX(Q$1:Q340)+1,\"\")","v":""},"ET Solar","ET-P672280BB",340,null,null,null,null,null,null,null,null,null,null,null,null,null,null,null,null,null,null,1000]
["ET Solar","ET-P672280WW",0.14430371396530114,280,44.27,35.54,8.48,7.88,3.3919999999999999,-151.40340000000003,-121.54680000000002,null,341,"",{"$f":"IF($A342=\"\",\"\",COUNTIF($A$2:$A342,$A342))","v":46},{"$f":"IF($A342=\"\",\"\",$O342+thousand*VLOOKUP($A342,$A$1:Q342,17,FALSE))","v":17046},{"$f":"IF(O342=1,MAX(Q$1:Q341)+1,\"\")","v":""},"ET Solar","ET-P672280WW",341,null,null,null,null,null,null,null,null,null,null,null,null,null,null,null,null,null,null,1000]
["ET Solar","ET-M672280BB",0.14430371396530114,280,44.3,35.68,8.41,7.85,1.6820000000000002,-151.506,-122.02560000000001,null,342,"",{"$f":"IF($A343=\"\",\"\",COUNTIF($A$2:$A343,$A343))","v":47},{"$f":"IF($A343=\"\",\"\",$O343+thousand*VLOOKUP($A343,$A$1:Q343,17,FALSE))","v":17047},{"$f":"IF(O343=1,MAX(Q$1:Q342)+1,\"\")","v":""},"ET Solar","ET-M672280BB",342,null,null,null,null,null,null,null,null,null,null,null,null,null,null,null,null,null,null,1000]
["ET Solar","ET-M672280WW",0.14430371396530114,280,44.3,35.68,8.41,7.85,1.6820000000000002,-151.506,-122.02560000000001,null,343,"",{"$f":"IF($A344=\"\",\"\",COUNTIF($A$2:$A344,$A344))","v":48},{"$f":"IF($A344=\"\",\"\",$O344+thousand*VLOOKUP($A344,$A$1:Q344,17,FALSE))","v":17048},{"$f":"IF(O344=1,MAX(Q$1:Q343)+1,\"\")","v":""},"ET Solar","ET-M672280WW",343,null,null,null,null,null,null,null,null,null,null,null,null,null,null,null,null,null,null,1000]
["ET Solar","ET-P672285BB",0.14688056600039581,285,44.72,35.86,8.5500000000000007,7.95,3.4200000000000004,-152.94239999999999,-122.6412,null,344,"",{"$f":"IF($A345=\"\",\"\",COUNTIF($A$2:$A345,$A345))","v":49},{"$f":"IF($A345=\"\",\"\",$O345+thousand*VLOOKUP($A345,$A$1:Q345,17,FALSE))","v":17049},{"$f":"IF(O345=1,MAX(Q$1:Q344)+1,\"\")","v":""},"ET Solar","ET-P672285BB",344,null,null,null,null,null,null,null,null,null,null,null,null,null,null,null,null,null,null,1000]
["ET Solar","ET-P672285WW",0.14688056600039581,285,44.72,35.86,8.5500000000000007,7.95,3.4200000000000004,-152.94239999999999,-122.6412,null,345,"",{"$f":"IF($A346=\"\",\"\",COUNTIF($A$2:$A346,$A346))","v":50},{"$f":"IF($A346=\"\",\"\",$O346+thousand*VLOOKUP($A346,$A$1:Q346,17,FALSE))","v":17050},{"$f":"IF(O346=1,MAX(Q$1:Q345)+1,\"\")","v":""},"ET Solar","ET-P672285WW",345,null,null,null,null,null,null,null,null,null,null,null,null,null,null,null,null,null,null,1000]
["ET Solar","ET-M672285BB",0.14688056600039581,285,44.35,35.68,8.52,7.99,1.704,-151.67699999999999,-122.0256,null,346,"",{"$f":"IF($A347=\"\",\"\",COUNTIF($A$2:$A347,$A347))","v":51},{"$f":"IF($A347=\"\",\"\",$O347+thousand*VLOOKUP($A347,$A$1:Q347,17,FALSE))","v":17051},{"$f":"IF(O347=1,MAX(Q$1:Q346)+1,\"\")","v":""},"ET Solar","ET-M672285BB",346,null,null,null,null,null,null,null,null,null,null,null,null,null,null,null,null,null,null,1000]
["ET Solar","ET-M672285WW",0.14688056600039581,285,44.35,35.68,8.52,7.99,1.704,-151.67699999999999,-122.0256,null,347,"",{"$f":"IF($A348=\"\",\"\",COUNTIF($A$2:$A348,$A348))","v":52},{"$f":"IF($A348=\"\",\"\",$O348+thousand*VLOOKUP($A348,$A$1:Q348,17,FALSE))","v":17052},{"$f":"IF(O348=1,MAX(Q$1:Q347)+1,\"\")","v":""},"ET Solar","ET-M672285WW",347,null,null,null,null,null,null,null,null,null,null,null,null,null,null,null,null,null,null,1000]
["ET Solar","ET-P672290BB",0.14945741803549048,290,44.75,35.92,8.6199999999999992,8.08,3.448,-153.04500000000002,-122.84640000000002,null,348,"",{"$f":"IF($A349=\"\",\"\",COUNTIF($A$2:$A349,$A349))","v":53},{"$f":"IF($A349=\"\",\"\",$O349+thousand*VLOOKUP($A349,$A$1:Q349,17,FALSE))","v":17053},{"$f":"IF(O349=1,MAX(Q$1:Q348)+1,\"\")","v":""},"ET Solar","ET-P672290BB",348,null,null,null,null,null,null,null,null,null,null,null,null,null,null,null,null,null,null,1000]
["ET Solar","ET-P672290WW",0.14945741803549048,290,44.75,35.92,8.6199999999999992,8.08,3.448,-153.04500000000002,-122.84640000000002,null,349,"",{"$f":"IF($A350=\"\",\"\",COUNTIF($A$2:$A350,$A350))","v":54},{"$f":"IF($A350=\"\",\"\",$O350+thousand*VLOOKUP($A350,$A$1:Q350,17,FALSE))","v":17054},{"$f":"IF(O350=1,MAX(Q$1:Q349)+1,\"\")","v":""},"ET Solar","ET-P672290WW",349,null,null,null,null,null,null,null,null,null,null,null,null,null,null,null,null,null,null,1000]
["ET Solar","ET-M672290BB",0.14945741803549048,290,44.5,35.72,8.61,8.1199999999999992,1.722,-152.19000000000003,-122.16240000000002,null,350,"",{"$f":"IF($A351=\"\",\"\",COUNTIF($A$2:$A351,$A351))","v":55},{"$f":"IF($A351=\"\",\"\",$O351+thousand*VLOOKUP($A351,$A$1:Q351,17,FALSE))","v":17055},{"$f":"IF(O351=1,MAX(Q$1:Q350)+1,\"\")","v":""},"ET Solar","ET-M672290BB",350,null,null,null,null,null,null,null,null,null,null,null,null,null,null,null,null,null,null,1000]
["ET Solar","ET-M672290WW",0.14945741803549048,290,44.5,35.72,8.61,8.1199999999999992,1.722,-152.19000000000003,-122.16240000000002,null,351,"",{"$f":"IF($A352=\"\",\"\",COUNTIF($A$2:$A352,$A352))","v":56},{"$f":"IF($A352=\"\",\"\",$O352+thousand*VLOOKUP($A352,$A$1:Q352,17,FALSE))","v":17056},{"$f":"IF(O352=1,MAX(Q$1:Q351)+1,\"\")","v":""},"ET Solar","ET-M672290WW",351,null,null,null,null,null,null,null,null,null,null,null,null,null,null,null,null,null,null,1000]
["ET Solar","ET-P672295BB",0.15203427007058515,295,44.78,36.17,8.68,8.16,3.472,-153.14760000000001,-123.70140000000001,null,352,"",{"$f":"IF($A353=\"\",\"\",COUNTIF($A$2:$A353,$A353))","v":57},{"$f":"IF($A353=\"\",\"\",$O353+thousand*VLOOKUP($A353,$A$1:Q353,17,FALSE))","v":17057},{"$f":"IF(O353=1,MAX(Q$1:Q352)+1,\"\")","v":""},"ET Solar","ET-P672295BB",352,null,null,null,null,null,null,null,null,null,null,null,null,null,null,null,null,null,null,1000]
["ET Solar","ET-P672295WW",0.15203427007058515,295,44.78,36.17,8.68,8.16,3.472,-153.14760000000001,-123.70140000000001,null,353,"",{"$f":"IF($A354=\"\",\"\",COUNTIF($A$2:$A354,$A354))","v":58},{"$f":"IF($A354=\"\",\"\",$O354+thousand*VLOOKUP($A354,$A$1:Q354,17,FALSE))","v":17058},{"$f":"IF(O354=1,MAX(Q$1:Q353)+1,\"\")","v":""},"ET Solar","ET-P672295WW",353,null,null,null,null,null,null,null,null,null,null,null,null,null,null,null,null,null,null,1000]
["ET Solar","ET-M672295BB",0.15203427007058515,295,44.8,35.78,8.7200000000000006,8.25,1.7440000000000002,-153.21599999999998,-122.3676,null,354,"",{"$f":"IF($A355=\"\",\"\",COUNTIF($A$2:$A355,$A355))","v":59},{"$f":"IF($A355=\"\",\"\",$O355+thousand*VLOOKUP($A355,$A$1:Q355,17,FALSE))","v":17059},{"$f":"IF(O355=1,MAX(Q$1:Q354)+1,\"\")","v":""},"ET Solar","ET-M672295BB",354,null,null,null,null,null,null,null,null,null,null,null,null,null,null,null,null,null,null,1000]
["ET Solar","ET-M672295WW",0.15203427007058515,295,44.8,35.78,8.7200000000000006,8.25,1.7440000000000002,-153.21599999999998,-122.3676,null,355,"",{"$f":"IF($A356=\"\",\"\",COUNTIF($A$2:$A356,$A356))","v":60},{"$f":"IF($A356=\"\",\"\",$O356+thousand*VLOOKUP($A356,$A$1:Q356,17,FALSE))","v":17060},{"$f":"IF(O356=1,MAX(Q$1:Q355)+1,\"\")","v":""},"ET Solar","ET-M672295WW",355,null,null,null,null,null,null,null,null,null,null,null,null,null,null,null,null,null,null,1000]
["ET Solar","ET-P672300BB",0.15461112210567979,300,44.89,36.68,8.7200000000000006,8.18,3.4880000000000004,-153.52380000000002,-125.44560000000001,null,356,"",{"$f":"IF($A357=\"\",\"\",COUNTIF($A$2:$A357,$A357))","v":61},{"$f":"IF($A357=\"\",\"\",$O357+thousand*VLOOKUP($A357,$A$1:Q357,17,FALSE))","v":17061},{"$f":"IF(O357=1,MAX(Q$1:Q356)+1,\"\")","v":""},"ET Solar","ET-P672300BB",356,null,null,null,null,null,null,null,null,null,null,null,null,null,null,null,null,null,null,1000]
["ET Solar","ET-P672300WW",0.15461112210567979,300,44.89,36.68,8.7200000000000006,8.18,3.4880000000000004,-153.52380000000002,-125.44560000000001,null,357,"",{"$f":"IF($A358=\"\",\"\",COUNTIF($A$2:$A358,$A358))","v":62},{"$f":"IF($A358=\"\",\"\",$O358+thousand*VLOOKUP($A358,$A$1:Q358,17,FALSE))","v":17062},{"$f":"IF(O358=1,MAX(Q$1:Q357)+1,\"\")","v":""},"ET Solar","ET-P672300WW",357,null,null,null,null,null,null,null,null,null,null,null,null,null,null,null,null,null,null,1000]
["ET Solar","ET-M672300BB",0.15461112210567979,300,44.92,36.24,8.81,8.2799999999999994,1.7620000000000002,-153.62640000000002,-123.94080000000001,null,358,"",{"$f":"IF($A359=\"\",\"\",COUNTIF($A$2:$A359,$A359))","v":63},{"$f":"IF($A359=\"\",\"\",$O359+thousand*VLOOKUP($A359,$A$1:Q359,17,FALSE))","v":17063},{"$f":"IF(O359=1,MAX(Q$1:Q358)+1,\"\")","v":""},"ET Solar","ET-M672300BB",358,null,null,null,null,null,null,null,null,null,null,null,null,null,null,null,null,null,null,1000]
["ET Solar","ET-M672300WW",0.15461112210567979,300,44.92,36.24,8.81,8.2799999999999994,1.7620000000000002,-153.62640000000002,-123.94080000000001,null,359,"",{"$f":"IF($A360=\"\",\"\",COUNTIF($A$2:$A360,$A360))","v":64},{"$f":"IF($A360=\"\",\"\",$O360+thousand*VLOOKUP($A360,$A$1:Q360,17,FALSE))","v":17064},{"$f":"IF(O360=1,MAX(Q$1:Q359)+1,\"\")","v":""},"ET Solar","ET-M672300WW",359,null,null,null,null,null,null,null,null,null,null,null,null,null,null,null,null,null,null,1000]
["ET Solar","ET-P672305BB",0.15718797414077446,305,45.12,37.18,8.7799999999999994,8.2100000000000009,3.5119999999999996,-154.31039999999999,-127.15559999999999,null,360,"",{"$f":"IF($A361=\"\",\"\",COUNTIF($A$2:$A361,$A361))","v":65},{"$f":"IF($A361=\"\",\"\",$O361+thousand*VLOOKUP($A361,$A$1:Q361,17,FALSE))","v":17065},{"$f":"IF(O361=1,MAX(Q$1:Q360)+1,\"\")","v":""},"ET Solar","ET-P672305BB",360,null,null,null,null,null,null,null,null,null,null,null,null,null,null,null,null,null,null,1000]
["ET Solar","ET-P672305WW",0.15718797414077446,305,45.12,37.18,8.7799999999999994,8.2100000000000009,3.5119999999999996,-154.31039999999999,-127.15559999999999,null,361,"",{"$f":"IF($A362=\"\",\"\",COUNTIF($A$2:$A362,$A362))","v":66},{"$f":"IF($A362=\"\",\"\",$O362+thousand*VLOOKUP($A362,$A$1:Q362,17,FALSE))","v":17066},{"$f":"IF(O362=1,MAX(Q$1:Q361)+1,\"\")","v":""},"ET Solar","ET-P672305WW",361,null,null,null,null,null,null,null,null,null,null,null,null,null,null,null,null,null,null,1000]
["ET Solar","ET-M672305BB",0.15718797414077446,305,45.12,36.75,8.8800000000000008,8.3000000000000007,1.776,-154.31039999999999,-125.685,null,362,"",{"$f":"IF($A363=\"\",\"\",COUNTIF($A$2:$A363,$A363))","v":67},{"$f":"IF($A363=\"\",\"\",$O363+thousand*VLOOKUP($A363,$A$1:Q363,17,FALSE))","v":17067},{"$f":"IF(O363=1,MAX(Q$1:Q362)+1,\"\")","v":""},"ET Solar","ET-M672305BB",362,null,null,null,null,null,null,null,null,null,null,null,null,null,null,null,null,null,null,1000]
["ET Solar","ET-M672305WW",0.15718797414077446,305,45.12,36.75,8.8800000000000008,8.3000000000000007,1.776,-154.31039999999999,-125.685,null,363,"",{"$f":"IF($A364=\"\",\"\",COUNTIF($A$2:$A364,$A364))","v":68},{"$f":"IF($A364=\"\",\"\",$O364+thousand*VLOOKUP($A364,$A$1:Q364,17,FALSE))","v":17068},{"$f":"IF(O364=1,MAX(Q$1:Q363)+1,\"\")","v":""},"ET Solar","ET-M672305WW",363,null,null,null,null,null,null,null,null,null,null,null,null,null,null,null,null,null,null,1000]
["ET Solar","ET-P672310WW",0.1597648261758691,310,45.8,37.71,8.7899999999999991,8.23,3.5159999999999996,-156.636,-128.96820000000002,null,364,"",{"$f":"IF($A365=\"\",\"\",COUNTIF($A$2:$A365,$A365))","v":69},{"$f":"IF($A365=\"\",\"\",$O365+thousand*VLOOKUP($A365,$A$1:Q365,17,FALSE))","v":17069},{"$f":"IF(O365=1,MAX(Q$1:Q364)+1,\"\")","v":""},"ET Solar","ET-P672310WW",364,null,null,null,null,null,null,null,null,null,null,null,null,null,null,null,null,null,null,1000]
["ET Solar","ET-M672310WW",0.1597648261758691,310,45.4,37.26,8.9499999999999993,8.32,1.79,-155.26800000000003,-127.42920000000002,null,365,"",{"$f":"IF($A366=\"\",\"\",COUNTIF($A$2:$A366,$A366))","v":70},{"$f":"IF($A366=\"\",\"\",$O366+thousand*VLOOKUP($A366,$A$1:Q366,17,FALSE))","v":17070},{"$f":"IF(O366=1,MAX(Q$1:Q365)+1,\"\")","v":""},"ET Solar","ET-M672310WW",365,null,null,null,null,null,null,null,null,null,null,null,null,null,null,null,null,null,null,1000]
["First Solar","FS-390-PLUS",0.125,90,56.9,44.4,2.27,2.0299999999999998,0.90800000000000003,-204.27099999999999,-159.39599999999999,null,366,"",{"$f":"IF($A367=\"\",\"\",COUNTIF($A$2:$A367,$A367))","v":1},{"$f":"IF($A367=\"\",\"\",$O367+thousand*VLOOKUP($A367,$A$1:Q367,17,FALSE))","v":18001},{"$f":"IF(O367=1,MAX(Q$1:Q366)+1,\"\")","v":18},"First Solar","FS-390-PLUS",366,null,null,null,null,null,null,null,null,null,null,null,null,null,null,null,null,null,null,1000]
["First Solar","FS-392-PLUS",0.12847222222222224,92.5,57.7,45.1,2.2799999999999998,2.0499999999999998,0.88919999999999999,-200.79599999999999,-156.94799999999998,null,367,"",{"$f":"IF($A368=\"\",\"\",COUNTIF($A$2:$A368,$A368))","v":2},{"$f":"IF($A368=\"\",\"\",$O368+thousand*VLOOKUP($A368,$A$1:Q368,17,FALSE))","v":18002},{"$f":"IF(O368=1,MAX(Q$1:Q367)+1,\"\")","v":""},"First Solar","FS-392-PLUS",367,null,null,null,null,null,null,null,null,null,null,null,null,null,null,null,null,null,null,1000]
["First Solar","FS-392",0.12847222222222224,92.5,60.5,47.7,2.11,1.94,0.82289999999999985,-97.405000000000001,-76.797000000000011,null,368,"",{"$f":"IF($A369=\"\",\"\",COUNTIF($A$2:$A369,$A369))","v":3},{"$f":"IF($A369=\"\",\"\",$O369+thousand*VLOOKUP($A369,$A$1:Q369,17,FALSE))","v":18003},{"$f":"IF(O369=1,MAX(Q$1:Q368)+1,\"\")","v":""},"First Solar","FS-392",368,null,null,null,null,null,null,null,null,null,null,null,null,null,null,null,null,null,null,1000]
["First Solar","FS-395-PLUS",0.13194444444444442,95,58,45.7,2.29,2.08,0.8931,-198.94,-156.751,null,369,"",{"$f":"IF($A370=\"\",\"\",COUNTIF($A$2:$A370,$A370))","v":4},{"$f":"IF($A370=\"\",\"\",$O370+thousand*VLOOKUP($A370,$A$1:Q370,17,FALSE))","v":18004},{"$f":"IF(O370=1,MAX(Q$1:Q369)+1,\"\")","v":""},"First Solar","FS-395-PLUS",369,null,null,null,null,null,null,null,null,null,null,null,null,null,null,null,null,null,null,1000]
["First Solar","FS-395",0.13194444444444442,95,60.5,47.5,2.17,2,0.88970000000000005,-97.405000000000001,-76.475000000000009,null,370,"",{"$f":"IF($A371=\"\",\"\",COUNTIF($A$2:$A371,$A371))","v":5},{"$f":"IF($A371=\"\",\"\",$O371+thousand*VLOOKUP($A371,$A$1:Q371,17,FALSE))","v":18005},{"$f":"IF(O371=1,MAX(Q$1:Q370)+1,\"\")","v":""},"First Solar","FS-395",370,null,null,null,null,null,null,null,null,null,null,null,null,null,null,null,null,null,null,1000]
["First Solar","FS-397-PLUS",0.13541666666666666,97.5,58.6,46.1,2.29,2.11,0.8931,-195.13800000000001,-153.51300000000001,null,371,"",{"$f":"IF($A372=\"\",\"\",COUNTIF($A$2:$A372,$A372))","v":6},{"$f":"IF($A372=\"\",\"\",$O372+thousand*VLOOKUP($A372,$A$1:Q372,17,FALSE))","v":18006},{"$f":"IF(O372=1,MAX(Q$1:Q371)+1,\"\")","v":""},"First Solar","FS-397-PLUS",371,null,null,null,null,null,null,null,null,null,null,null,null,null,null,null,null,null,null,1000]
["First Solar","FS-3100-PLUS",0.1388888888888889,100,58.8,46.7,2.33,2.14,0.90870000000000006,-195.21600000000001,-155.04400000000001,null,372,"",{"$f":"IF($A373=\"\",\"\",COUNTIF($A$2:$A373,$A373))","v":7},{"$f":"IF($A373=\"\",\"\",$O373+thousand*VLOOKUP($A373,$A$1:Q373,17,FALSE))","v":18007},{"$f":"IF(O373=1,MAX(Q$1:Q372)+1,\"\")","v":""},"First Solar","FS-3100-PLUS",372,null,null,null,null,null,null,null,null,null,null,null,null,null,null,null,null,null,null,1000]
["Goldi Green","Poly 140 Wp 36 cells",0.1408202781200493,140,22.2,17.7,8.3000000000000007,7.89,5.7270000000000012,-88.8,-70.8,null,373,"",{"$f":"IF($A374=\"\",\"\",COUNTIF($A$2:$A374,$A374))","v":1},{"$f":"IF($A374=\"\",\"\",$O374+thousand*VLOOKUP($A374,$A$1:Q374,17,FALSE))","v":19001},{"$f":"IF(O374=1,MAX(Q$1:Q373)+1,\"\")","v":19},"Goldi Green","Poly 140 Wp 36 cells",373,null,null,null,null,null,null,null,null,null,null,null,null,null,null,null,null,null,null,1000]
["Goldi Green","Poly 150 Wp 36 cells",0.15087886941433853,150,22.5,18,8.6999999999999993,8.35,6.0030000000000001,-90,-72,null,374,"",{"$f":"IF($A375=\"\",\"\",COUNTIF($A$2:$A375,$A375))","v":2},{"$f":"IF($A375=\"\",\"\",$O375+thousand*VLOOKUP($A375,$A$1:Q375,17,FALSE))","v":19002},{"$f":"IF(O375=1,MAX(Q$1:Q374)+1,\"\")","v":""},"Goldi Green","Poly 150 Wp 36 cells",374,null,null,null,null,null,null,null,null,null,null,null,null,null,null,null,null,null,null,1000]
["Goldi Green","Poly 180 Wp 54 cells",0.137221269296741,180,29.2,23.9,8,7.55,5.5200000000000005,-116.8,-95.6,null,375,"",{"$f":"IF($A376=\"\",\"\",COUNTIF($A$2:$A376,$A376))","v":3},{"$f":"IF($A376=\"\",\"\",$O376+thousand*VLOOKUP($A376,$A$1:Q376,17,FALSE))","v":19003},{"$f":"IF(O376=1,MAX(Q$1:Q375)+1,\"\")","v":""},"Goldi Green","Poly 180 Wp 54 cells",375,null,null,null,null,null,null,null,null,null,null,null,null,null,null,null,null,null,null,1000]
["Goldi Green","Poly 190 Wp 54 cells",0.14484467314655994,190,29.7,24.2,8.3000000000000007,7.88,5.7270000000000012,-118.8,-96.8,null,376,"",{"$f":"IF($A377=\"\",\"\",COUNTIF($A$2:$A377,$A377))","v":4},{"$f":"IF($A377=\"\",\"\",$O377+thousand*VLOOKUP($A377,$A$1:Q377,17,FALSE))","v":19004},{"$f":"IF(O377=1,MAX(Q$1:Q376)+1,\"\")","v":""},"Goldi Green","Poly 190 Wp 54 cells",376,null,null,null,null,null,null,null,null,null,null,null,null,null,null,null,null,null,null,1000]
["Goldi Green","Poly 200 Wp 54 cells",0.13513056991317859,200,33.200000000000003,26.8,7.8,7.48,5.3819999999999997,-132.80000000000001,-107.2,null,377,"",{"$f":"IF($A378=\"\",\"\",COUNTIF($A$2:$A378,$A378))","v":5},{"$f":"IF($A378=\"\",\"\",$O378+thousand*VLOOKUP($A378,$A$1:Q378,17,FALSE))","v":19005},{"$f":"IF(O378=1,MAX(Q$1:Q377)+1,\"\")","v":""},"Goldi Green","Poly 200 Wp 54 cells",377,null,null,null,null,null,null,null,null,null,null,null,null,null,null,null,null,null,null,1500]
["Goldi Green","Poly 210 Wp 54 cells",0.14188709840883751,210,33.200000000000003,27,8.1999999999999993,7.8,5.6579999999999995,-132.80000000000001,-108,null,378,"",{"$f":"IF($A379=\"\",\"\",COUNTIF($A$2:$A379,$A379))","v":6},{"$f":"IF($A379=\"\",\"\",$O379+thousand*VLOOKUP($A379,$A$1:Q379,17,FALSE))","v":19006},{"$f":"IF(O379=1,MAX(Q$1:Q378)+1,\"\")","v":""},"Goldi Green","Poly 210 Wp 54 cells",378,null,null,null,null,null,null,null,null,null,null,null,null,null,null,null,null,null,null,1000]
["Goldi Green","Poly 220 Wp 54 cells",0.14864362690449648,220,33.5,27.5,8.5,8,5.8650000000000002,-134,-110,null,379,"",{"$f":"IF($A380=\"\",\"\",COUNTIF($A$2:$A380,$A380))","v":7},{"$f":"IF($A380=\"\",\"\",$O380+thousand*VLOOKUP($A380,$A$1:Q380,17,FALSE))","v":19007},{"$f":"IF(O380=1,MAX(Q$1:Q379)+1,\"\")","v":""},"Goldi Green","Poly 220 Wp 54 cells",379,null,null,null,null,null,null,null,null,null,null,null,null,null,null,null,null,null,null,1000]
["Goldi Green","Poly 225 Wp 54 cells",0.15202189115232595,225,33.5,27.6,8.6999999999999993,8.15,6.0030000000000001,-134,-110.4,null,380,"",{"$f":"IF($A381=\"\",\"\",COUNTIF($A$2:$A381,$A381))","v":8},{"$f":"IF($A381=\"\",\"\",$O381+thousand*VLOOKUP($A381,$A$1:Q381,17,FALSE))","v":19008},{"$f":"IF(O381=1,MAX(Q$1:Q380)+1,\"\")","v":""},"Goldi Green","Poly 225 Wp 54 cells",380,null,null,null,null,null,null,null,null,null,null,null,null,null,null,null,null,null,null,1000]
["Goldi Green","Poly 230 Wp 60 cells",0.14037657542189264,230,36.799999999999997,29.4,8.1,7.85,5.5890000000000004,-147.19999999999999,-117.6,null,381,"",{"$f":"IF($A382=\"\",\"\",COUNTIF($A$2:$A382,$A382))","v":9},{"$f":"IF($A382=\"\",\"\",$O382+thousand*VLOOKUP($A382,$A$1:Q382,17,FALSE))","v":19009},{"$f":"IF(O382=1,MAX(Q$1:Q381)+1,\"\")","v":""},"Goldi Green","Poly 230 Wp 60 cells",381,null,null,null,null,null,null,null,null,null,null,null,null,null,null,null,null,null,null,1000]
["Goldi Green","Poly 235 Wp 60 cells",0.14342824010497726,235,36.9,29.6,8.25,7.96,5.6925000000000008,-147.60000000000002,-118.40000000000002,null,382,"",{"$f":"IF($A383=\"\",\"\",COUNTIF($A$2:$A383,$A383))","v":10},{"$f":"IF($A383=\"\",\"\",$O383+thousand*VLOOKUP($A383,$A$1:Q383,17,FALSE))","v":19010},{"$f":"IF(O383=1,MAX(Q$1:Q382)+1,\"\")","v":""},"Goldi Green","Poly 235 Wp 60 cells",382,null,null,null,null,null,null,null,null,null,null,null,null,null,null,null,null,null,null,1000]
["Goldi Green","Poly 240 Wp 60 cells",0.14647990478806192,240,37,29.7,8.4,8.1,5.7960000000000012,-148.00000000000003,-118.80000000000003,null,383,"",{"$f":"IF($A384=\"\",\"\",COUNTIF($A$2:$A384,$A384))","v":11},{"$f":"IF($A384=\"\",\"\",$O384+thousand*VLOOKUP($A384,$A$1:Q384,17,FALSE))","v":19011},{"$f":"IF(O384=1,MAX(Q$1:Q383)+1,\"\")","v":""},"Goldi Green","Poly 240 Wp 60 cells",383,null,null,null,null,null,null,null,null,null,null,null,null,null,null,null,null,null,null,1000]
["Goldi Green","Poly 245 Wp 60 cells",0.14953156947114651,245,37.299999999999997,29.9,8.5,8.23,5.8650000000000002,-149.19999999999999,-119.6,null,384,"",{"$f":"IF($A385=\"\",\"\",COUNTIF($A$2:$A385,$A385))","v":12},{"$f":"IF($A385=\"\",\"\",$O385+thousand*VLOOKUP($A385,$A$1:Q385,17,FALSE))","v":19012},{"$f":"IF(O385=1,MAX(Q$1:Q384)+1,\"\")","v":""},"Goldi Green","Poly 245 Wp 60 cells",384,null,null,null,null,null,null,null,null,null,null,null,null,null,null,null,null,null,null,1000]
["Goldi Green","Poly 250 Wp 60 cells",0.15258323415423114,250,37.6,30,8.6,8.35,5.9340000000000002,-150.4,-120,null,385,{"$f":"IF(M386>MAX(Q$2:Q$7985),\"\",VLOOKUP(M386,Q$2:R$7985,2,FALSE))","v":""},{"$f":"IF($A386=\"\",\"\",COUNTIF($A$2:$A386,$A386))","v":13},{"$f":"IF($A386=\"\",\"\",$O386+thousand*VLOOKUP($A386,$A$1:Q386,17,FALSE))","v":19013},{"$f":"IF(O386=1,MAX(Q$1:Q385)+1,\"\")","v":""},"Goldi Green","Poly 250 Wp 60 cells",385,null,null,null,null,null,null,null,null,null,null,null,null,null,null,null,null,null,null,1000]
["Goldi Green","Poly 255 Wp 60 cells",0.15563489883731577,255,37.9,30.2,8.6999999999999993,8.4600000000000009,6.0030000000000001,-151.60000000000002,{"$f":"F387/E387*J387","v":-120.80000000000003},null,386,"",{"$f":"IF($A387=\"\",\"\",COUNTIF($A$2:$A387,$A387))","v":14},{"$f":"IF($A387=\"\",\"\",$O387+thousand*VLOOKUP($A387,$A$1:Q387,17,FALSE))","v":19014},{"$f":"IF(O387=1,MAX(Q$1:Q386)+1,\"\")","v":""},{"$f":"IF(A387=\"\",\"\",A387)","v":"Goldi Green"},{"$f":"IF(B387=\"\",\"\",B387)","v":"Poly 255 Wp 60 cells"},{"$f":"$M387","v":386},null,null,null,null,null,null,null,null,null,null,null,null,null,null,null,null,null,null,1000]
["Goldi Green","Poly 280 Wp 72 cells",0.14320419383710525,280,44.2,35.9,8.1999999999999993,7.8,5.6579999999999995,-176.80000000000004,-143.60000000000002,null,387,"",{"$f":"IF($A388=\"\",\"\",COUNTIF($A$2:$A388,$A388))","v":15},{"$f":"IF($A388=\"\",\"\",$O388+thousand*VLOOKUP($A388,$A$1:Q388,17,FALSE))","v":19015},{"$f":"IF(O388=1,MAX(Q$1:Q387)+1,\"\")","v":""},"Goldi Green","Poly 280 Wp 72 cells",387,null,null,null,null,null,null,null,null,null,null,null,null,null,null,null,null,null,null,1000]
["Goldi Green","Poly 290 Wp 72 cells",0.14831862933128756,290,44.7,36.299999999999997,8.4,8,5.7960000000000012,-178.8,-145.19999999999999,null,388,"",{"$f":"IF($A389=\"\",\"\",COUNTIF($A$2:$A389,$A389))","v":16},{"$f":"IF($A389=\"\",\"\",$O389+thousand*VLOOKUP($A389,$A$1:Q389,17,FALSE))","v":19016},{"$f":"IF(O389=1,MAX(Q$1:Q388)+1,\"\")","v":""},"Goldi Green","Poly 290 Wp 72 cells",388,null,null,null,null,null,null,null,null,null,null,null,null,null,null,null,null,null,null,1000]
["Goldi Green","Poly 300 Wp 72 cells",0.15343306482546989,300,45.2,36.6,8.6,8.1999999999999993,5.9340000000000002,-180.8,-146.4,null,389,"",{"$f":"IF($A390=\"\",\"\",COUNTIF($A$2:$A390,$A390))","v":17},{"$f":"IF($A390=\"\",\"\",$O390+thousand*VLOOKUP($A390,$A$1:Q390,17,FALSE))","v":19017},{"$f":"IF(O390=1,MAX(Q$1:Q389)+1,\"\")","v":""},"Goldi Green","Poly 300 Wp 72 cells",389,null,null,null,null,null,null,null,null,null,null,null,null,null,null,null,null,null,null,1000]
["Goldi Green","Poly 310 Wp 72 cells",0.15854750031965223,310,45.7,36.9,8.8000000000000007,8.42,6.072000000000001,-182.8,-147.6,null,390,"",{"$f":"IF($A391=\"\",\"\",COUNTIF($A$2:$A391,$A391))","v":18},{"$f":"IF($A391=\"\",\"\",$O391+thousand*VLOOKUP($A391,$A$1:Q391,17,FALSE))","v":19018},{"$f":"IF(O391=1,MAX(Q$1:Q390)+1,\"\")","v":""},"Goldi Green","Poly 310 Wp 72 cells",390,null,null,null,null,null,null,null,null,null,null,null,null,null,null,null,null,null,null,1000]
["Great Energy","GE-M-190",0.14882817395663617,190,44.18,35.85,5.73,5.3,5.7300000000000004E-2,-145.79400000000001,-118.30500000000001,null,391,"",{"$f":"IF($A392=\"\",\"\",COUNTIF($A$2:$A392,$A392))","v":1},{"$f":"IF($A392=\"\",\"\",$O392+thousand*VLOOKUP($A392,$A$1:Q392,17,FALSE))","v":20001},{"$f":"IF(O392=1,MAX(Q$1:Q391)+1,\"\")","v":20},"Great Energy","GE-M-190",391,null,null,null,null,null,null,null,null,null,null,null,null,null,null,null,null,null,null,1000]
["Great Energy","GE-M-195",0.15274470485023187,195,44.38,36.119999999999997,5.8,5.4,5.7999999999999996E-2,-146.45400000000004,-119.19600000000003,null,392,"",{"$f":"IF($A393=\"\",\"\",COUNTIF($A$2:$A393,$A393))","v":2},{"$f":"IF($A393=\"\",\"\",$O393+thousand*VLOOKUP($A393,$A$1:Q393,17,FALSE))","v":20002},{"$f":"IF(O393=1,MAX(Q$1:Q392)+1,\"\")","v":""},"Great Energy","GE-M-195",392,null,null,null,null,null,null,null,null,null,null,null,null,null,null,null,null,null,null,1000]
["Great Energy","GE-M-200",0.15666123574382756,200,44.61,36.58,5.86,5.47,5.8600000000000006E-2,-147.21300000000002,-120.71400000000001,null,393,"",{"$f":"IF($A394=\"\",\"\",COUNTIF($A$2:$A394,$A394))","v":3},{"$f":"IF($A394=\"\",\"\",$O394+thousand*VLOOKUP($A394,$A$1:Q394,17,FALSE))","v":20003},{"$f":"IF(O394=1,MAX(Q$1:Q393)+1,\"\")","v":""},"Great Energy","GE-M-200",393,null,null,null,null,null,null,null,null,null,null,null,null,null,null,null,null,null,null,1000]
["Great Energy","GE-P60-235",0.14386287113559842,235,37.24,29.58,8.49,7.95,8.4900000000000003E-2,-122.89200000000001,-97.61399999999999,null,394,"",{"$f":"IF($A395=\"\",\"\",COUNTIF($A$2:$A395,$A395))","v":4},{"$f":"IF($A395=\"\",\"\",$O395+thousand*VLOOKUP($A395,$A$1:Q395,17,FALSE))","v":20004},{"$f":"IF(O395=1,MAX(Q$1:Q394)+1,\"\")","v":""},"Great Energy","GE-P60-235",394,null,null,null,null,null,null,null,null,null,null,null,null,null,null,null,null,null,null,1000]
["Great Energy","GE-P60-240",0.14692378328741965,240,37.54,29.9,8.5299999999999994,8.0299999999999994,8.5299999999999987E-2,-123.88199999999999,-98.67,null,395,"",{"$f":"IF($A396=\"\",\"\",COUNTIF($A$2:$A396,$A396))","v":5},{"$f":"IF($A396=\"\",\"\",$O396+thousand*VLOOKUP($A396,$A$1:Q396,17,FALSE))","v":20005},{"$f":"IF(O396=1,MAX(Q$1:Q395)+1,\"\")","v":""},"Great Energy","GE-P60-240",395,null,null,null,null,null,null,null,null,null,null,null,null,null,null,null,null,null,null,1000]
["Great Energy","GE-M60-240",0.14692378328741965,240,37.46,30.31,8.49,7.92,0,-123.61800000000001,-100.023,null,396,"",{"$f":"IF($A397=\"\",\"\",COUNTIF($A$2:$A397,$A397))","v":6},{"$f":"IF($A397=\"\",\"\",$O397+thousand*VLOOKUP($A397,$A$1:Q397,17,FALSE))","v":20006},{"$f":"IF(O397=1,MAX(Q$1:Q396)+1,\"\")","v":""},"Great Energy","GE-M60-240",396,null,null,null,null,null,null,null,null,null,null,null,null,null,null,null,null,null,null,1000]
["Great Energy","GE-P60-245",0.14998469543924089,245,37.71,30.21,8.6,8.11,8.5999999999999993E-2,-124.443,-99.692999999999998,null,397,"",{"$f":"IF($A398=\"\",\"\",COUNTIF($A$2:$A398,$A398))","v":7},{"$f":"IF($A398=\"\",\"\",$O398+thousand*VLOOKUP($A398,$A$1:Q398,17,FALSE))","v":20007},{"$f":"IF(O398=1,MAX(Q$1:Q397)+1,\"\")","v":""},"Great Energy","GE-P60-245",397,null,null,null,null,null,null,null,null,null,null,null,null,null,null,null,null,null,null,1000]
["Great Energy","GE-M60-245",0.14998469543924089,245,37.6,30.7,8.59,7.98,0,-124.08000000000001,-101.31,null,398,"",{"$f":"IF($A399=\"\",\"\",COUNTIF($A$2:$A399,$A399))","v":8},{"$f":"IF($A399=\"\",\"\",$O399+thousand*VLOOKUP($A399,$A$1:Q399,17,FALSE))","v":20008},{"$f":"IF(O399=1,MAX(Q$1:Q398)+1,\"\")","v":""},"Great Energy","GE-M60-245",398,null,null,null,null,null,null,null,null,null,null,null,null,null,null,null,null,null,null,1000]
["Great Energy","GE-M60-250",0.15304560759106214,250,37.81,30.89,8.66,8.1,0,-124.77300000000001,-101.937,null,399,"",{"$f":"IF($A400=\"\",\"\",COUNTIF($A$2:$A400,$A400))","v":9},{"$f":"IF($A400=\"\",\"\",$O400+thousand*VLOOKUP($A400,$A$1:Q400,17,FALSE))","v":20009},{"$f":"IF(O400=1,MAX(Q$1:Q399)+1,\"\")","v":""},"Great Energy","GE-M60-250",399,null,null,null,null,null,null,null,null,null,null,null,null,null,null,null,null,null,null,1000]
["Great Energy","GE-P72-270",0.13858093126385809,270,44.9,35.409999999999997,8.1999999999999993,7.63,8.199999999999999E-2,-148.16999999999999,-116.85299999999999,null,400,"",{"$f":"IF($A401=\"\",\"\",COUNTIF($A$2:$A401,$A401))","v":10},{"$f":"IF($A401=\"\",\"\",$O401+thousand*VLOOKUP($A401,$A$1:Q401,17,FALSE))","v":20010},{"$f":"IF(O401=1,MAX(Q$1:Q400)+1,\"\")","v":""},"Great Energy","GE-P72-270",400,null,null,null,null,null,null,null,null,null,null,null,null,null,null,null,null,null,null,1000]
["Great Energy","GE-P72-275",0.14114724480578139,275,45,35.549999999999997,8.3000000000000007,7.74,8.3000000000000004E-2,-148.50000000000003,-117.31500000000001,null,401,"",{"$f":"IF($A402=\"\",\"\",COUNTIF($A$2:$A402,$A402))","v":11},{"$f":"IF($A402=\"\",\"\",$O402+thousand*VLOOKUP($A402,$A$1:Q402,17,FALSE))","v":20011},{"$f":"IF(O402=1,MAX(Q$1:Q401)+1,\"\")","v":""},"Great Energy","GE-P72-275",401,null,null,null,null,null,null,null,null,null,null,null,null,null,null,null,null,null,null,1000]
["Great Energy","GE-M72-275",0.14114724480578139,275,44.6,35.44,8.68,7.76,0,-147.18,-116.952,null,402,"",{"$f":"IF($A403=\"\",\"\",COUNTIF($A$2:$A403,$A403))","v":12},{"$f":"IF($A403=\"\",\"\",$O403+thousand*VLOOKUP($A403,$A$1:Q403,17,FALSE))","v":20012},{"$f":"IF(O403=1,MAX(Q$1:Q402)+1,\"\")","v":""},"Great Energy","GE-M72-275",402,null,null,null,null,null,null,null,null,null,null,null,null,null,null,null,null,null,null,1000]
["Great Energy","GE-P72-280",0.14371355834770469,280,45,35.549999999999997,8.35,7.88,8.3499999999999991E-2,-148.50000000000003,-117.31500000000001,null,403,"",{"$f":"IF($A404=\"\",\"\",COUNTIF($A$2:$A404,$A404))","v":13},{"$f":"IF($A404=\"\",\"\",$O404+thousand*VLOOKUP($A404,$A$1:Q404,17,FALSE))","v":20013},{"$f":"IF(O404=1,MAX(Q$1:Q403)+1,\"\")","v":""},"Great Energy","GE-P72-280",403,null,null,null,null,null,null,null,null,null,null,null,null,null,null,null,null,null,null,1000]
["Great Energy","GE-M72-280",0.14371355834770469,280,44.9,35.479999999999997,8.7899999999999991,7.89,0,-148.16999999999999,-117.08399999999997,null,404,"",{"$f":"IF($A405=\"\",\"\",COUNTIF($A$2:$A405,$A405))","v":14},{"$f":"IF($A405=\"\",\"\",$O405+thousand*VLOOKUP($A405,$A$1:Q405,17,FALSE))","v":20014},{"$f":"IF(O405=1,MAX(Q$1:Q404)+1,\"\")","v":""},"Great Energy","GE-M72-280",404,null,null,null,null,null,null,null,null,null,null,null,null,null,null,null,null,null,null,1000]
["Great Energy","GE-M72-285",0.14627987188962799,285,45.01,35.49,8.8000000000000007,8.0299999999999994,0,-148.53299999999999,-117.117,null,405,"",{"$f":"IF($A406=\"\",\"\",COUNTIF($A$2:$A406,$A406))","v":15},{"$f":"IF($A406=\"\",\"\",$O406+thousand*VLOOKUP($A406,$A$1:Q406,17,FALSE))","v":20015},{"$f":"IF(O406=1,MAX(Q$1:Q405)+1,\"\")","v":""},"Great Energy","GE-M72-285",405,null,null,null,null,null,null,null,null,null,null,null,null,null,null,null,null,null,null,1000]
["Hanwha Q Cells","Q.PRO-G3 240",0.1437125748502994,240,37.299999999999997,29.6,8.76,8.1999999999999993,3.504,-116.003,-92.056000000000012,null,406,"",{"$f":"IF($A407=\"\",\"\",COUNTIF($A$2:$A407,$A407))","v":1},{"$f":"IF($A407=\"\",\"\",$O407+thousand*VLOOKUP($A407,$A$1:Q407,17,FALSE))","v":21001},{"$f":"IF(O407=1,MAX(Q$1:Q406)+1,\"\")","v":21},"Hanwha Q Cells","Q.PRO-G3 240",406,null,null,null,null,null,null,null,null,null,null,null,null,null,null,null,null,null,null,1000]
["Hanwha Q Cells","Q.PRO-G2 240",0.1437125748502994,240,37.299999999999997,29.6,8.76,8.1999999999999993,3.504,-116.003,-92.056000000000012,null,407,"",{"$f":"IF($A408=\"\",\"\",COUNTIF($A$2:$A408,$A408))","v":2},{"$f":"IF($A408=\"\",\"\",$O408+thousand*VLOOKUP($A408,$A$1:Q408,17,FALSE))","v":21002},{"$f":"IF(O408=1,MAX(Q$1:Q407)+1,\"\")","v":""},"Hanwha Q Cells","Q.PRO-G2 240",407,null,null,null,null,null,null,null,null,null,null,null,null,null,null,null,null,null,null,1000]
["Hanwha Q Cells","Q.PRO-G3 245",0.1467065868263473,245,37.6,29.7,8.85,8.32,3.54,-115.056,-90.881999999999991,null,408,"",{"$f":"IF($A409=\"\",\"\",COUNTIF($A$2:$A409,$A409))","v":3},{"$f":"IF($A409=\"\",\"\",$O409+thousand*VLOOKUP($A409,$A$1:Q409,17,FALSE))","v":21003},{"$f":"IF(O409=1,MAX(Q$1:Q408)+1,\"\")","v":""},"Hanwha Q Cells","Q.PRO-G3 245",408,null,null,null,null,null,null,null,null,null,null,null,null,null,null,null,null,null,null,1000]
["Hanwha Q Cells","Q.PRO-G2 245",0.1467065868263473,245,37.6,29.7,8.85,8.32,3.54,-115.056,-90.881999999999991,null,409,"",{"$f":"IF($A410=\"\",\"\",COUNTIF($A$2:$A410,$A410))","v":4},{"$f":"IF($A410=\"\",\"\",$O410+thousand*VLOOKUP($A410,$A$1:Q410,17,FALSE))","v":21004},{"$f":"IF(O410=1,MAX(Q$1:Q409)+1,\"\")","v":""},"Hanwha Q Cells","Q.PRO-G2 245",409,null,null,null,null,null,null,null,null,null,null,null,null,null,null,null,null,null,null,1000]
["Hanwha Q Cells","Q.PEAK-G3 245",0.1467065868263473,245,36.799999999999997,29.7,9.01,8.33,3.6040000000000001,-114.08,-92.070000000000007,null,410,"",{"$f":"IF($A411=\"\",\"\",COUNTIF($A$2:$A411,$A411))","v":5},{"$f":"IF($A411=\"\",\"\",$O411+thousand*VLOOKUP($A411,$A$1:Q411,17,FALSE))","v":21005},{"$f":"IF(O411=1,MAX(Q$1:Q410)+1,\"\")","v":""},"Hanwha Q Cells","Q.PEAK-G3 245",410,null,null,null,null,null,null,null,null,null,null,null,null,null,null,null,null,null,null,1000]
["Hanwha Q Cells","Q.PRO-G3 250",0.1497005988023952,250,37.799999999999997,29.9,8.94,8.4499999999999993,3.5759999999999996,-114.15599999999999,-90.298000000000002,null,411,"",{"$f":"IF($A412=\"\",\"\",COUNTIF($A$2:$A412,$A412))","v":6},{"$f":"IF($A412=\"\",\"\",$O412+thousand*VLOOKUP($A412,$A$1:Q412,17,FALSE))","v":21006},{"$f":"IF(O412=1,MAX(Q$1:Q411)+1,\"\")","v":""},"Hanwha Q Cells","Q.PRO-G3 250",411,null,null,null,null,null,null,null,null,null,null,null,null,null,null,null,null,null,null,1000]
["Hanwha Q Cells","Q.PRO-G2 250",0.1497005988023952,250,37.799999999999997,29.9,8.94,8.4499999999999993,3.5759999999999996,-114.15599999999999,-90.298000000000002,null,412,"",{"$f":"IF($A413=\"\",\"\",COUNTIF($A$2:$A413,$A413))","v":7},{"$f":"IF($A413=\"\",\"\",$O413+thousand*VLOOKUP($A413,$A$1:Q413,17,FALSE))","v":21007},{"$f":"IF(O413=1,MAX(Q$1:Q412)+1,\"\")","v":""},"Hanwha Q Cells","Q.PRO-G2 250",412,null,null,null,null,null,null,null,null,null,null,null,null,null,null,null,null,null,null,1000]
["Hanwha Q Cells","Q.PEAK-G3 250",0.1497005988023952,250,37.200000000000003,30.1,9.07,8.41,3.6280000000000001,-114.20400000000001,-92.406999999999996,null,413,"",{"$f":"IF($A414=\"\",\"\",COUNTIF($A$2:$A414,$A414))","v":8},{"$f":"IF($A414=\"\",\"\",$O414+thousand*VLOOKUP($A414,$A$1:Q414,17,FALSE))","v":21008},{"$f":"IF(O414=1,MAX(Q$1:Q413)+1,\"\")","v":""},"Hanwha Q Cells","Q.PEAK-G3 250",413,null,null,null,null,null,null,null,null,null,null,null,null,null,null,null,null,null,null,1000]
["Hanwha Q Cells","Q.PEAK-G2 250",0.1497005988023952,250,37.200000000000003,30.1,9.07,8.41,3.6280000000000001,-114.20400000000001,-92.406999999999996,null,414,"",{"$f":"IF($A415=\"\",\"\",COUNTIF($A$2:$A415,$A415))","v":9},{"$f":"IF($A415=\"\",\"\",$O415+thousand*VLOOKUP($A415,$A$1:Q415,17,FALSE))","v":21009},{"$f":"IF(O415=1,MAX(Q$1:Q414)+1,\"\")","v":""},"Hanwha Q Cells","Q.PEAK-G2 250",414,null,null,null,null,null,null,null,null,null,null,null,null,null,null,null,null,null,null,1000]
["Hanwha Q Cells","Q.PRO-G3 255",0.15269461077844312,255,38,30,9.0299999999999994,8.57,3.6119999999999997,-114,-90,null,415,"",{"$f":"IF($A416=\"\",\"\",COUNTIF($A$2:$A416,$A416))","v":10},{"$f":"IF($A416=\"\",\"\",$O416+thousand*VLOOKUP($A416,$A$1:Q416,17,FALSE))","v":21010},{"$f":"IF(O416=1,MAX(Q$1:Q415)+1,\"\")","v":""},"Hanwha Q Cells","Q.PRO-G3 255",415,null,null,null,null,null,null,null,null,null,null,null,null,null,null,null,null,null,null,1000]
["Hanwha Q Cells","Q.PRO-G2 255",0.15269461077844312,255,38,30,9.0299999999999994,8.57,3.6119999999999997,-114,-90,null,416,"",{"$f":"IF($A417=\"\",\"\",COUNTIF($A$2:$A417,$A417))","v":11},{"$f":"IF($A417=\"\",\"\",$O417+thousand*VLOOKUP($A417,$A$1:Q417,17,FALSE))","v":21011},{"$f":"IF(O417=1,MAX(Q$1:Q416)+1,\"\")","v":""},"Hanwha Q Cells","Q.PRO-G2 255",416,null,null,null,null,null,null,null,null,null,null,null,null,null,null,null,null,null,null,1000]
["Hanwha Q Cells","Q.PEAK-G3 255",0.15269461077844312,255,37.5,30.3,9.1199999999999992,8.5,3.6479999999999997,-114,-92.112000000000009,null,417,"",{"$f":"IF($A418=\"\",\"\",COUNTIF($A$2:$A418,$A418))","v":12},{"$f":"IF($A418=\"\",\"\",$O418+thousand*VLOOKUP($A418,$A$1:Q418,17,FALSE))","v":21012},{"$f":"IF(O418=1,MAX(Q$1:Q417)+1,\"\")","v":""},"Hanwha Q Cells","Q.PEAK-G3 255",417,null,null,null,null,null,null,null,null,null,null,null,null,null,null,null,null,null,null,1000]
["Hanwha Q Cells","Q.PEAK-G2 255",0.15269461077844312,255,37.5,30.3,9.1199999999999992,8.5,3.6479999999999997,-114,-92.112000000000009,null,418,"",{"$f":"IF($A419=\"\",\"\",COUNTIF($A$2:$A419,$A419))","v":13},{"$f":"IF($A419=\"\",\"\",$O419+thousand*VLOOKUP($A419,$A$1:Q419,17,FALSE))","v":21013},{"$f":"IF(O419=1,MAX(Q$1:Q418)+1,\"\")","v":""},"Hanwha Q Cells","Q.PEAK-G2 255",418,null,null,null,null,null,null,null,null,null,null,null,null,null,null,null,null,null,null,1000]
["Hanwha Q Cells","Q.PRO-G3 260",0.15568862275449102,260,38.200000000000003,30.2,9.1199999999999992,8.6999999999999993,3.6479999999999997,-113.836,-89.995999999999981,null,419,"",{"$f":"IF($A420=\"\",\"\",COUNTIF($A$2:$A420,$A420))","v":14},{"$f":"IF($A420=\"\",\"\",$O420+thousand*VLOOKUP($A420,$A$1:Q420,17,FALSE))","v":21014},{"$f":"IF(O420=1,MAX(Q$1:Q419)+1,\"\")","v":""},"Hanwha Q Cells","Q.PRO-G3 260",419,null,null,null,null,null,null,null,null,null,null,null,null,null,null,null,null,null,null,1000]
["Hanwha Q Cells","Q.PRO-G2 260",0.15568862275449102,260,38.200000000000003,30.2,9.1199999999999992,8.6999999999999993,3.6479999999999997,-113.836,-89.995999999999981,null,420,"",{"$f":"IF($A421=\"\",\"\",COUNTIF($A$2:$A421,$A421))","v":15},{"$f":"IF($A421=\"\",\"\",$O421+thousand*VLOOKUP($A421,$A$1:Q421,17,FALSE))","v":21015},{"$f":"IF(O421=1,MAX(Q$1:Q420)+1,\"\")","v":""},"Hanwha Q Cells","Q.PRO-G2 260",420,null,null,null,null,null,null,null,null,null,null,null,null,null,null,null,null,null,null,1000]
["Hanwha Q Cells","Q.PEAK-G3 260",0.15568862275449102,260,37.9,30.6,9.17,8.58,3.6680000000000001,-114.07899999999999,-92.105999999999995,null,421,"",{"$f":"IF($A422=\"\",\"\",COUNTIF($A$2:$A422,$A422))","v":16},{"$f":"IF($A422=\"\",\"\",$O422+thousand*VLOOKUP($A422,$A$1:Q422,17,FALSE))","v":21016},{"$f":"IF(O422=1,MAX(Q$1:Q421)+1,\"\")","v":""},"Hanwha Q Cells","Q.PEAK-G3 260",421,null,null,null,null,null,null,null,null,null,null,null,null,null,null,null,null,null,null,1000]
["Hanwha Q Cells","Q.PEAK-G2 260",0.15568862275449102,260,37.9,30.6,9.17,8.58,3.6680000000000001,-114.07899999999999,-92.105999999999995,null,422,"",{"$f":"IF($A423=\"\",\"\",COUNTIF($A$2:$A423,$A423))","v":17},{"$f":"IF($A423=\"\",\"\",$O423+thousand*VLOOKUP($A423,$A$1:Q423,17,FALSE))","v":21017},{"$f":"IF(O423=1,MAX(Q$1:Q422)+1,\"\")","v":""},"Hanwha Q Cells","Q.PEAK-G2 260",422,null,null,null,null,null,null,null,null,null,null,null,null,null,null,null,null,null,null,1000]
["Hanwha Q Cells","Q.PRO-G3 265",0.15868263473053892,265,38.4,30.3,9.2100000000000009,8.82,3.6840000000000006,-114.048,-89.991,null,423,"",{"$f":"IF($A424=\"\",\"\",COUNTIF($A$2:$A424,$A424))","v":18},{"$f":"IF($A424=\"\",\"\",$O424+thousand*VLOOKUP($A424,$A$1:Q424,17,FALSE))","v":21018},{"$f":"IF(O424=1,MAX(Q$1:Q423)+1,\"\")","v":""},"Hanwha Q Cells","Q.PRO-G3 265",423,null,null,null,null,null,null,null,null,null,null,null,null,null,null,null,null,null,null,1000]
["Hanwha Q Cells","Q.PRO-G2 265",0.15868263473053892,265,38.4,30.3,9.2100000000000009,8.82,3.6840000000000006,-114.048,-89.991,null,424,"",{"$f":"IF($A425=\"\",\"\",COUNTIF($A$2:$A425,$A425))","v":19},{"$f":"IF($A425=\"\",\"\",$O425+thousand*VLOOKUP($A425,$A$1:Q425,17,FALSE))","v":21019},{"$f":"IF(O425=1,MAX(Q$1:Q424)+1,\"\")","v":""},"Hanwha Q Cells","Q.PRO-G2 265",424,null,null,null,null,null,null,null,null,null,null,null,null,null,null,null,null,null,null,1000]
["Hanwha Q Cells","Q.PEAK-G3 265",0.15868263473053892,265,38.299999999999997,30.9,9.23,8.66,3.6920000000000002,-114.134,-92.082000000000008,null,425,"",{"$f":"IF($A426=\"\",\"\",COUNTIF($A$2:$A426,$A426))","v":20},{"$f":"IF($A426=\"\",\"\",$O426+thousand*VLOOKUP($A426,$A$1:Q426,17,FALSE))","v":21020},{"$f":"IF(O426=1,MAX(Q$1:Q425)+1,\"\")","v":""},"Hanwha Q Cells","Q.PEAK-G3 265",425,null,null,null,null,null,null,null,null,null,null,null,null,null,null,null,null,null,null,1000]
["Hanwha Q Cells","Q.PEAK-G2 265",0.15868263473053892,265,38.299999999999997,30.9,9.23,8.66,3.6920000000000002,-114.134,-92.082000000000008,null,426,"",{"$f":"IF($A427=\"\",\"\",COUNTIF($A$2:$A427,$A427))","v":21},{"$f":"IF($A427=\"\",\"\",$O427+thousand*VLOOKUP($A427,$A$1:Q427,17,FALSE))","v":21021},{"$f":"IF(O427=1,MAX(Q$1:Q426)+1,\"\")","v":""},"Hanwha Q Cells","Q.PEAK-G2 265",426,null,null,null,null,null,null,null,null,null,null,null,null,null,null,null,null,null,null,1000]
["Hanwha Q Cells","Q.PEAK-G3 270",0.16167664670658682,270,38.700000000000003,31.2,9.2799999999999994,8.74,3.7119999999999997,-114.16500000000002,-92.04,null,427,"",{"$f":"IF($A428=\"\",\"\",COUNTIF($A$2:$A428,$A428))","v":22},{"$f":"IF($A428=\"\",\"\",$O428+thousand*VLOOKUP($A428,$A$1:Q428,17,FALSE))","v":21022},{"$f":"IF(O428=1,MAX(Q$1:Q427)+1,\"\")","v":""},"Hanwha Q Cells","Q.PEAK-G3 270",427,null,null,null,null,null,null,null,null,null,null,null,null,null,null,null,null,null,null,1000]
["Hanwha Q Cells","Q.PEAK-G2 270",0.16167664670658682,270,38.700000000000003,31.2,9.2799999999999994,8.74,3.7119999999999997,-114.16500000000002,-92.04,null,428,"",{"$f":"IF($A429=\"\",\"\",COUNTIF($A$2:$A429,$A429))","v":23},{"$f":"IF($A429=\"\",\"\",$O429+thousand*VLOOKUP($A429,$A$1:Q429,17,FALSE))","v":21023},{"$f":"IF(O429=1,MAX(Q$1:Q428)+1,\"\")","v":""},"Hanwha Q Cells","Q.PEAK-G2 270",428,null,null,null,null,null,null,null,null,null,null,null,null,null,null,null,null,null,null,1000]
["Hanwha Q Cells","Q.PEAK-G3 275",0.16467065868263472,275,39,31.4,9.33,8.83,3.7320000000000002,-113.88,-91.687999999999988,null,429,"",{"$f":"IF($A430=\"\",\"\",COUNTIF($A$2:$A430,$A430))","v":24},{"$f":"IF($A430=\"\",\"\",$O430+thousand*VLOOKUP($A430,$A$1:Q430,17,FALSE))","v":21024},{"$f":"IF(O430=1,MAX(Q$1:Q429)+1,\"\")","v":""},"Hanwha Q Cells","Q.PEAK-G3 275",429,null,null,null,null,null,null,null,null,null,null,null,null,null,null,null,null,null,null,1000]
["Hanwha SolarOne","HSL 48 M6-HA-2-190 B",0.14200298953662183,190,30,23.9,8.41,7.95,2.5229999999999997,-102.00000000000001,-81.260000000000005,null,430,"",{"$f":"IF($A431=\"\",\"\",COUNTIF($A$2:$A431,$A431))","v":1},{"$f":"IF($A431=\"\",\"\",$O431+thousand*VLOOKUP($A431,$A$1:Q431,17,FALSE))","v":22001},{"$f":"IF(O431=1,MAX(Q$1:Q430)+1,\"\")","v":22},"Hanwha SolarOne","HSL 48 M6-HA-2-190 B",430,null,null,null,null,null,null,null,null,null,null,null,null,null,null,null,null,null,null,1000]
["Hanwha SolarOne","HSL 48 M6-HA-2-190",0.14200298953662183,190,30,23.9,8.41,7.95,2.5229999999999997,-102.00000000000001,-81.260000000000005,null,431,"",{"$f":"IF($A432=\"\",\"\",COUNTIF($A$2:$A432,$A432))","v":2},{"$f":"IF($A432=\"\",\"\",$O432+thousand*VLOOKUP($A432,$A$1:Q432,17,FALSE))","v":22002},{"$f":"IF(O432=1,MAX(Q$1:Q431)+1,\"\")","v":""},"Hanwha SolarOne","HSL 48 M6-HA-2-190",431,null,null,null,null,null,null,null,null,null,null,null,null,null,null,null,null,null,null,1000]
["Hanwha SolarOne","HSL 48 M6-HA-2-195 B",0.14573991031390135,195,30.2,24.1,8.52,8.09,2.556,-102.68,-81.940000000000012,null,432,"",{"$f":"IF($A433=\"\",\"\",COUNTIF($A$2:$A433,$A433))","v":3},{"$f":"IF($A433=\"\",\"\",$O433+thousand*VLOOKUP($A433,$A$1:Q433,17,FALSE))","v":22003},{"$f":"IF(O433=1,MAX(Q$1:Q432)+1,\"\")","v":""},"Hanwha SolarOne","HSL 48 M6-HA-2-195 B",432,null,null,null,null,null,null,null,null,null,null,null,null,null,null,null,null,null,null,1000]
["Hanwha SolarOne","HSL 48 M6-HA-2-195",0.14573991031390135,195,30.2,24.1,8.52,8.09,2.556,-102.68,-81.940000000000012,null,433,"",{"$f":"IF($A434=\"\",\"\",COUNTIF($A$2:$A434,$A434))","v":4},{"$f":"IF($A434=\"\",\"\",$O434+thousand*VLOOKUP($A434,$A$1:Q434,17,FALSE))","v":22004},{"$f":"IF(O434=1,MAX(Q$1:Q433)+1,\"\")","v":""},"Hanwha SolarOne","HSL 48 M6-HA-2-195",433,null,null,null,null,null,null,null,null,null,null,null,null,null,null,null,null,null,null,1000]
["Hanwha SolarOne","HSL 48 M6-HA-2-200 B",0.14947683109118087,200,30.4,24.3,8.61,8.23,2.5829999999999997,-103.36000000000001,-82.620000000000019,null,434,"",{"$f":"IF($A435=\"\",\"\",COUNTIF($A$2:$A435,$A435))","v":5},{"$f":"IF($A435=\"\",\"\",$O435+thousand*VLOOKUP($A435,$A$1:Q435,17,FALSE))","v":22005},{"$f":"IF(O435=1,MAX(Q$1:Q434)+1,\"\")","v":""},"Hanwha SolarOne","HSL 48 M6-HA-2-200 B",434,null,null,null,null,null,null,null,null,null,null,null,null,null,null,null,null,null,null,1000]
["Hanwha SolarOne","HSL 48 M6-HA-2-200",0.14947683109118087,200,30.4,24.3,8.61,8.23,2.5829999999999997,-103.36000000000001,-82.620000000000019,null,435,"",{"$f":"IF($A436=\"\",\"\",COUNTIF($A$2:$A436,$A436))","v":6},{"$f":"IF($A436=\"\",\"\",$O436+thousand*VLOOKUP($A436,$A$1:Q436,17,FALSE))","v":22006},{"$f":"IF(O436=1,MAX(Q$1:Q435)+1,\"\")","v":""},"Hanwha SolarOne","HSL 48 M6-HA-2-200",435,null,null,null,null,null,null,null,null,null,null,null,null,null,null,null,null,null,null,1000]
["Hanwha SolarOne","HSL 48 M6-HA-2-205 B",0.1532137518684604,205,30.6,24.5,8.7200000000000006,8.3699999999999992,2.6160000000000001,-104.04000000000002,-83.300000000000011,null,436,"",{"$f":"IF($A437=\"\",\"\",COUNTIF($A$2:$A437,$A437))","v":7},{"$f":"IF($A437=\"\",\"\",$O437+thousand*VLOOKUP($A437,$A$1:Q437,17,FALSE))","v":22007},{"$f":"IF(O437=1,MAX(Q$1:Q436)+1,\"\")","v":""},"Hanwha SolarOne","HSL 48 M6-HA-2-205 B",436,null,null,null,null,null,null,null,null,null,null,null,null,null,null,null,null,null,null,1000]
["Hanwha SolarOne","HSL 48 M6-HA-2-205",0.1532137518684604,205,30.6,24.5,8.7200000000000006,8.3699999999999992,2.6160000000000001,-104.04000000000002,-83.300000000000011,null,437,"",{"$f":"IF($A438=\"\",\"\",COUNTIF($A$2:$A438,$A438))","v":8},{"$f":"IF($A438=\"\",\"\",$O438+thousand*VLOOKUP($A438,$A$1:Q438,17,FALSE))","v":22008},{"$f":"IF(O438=1,MAX(Q$1:Q437)+1,\"\")","v":""},"Hanwha SolarOne","HSL 48 M6-HA-2-205",437,null,null,null,null,null,null,null,null,null,null,null,null,null,null,null,null,null,null,1000]
["Hanwha SolarOne","HSL 48 M6-HA-2-210 B",0.15695067264573992,210,30.8,24.7,8.83,8.5,2.6489999999999996,-104.72000000000001,-83.98,null,438,"",{"$f":"IF($A439=\"\",\"\",COUNTIF($A$2:$A439,$A439))","v":9},{"$f":"IF($A439=\"\",\"\",$O439+thousand*VLOOKUP($A439,$A$1:Q439,17,FALSE))","v":22009},{"$f":"IF(O439=1,MAX(Q$1:Q438)+1,\"\")","v":""},"Hanwha SolarOne","HSL 48 M6-HA-2-210 B",438,null,null,null,null,null,null,null,null,null,null,null,null,null,null,null,null,null,null,1000]
["Hanwha SolarOne","HSL 48 M6-HA-2-210",0.15695067264573992,210,30.8,24.7,8.83,8.5,2.6489999999999996,-104.72000000000001,-83.98,null,439,"",{"$f":"IF($A440=\"\",\"\",COUNTIF($A$2:$A440,$A440))","v":10},{"$f":"IF($A440=\"\",\"\",$O440+thousand*VLOOKUP($A440,$A$1:Q440,17,FALSE))","v":22010},{"$f":"IF(O440=1,MAX(Q$1:Q439)+1,\"\")","v":""},"Hanwha SolarOne","HSL 48 M6-HA-2-210",439,null,null,null,null,null,null,null,null,null,null,null,null,null,null,null,null,null,null,1000]
["Hanwha SolarOne","HSL 48 M6-HA-2-215 B",0.16068759342301944,215,31,24.9,8.93,8.6300000000000008,2.6789999999999998,-105.4,-84.660000000000011,null,440,"",{"$f":"IF($A441=\"\",\"\",COUNTIF($A$2:$A441,$A441))","v":11},{"$f":"IF($A441=\"\",\"\",$O441+thousand*VLOOKUP($A441,$A$1:Q441,17,FALSE))","v":22011},{"$f":"IF(O441=1,MAX(Q$1:Q440)+1,\"\")","v":""},"Hanwha SolarOne","HSL 48 M6-HA-2-215 B",440,null,null,null,null,null,null,null,null,null,null,null,null,null,null,null,null,null,null,1000]
["Hanwha SolarOne","HSL 48 M6-HA-2-215",0.16068759342301944,215,31,24.9,8.93,8.6300000000000008,2.6789999999999998,-105.4,-84.660000000000011,null,441,"",{"$f":"IF($A442=\"\",\"\",COUNTIF($A$2:$A442,$A442))","v":12},{"$f":"IF($A442=\"\",\"\",$O442+thousand*VLOOKUP($A442,$A$1:Q442,17,FALSE))","v":22012},{"$f":"IF(O442=1,MAX(Q$1:Q441)+1,\"\")","v":""},"Hanwha SolarOne","HSL 48 M6-HA-2-215",441,null,null,null,null,null,null,null,null,null,null,null,null,null,null,null,null,null,null,1000]
["Hanwha SolarOne","SF-220-30-1P 225 L",0.13619854721549637,225,36.700000000000003,29.9,8.18,7.53,3.2719999999999998,-117.44000000000001,-95.68,null,442,"",{"$f":"IF($A443=\"\",\"\",COUNTIF($A$2:$A443,$A443))","v":13},{"$f":"IF($A443=\"\",\"\",$O443+thousand*VLOOKUP($A443,$A$1:Q443,17,FALSE))","v":22013},{"$f":"IF(O443=1,MAX(Q$1:Q442)+1,\"\")","v":""},"Hanwha SolarOne","SF-220-30-1P 225 L",442,null,null,null,null,null,null,null,null,null,null,null,null,null,null,null,null,null,null,1000]
["Hanwha SolarOne","SF-220-30-1P 230 L",0.13922518159806296,230,36.799999999999997,30,8.34,7.67,3.3360000000000003,-117.76,-96.000000000000014,null,443,"",{"$f":"IF($A444=\"\",\"\",COUNTIF($A$2:$A444,$A444))","v":14},{"$f":"IF($A444=\"\",\"\",$O444+thousand*VLOOKUP($A444,$A$1:Q444,17,FALSE))","v":22014},{"$f":"IF(O444=1,MAX(Q$1:Q443)+1,\"\")","v":""},"Hanwha SolarOne","SF-220-30-1P 230 L",443,null,null,null,null,null,null,null,null,null,null,null,null,null,null,null,null,null,null,1000]
["Hanwha SolarOne","HSL 60 M6-HA-2-235 B",0.14225181598062955,235,36.6,30,8.4499999999999993,7.84,2.5349999999999993,-124.44000000000001,-102.00000000000001,null,444,"",{"$f":"IF($A445=\"\",\"\",COUNTIF($A$2:$A445,$A445))","v":15},{"$f":"IF($A445=\"\",\"\",$O445+thousand*VLOOKUP($A445,$A$1:Q445,17,FALSE))","v":22015},{"$f":"IF(O445=1,MAX(Q$1:Q444)+1,\"\")","v":""},"Hanwha SolarOne","HSL 60 M6-HA-2-235 B",444,null,null,null,null,null,null,null,null,null,null,null,null,null,null,null,null,null,null,1000]
["Hanwha SolarOne","HSL 60 M6-HA-2-235",0.14225181598062955,235,36.6,30,8.4499999999999993,7.84,2.5349999999999993,-124.44000000000001,-102.00000000000001,null,445,"",{"$f":"IF($A446=\"\",\"\",COUNTIF($A$2:$A446,$A446))","v":16},{"$f":"IF($A446=\"\",\"\",$O446+thousand*VLOOKUP($A446,$A$1:Q446,17,FALSE))","v":22016},{"$f":"IF(O446=1,MAX(Q$1:Q445)+1,\"\")","v":""},"Hanwha SolarOne","HSL 60 M6-HA-2-235",445,null,null,null,null,null,null,null,null,null,null,null,null,null,null,null,null,null,null,1000]
["Hanwha SolarOne","SF-220-30-1P 235 L",0.14225181598062955,235,36.799999999999997,30.1,8.44,7.81,3.3760000000000003,-117.76,-96.320000000000022,null,446,"",{"$f":"IF($A447=\"\",\"\",COUNTIF($A$2:$A447,$A447))","v":17},{"$f":"IF($A447=\"\",\"\",$O447+thousand*VLOOKUP($A447,$A$1:Q447,17,FALSE))","v":22017},{"$f":"IF(O447=1,MAX(Q$1:Q446)+1,\"\")","v":""},"Hanwha SolarOne","SF-220-30-1P 235 L",446,null,null,null,null,null,null,null,null,null,null,null,null,null,null,null,null,null,null,1000]
["Hanwha SolarOne","HSL 60 M6-HA-2-240 B",0.14527845036319612,240,36.799999999999997,30.2,8.52,7.95,2.556,-125.12,-102.68000000000002,null,447,"",{"$f":"IF($A448=\"\",\"\",COUNTIF($A$2:$A448,$A448))","v":18},{"$f":"IF($A448=\"\",\"\",$O448+thousand*VLOOKUP($A448,$A$1:Q448,17,FALSE))","v":22018},{"$f":"IF(O448=1,MAX(Q$1:Q447)+1,\"\")","v":""},"Hanwha SolarOne","HSL 60 M6-HA-2-240 B",447,null,null,null,null,null,null,null,null,null,null,null,null,null,null,null,null,null,null,1000]
["Hanwha SolarOne","HSL 60 M6-HA-2-240",0.14527845036319612,240,36.799999999999997,30.2,8.52,7.95,2.556,-125.12,-102.68000000000002,null,448,"",{"$f":"IF($A449=\"\",\"\",COUNTIF($A$2:$A449,$A449))","v":19},{"$f":"IF($A449=\"\",\"\",$O449+thousand*VLOOKUP($A449,$A$1:Q449,17,FALSE))","v":22019},{"$f":"IF(O449=1,MAX(Q$1:Q448)+1,\"\")","v":""},"Hanwha SolarOne","HSL 60 M6-HA-2-240",448,null,null,null,null,null,null,null,null,null,null,null,null,null,null,null,null,null,null,1000]
["Hanwha SolarOne","HSL 60 P6-PB-1-240",0.14848103897132336,240,37,29.6,8.6300000000000008,8.11,4.3150000000000004,-114.70000000000002,-91.760000000000019,null,449,{"$f":"IF(M450>MAX(Q$2:Q$7985),\"\",VLOOKUP(M450,Q$2:R$7985,2,FALSE))","v":""},{"$f":"IF($A450=\"\",\"\",COUNTIF($A$2:$A450,$A450))","v":20},{"$f":"IF($A450=\"\",\"\",$O450+thousand*VLOOKUP($A450,$A$1:Q450,17,FALSE))","v":22020},{"$f":"IF(O450=1,MAX(Q$1:Q449)+1,\"\")","v":""},"Hanwha SolarOne","HSL 60 P6-PB-1-240",449,null,null,null,null,null,null,null,null,null,null,null,null,null,null,null,null,null,null,1000]
["Hanwha SolarOne","SF-220-30-1P 240 L",0.14527845036319612,240,37,30.2,8.5399999999999991,7.95,3.4159999999999995,-118.4,{"$f":"F451/E451*J451","v":-96.64},null,450,"",{"$f":"IF($A451=\"\",\"\",COUNTIF($A$2:$A451,$A451))","v":21},{"$f":"IF($A451=\"\",\"\",$O451+thousand*VLOOKUP($A451,$A$1:Q451,17,FALSE))","v":22021},{"$f":"IF(O451=1,MAX(Q$1:Q450)+1,\"\")","v":""},{"$f":"IF(A451=\"\",\"\",A451)","v":"Hanwha SolarOne"},{"$f":"IF(B451=\"\",\"\",B451)","v":"SF-220-30-1P 240 L"},{"$f":"$M451","v":450},null,null,null,null,null,null,null,null,null,null,null,null,null,null,null,null,null,null,1000]
["Hanwha SolarOne","HSL 60 M6-HA-2-245 B",0.14830508474576271,245,37,30.4,8.6,8.06,2.58,-125.8,-103.35999999999999,null,451,"",{"$f":"IF($A452=\"\",\"\",COUNTIF($A$2:$A452,$A452))","v":22},{"$f":"IF($A452=\"\",\"\",$O452+thousand*VLOOKUP($A452,$A$1:Q452,17,FALSE))","v":22022},{"$f":"IF(O452=1,MAX(Q$1:Q451)+1,\"\")","v":""},"Hanwha SolarOne","HSL 60 M6-HA-2-245 B",451,null,null,null,null,null,null,null,null,null,null,null,null,null,null,null,null,null,null,1000]
["Hanwha SolarOne","HSL 60 M6-HA-2-245",0.14830508474576271,245,37,30.4,8.6,8.06,2.58,-125.8,-103.35999999999999,null,452,"",{"$f":"IF($A453=\"\",\"\",COUNTIF($A$2:$A453,$A453))","v":23},{"$f":"IF($A453=\"\",\"\",$O453+thousand*VLOOKUP($A453,$A$1:Q453,17,FALSE))","v":22023},{"$f":"IF(O453=1,MAX(Q$1:Q452)+1,\"\")","v":""},"Hanwha SolarOne","HSL 60 M6-HA-2-245",452,null,null,null,null,null,null,null,null,null,null,null,null,null,null,null,null,null,null,1000]
["Hanwha SolarOne","HSL60P6-PB-1-245 F",0.15157439394989261,245,37.4,30.1,8.6999999999999993,8.15,4.3499999999999996,-115.93999999999998,-93.31,null,453,"",{"$f":"IF($A454=\"\",\"\",COUNTIF($A$2:$A454,$A454))","v":24},{"$f":"IF($A454=\"\",\"\",$O454+thousand*VLOOKUP($A454,$A$1:Q454,17,FALSE))","v":22024},{"$f":"IF(O454=1,MAX(Q$1:Q453)+1,\"\")","v":""},"Hanwha SolarOne","HSL60P6-PB-1-245 F",453,null,null,null,null,null,null,null,null,null,null,null,null,null,null,null,null,null,null,1000]
["Hanwha SolarOne","HSL 60 P6-PB-1-245",0.15157439394989261,245,37.4,30.1,8.6999999999999993,8.15,4.3499999999999996,-115.93999999999998,-93.31,null,454,"",{"$f":"IF($A455=\"\",\"\",COUNTIF($A$2:$A455,$A455))","v":25},{"$f":"IF($A455=\"\",\"\",$O455+thousand*VLOOKUP($A455,$A$1:Q455,17,FALSE))","v":22025},{"$f":"IF(O455=1,MAX(Q$1:Q454)+1,\"\")","v":""},"Hanwha SolarOne","HSL 60 P6-PB-1-245",454,null,null,null,null,null,null,null,null,null,null,null,null,null,null,null,null,null,null,1000]
["Hanwha SolarOne","SF-220-30-1P 245 L",0.14830508474576271,245,37.1,30.3,8.64,8.08,3.4560000000000004,-118.72,-96.960000000000008,null,455,"",{"$f":"IF($A456=\"\",\"\",COUNTIF($A$2:$A456,$A456))","v":26},{"$f":"IF($A456=\"\",\"\",$O456+thousand*VLOOKUP($A456,$A$1:Q456,17,FALSE))","v":22026},{"$f":"IF(O456=1,MAX(Q$1:Q455)+1,\"\")","v":""},"Hanwha SolarOne","SF-220-30-1P 245 L",455,null,null,null,null,null,null,null,null,null,null,null,null,null,null,null,null,null,null,1000]
["Hanwha SolarOne","HSL 60 M6-HA-2-250 B",0.1513317191283293,250,37.200000000000003,30.5,8.6999999999999993,8.1999999999999993,2.6099999999999994,-126.48,-103.69999999999999,null,456,"",{"$f":"IF($A457=\"\",\"\",COUNTIF($A$2:$A457,$A457))","v":27},{"$f":"IF($A457=\"\",\"\",$O457+thousand*VLOOKUP($A457,$A$1:Q457,17,FALSE))","v":22027},{"$f":"IF(O457=1,MAX(Q$1:Q456)+1,\"\")","v":""},"Hanwha SolarOne","HSL 60 M6-HA-2-250 B",456,null,null,null,null,null,null,null,null,null,null,null,null,null,null,null,null,null,null,1000]
["Hanwha SolarOne","HSL 60 M6-HA-2-250",0.1513317191283293,250,37.200000000000003,30.5,8.6999999999999993,8.1999999999999993,2.6099999999999994,-126.48,-103.69999999999999,null,457,"",{"$f":"IF($A458=\"\",\"\",COUNTIF($A$2:$A458,$A458))","v":28},{"$f":"IF($A458=\"\",\"\",$O458+thousand*VLOOKUP($A458,$A$1:Q458,17,FALSE))","v":22028},{"$f":"IF(O458=1,MAX(Q$1:Q457)+1,\"\")","v":""},"Hanwha SolarOne","HSL 60 M6-HA-2-250",457,null,null,null,null,null,null,null,null,null,null,null,null,null,null,null,null,null,null,1000]
["Hanwha SolarOne","HSL60P6-PB-1-250 F",0.15466774892846186,250,37.700000000000003,30.4,8.7899999999999991,8.23,4.3949999999999996,-116.87000000000002,-94.240000000000009,null,458,"",{"$f":"IF($A459=\"\",\"\",COUNTIF($A$2:$A459,$A459))","v":29},{"$f":"IF($A459=\"\",\"\",$O459+thousand*VLOOKUP($A459,$A$1:Q459,17,FALSE))","v":22029},{"$f":"IF(O459=1,MAX(Q$1:Q458)+1,\"\")","v":""},"Hanwha SolarOne","HSL60P6-PB-1-250 F",458,null,null,null,null,null,null,null,null,null,null,null,null,null,null,null,null,null,null,1000]
["Hanwha SolarOne","HSL 60 P6-PB-1-250",0.15466774892846186,250,37.700000000000003,30.4,8.7899999999999991,8.23,4.3949999999999996,-116.87000000000002,-94.240000000000009,null,459,"",{"$f":"IF($A460=\"\",\"\",COUNTIF($A$2:$A460,$A460))","v":30},{"$f":"IF($A460=\"\",\"\",$O460+thousand*VLOOKUP($A460,$A$1:Q460,17,FALSE))","v":22030},{"$f":"IF(O460=1,MAX(Q$1:Q459)+1,\"\")","v":""},"Hanwha SolarOne","HSL 60 P6-PB-1-250",459,null,null,null,null,null,null,null,null,null,null,null,null,null,null,null,null,null,null,1000]
["Hanwha SolarOne","SF-220-30-1P 250 L",0.1513317191283293,250,37.200000000000003,30.4,8.74,8.2200000000000006,3.4960000000000004,-119.04000000000002,-97.280000000000015,null,460,"",{"$f":"IF($A461=\"\",\"\",COUNTIF($A$2:$A461,$A461))","v":31},{"$f":"IF($A461=\"\",\"\",$O461+thousand*VLOOKUP($A461,$A$1:Q461,17,FALSE))","v":22031},{"$f":"IF(O461=1,MAX(Q$1:Q460)+1,\"\")","v":""},"Hanwha SolarOne","SF-220-30-1P 250 L",460,null,null,null,null,null,null,null,null,null,null,null,null,null,null,null,null,null,null,1000]
["Hanwha SolarOne","HSL 60 M6-HA-2-255 B",0.15435835351089588,255,37.4,30.7,8.82,8.32,2.6459999999999999,-127.16000000000003,-104.38000000000002,null,461,"",{"$f":"IF($A462=\"\",\"\",COUNTIF($A$2:$A462,$A462))","v":32},{"$f":"IF($A462=\"\",\"\",$O462+thousand*VLOOKUP($A462,$A$1:Q462,17,FALSE))","v":22032},{"$f":"IF(O462=1,MAX(Q$1:Q461)+1,\"\")","v":""},"Hanwha SolarOne","HSL 60 M6-HA-2-255 B",461,null,null,null,null,null,null,null,null,null,null,null,null,null,null,null,null,null,null,1000]
["Hanwha SolarOne","HSL 60 M6-HA-2-255",0.15435835351089588,255,37.4,30.7,8.82,8.32,2.6459999999999999,-127.16000000000003,-104.38000000000002,null,462,"",{"$f":"IF($A463=\"\",\"\",COUNTIF($A$2:$A463,$A463))","v":33},{"$f":"IF($A463=\"\",\"\",$O463+thousand*VLOOKUP($A463,$A$1:Q463,17,FALSE))","v":22033},{"$f":"IF(O463=1,MAX(Q$1:Q462)+1,\"\")","v":""},"Hanwha SolarOne","HSL 60 M6-HA-2-255",462,null,null,null,null,null,null,null,null,null,null,null,null,null,null,null,null,null,null,1000]
["Hanwha SolarOne","HSL60P6-PB-1-255 F",0.15776110390703107,255,38,30.8,8.89,8.2899999999999991,4.4450000000000003,-117.79999999999998,-95.479999999999976,null,463,"",{"$f":"IF($A464=\"\",\"\",COUNTIF($A$2:$A464,$A464))","v":34},{"$f":"IF($A464=\"\",\"\",$O464+thousand*VLOOKUP($A464,$A$1:Q464,17,FALSE))","v":22034},{"$f":"IF(O464=1,MAX(Q$1:Q463)+1,\"\")","v":""},"Hanwha SolarOne","HSL60P6-PB-1-255 F",463,null,null,null,null,null,null,null,null,null,null,null,null,null,null,null,null,null,null,1000]
["Hanwha SolarOne","HSL 60 P6-PB-1-255 B",0.15776110390703107,255,38,30.8,8.89,8.2899999999999991,4.4450000000000003,-117.79999999999998,-95.479999999999976,null,464,"",{"$f":"IF($A465=\"\",\"\",COUNTIF($A$2:$A465,$A465))","v":35},{"$f":"IF($A465=\"\",\"\",$O465+thousand*VLOOKUP($A465,$A$1:Q465,17,FALSE))","v":22035},{"$f":"IF(O465=1,MAX(Q$1:Q464)+1,\"\")","v":""},"Hanwha SolarOne","HSL 60 P6-PB-1-255 B",464,null,null,null,null,null,null,null,null,null,null,null,null,null,null,null,null,null,null,1000]
["Hanwha SolarOne","HSL 60 P6-PB-1-255",0.15776110390703107,255,38,30.8,8.89,8.2899999999999991,4.4450000000000003,-117.79999999999998,-95.479999999999976,null,465,"",{"$f":"IF($A466=\"\",\"\",COUNTIF($A$2:$A466,$A466))","v":36},{"$f":"IF($A466=\"\",\"\",$O466+thousand*VLOOKUP($A466,$A$1:Q466,17,FALSE))","v":22036},{"$f":"IF(O466=1,MAX(Q$1:Q465)+1,\"\")","v":""},"Hanwha SolarOne","HSL 60 P6-PB-1-255",465,null,null,null,null,null,null,null,null,null,null,null,null,null,null,null,null,null,null,1000]
["Hanwha SolarOne","SF-220-30-1P 255 L",0.15435835351089588,255,37.4,30.5,8.85,8.35,3.54,-119.67999999999999,-97.6,null,466,"",{"$f":"IF($A467=\"\",\"\",COUNTIF($A$2:$A467,$A467))","v":37},{"$f":"IF($A467=\"\",\"\",$O467+thousand*VLOOKUP($A467,$A$1:Q467,17,FALSE))","v":22037},{"$f":"IF(O467=1,MAX(Q$1:Q466)+1,\"\")","v":""},"Hanwha SolarOne","SF-220-30-1P 255 L",466,null,null,null,null,null,null,null,null,null,null,null,null,null,null,null,null,null,null,1000]
["Hanwha SolarOne","HSL 60 M6-HA-2-260 B",0.15738498789346247,260,37.6,30.9,8.9,8.41,2.67,-127.84,-105.06,null,467,"",{"$f":"IF($A468=\"\",\"\",COUNTIF($A$2:$A468,$A468))","v":38},{"$f":"IF($A468=\"\",\"\",$O468+thousand*VLOOKUP($A468,$A$1:Q468,17,FALSE))","v":22038},{"$f":"IF(O468=1,MAX(Q$1:Q467)+1,\"\")","v":""},"Hanwha SolarOne","HSL 60 M6-HA-2-260 B",467,null,null,null,null,null,null,null,null,null,null,null,null,null,null,null,null,null,null,1000]
["Hanwha SolarOne","HSL 60 M6-HA-2-260",0.15738498789346247,260,37.6,30.9,8.9,8.41,2.67,-127.84,-105.06,null,468,"",{"$f":"IF($A469=\"\",\"\",COUNTIF($A$2:$A469,$A469))","v":39},{"$f":"IF($A469=\"\",\"\",$O469+thousand*VLOOKUP($A469,$A$1:Q469,17,FALSE))","v":22039},{"$f":"IF(O469=1,MAX(Q$1:Q468)+1,\"\")","v":""},"Hanwha SolarOne","HSL 60 M6-HA-2-260",468,null,null,null,null,null,null,null,null,null,null,null,null,null,null,null,null,null,null,1000]
["Hanwha SolarOne","HSL60P6-PB-1-260 F",0.16085445888560032,260,38.1,31.2,8.93,8.35,4.4649999999999999,-118.11,-96.72,null,469,"",{"$f":"IF($A470=\"\",\"\",COUNTIF($A$2:$A470,$A470))","v":40},{"$f":"IF($A470=\"\",\"\",$O470+thousand*VLOOKUP($A470,$A$1:Q470,17,FALSE))","v":22040},{"$f":"IF(O470=1,MAX(Q$1:Q469)+1,\"\")","v":""},"Hanwha SolarOne","HSL60P6-PB-1-260 F",469,null,null,null,null,null,null,null,null,null,null,null,null,null,null,null,null,null,null,1000]
["Hanwha SolarOne","HSL 60 P6-PB-1-260 B",0.16085445888560032,260,38.1,31.2,8.93,8.35,4.4649999999999999,-118.11,-96.72,null,470,"",{"$f":"IF($A471=\"\",\"\",COUNTIF($A$2:$A471,$A471))","v":41},{"$f":"IF($A471=\"\",\"\",$O471+thousand*VLOOKUP($A471,$A$1:Q471,17,FALSE))","v":22041},{"$f":"IF(O471=1,MAX(Q$1:Q470)+1,\"\")","v":""},"Hanwha SolarOne","HSL 60 P6-PB-1-260 B",470,null,null,null,null,null,null,null,null,null,null,null,null,null,null,null,null,null,null,1000]
["Hanwha SolarOne","HSL 60 P6-PB-1-260",0.16085445888560032,260,38.1,31.2,8.93,8.35,4.4649999999999999,-118.11,-96.72,null,471,"",{"$f":"IF($A472=\"\",\"\",COUNTIF($A$2:$A472,$A472))","v":42},{"$f":"IF($A472=\"\",\"\",$O472+thousand*VLOOKUP($A472,$A$1:Q472,17,FALSE))","v":22042},{"$f":"IF(O472=1,MAX(Q$1:Q471)+1,\"\")","v":""},"Hanwha SolarOne","HSL 60 P6-PB-1-260",471,null,null,null,null,null,null,null,null,null,null,null,null,null,null,null,null,null,null,1000]
["Hanwha SolarOne","HSL60P6-PB-1-265 F",0.16394781386416957,265,38.299999999999997,31.5,8.9700000000000006,8.42,4.4850000000000003,-118.72999999999999,-97.65,null,472,"",{"$f":"IF($A473=\"\",\"\",COUNTIF($A$2:$A473,$A473))","v":43},{"$f":"IF($A473=\"\",\"\",$O473+thousand*VLOOKUP($A473,$A$1:Q473,17,FALSE))","v":22043},{"$f":"IF(O473=1,MAX(Q$1:Q472)+1,\"\")","v":""},"Hanwha SolarOne","HSL60P6-PB-1-265 F",472,null,null,null,null,null,null,null,null,null,null,null,null,null,null,null,null,null,null,1000]
["Hanwha SolarOne","HSL 60 P6-PB-1-265 B",0.16394781386416957,265,38.299999999999997,31.5,8.9700000000000006,8.42,4.4850000000000003,-118.72999999999999,-97.65,null,473,"",{"$f":"IF($A474=\"\",\"\",COUNTIF($A$2:$A474,$A474))","v":44},{"$f":"IF($A474=\"\",\"\",$O474+thousand*VLOOKUP($A474,$A$1:Q474,17,FALSE))","v":22044},{"$f":"IF(O474=1,MAX(Q$1:Q473)+1,\"\")","v":""},"Hanwha SolarOne","HSL 60 P6-PB-1-265 B",473,null,null,null,null,null,null,null,null,null,null,null,null,null,null,null,null,null,null,1000]
["Hanwha SolarOne","HSL 60 P6-PB-1-265",0.16394781386416957,265,38.299999999999997,31.5,8.9700000000000006,8.42,4.4850000000000003,-118.72999999999999,-97.65,null,474,"",{"$f":"IF($A475=\"\",\"\",COUNTIF($A$2:$A475,$A475))","v":45},{"$f":"IF($A475=\"\",\"\",$O475+thousand*VLOOKUP($A475,$A$1:Q475,17,FALSE))","v":22045},{"$f":"IF(O475=1,MAX(Q$1:Q474)+1,\"\")","v":""},"Hanwha SolarOne","HSL 60 P6-PB-1-265",474,null,null,null,null,null,null,null,null,null,null,null,null,null,null,null,null,null,null,1000]
["Hanwha SolarOne","SF-260-36-1P 270 L",0.13733468972533061,270,44,36,8.1999999999999993,7.5,3.2799999999999994,-140.80000000000001,-115.20000000000002,null,475,"",{"$f":"IF($A476=\"\",\"\",COUNTIF($A$2:$A476,$A476))","v":46},{"$f":"IF($A476=\"\",\"\",$O476+thousand*VLOOKUP($A476,$A$1:Q476,17,FALSE))","v":22046},{"$f":"IF(O476=1,MAX(Q$1:Q475)+1,\"\")","v":""},"Hanwha SolarOne","SF-260-36-1P 270 L",475,null,null,null,null,null,null,null,null,null,null,null,null,null,null,null,null,null,null,1000]
["Hanwha SolarOne","SF-260-36-1P 275 L",0.13987792472024416,275,44.1,36.1,8.35,7.62,3.3400000000000003,-141.12,-115.52000000000001,null,476,"",{"$f":"IF($A477=\"\",\"\",COUNTIF($A$2:$A477,$A477))","v":47},{"$f":"IF($A477=\"\",\"\",$O477+thousand*VLOOKUP($A477,$A$1:Q477,17,FALSE))","v":22047},{"$f":"IF(O477=1,MAX(Q$1:Q476)+1,\"\")","v":""},"Hanwha SolarOne","SF-260-36-1P 275 L",476,null,null,null,null,null,null,null,null,null,null,null,null,null,null,null,null,null,null,1000]
["Hanwha SolarOne","SF-260-36-1P 280 L",0.14242115971515767,280,44.3,36.1,8.4,7.76,3.3600000000000003,-141.76,-115.52000000000001,null,477,"",{"$f":"IF($A478=\"\",\"\",COUNTIF($A$2:$A478,$A478))","v":48},{"$f":"IF($A478=\"\",\"\",$O478+thousand*VLOOKUP($A478,$A$1:Q478,17,FALSE))","v":22048},{"$f":"IF(O478=1,MAX(Q$1:Q477)+1,\"\")","v":""},"Hanwha SolarOne","SF-260-36-1P 280 L",477,null,null,null,null,null,null,null,null,null,null,null,null,null,null,null,null,null,null,1000]
["Hanwha SolarOne","HSL 72 P6-PB-1-285",0.14747522416234074,285,44.3,35.1,8.65,8.1300000000000008,4.3250000000000002,-137.32999999999998,-108.81,null,478,"",{"$f":"IF($A479=\"\",\"\",COUNTIF($A$2:$A479,$A479))","v":49},{"$f":"IF($A479=\"\",\"\",$O479+thousand*VLOOKUP($A479,$A$1:Q479,17,FALSE))","v":22049},{"$f":"IF(O479=1,MAX(Q$1:Q478)+1,\"\")","v":""},"Hanwha SolarOne","HSL 72 P6-PB-1-285",478,null,null,null,null,null,null,null,null,null,null,null,null,null,null,null,null,null,null,1000]
["Hanwha SolarOne","SF-260-36-1P 285 L",0.14496439471007122,285,44.5,36.200000000000003,8.4499999999999993,7.87,3.38,-142.4,-115.84000000000002,null,479,"",{"$f":"IF($A480=\"\",\"\",COUNTIF($A$2:$A480,$A480))","v":50},{"$f":"IF($A480=\"\",\"\",$O480+thousand*VLOOKUP($A480,$A$1:Q480,17,FALSE))","v":22050},{"$f":"IF(O480=1,MAX(Q$1:Q479)+1,\"\")","v":""},"Hanwha SolarOne","SF-260-36-1P 285 L",479,null,null,null,null,null,null,null,null,null,null,null,null,null,null,null,null,null,null,1000]
["Hanwha SolarOne","HSL 72 P6-PB-1-290",0.15006250879676777,290,44.5,35.4,8.69,8.1999999999999993,4.3449999999999998,-137.94999999999999,-109.73999999999998,null,480,"",{"$f":"IF($A481=\"\",\"\",COUNTIF($A$2:$A481,$A481))","v":51},{"$f":"IF($A481=\"\",\"\",$O481+thousand*VLOOKUP($A481,$A$1:Q481,17,FALSE))","v":22051},{"$f":"IF(O481=1,MAX(Q$1:Q480)+1,\"\")","v":""},"Hanwha SolarOne","HSL 72 P6-PB-1-290",480,null,null,null,null,null,null,null,null,null,null,null,null,null,null,null,null,null,null,1000]
["Hanwha SolarOne","SF-260-36-1P 290 L",0.14750762970498474,290,44.7,36.299999999999997,8.5,7.99,3.4000000000000004,-143.04000000000002,-116.16000000000001,null,481,"",{"$f":"IF($A482=\"\",\"\",COUNTIF($A$2:$A482,$A482))","v":52},{"$f":"IF($A482=\"\",\"\",$O482+thousand*VLOOKUP($A482,$A$1:Q482,17,FALSE))","v":22052},{"$f":"IF(O482=1,MAX(Q$1:Q481)+1,\"\")","v":""},"Hanwha SolarOne","SF-260-36-1P 290 L",481,null,null,null,null,null,null,null,null,null,null,null,null,null,null,null,null,null,null,1000]
["Hanwha SolarOne","HSL 72 P6-PB-1-295",0.15264979343119481,295,44.8,35.799999999999997,8.75,8.26,4.375,-138.88,-110.97999999999999,null,482,"",{"$f":"IF($A483=\"\",\"\",COUNTIF($A$2:$A483,$A483))","v":53},{"$f":"IF($A483=\"\",\"\",$O483+thousand*VLOOKUP($A483,$A$1:Q483,17,FALSE))","v":22053},{"$f":"IF(O483=1,MAX(Q$1:Q482)+1,\"\")","v":""},"Hanwha SolarOne","HSL 72 P6-PB-1-295",482,null,null,null,null,null,null,null,null,null,null,null,null,null,null,null,null,null,null,1000]
["Hanwha SolarOne","SF-260-36-1P 295 L",0.15005086469989828,295,44.9,36.4,8.5500000000000007,8.11,3.4200000000000004,-143.68,-116.48,null,483,"",{"$f":"IF($A484=\"\",\"\",COUNTIF($A$2:$A484,$A484))","v":54},{"$f":"IF($A484=\"\",\"\",$O484+thousand*VLOOKUP($A484,$A$1:Q484,17,FALSE))","v":22054},{"$f":"IF(O484=1,MAX(Q$1:Q483)+1,\"\")","v":""},"Hanwha SolarOne","SF-260-36-1P 295 L",483,null,null,null,null,null,null,null,null,null,null,null,null,null,null,null,null,null,null,1000]
["Hanwha SolarOne","HSL 72 P6-PB-1-300",0.15523707806562184,300,44.9,36.1,8.7799999999999994,8.32,4.3899999999999997,-139.18999999999997,-111.90999999999998,null,484,"",{"$f":"IF($A485=\"\",\"\",COUNTIF($A$2:$A485,$A485))","v":55},{"$f":"IF($A485=\"\",\"\",$O485+thousand*VLOOKUP($A485,$A$1:Q485,17,FALSE))","v":22055},{"$f":"IF(O485=1,MAX(Q$1:Q484)+1,\"\")","v":""},"Hanwha SolarOne","HSL 72 P6-PB-1-300",484,null,null,null,null,null,null,null,null,null,null,null,null,null,null,null,null,null,null,1000]
["Hanwha SolarOne","SF-260-36-1P 300 L",0.1525940996948118,300,45,36.5,8.6,8.2200000000000006,3.4399999999999995,-144.00000000000003,-116.80000000000003,null,485,"",{"$f":"IF($A486=\"\",\"\",COUNTIF($A$2:$A486,$A486))","v":56},{"$f":"IF($A486=\"\",\"\",$O486+thousand*VLOOKUP($A486,$A$1:Q486,17,FALSE))","v":22056},{"$f":"IF(O486=1,MAX(Q$1:Q485)+1,\"\")","v":""},"Hanwha SolarOne","SF-260-36-1P 300 L",485,null,null,null,null,null,null,null,null,null,null,null,null,null,null,null,null,null,null,1000]
["Hanwha SolarOne","HSL 72 P6-PB-1-305",0.15782436270004885,305,45.1,36.299999999999997,8.85,8.42,4.4249999999999998,-139.81,-112.52999999999999,null,486,"",{"$f":"IF($A487=\"\",\"\",COUNTIF($A$2:$A487,$A487))","v":57},{"$f":"IF($A487=\"\",\"\",$O487+thousand*VLOOKUP($A487,$A$1:Q487,17,FALSE))","v":22057},{"$f":"IF(O487=1,MAX(Q$1:Q486)+1,\"\")","v":""},"Hanwha SolarOne","HSL 72 P6-PB-1-305",486,null,null,null,null,null,null,null,null,null,null,null,null,null,null,null,null,null,null,1000]
["Hanwha SolarOne","HSL 72 P6-PB-1-310",0.16041164733447588,310,45.2,36.6,8.91,8.48,4.4550000000000001,-140.12,-113.46,null,487,"",{"$f":"IF($A488=\"\",\"\",COUNTIF($A$2:$A488,$A488))","v":58},{"$f":"IF($A488=\"\",\"\",$O488+thousand*VLOOKUP($A488,$A$1:Q488,17,FALSE))","v":22058},{"$f":"IF(O488=1,MAX(Q$1:Q487)+1,\"\")","v":""},"Hanwha SolarOne","HSL 72 P6-PB-1-310",487,null,null,null,null,null,null,null,null,null,null,null,null,null,null,null,null,null,null,1000]
["Hanwha SolarOne","HSL 72 P6-PB-1-315",0.16299893196890292,315,45.3,36.9,8.9700000000000006,8.5500000000000007,4.4850000000000003,-140.43,-114.39000000000001,null,488,"",{"$f":"IF($A489=\"\",\"\",COUNTIF($A$2:$A489,$A489))","v":59},{"$f":"IF($A489=\"\",\"\",$O489+thousand*VLOOKUP($A489,$A$1:Q489,17,FALSE))","v":22059},{"$f":"IF(O489=1,MAX(Q$1:Q488)+1,\"\")","v":""},"Hanwha SolarOne","HSL 72 P6-PB-1-315",488,null,null,null,null,null,null,null,null,null,null,null,null,null,null,null,null,null,null,1000]
["Hareon","HR-180-24/Aa",0.14099511216944477,180,44.81,36.020000000000003,5.28,4.9969999999999999,2.4816000000000003,-147.87300000000002,-118.86600000000003,null,489,"",{"$f":"IF($A490=\"\",\"\",COUNTIF($A$2:$A490,$A490))","v":1},{"$f":"IF($A490=\"\",\"\",$O490+thousand*VLOOKUP($A490,$A$1:Q490,17,FALSE))","v":23001},{"$f":"IF(O490=1,MAX(Q$1:Q489)+1,\"\")","v":23},"Hareon","HR-180-24/Aa",489,null,null,null,null,null,null,null,null,null,null,null,null,null,null,null,null,null,null,1000]
["Hareon","HR-185-24/Aa",0.1449116430630405,185,45.05,36.42,5.41,5.08,2.5427,-148.66499999999999,-120.18600000000001,null,490,"",{"$f":"IF($A491=\"\",\"\",COUNTIF($A$2:$A491,$A491))","v":2},{"$f":"IF($A491=\"\",\"\",$O491+thousand*VLOOKUP($A491,$A$1:Q491,17,FALSE))","v":23002},{"$f":"IF(O491=1,MAX(Q$1:Q490)+1,\"\")","v":""},"Hareon","HR-185-24/Aa",490,null,null,null,null,null,null,null,null,null,null,null,null,null,null,null,null,null,null,1000]
["Hareon","HR-190-24/Aa",0.14882817395663617,190,45.2,36.5,5.53,5.2050000000000001,2.5991000000000004,-149.16000000000003,-120.45000000000002,null,491,"",{"$f":"IF($A492=\"\",\"\",COUNTIF($A$2:$A492,$A492))","v":3},{"$f":"IF($A492=\"\",\"\",$O492+thousand*VLOOKUP($A492,$A$1:Q492,17,FALSE))","v":23003},{"$f":"IF(O492=1,MAX(Q$1:Q491)+1,\"\")","v":""},"Hareon","HR-190-24/Aa",491,null,null,null,null,null,null,null,null,null,null,null,null,null,null,null,null,null,null,1000]
["Hareon","HR-195-24/Aa",0.15274470485023187,195,45.28,36.94,5.58,5.2789999999999999,2.6225999999999998,-151.68800000000002,-123.749,null,492,"",{"$f":"IF($A493=\"\",\"\",COUNTIF($A$2:$A493,$A493))","v":4},{"$f":"IF($A493=\"\",\"\",$O493+thousand*VLOOKUP($A493,$A$1:Q493,17,FALSE))","v":23004},{"$f":"IF(O493=1,MAX(Q$1:Q492)+1,\"\")","v":""},"Hareon","HR-195-24/Aa",492,null,null,null,null,null,null,null,null,null,null,null,null,null,null,null,null,null,null,1000]
["Hareon","HR-200-24/Aa",0.15666123574382756,200,45.5,37.39,5.79,5.35,2.7212999999999998,-151.97000000000003,-124.88260000000002,null,493,"",{"$f":"IF($A494=\"\",\"\",COUNTIF($A$2:$A494,$A494))","v":5},{"$f":"IF($A494=\"\",\"\",$O494+thousand*VLOOKUP($A494,$A$1:Q494,17,FALSE))","v":23005},{"$f":"IF(O494=1,MAX(Q$1:Q493)+1,\"\")","v":""},"Hareon","HR-200-24/Aa",493,null,null,null,null,null,null,null,null,null,null,null,null,null,null,null,null,null,null,1000]
["Hareon","HR-225P-18/Bb",0.13863967978547206,225,36.950000000000003,29.22,8.08,7.7,4.444,-131.91150000000002,-104.3154,null,494,"",{"$f":"IF($A495=\"\",\"\",COUNTIF($A$2:$A495,$A495))","v":6},{"$f":"IF($A495=\"\",\"\",$O495+thousand*VLOOKUP($A495,$A$1:Q495,17,FALSE))","v":23006},{"$f":"IF(O495=1,MAX(Q$1:Q494)+1,\"\")","v":""},"Hareon","HR-225P-18/Bb",494,null,null,null,null,null,null,null,null,null,null,null,null,null,null,null,null,null,null,1000]
["Hareon","HR-230P-18/Bb",0.14172056155848253,230,37.049999999999997,29.34,8.23,7.8390000000000004,4.5265000000000004,-133.00949999999997,-105.33059999999999,null,495,"",{"$f":"IF($A496=\"\",\"\",COUNTIF($A$2:$A496,$A496))","v":7},{"$f":"IF($A496=\"\",\"\",$O496+thousand*VLOOKUP($A496,$A$1:Q496,17,FALSE))","v":23007},{"$f":"IF(O496=1,MAX(Q$1:Q495)+1,\"\")","v":""},"Hareon","HR-230P-18/Bb",495,null,null,null,null,null,null,null,null,null,null,null,null,null,null,null,null,null,null,1000]
["Hareon","HR-235P-18/Bb",0.14480144333149303,235,37.159999999999997,29.49,8.32,7.9690000000000003,4.5760000000000005,-133.77599999999998,-106.16399999999999,null,496,"",{"$f":"IF($A497=\"\",\"\",COUNTIF($A$2:$A497,$A497))","v":8},{"$f":"IF($A497=\"\",\"\",$O497+thousand*VLOOKUP($A497,$A$1:Q497,17,FALSE))","v":23008},{"$f":"IF(O497=1,MAX(Q$1:Q496)+1,\"\")","v":""},"Hareon","HR-235P-18/Bb",496,null,null,null,null,null,null,null,null,null,null,null,null,null,null,null,null,null,null,1000]
["Hareon","HR-240P-18/Bb",0.14788232510450353,240,37.25,29.67,8.48,8.0890000000000004,4.6640000000000006,-134.1,-106.812,null,497,"",{"$f":"IF($A498=\"\",\"\",COUNTIF($A$2:$A498,$A498))","v":9},{"$f":"IF($A498=\"\",\"\",$O498+thousand*VLOOKUP($A498,$A$1:Q498,17,FALSE))","v":23009},{"$f":"IF(O498=1,MAX(Q$1:Q497)+1,\"\")","v":""},"Hareon","HR-240P-18/Bb",497,null,null,null,null,null,null,null,null,null,null,null,null,null,null,null,null,null,null,1000]
["Hareon","HR-240-18/Cb",0.14788232510450353,240,37.299999999999997,30.2,8.59,7.95,4.0373000000000001,-121.97099999999999,-98.754000000000005,null,498,"",{"$f":"IF($A499=\"\",\"\",COUNTIF($A$2:$A499,$A499))","v":10},{"$f":"IF($A499=\"\",\"\",$O499+thousand*VLOOKUP($A499,$A$1:Q499,17,FALSE))","v":23010},{"$f":"IF(O499=1,MAX(Q$1:Q498)+1,\"\")","v":""},"Hareon","HR-240-18/Cb",498,null,null,null,null,null,null,null,null,null,null,null,null,null,null,null,null,null,null,1000]
["Hareon","HR-240-32/Az",0.14222727919214906,240,59.81,49.18,5.25,4.88,2.4674999999999998,-200.9616,-165.2448,null,499,"",{"$f":"IF($A500=\"\",\"\",COUNTIF($A$2:$A500,$A500))","v":11},{"$f":"IF($A500=\"\",\"\",$O500+thousand*VLOOKUP($A500,$A$1:Q500,17,FALSE))","v":23011},{"$f":"IF(O500=1,MAX(Q$1:Q499)+1,\"\")","v":""},"Hareon","HR-240-32/Az",499,null,null,null,null,null,null,null,null,null,null,null,null,null,null,null,null,null,null,1000]
["Hareon","HR-245P-18/Bb",0.15096320687751399,245,37.340000000000003,29.88,8.6300000000000008,8.1989999999999998,4.7465000000000011,-135.17080000000001,-108.1656,null,500,"",{"$f":"IF($A501=\"\",\"\",COUNTIF($A$2:$A501,$A501))","v":12},{"$f":"IF($A501=\"\",\"\",$O501+thousand*VLOOKUP($A501,$A$1:Q501,17,FALSE))","v":23012},{"$f":"IF(O501=1,MAX(Q$1:Q500)+1,\"\")","v":""},"Hareon","HR-245P-18/Bb",500,null,null,null,null,null,null,null,null,null,null,null,null,null,null,null,null,null,null,1000]
["Hareon","HR-245-18/Cb",0.15096320687751399,245,37.42,30.3,8.73,8.09,4.1031000000000004,-121.98920000000001,-98.778000000000006,null,501,"",{"$f":"IF($A502=\"\",\"\",COUNTIF($A$2:$A502,$A502))","v":13},{"$f":"IF($A502=\"\",\"\",$O502+thousand*VLOOKUP($A502,$A$1:Q502,17,FALSE))","v":23013},{"$f":"IF(O502=1,MAX(Q$1:Q501)+1,\"\")","v":""},"Hareon","HR-245-18/Cb",501,null,null,null,null,null,null,null,null,null,null,null,null,null,null,null,null,null,null,1000]
["Hareon","HR-245-32/Az",0.14519034750865215,245,59.98,49.3,5.33,4.97,2.5051000000000001,-200.93299999999999,-165.155,null,502,"",{"$f":"IF($A503=\"\",\"\",COUNTIF($A$2:$A503,$A503))","v":14},{"$f":"IF($A503=\"\",\"\",$O503+thousand*VLOOKUP($A503,$A$1:Q503,17,FALSE))","v":23014},{"$f":"IF(O503=1,MAX(Q$1:Q502)+1,\"\")","v":""},"Hareon","HR-245-32/Az",502,null,null,null,null,null,null,null,null,null,null,null,null,null,null,null,null,null,null,1000]
["Hareon","HR-250P-18/Bb",0.15404408865052449,250,37.409999999999997,29.98,8.7899999999999991,8.34,4.8344999999999994,-134.67599999999999,-107.928,null,503,"",{"$f":"IF($A504=\"\",\"\",COUNTIF($A$2:$A504,$A504))","v":15},{"$f":"IF($A504=\"\",\"\",$O504+thousand*VLOOKUP($A504,$A$1:Q504,17,FALSE))","v":23015},{"$f":"IF(O504=1,MAX(Q$1:Q503)+1,\"\")","v":""},"Hareon","HR-250P-18/Bb",503,null,null,null,null,null,null,null,null,null,null,null,null,null,null,null,null,null,null,1000]
["Hareon","HR-250-18/Cb",0.15404408865052449,250,37.51,30.4,8.8800000000000008,8.2200000000000006,4.1736000000000004,-123,-99.685417222074108,null,504,"",{"$f":"IF($A505=\"\",\"\",COUNTIF($A$2:$A505,$A505))","v":16},{"$f":"IF($A505=\"\",\"\",$O505+thousand*VLOOKUP($A505,$A$1:Q505,17,FALSE))","v":23016},{"$f":"IF(O505=1,MAX(Q$1:Q504)+1,\"\")","v":""},"Hareon","HR-250-18/Cb",504,null,null,null,null,null,null,null,null,null,null,null,null,null,null,null,null,null,null,1000]
["Hareon","HR-250-32/Az",0.14815341582515529,250,60.15,49.31,5.43,5.07,2.5520999999999998,-204,-167.23591022443892,null,505,"",{"$f":"IF($A506=\"\",\"\",COUNTIF($A$2:$A506,$A506))","v":17},{"$f":"IF($A506=\"\",\"\",$O506+thousand*VLOOKUP($A506,$A$1:Q506,17,FALSE))","v":23017},{"$f":"IF(O506=1,MAX(Q$1:Q505)+1,\"\")","v":""},"Hareon","HR-250-32/Az",505,null,null,null,null,null,null,null,null,null,null,null,null,null,null,null,null,null,null,1000]
["Hareon","HR-255P-18/Bb",0.15712497042353499,255,37.54,30.25,8.94,8.43,4.9169999999999998,-136,-109.58977091102824,null,506,"",{"$f":"IF($A507=\"\",\"\",COUNTIF($A$2:$A507,$A507))","v":18},{"$f":"IF($A507=\"\",\"\",$O507+thousand*VLOOKUP($A507,$A$1:Q507,17,FALSE))","v":23018},{"$f":"IF(O507=1,MAX(Q$1:Q506)+1,\"\")","v":""},"Hareon","HR-255P-18/Bb",506,null,null,null,null,null,null,null,null,null,null,null,null,null,null,null,null,null,null,1000]
["Hareon","HR-255-18/Cb",0.15712497042353499,255,37.590000000000003,30.5,9.0299999999999994,8.36,4.2440999999999995,-124,-100.6118648576749,null,507,"",{"$f":"IF($A508=\"\",\"\",COUNTIF($A$2:$A508,$A508))","v":19},{"$f":"IF($A508=\"\",\"\",$O508+thousand*VLOOKUP($A508,$A$1:Q508,17,FALSE))","v":23019},{"$f":"IF(O508=1,MAX(Q$1:Q507)+1,\"\")","v":""},"Hareon","HR-255-18/Cb",507,null,null,null,null,null,null,null,null,null,null,null,null,null,null,null,null,null,null,1000]
["Hareon","HR-255-32/Az",0.15111648414165837,255,60.31,49.61,5.46,5.14,2.5662000000000003,-204,-167.80699718123032,null,508,"",{"$f":"IF($A509=\"\",\"\",COUNTIF($A$2:$A509,$A509))","v":20},{"$f":"IF($A509=\"\",\"\",$O509+thousand*VLOOKUP($A509,$A$1:Q509,17,FALSE))","v":23020},{"$f":"IF(O509=1,MAX(Q$1:Q508)+1,\"\")","v":""},"Hareon","HR-255-32/Az",508,null,null,null,null,null,null,null,null,null,null,null,null,null,null,null,null,null,null,1000]
["Hareon","HR-260P-18/Bb",0.16020585219654546,260,37.65,30.51,9.09,8.52,4.9995000000000003,-137,-111.01912350597611,null,509,"",{"$f":"IF($A510=\"\",\"\",COUNTIF($A$2:$A510,$A510))","v":21},{"$f":"IF($A510=\"\",\"\",$O510+thousand*VLOOKUP($A510,$A$1:Q510,17,FALSE))","v":23021},{"$f":"IF(O510=1,MAX(Q$1:Q509)+1,\"\")","v":""},"Hareon","HR-260P-18/Bb",509,null,null,null,null,null,null,null,null,null,null,null,null,null,null,null,null,null,null,1000]
["Hareon","HR-260-18/Cb",0.16020585219654546,260,37.729999999999997,30.6,9.18,8.5,4.3146000000000004,-124,-100.56718791412671,null,510,"",{"$f":"IF($A511=\"\",\"\",COUNTIF($A$2:$A511,$A511))","v":22},{"$f":"IF($A511=\"\",\"\",$O511+thousand*VLOOKUP($A511,$A$1:Q511,17,FALSE))","v":23022},{"$f":"IF(O511=1,MAX(Q$1:Q510)+1,\"\")","v":""},"Hareon","HR-260-18/Cb",510,null,null,null,null,null,null,null,null,null,null,null,null,null,null,null,null,null,null,1000]
["Hareon","HR-260-32/Az",0.15407955245816146,260,60.49,49.71,5.59,5.23,2.6273,-203,-166.82311125805919,null,511,"",{"$f":"IF($A512=\"\",\"\",COUNTIF($A$2:$A512,$A512))","v":23},{"$f":"IF($A512=\"\",\"\",$O512+thousand*VLOOKUP($A512,$A$1:Q512,17,FALSE))","v":23023},{"$f":"IF(O512=1,MAX(Q$1:Q511)+1,\"\")","v":""},"Hareon","HR-260-32/Az",511,null,null,null,null,null,null,null,null,null,null,null,null,null,null,null,null,null,null,1000]
["Hareon","HR-265-18/Cb",0.16328673396955595,265,37.909999999999997,30.7,9.31,8.6300000000000008,4.3757000000000001,-124,-100.4167765761013,null,512,"",{"$f":"IF($A513=\"\",\"\",COUNTIF($A$2:$A513,$A513))","v":24},{"$f":"IF($A513=\"\",\"\",$O513+thousand*VLOOKUP($A513,$A$1:Q513,17,FALSE))","v":23024},{"$f":"IF(O513=1,MAX(Q$1:Q512)+1,\"\")","v":""},"Hareon","HR-265-18/Cb",512,null,null,null,null,null,null,null,null,null,null,null,null,null,null,null,null,null,null,1000]
["Hareon","HR-270P-24/Ba",0.13943515335801163,270,44.18,35.06,8.1999999999999993,7.7,4.51,-156,-123.79719330013582,null,513,{"$f":"IF(M514>MAX(Q$2:Q$7985),\"\",VLOOKUP(M514,Q$2:R$7985,2,FALSE))","v":""},{"$f":"IF($A514=\"\",\"\",COUNTIF($A$2:$A514,$A514))","v":25},{"$f":"IF($A514=\"\",\"\",$O514+thousand*VLOOKUP($A514,$A$1:Q514,17,FALSE))","v":23025},{"$f":"IF(O514=1,MAX(Q$1:Q513)+1,\"\")","v":""},"Hareon","HR-270P-24/Ba",513,null,null,null,null,null,null,null,null,null,null,null,null,null,null,null,null,null,null,1000]
["Hareon","HR-275P-24/Ba",0.14201728582760442,275,44.34,35.21,8.2899999999999991,7.81,4.5594999999999999,-158,{"$f":"F515/E515*J515","v":-125.46639603067207},null,514,"",{"$f":"IF($A515=\"\",\"\",COUNTIF($A$2:$A515,$A515))","v":26},{"$f":"IF($A515=\"\",\"\",$O515+thousand*VLOOKUP($A515,$A$1:Q515,17,FALSE))","v":23026},{"$f":"IF(O515=1,MAX(Q$1:Q514)+1,\"\")","v":""},{"$f":"IF(A515=\"\",\"\",A515)","v":"Hareon"},{"$f":"IF(B515=\"\",\"\",B515)","v":"HR-275P-24/Ba"},{"$f":"$M515","v":514},null,null,null,null,null,null,null,null,null,null,null,null,null,null,null,null,null,null,1000]
["Hareon","HR-280P-24/Ba",0.14459941829719722,280,44.46,35.39,8.4,7.91,4.62,-159,-126.56342780026991,null,515,"",{"$f":"IF($A516=\"\",\"\",COUNTIF($A$2:$A516,$A516))","v":27},{"$f":"IF($A516=\"\",\"\",$O516+thousand*VLOOKUP($A516,$A$1:Q516,17,FALSE))","v":23027},{"$f":"IF(O516=1,MAX(Q$1:Q515)+1,\"\")","v":""},"Hareon","HR-280P-24/Ba",515,null,null,null,null,null,null,null,null,null,null,null,null,null,null,null,null,null,null,1000]
["Hareon","HR-285P-24/Ba",0.14718155076679007,285,44.51,35.6,8.52,8,4.6859999999999999,-159,-127.17142215232532,null,516,"",{"$f":"IF($A517=\"\",\"\",COUNTIF($A$2:$A517,$A517))","v":28},{"$f":"IF($A517=\"\",\"\",$O517+thousand*VLOOKUP($A517,$A$1:Q517,17,FALSE))","v":23028},{"$f":"IF(O517=1,MAX(Q$1:Q516)+1,\"\")","v":""},"Hareon","HR-285P-24/Ba",516,null,null,null,null,null,null,null,null,null,null,null,null,null,null,null,null,null,null,1000]
["Hareon","HR-285-24/Ca",0.14718155076679007,285,44.76,36.24,8.49,7.8639999999999999,3.9903,-146,-118.20911528150135,null,517,"",{"$f":"IF($A518=\"\",\"\",COUNTIF($A$2:$A518,$A518))","v":29},{"$f":"IF($A518=\"\",\"\",$O518+thousand*VLOOKUP($A518,$A$1:Q518,17,FALSE))","v":23029},{"$f":"IF(O518=1,MAX(Q$1:Q517)+1,\"\")","v":""},"Hareon","HR-285-24/Ca",517,null,null,null,null,null,null,null,null,null,null,null,null,null,null,null,null,null,null,1000]
["Hareon","HR-290P-24/Ba",0.14976368323638289,290,44.65,35.86,8.64,8.09,4.7519999999999998,-160,-128.501679731243,null,518,"",{"$f":"IF($A519=\"\",\"\",COUNTIF($A$2:$A519,$A519))","v":30},{"$f":"IF($A519=\"\",\"\",$O519+thousand*VLOOKUP($A519,$A$1:Q519,17,FALSE))","v":23030},{"$f":"IF(O519=1,MAX(Q$1:Q518)+1,\"\")","v":""},"Hareon","HR-290P-24/Ba",518,null,null,null,null,null,null,null,null,null,null,null,null,null,null,null,null,null,null,1000]
["Hareon","HR-290-24/Ca",0.14976368323638289,290,44.9,36.36,8.6,7.976,4.0419999999999998,-147,-119.04053452115812,null,519,"",{"$f":"IF($A520=\"\",\"\",COUNTIF($A$2:$A520,$A520))","v":31},{"$f":"IF($A520=\"\",\"\",$O520+thousand*VLOOKUP($A520,$A$1:Q520,17,FALSE))","v":23031},{"$f":"IF(O520=1,MAX(Q$1:Q519)+1,\"\")","v":""},"Hareon","HR-290-24/Ca",519,null,null,null,null,null,null,null,null,null,null,null,null,null,null,null,null,null,null,1000]
["Hareon","HR-290-24/Ca",0.14976368323638289,290,44.9,36.36,8.6,7.976,4.0419999999999998,null,0,null,520,"",{"$f":"IF($A521=\"\",\"\",COUNTIF($A$2:$A521,$A521))","v":32},{"$f":"IF($A521=\"\",\"\",$O521+thousand*VLOOKUP($A521,$A$1:Q521,17,FALSE))","v":23032},{"$f":"IF(O521=1,MAX(Q$1:Q520)+1,\"\")","v":""},"Hareon","HR-290-24/Ca",520,null,null,null,null,null,null,null,null,null,null,null,null,null,null,null,null,null,null,1000]
["Hareon","HR-295P-24/Ba",0.15234581570597569,295,44.74,35.979999999999997,8.76,8.1999999999999993,4.8179999999999996,-161,-129.47653106839516,null,521,"",{"$f":"IF($A522=\"\",\"\",COUNTIF($A$2:$A522,$A522))","v":33},{"$f":"IF($A522=\"\",\"\",$O522+thousand*VLOOKUP($A522,$A$1:Q522,17,FALSE))","v":23033},{"$f":"IF(O522=1,MAX(Q$1:Q521)+1,\"\")","v":""},"Hareon","HR-295P-24/Ba",521,null,null,null,null,null,null,null,null,null,null,null,null,null,null,null,null,null,null,1000]
["Hareon","HR-295-24/Ca",0.15234581570597569,295,45.01,36.479999999999997,8.7100000000000009,8.0869999999999997,4.093700000000001,-148,-119.95201066429681,null,522,"",{"$f":"IF($A523=\"\",\"\",COUNTIF($A$2:$A523,$A523))","v":34},{"$f":"IF($A523=\"\",\"\",$O523+thousand*VLOOKUP($A523,$A$1:Q523,17,FALSE))","v":23034},{"$f":"IF(O523=1,MAX(Q$1:Q522)+1,\"\")","v":""},"Hareon","HR-295-24/Ca",522,null,null,null,null,null,null,null,null,null,null,null,null,null,null,null,null,null,null,1000]
["Hareon","HR-300P-24/Ba",0.15492794817556849,300,44.82,36.299999999999997,8.8800000000000008,8.26,4.8840000000000003,-161,-130.39491298527443,null,523,"",{"$f":"IF($A524=\"\",\"\",COUNTIF($A$2:$A524,$A524))","v":35},{"$f":"IF($A524=\"\",\"\",$O524+thousand*VLOOKUP($A524,$A$1:Q524,17,FALSE))","v":23035},{"$f":"IF(O524=1,MAX(Q$1:Q523)+1,\"\")","v":""},"Hareon","HR-300P-24/Ba",523,null,null,null,null,null,null,null,null,null,null,null,null,null,null,null,null,null,null,1000]
["Hareon","HR-300-24/Ca",0.15492794817556849,300,45.11,36.6,8.81,8.1969999999999992,4.1407000000000007,-148,-120.07980492130349,null,524,"",{"$f":"IF($A525=\"\",\"\",COUNTIF($A$2:$A525,$A525))","v":36},{"$f":"IF($A525=\"\",\"\",$O525+thousand*VLOOKUP($A525,$A$1:Q525,17,FALSE))","v":23036},{"$f":"IF(O525=1,MAX(Q$1:Q524)+1,\"\")","v":""},"Hareon","HR-300-24/Ca",524,null,null,null,null,null,null,null,null,null,null,null,null,null,null,null,null,null,null,1000]
["Hareon","HR-305P-24/Ba",0.15751008064516128,305,44.91,36.61,8.99,8.33,4.9444999999999997,-162,-132.06012024048096,null,525,"",{"$f":"IF($A526=\"\",\"\",COUNTIF($A$2:$A526,$A526))","v":37},{"$f":"IF($A526=\"\",\"\",$O526+thousand*VLOOKUP($A526,$A$1:Q526,17,FALSE))","v":23037},{"$f":"IF(O526=1,MAX(Q$1:Q525)+1,\"\")","v":""},"Hareon","HR-305P-24/Ba",525,null,null,null,null,null,null,null,null,null,null,null,null,null,null,null,null,null,null,1000]
["Hareon","HR-305-24/Ca",0.15751008064516128,305,45.28,36.72,8.92,8.3059999999999992,4.1924000000000001,-149,-120.8321554770318,null,526,"",{"$f":"IF($A527=\"\",\"\",COUNTIF($A$2:$A527,$A527))","v":38},{"$f":"IF($A527=\"\",\"\",$O527+thousand*VLOOKUP($A527,$A$1:Q527,17,FALSE))","v":23038},{"$f":"IF(O527=1,MAX(Q$1:Q526)+1,\"\")","v":""},"Hareon","HR-305-24/Ca",526,null,null,null,null,null,null,null,null,null,null,null,null,null,null,null,null,null,null,1000]
["Hareon","HR-310P-24/Ba",0.16009221311475408,310,45.05,36.82,9.1,8.42,5.004999999999999,-164,-134.03951165371811,null,527,"",{"$f":"IF($A528=\"\",\"\",COUNTIF($A$2:$A528,$A528))","v":39},{"$f":"IF($A528=\"\",\"\",$O528+thousand*VLOOKUP($A528,$A$1:Q528,17,FALSE))","v":23039},{"$f":"IF(O528=1,MAX(Q$1:Q527)+1,\"\")","v":""},"Hareon","HR-310P-24/Ba",527,null,null,null,null,null,null,null,null,null,null,null,null,null,null,null,null,null,null,1000]
["Hareon","HR-310-24/Ca",0.16009221311475408,310,45.49,36.840000000000003,9.01,8.41,4.2347000000000001,-150,-121.47724774675753,null,528,"",{"$f":"IF($A529=\"\",\"\",COUNTIF($A$2:$A529,$A529))","v":40},{"$f":"IF($A529=\"\",\"\",$O529+thousand*VLOOKUP($A529,$A$1:Q529,17,FALSE))","v":23040},{"$f":"IF(O529=1,MAX(Q$1:Q528)+1,\"\")","v":""},"Hareon","HR-310-24/Ca",528,null,null,null,null,null,null,null,null,null,null,null,null,null,null,null,null,null,null,1000]
["Hareon","HR-315-24/Ca",0.16267434558434687,315,45.62,36.909999999999997,9.1199999999999992,8.5299999999999994,4.2863999999999995,-151,-122.17032003507232,null,529,"",{"$f":"IF($A530=\"\",\"\",COUNTIF($A$2:$A530,$A530))","v":41},{"$f":"IF($A530=\"\",\"\",$O530+thousand*VLOOKUP($A530,$A$1:Q530,17,FALSE))","v":23041},{"$f":"IF(O530=1,MAX(Q$1:Q529)+1,\"\")","v":""},"Hareon","HR-315-24/Ca",529,null,null,null,null,null,null,null,null,null,null,null,null,null,null,null,null,null,null,1000]
["Hareon","HR-320-24/Ca",0.16525647805393973,320,45.8,37.020000000000003,9.2100000000000009,8.64,4.3287000000000004,-152,-122.86113537117906,null,530,"",{"$f":"IF($A531=\"\",\"\",COUNTIF($A$2:$A531,$A531))","v":42},{"$f":"IF($A531=\"\",\"\",$O531+thousand*VLOOKUP($A531,$A$1:Q531,17,FALSE))","v":23042},{"$f":"IF(O531=1,MAX(Q$1:Q530)+1,\"\")","v":""},"Hareon","HR-320-24/Ca",530,null,null,null,null,null,null,null,null,null,null,null,null,null,null,null,null,null,null,1000]
["Heliene Inc","60P-HD-250",0.15273704789833822,250,37.799999999999997,30.7,8.65,8.14,6.0550000000000006,-139.85999999999999,-113.58999999999999,null,531,"",{"$f":"IF($A532=\"\",\"\",COUNTIF($A$2:$A532,$A532))","v":1},{"$f":"IF($A532=\"\",\"\",$O532+thousand*VLOOKUP($A532,$A$1:Q532,17,FALSE))","v":24001},{"$f":"IF(O532=1,MAX(Q$1:Q531)+1,\"\")","v":24},"Heliene Inc","60P-HD-250",531,null,null,null,null,null,null,null,null,null,null,null,null,null,null,null,null,null,null,1000]
["Heliene Inc","60P-250",0.15031265031265031,250,37.799999999999997,30.7,8.65,8.14,6.0550000000000006,-139.85999999999999,-113.58999999999999,null,532,"",{"$f":"IF($A533=\"\",\"\",COUNTIF($A$2:$A533,$A533))","v":2},{"$f":"IF($A533=\"\",\"\",$O533+thousand*VLOOKUP($A533,$A$1:Q533,17,FALSE))","v":24002},{"$f":"IF(O533=1,MAX(Q$1:Q532)+1,\"\")","v":""},"Heliene Inc","60P-250",532,null,null,null,null,null,null,null,null,null,null,null,null,null,null,null,null,null,null,1000]
["Heliene Inc","60M-HD-255",0.15579178885630496,255,37.5,30.65,8.86,8.32,6.202,-138.75,-113.40499999999999,null,533,"",{"$f":"IF($A534=\"\",\"\",COUNTIF($A$2:$A534,$A534))","v":3},{"$f":"IF($A534=\"\",\"\",$O534+thousand*VLOOKUP($A534,$A$1:Q534,17,FALSE))","v":24003},{"$f":"IF(O534=1,MAX(Q$1:Q533)+1,\"\")","v":""},"Heliene Inc","60M-HD-255",533,null,null,null,null,null,null,null,null,null,null,null,null,null,null,null,null,null,null,1000]
["Heliene Inc","60M-255",0.15331890331890333,255,37.5,30.65,8.86,8.32,6.202,-138.75,-113.40499999999999,null,534,"",{"$f":"IF($A535=\"\",\"\",COUNTIF($A$2:$A535,$A535))","v":4},{"$f":"IF($A535=\"\",\"\",$O535+thousand*VLOOKUP($A535,$A$1:Q535,17,FALSE))","v":24004},{"$f":"IF(O535=1,MAX(Q$1:Q534)+1,\"\")","v":""},"Heliene Inc","60M-255",534,null,null,null,null,null,null,null,null,null,null,null,null,null,null,null,null,null,null,1000]
["Heliene Inc","60M-HD-260",0.15884652981427175,260,37.729999999999997,30.84,8.9,8.43,6.2300000000000013,-139.60099999999997,-114.10799999999999,null,535,"",{"$f":"IF($A536=\"\",\"\",COUNTIF($A$2:$A536,$A536))","v":5},{"$f":"IF($A536=\"\",\"\",$O536+thousand*VLOOKUP($A536,$A$1:Q536,17,FALSE))","v":24005},{"$f":"IF(O536=1,MAX(Q$1:Q535)+1,\"\")","v":""},"Heliene Inc","60M-HD-260",535,null,null,null,null,null,null,null,null,null,null,null,null,null,null,null,null,null,null,1000]
["Heliene Inc","60M-260",0.15632515632515634,260,37.729999999999997,30.84,8.9,8.43,6.2300000000000013,-139.60099999999997,-114.10799999999999,null,536,"",{"$f":"IF($A537=\"\",\"\",COUNTIF($A$2:$A537,$A537))","v":6},{"$f":"IF($A537=\"\",\"\",$O537+thousand*VLOOKUP($A537,$A$1:Q537,17,FALSE))","v":24006},{"$f":"IF(O537=1,MAX(Q$1:Q536)+1,\"\")","v":""},"Heliene Inc","60M-260",536,null,null,null,null,null,null,null,null,null,null,null,null,null,null,null,null,null,null,1000]
["Heliene Inc","60M-HD-265",0.16190127077223854,265,38.4,31.17,9,8.5,6.3000000000000007,-142.08000000000001,-115.32900000000002,null,537,"",{"$f":"IF($A538=\"\",\"\",COUNTIF($A$2:$A538,$A538))","v":7},{"$f":"IF($A538=\"\",\"\",$O538+thousand*VLOOKUP($A538,$A$1:Q538,17,FALSE))","v":24007},{"$f":"IF(O538=1,MAX(Q$1:Q537)+1,\"\")","v":""},"Heliene Inc","60M-HD-265",537,null,null,null,null,null,null,null,null,null,null,null,null,null,null,null,null,null,null,1000]
["Heliene Inc","72P-HD-295",0.15218988344834419,295,45.2,36.520000000000003,8.6,8.0500000000000007,6.02,-167.24,-135.124,null,538,"",{"$f":"IF($A539=\"\",\"\",COUNTIF($A$2:$A539,$A539))","v":8},{"$f":"IF($A539=\"\",\"\",$O539+thousand*VLOOKUP($A539,$A$1:Q539,17,FALSE))","v":24008},{"$f":"IF(O539=1,MAX(Q$1:Q538)+1,\"\")","v":""},"Heliene Inc","72P-HD-295",538,null,null,null,null,null,null,null,null,null,null,null,null,null,null,null,null,null,null,1000]
["Heliene Inc","72P-295",0.1511072318384474,295,45.2,36.520000000000003,8.6,8.0500000000000007,6.02,-167.24,-135.124,null,539,"",{"$f":"IF($A540=\"\",\"\",COUNTIF($A$2:$A540,$A540))","v":9},{"$f":"IF($A540=\"\",\"\",$O540+thousand*VLOOKUP($A540,$A$1:Q540,17,FALSE))","v":24009},{"$f":"IF(O540=1,MAX(Q$1:Q539)+1,\"\")","v":""},"Heliene Inc","72P-295",539,null,null,null,null,null,null,null,null,null,null,null,null,null,null,null,null,null,null,1000]
["Heliene Inc","72P-HD-300",0.15476937299831611,300,45.36,36.840000000000003,8.65,8.14,6.0550000000000006,-167.83200000000002,-136.30800000000002,null,540,"",{"$f":"IF($A541=\"\",\"\",COUNTIF($A$2:$A541,$A541))","v":10},{"$f":"IF($A541=\"\",\"\",$O541+thousand*VLOOKUP($A541,$A$1:Q541,17,FALSE))","v":24010},{"$f":"IF(O541=1,MAX(Q$1:Q540)+1,\"\")","v":""},"Heliene Inc","72P-HD-300",540,null,null,null,null,null,null,null,null,null,null,null,null,null,null,null,null,null,null,1000]
["Heliene Inc","72P-300",0.15366837136113295,300,45.36,36.840000000000003,8.65,8.14,6.0550000000000006,-167.83200000000002,-136.30800000000002,null,541,"",{"$f":"IF($A542=\"\",\"\",COUNTIF($A$2:$A542,$A542))","v":11},{"$f":"IF($A542=\"\",\"\",$O542+thousand*VLOOKUP($A542,$A$1:Q542,17,FALSE))","v":24011},{"$f":"IF(O542=1,MAX(Q$1:Q541)+1,\"\")","v":""},"Heliene Inc","72P-300",541,null,null,null,null,null,null,null,null,null,null,null,null,null,null,null,null,null,null,1000]
["Heliene Inc","72M-HD-310",0.15992835209825995,310,45.4,36.770000000000003,8.9,8.43,6.2300000000000013,-167.98,-136.04900000000001,null,542,"",{"$f":"IF($A543=\"\",\"\",COUNTIF($A$2:$A543,$A543))","v":12},{"$f":"IF($A543=\"\",\"\",$O543+thousand*VLOOKUP($A543,$A$1:Q543,17,FALSE))","v":24012},{"$f":"IF(O543=1,MAX(Q$1:Q542)+1,\"\")","v":""},"Heliene Inc","72M-HD-310",542,null,null,null,null,null,null,null,null,null,null,null,null,null,null,null,null,null,null,1000]
["Heliene Inc","72M-310",0.15879065040650406,310,45.4,36.770000000000003,8.9,8.43,6.2300000000000013,-167.98,-136.04900000000001,null,543,"",{"$f":"IF($A544=\"\",\"\",COUNTIF($A$2:$A544,$A544))","v":13},{"$f":"IF($A544=\"\",\"\",$O544+thousand*VLOOKUP($A544,$A$1:Q544,17,FALSE))","v":24013},{"$f":"IF(O544=1,MAX(Q$1:Q543)+1,\"\")","v":""},"Heliene Inc","72M-310",543,null,null,null,null,null,null,null,null,null,null,null,null,null,null,null,null,null,null,1000]
["Heliene Inc","72M-HD-315",0.16250784164823193,315,45.5,37,9,8.5,6.3000000000000007,-168.35,-136.9,null,544,"",{"$f":"IF($A545=\"\",\"\",COUNTIF($A$2:$A545,$A545))","v":14},{"$f":"IF($A545=\"\",\"\",$O545+thousand*VLOOKUP($A545,$A$1:Q545,17,FALSE))","v":24014},{"$f":"IF(O545=1,MAX(Q$1:Q544)+1,\"\")","v":""},"Heliene Inc","72M-HD-315",544,null,null,null,null,null,null,null,null,null,null,null,null,null,null,null,null,null,null,1000]
["Heliene Inc","72M-315",0.16135178992918964,315,45.5,37,9,8.5,6.3000000000000007,-168.35,-136.9,null,545,"",{"$f":"IF($A546=\"\",\"\",COUNTIF($A$2:$A546,$A546))","v":15},{"$f":"IF($A546=\"\",\"\",$O546+thousand*VLOOKUP($A546,$A$1:Q546,17,FALSE))","v":24015},{"$f":"IF(O546=1,MAX(Q$1:Q545)+1,\"\")","v":""},"Heliene Inc","72M-315",545,null,null,null,null,null,null,null,null,null,null,null,null,null,null,null,null,null,null,1000]
["Heliene Inc","72M-HD-320",0.16508733119820385,320,45.75,37.43,9.0500000000000007,8.5500000000000007,6.3350000000000009,-169.27499999999998,-138.49099999999999,null,546,"",{"$f":"IF($A547=\"\",\"\",COUNTIF($A$2:$A547,$A547))","v":16},{"$f":"IF($A547=\"\",\"\",$O547+thousand*VLOOKUP($A547,$A$1:Q547,17,FALSE))","v":24016},{"$f":"IF(O547=1,MAX(Q$1:Q546)+1,\"\")","v":""},"Heliene Inc","72M-HD-320",546,null,null,null,null,null,null,null,null,null,null,null,null,null,null,null,null,null,null,1000]
["Heliene Inc","72M-320",0.16391292945187516,320,45.75,37.43,9.0500000000000007,8.5500000000000007,6.3350000000000009,-169.27499999999998,-138.49099999999999,null,547,"",{"$f":"IF($A548=\"\",\"\",COUNTIF($A$2:$A548,$A548))","v":17},{"$f":"IF($A548=\"\",\"\",$O548+thousand*VLOOKUP($A548,$A$1:Q548,17,FALSE))","v":24017},{"$f":"IF(O548=1,MAX(Q$1:Q547)+1,\"\")","v":""},"Heliene Inc","72M-320",547,null,null,null,null,null,null,null,null,null,null,null,null,null,null,null,null,null,null,1000]
["Heliene Inc","96M-390",0.1506629168340699,390,59.3,47.91,8.6199999999999992,8.14,6.0340000000000007,-219.41,-177.267,null,548,"",{"$f":"IF($A549=\"\",\"\",COUNTIF($A$2:$A549,$A549))","v":18},{"$f":"IF($A549=\"\",\"\",$O549+thousand*VLOOKUP($A549,$A$1:Q549,17,FALSE))","v":24018},{"$f":"IF(O549=1,MAX(Q$1:Q548)+1,\"\")","v":""},"Heliene Inc","96M-390",548,null,null,null,null,null,null,null,null,null,null,null,null,null,null,null,null,null,null,1000]
["Heliene Inc","96M-395",0.15259449269091696,395,59.5,48.17,8.67,8.1999999999999993,6.0690000000000008,-220.15,-178.22900000000001,null,549,"",{"$f":"IF($A550=\"\",\"\",COUNTIF($A$2:$A550,$A550))","v":19},{"$f":"IF($A550=\"\",\"\",$O550+thousand*VLOOKUP($A550,$A$1:Q550,17,FALSE))","v":24019},{"$f":"IF(O550=1,MAX(Q$1:Q549)+1,\"\")","v":""},"Heliene Inc","96M-395",549,null,null,null,null,null,null,null,null,null,null,null,null,null,null,null,null,null,null,1000]
["Heliene Inc","96M-400",0.15452606854776399,400,59.8,48.43,8.82,8.26,6.1740000000000004,-221.26,-179.191,null,550,"",{"$f":"IF($A551=\"\",\"\",COUNTIF($A$2:$A551,$A551))","v":20},{"$f":"IF($A551=\"\",\"\",$O551+thousand*VLOOKUP($A551,$A$1:Q551,17,FALSE))","v":24020},{"$f":"IF(O551=1,MAX(Q$1:Q550)+1,\"\")","v":""},"Heliene Inc","96M-400",550,null,null,null,null,null,null,null,null,null,null,null,null,null,null,null,null,null,null,1000]
["Heliene Inc","96M-405",0.15645764440461107,405,60,48.68,8.86,8.32,6.202,-222,-180.11600000000001,null,551,"",{"$f":"IF($A552=\"\",\"\",COUNTIF($A$2:$A552,$A552))","v":21},{"$f":"IF($A552=\"\",\"\",$O552+thousand*VLOOKUP($A552,$A$1:Q552,17,FALSE))","v":24021},{"$f":"IF(O552=1,MAX(Q$1:Q551)+1,\"\")","v":""},"Heliene Inc","96M-405",551,null,null,null,null,null,null,null,null,null,null,null,null,null,null,null,null,null,null,1000]
["Heliene Inc","96M-410",0.1583892202614581,410,60.25,48.98,8.9,8.3699999999999992,6.2300000000000013,-222.92500000000001,-181.226,null,552,"",{"$f":"IF($A553=\"\",\"\",COUNTIF($A$2:$A553,$A553))","v":22},{"$f":"IF($A553=\"\",\"\",$O553+thousand*VLOOKUP($A553,$A$1:Q553,17,FALSE))","v":24022},{"$f":"IF(O553=1,MAX(Q$1:Q552)+1,\"\")","v":""},"Heliene Inc","96M-410",552,null,null,null,null,null,null,null,null,null,null,null,null,null,null,null,null,null,null,1000]
["Heliene Inc","96M-415",0.16032079611830516,415,60.4,49.23,8.9499999999999993,8.43,6.2650000000000006,-223.48,-182.15099999999998,null,553,"",{"$f":"IF($A554=\"\",\"\",COUNTIF($A$2:$A554,$A554))","v":23},{"$f":"IF($A554=\"\",\"\",$O554+thousand*VLOOKUP($A554,$A$1:Q554,17,FALSE))","v":24023},{"$f":"IF(O554=1,MAX(Q$1:Q553)+1,\"\")","v":""},"Heliene Inc","96M-415",553,null,null,null,null,null,null,null,null,null,null,null,null,null,null,null,null,null,null,1000]
["Heliene Inc","96M-420",0.16225237197515222,420,60.55,49.53,9,8.48,6.3000000000000007,-224.035,-183.261,null,554,"",{"$f":"IF($A555=\"\",\"\",COUNTIF($A$2:$A555,$A555))","v":24},{"$f":"IF($A555=\"\",\"\",$O555+thousand*VLOOKUP($A555,$A$1:Q555,17,FALSE))","v":24024},{"$f":"IF(O555=1,MAX(Q$1:Q554)+1,\"\")","v":""},"Heliene Inc","96M-420",554,null,null,null,null,null,null,null,null,null,null,null,null,null,null,null,null,null,null,1000]
["Helios Energy Europe","60P-250",0.15031265031265031,250,37.799999999999997,30.7,8.65,8.14,6.0550000000000006,-139.85999999999999,-113.58999999999999,null,555,"",{"$f":"IF($A556=\"\",\"\",COUNTIF($A$2:$A556,$A556))","v":1},{"$f":"IF($A556=\"\",\"\",$O556+thousand*VLOOKUP($A556,$A$1:Q556,17,FALSE))","v":25001},{"$f":"IF(O556=1,MAX(Q$1:Q555)+1,\"\")","v":25},"Helios Energy Europe","60P-250",555,null,null,null,null,null,null,null,null,null,null,null,null,null,null,null,null,null,null,1000]
["Helios Energy Europe","60M-255",0.15331890331890333,255,37.5,30.65,8.86,8.32,6.202,-138.75,-113.40499999999999,null,556,"",{"$f":"IF($A557=\"\",\"\",COUNTIF($A$2:$A557,$A557))","v":2},{"$f":"IF($A557=\"\",\"\",$O557+thousand*VLOOKUP($A557,$A$1:Q557,17,FALSE))","v":25002},{"$f":"IF(O557=1,MAX(Q$1:Q556)+1,\"\")","v":""},"Helios Energy Europe","60M-255",556,null,null,null,null,null,null,null,null,null,null,null,null,null,null,null,null,null,null,1000]
["Helios Energy Europe","60M-260",0.15632515632515634,260,37.729999999999997,30.84,8.9,8.43,6.2300000000000013,-139.60099999999997,-114.10799999999999,null,557,"",{"$f":"IF($A558=\"\",\"\",COUNTIF($A$2:$A558,$A558))","v":3},{"$f":"IF($A558=\"\",\"\",$O558+thousand*VLOOKUP($A558,$A$1:Q558,17,FALSE))","v":25003},{"$f":"IF(O558=1,MAX(Q$1:Q557)+1,\"\")","v":""},"Helios Energy Europe","60M-260",557,null,null,null,null,null,null,null,null,null,null,null,null,null,null,null,null,null,null,1000]
["Helios Energy Europe","72P-295",0.1511072318384474,295,45.2,36.520000000000003,8.6,8.0500000000000007,6.02,-167.24,-135.124,null,558,"",{"$f":"IF($A559=\"\",\"\",COUNTIF($A$2:$A559,$A559))","v":4},{"$f":"IF($A559=\"\",\"\",$O559+thousand*VLOOKUP($A559,$A$1:Q559,17,FALSE))","v":25004},{"$f":"IF(O559=1,MAX(Q$1:Q558)+1,\"\")","v":""},"Helios Energy Europe","72P-295",558,null,null,null,null,null,null,null,null,null,null,null,null,null,null,null,null,null,null,1000]
["Helios Energy Europe","72P-300",0.15366837136113295,300,45.36,36.840000000000003,8.65,8.14,6.0550000000000006,-167.83200000000002,-136.30800000000002,null,559,"",{"$f":"IF($A560=\"\",\"\",COUNTIF($A$2:$A560,$A560))","v":5},{"$f":"IF($A560=\"\",\"\",$O560+thousand*VLOOKUP($A560,$A$1:Q560,17,FALSE))","v":25005},{"$f":"IF(O560=1,MAX(Q$1:Q559)+1,\"\")","v":""},"Helios Energy Europe","72P-300",559,null,null,null,null,null,null,null,null,null,null,null,null,null,null,null,null,null,null,1000]
["Helios Energy Europe","72M-310",0.15879065040650406,310,45.4,36.770000000000003,8.9,8.43,6.2300000000000013,-167.98,-136.04900000000001,null,560,"",{"$f":"IF($A561=\"\",\"\",COUNTIF($A$2:$A561,$A561))","v":6},{"$f":"IF($A561=\"\",\"\",$O561+thousand*VLOOKUP($A561,$A$1:Q561,17,FALSE))","v":25006},{"$f":"IF(O561=1,MAX(Q$1:Q560)+1,\"\")","v":""},"Helios Energy Europe","72M-310",560,null,null,null,null,null,null,null,null,null,null,null,null,null,null,null,null,null,null,1000]
["Helios Energy Europe","72M-315",0.16135178992918964,315,45.5,37,9,8.5,6.3000000000000007,-168.35,-136.9,null,561,"",{"$f":"IF($A562=\"\",\"\",COUNTIF($A$2:$A562,$A562))","v":7},{"$f":"IF($A562=\"\",\"\",$O562+thousand*VLOOKUP($A562,$A$1:Q562,17,FALSE))","v":25007},{"$f":"IF(O562=1,MAX(Q$1:Q561)+1,\"\")","v":""},"Helios Energy Europe","72M-315",561,null,null,null,null,null,null,null,null,null,null,null,null,null,null,null,null,null,null,1000]
["Helios Energy Europe","96M-390",0.1506629168340699,390,59.3,47.91,8.6199999999999992,8.14,6.0340000000000007,-219.41,-177.267,null,562,"",{"$f":"IF($A563=\"\",\"\",COUNTIF($A$2:$A563,$A563))","v":8},{"$f":"IF($A563=\"\",\"\",$O563+thousand*VLOOKUP($A563,$A$1:Q563,17,FALSE))","v":25008},{"$f":"IF(O563=1,MAX(Q$1:Q562)+1,\"\")","v":""},"Helios Energy Europe","96M-390",562,null,null,null,null,null,null,null,null,null,null,null,null,null,null,null,null,null,null,1000]
["Helios Energy Europe","96M-395",0.15259449269091696,395,59.5,48.17,8.67,8.1999999999999993,6.0690000000000008,-220.15,-178.22900000000001,null,563,"",{"$f":"IF($A564=\"\",\"\",COUNTIF($A$2:$A564,$A564))","v":9},{"$f":"IF($A564=\"\",\"\",$O564+thousand*VLOOKUP($A564,$A$1:Q564,17,FALSE))","v":25009},{"$f":"IF(O564=1,MAX(Q$1:Q563)+1,\"\")","v":""},"Helios Energy Europe","96M-395",563,null,null,null,null,null,null,null,null,null,null,null,null,null,null,null,null,null,null,1000]
["Helios Energy Europe","96M-400",0.15452606854776399,400,59.8,48.43,8.82,8.26,6.1740000000000004,-221.26,-179.191,null,564,"",{"$f":"IF($A565=\"\",\"\",COUNTIF($A$2:$A565,$A565))","v":10},{"$f":"IF($A565=\"\",\"\",$O565+thousand*VLOOKUP($A565,$A$1:Q565,17,FALSE))","v":25010},{"$f":"IF(O565=1,MAX(Q$1:Q564)+1,\"\")","v":""},"Helios Energy Europe","96M-400",564,null,null,null,null,null,null,null,null,null,null,null,null,null,null,null,null,null,null,1000]
["Helios Energy Europe","96M-405",0.15645764440461107,405,60,48.68,8.86,8.32,6.202,-222,-180.11600000000001,null,565,"",{"$f":"IF($A566=\"\",\"\",COUNTIF($A$2:$A566,$A566))","v":11},{"$f":"IF($A566=\"\",\"\",$O566+thousand*VLOOKUP($A566,$A$1:Q566,17,FALSE))","v":25011},{"$f":"IF(O566=1,MAX(Q$1:Q565)+1,\"\")","v":""},"Helios Energy Europe","96M-405",565,null,null,null,null,null,null,null,null,null,null,null,null,null,null,null,null,null,null,1000]
["Helios Energy Europe","96M-410",0.1583892202614581,410,60.25,48.98,8.9,8.3699999999999992,6.2300000000000013,-222.92500000000001,-181.226,null,566,"",{"$f":"IF($A567=\"\",\"\",COUNTIF($A$2:$A567,$A567))","v":12},{"$f":"IF($A567=\"\",\"\",$O567+thousand*VLOOKUP($A567,$A$1:Q567,17,FALSE))","v":25012},{"$f":"IF(O567=1,MAX(Q$1:Q566)+1,\"\")","v":""},"Helios Energy Europe","96M-410",566,null,null,null,null,null,null,null,null,null,null,null,null,null,null,null,null,null,null,1000]
["Helios Energy Europe","96M-415",0.16032079611830516,415,60.4,49.23,8.9499999999999993,8.43,6.2650000000000006,-223.48,-182.15099999999998,null,567,"",{"$f":"IF($A568=\"\",\"\",COUNTIF($A$2:$A568,$A568))","v":13},{"$f":"IF($A568=\"\",\"\",$O568+thousand*VLOOKUP($A568,$A$1:Q568,17,FALSE))","v":25013},{"$f":"IF(O568=1,MAX(Q$1:Q567)+1,\"\")","v":""},"Helios Energy Europe","96M-415",567,null,null,null,null,null,null,null,null,null,null,null,null,null,null,null,null,null,null,1000]
["Helios Energy Europe","96M-420",0.16225237197515222,420,60.55,49.53,9,8.48,6.3000000000000007,-224.035,-183.261,null,568,"",{"$f":"IF($A569=\"\",\"\",COUNTIF($A$2:$A569,$A569))","v":14},{"$f":"IF($A569=\"\",\"\",$O569+thousand*VLOOKUP($A569,$A$1:Q569,17,FALSE))","v":25014},{"$f":"IF(O569=1,MAX(Q$1:Q568)+1,\"\")","v":""},"Helios Energy Europe","96M-420",568,null,null,null,null,null,null,null,null,null,null,null,null,null,null,null,null,null,null,1000]
["Helios USA","6Tp-250",0.15031265031265031,250,37.799999999999997,30.7,8.65,8.14,6.0550000000000006,-139.85999999999999,-113.58999999999999,null,569,"",{"$f":"IF($A570=\"\",\"\",COUNTIF($A$2:$A570,$A570))","v":1},{"$f":"IF($A570=\"\",\"\",$O570+thousand*VLOOKUP($A570,$A$1:Q570,17,FALSE))","v":26001},{"$f":"IF(O570=1,MAX(Q$1:Q569)+1,\"\")","v":26},"Helios USA","6Tp-250",569,null,null,null,null,null,null,null,null,null,null,null,null,null,null,null,null,null,null,1000]
["Helios USA","6T-255",0.15331890331890333,255,37.5,30.65,8.86,8.32,6.202,-138.75,-113.40499999999999,null,570,"",{"$f":"IF($A571=\"\",\"\",COUNTIF($A$2:$A571,$A571))","v":2},{"$f":"IF($A571=\"\",\"\",$O571+thousand*VLOOKUP($A571,$A$1:Q571,17,FALSE))","v":26002},{"$f":"IF(O571=1,MAX(Q$1:Q570)+1,\"\")","v":""},"Helios USA","6T-255",570,null,null,null,null,null,null,null,null,null,null,null,null,null,null,null,null,null,null,1000]
["Helios USA","6T-260",0.15632515632515634,260,37.729999999999997,30.84,8.9,8.43,6.2300000000000013,-139.60099999999997,-114.10799999999999,null,571,"",{"$f":"IF($A572=\"\",\"\",COUNTIF($A$2:$A572,$A572))","v":3},{"$f":"IF($A572=\"\",\"\",$O572+thousand*VLOOKUP($A572,$A$1:Q572,17,FALSE))","v":26003},{"$f":"IF(O572=1,MAX(Q$1:Q571)+1,\"\")","v":""},"Helios USA","6T-260",571,null,null,null,null,null,null,null,null,null,null,null,null,null,null,null,null,null,null,1000]
["Helios USA","7T2-310",0.15879065040650406,310,45.4,36.770000000000003,8.9,8.43,6.2300000000000013,-167.98,-136.04900000000001,null,572,"",{"$f":"IF($A573=\"\",\"\",COUNTIF($A$2:$A573,$A573))","v":4},{"$f":"IF($A573=\"\",\"\",$O573+thousand*VLOOKUP($A573,$A$1:Q573,17,FALSE))","v":26004},{"$f":"IF(O573=1,MAX(Q$1:Q572)+1,\"\")","v":""},"Helios USA","7T2-310",572,null,null,null,null,null,null,null,null,null,null,null,null,null,null,null,null,null,null,1000]
["Helios USA","7T2-315",0.16135178992918964,315,45.5,37,9,8.5,6.3000000000000007,-168.35,-136.9,null,573,"",{"$f":"IF($A574=\"\",\"\",COUNTIF($A$2:$A574,$A574))","v":5},{"$f":"IF($A574=\"\",\"\",$O574+thousand*VLOOKUP($A574,$A$1:Q574,17,FALSE))","v":26005},{"$f":"IF(O574=1,MAX(Q$1:Q573)+1,\"\")","v":""},"Helios USA","7T2-315",573,null,null,null,null,null,null,null,null,null,null,null,null,null,null,null,null,null,null,1000]
["Helios USA","9T6 390",0.1506629168340699,390,59.3,47.91,8.6199999999999992,8.14,2.5859999999999994,-189.76,-153.31199999999998,null,574,"",{"$f":"IF($A575=\"\",\"\",COUNTIF($A$2:$A575,$A575))","v":6},{"$f":"IF($A575=\"\",\"\",$O575+thousand*VLOOKUP($A575,$A$1:Q575,17,FALSE))","v":26006},{"$f":"IF(O575=1,MAX(Q$1:Q574)+1,\"\")","v":""},"Helios USA","9T6 390",574,null,null,null,null,null,null,null,null,null,null,null,null,null,null,null,null,null,null,1000]
["Helios USA","9T6 395",0.15259449269091696,395,59.5,48.17,8.67,8.1999999999999993,2.601,-190.39999999999998,-154.14400000000001,null,575,"",{"$f":"IF($A576=\"\",\"\",COUNTIF($A$2:$A576,$A576))","v":7},{"$f":"IF($A576=\"\",\"\",$O576+thousand*VLOOKUP($A576,$A$1:Q576,17,FALSE))","v":26007},{"$f":"IF(O576=1,MAX(Q$1:Q575)+1,\"\")","v":""},"Helios USA","9T6 395",575,null,null,null,null,null,null,null,null,null,null,null,null,null,null,null,null,null,null,1000]
["Helios USA","9T6 400",0.15452606854776399,400,59.8,48.43,8.82,8.26,2.6459999999999999,-191.36,-154.976,null,576,"",{"$f":"IF($A577=\"\",\"\",COUNTIF($A$2:$A577,$A577))","v":8},{"$f":"IF($A577=\"\",\"\",$O577+thousand*VLOOKUP($A577,$A$1:Q577,17,FALSE))","v":26008},{"$f":"IF(O577=1,MAX(Q$1:Q576)+1,\"\")","v":""},"Helios USA","9T6 400",576,null,null,null,null,null,null,null,null,null,null,null,null,null,null,null,null,null,null,1000]
["Helios USA","9T6 405",0.15645764440461107,405,60,48.68,8.86,8.32,2.6579999999999999,-192,-155.77600000000001,null,577,{"$f":"IF(M578>MAX(Q$2:Q$7985),\"\",VLOOKUP(M578,Q$2:R$7985,2,FALSE))","v":""},{"$f":"IF($A578=\"\",\"\",COUNTIF($A$2:$A578,$A578))","v":9},{"$f":"IF($A578=\"\",\"\",$O578+thousand*VLOOKUP($A578,$A$1:Q578,17,FALSE))","v":26009},{"$f":"IF(O578=1,MAX(Q$1:Q577)+1,\"\")","v":""},"Helios USA","9T6 405",577,null,null,null,null,null,null,null,null,null,null,null,null,null,null,null,null,null,null,1000]
["Helios USA","9T6 410",0.1583892202614581,410,60.25,48.98,8.9,8.3699999999999992,2.67,-192.8,{"$f":"F579/E579*J579","v":-156.73600000000002},null,578,"",{"$f":"IF($A579=\"\",\"\",COUNTIF($A$2:$A579,$A579))","v":10},{"$f":"IF($A579=\"\",\"\",$O579+thousand*VLOOKUP($A579,$A$1:Q579,17,FALSE))","v":26010},{"$f":"IF(O579=1,MAX(Q$1:Q578)+1,\"\")","v":""},{"$f":"IF(A579=\"\",\"\",A579)","v":"Helios USA"},{"$f":"IF(B579=\"\",\"\",B579)","v":"9T6 410"},{"$f":"$M579","v":578},null,null,null,null,null,null,null,null,null,null,null,null,null,null,null,null,null,null,1000]
["Helios USA","9T6 415",0.16032079611830516,415,60.4,49.23,8.9499999999999993,8.43,2.6849999999999996,-193.28,-157.536,null,579,"",{"$f":"IF($A580=\"\",\"\",COUNTIF($A$2:$A580,$A580))","v":11},{"$f":"IF($A580=\"\",\"\",$O580+thousand*VLOOKUP($A580,$A$1:Q580,17,FALSE))","v":26011},{"$f":"IF(O580=1,MAX(Q$1:Q579)+1,\"\")","v":""},"Helios USA","9T6 415",579,null,null,null,null,null,null,null,null,null,null,null,null,null,null,null,null,null,null,1000]
["Helios USA","9T6 420",0.16225237197515222,420,60.55,49.53,9,8.48,2.7,-193.76000000000002,-158.49600000000004,null,580,"",{"$f":"IF($A581=\"\",\"\",COUNTIF($A$2:$A581,$A581))","v":12},{"$f":"IF($A581=\"\",\"\",$O581+thousand*VLOOKUP($A581,$A$1:Q581,17,FALSE))","v":26012},{"$f":"IF(O581=1,MAX(Q$1:Q580)+1,\"\")","v":""},"Helios USA","9T6 420",580,null,null,null,null,null,null,null,null,null,null,null,null,null,null,null,null,null,null,1000]
["JA Solar","JAM5(L)(BK) 72-190/SI",0.14882817395663617,190,45.38,36.659999999999997,5.58,5.18,2.79,-158.83000000000001,-128.31,null,581,"",{"$f":"IF($A582=\"\",\"\",COUNTIF($A$2:$A582,$A582))","v":1},{"$f":"IF($A582=\"\",\"\",$O582+thousand*VLOOKUP($A582,$A$1:Q582,17,FALSE))","v":27001},{"$f":"IF(O582=1,MAX(Q$1:Q581)+1,\"\")","v":27},"JA Solar","JAM5(L)(BK) 72-190/SI",581,null,null,null,null,null,null,null,null,null,null,null,null,null,null,null,null,null,null,1000]
["JA Solar","JAM5(L)(BK) 72-195/SI",0.15274470485023187,195,45.56,36.659999999999997,5.6,5.31,2.8,-159.45999999999998,-128.30999999999997,null,582,"",{"$f":"IF($A583=\"\",\"\",COUNTIF($A$2:$A583,$A583))","v":2},{"$f":"IF($A583=\"\",\"\",$O583+thousand*VLOOKUP($A583,$A$1:Q583,17,FALSE))","v":27002},{"$f":"IF(O583=1,MAX(Q$1:Q582)+1,\"\")","v":""},"JA Solar","JAM5(L)(BK) 72-195/SI",582,null,null,null,null,null,null,null,null,null,null,null,null,null,null,null,null,null,null,1000]
["JA Solar","JAM5(L)(BK) 72-200/SI",0.15666123574382756,200,45.69,37.11,5.69,5.39,2.8450000000000002,-159.91499999999996,-129.88499999999999,null,583,"",{"$f":"IF($A584=\"\",\"\",COUNTIF($A$2:$A584,$A584))","v":3},{"$f":"IF($A584=\"\",\"\",$O584+thousand*VLOOKUP($A584,$A$1:Q584,17,FALSE))","v":27003},{"$f":"IF(O584=1,MAX(Q$1:Q583)+1,\"\")","v":""},"JA Solar","JAM5(L)(BK) 72-200/SI",583,null,null,null,null,null,null,null,null,null,null,null,null,null,null,null,null,null,null,1000]
["JA Solar","JAM5(R) 72-200",0.15666123574382756,200,45.7,36.56,5.89,5.47,2.9449999999999998,-159.94999999999999,-127.96,null,584,"",{"$f":"IF($A585=\"\",\"\",COUNTIF($A$2:$A585,$A585))","v":4},{"$f":"IF($A585=\"\",\"\",$O585+thousand*VLOOKUP($A585,$A$1:Q585,17,FALSE))","v":27004},{"$f":"IF(O585=1,MAX(Q$1:Q584)+1,\"\")","v":""},"JA Solar","JAM5(R) 72-200",584,null,null,null,null,null,null,null,null,null,null,null,null,null,null,null,null,null,null,1000]
["JA Solar","JAM5(L)(BK) 72-205/SI",0.16057776663742324,205,45.92,37.35,5.74,5.49,2.87,-160.72,-130.72499999999999,null,585,"",{"$f":"IF($A586=\"\",\"\",COUNTIF($A$2:$A586,$A586))","v":5},{"$f":"IF($A586=\"\",\"\",$O586+thousand*VLOOKUP($A586,$A$1:Q586,17,FALSE))","v":27005},{"$f":"IF(O586=1,MAX(Q$1:Q585)+1,\"\")","v":""},"JA Solar","JAM5(L)(BK) 72-205/SI",585,null,null,null,null,null,null,null,null,null,null,null,null,null,null,null,null,null,null,1000]
["JA Solar","JAM5(R) 72-205",0.16057776663742324,205,45.94,36.94,5.95,5.55,2.9750000000000005,-160.78999999999996,-129.28999999999996,null,586,"",{"$f":"IF($A587=\"\",\"\",COUNTIF($A$2:$A587,$A587))","v":6},{"$f":"IF($A587=\"\",\"\",$O587+thousand*VLOOKUP($A587,$A$1:Q587,17,FALSE))","v":27006},{"$f":"IF(O587=1,MAX(Q$1:Q586)+1,\"\")","v":""},"JA Solar","JAM5(R) 72-205",586,null,null,null,null,null,null,null,null,null,null,null,null,null,null,null,null,null,null,1000]
["JA Solar","JAM5(L)(BK) 72-210/SI",0.16449429753101891,210,46.09,37.729999999999997,5.79,5.57,2.8950000000000005,-161.315,-132.05499999999998,null,587,"",{"$f":"IF($A588=\"\",\"\",COUNTIF($A$2:$A588,$A588))","v":7},{"$f":"IF($A588=\"\",\"\",$O588+thousand*VLOOKUP($A588,$A$1:Q588,17,FALSE))","v":27007},{"$f":"IF(O588=1,MAX(Q$1:Q587)+1,\"\")","v":""},"JA Solar","JAM5(L)(BK) 72-210/SI",587,null,null,null,null,null,null,null,null,null,null,null,null,null,null,null,null,null,null,1000]
["JA Solar","JAM5(R) 72-210",0.16449429753101891,210,46.01,37.299999999999997,6.01,5.63,3.0049999999999999,-161.03499999999997,-130.54999999999995,null,588,"",{"$f":"IF($A589=\"\",\"\",COUNTIF($A$2:$A589,$A589))","v":8},{"$f":"IF($A589=\"\",\"\",$O589+thousand*VLOOKUP($A589,$A$1:Q589,17,FALSE))","v":27008},{"$f":"IF(O589=1,MAX(Q$1:Q588)+1,\"\")","v":""},"JA Solar","JAM5(R) 72-210",588,null,null,null,null,null,null,null,null,null,null,null,null,null,null,null,null,null,null,1000]
["JA Solar","JAM5(L)-72-210/Si",0.16449429753101891,210,46.09,37.729999999999997,5.79,5.57,2.8950000000000005,-161.315,-132.05499999999998,null,589,"",{"$f":"IF($A590=\"\",\"\",COUNTIF($A$2:$A590,$A590))","v":9},{"$f":"IF($A590=\"\",\"\",$O590+thousand*VLOOKUP($A590,$A$1:Q590,17,FALSE))","v":27009},{"$f":"IF(O590=1,MAX(Q$1:Q589)+1,\"\")","v":""},"JA Solar","JAM5(L)-72-210/Si",589,null,null,null,null,null,null,null,null,null,null,null,null,null,null,null,null,null,null,1000]
["JA Solar","JAM5(R) 72-215",0.16841082842461463,215,46.14,37.72,6.06,5.7,3.03,-161.49,-132.02000000000001,null,590,"",{"$f":"IF($A591=\"\",\"\",COUNTIF($A$2:$A591,$A591))","v":10},{"$f":"IF($A591=\"\",\"\",$O591+thousand*VLOOKUP($A591,$A$1:Q591,17,FALSE))","v":27010},{"$f":"IF(O591=1,MAX(Q$1:Q590)+1,\"\")","v":""},"JA Solar","JAM5(R) 72-215",590,null,null,null,null,null,null,null,null,null,null,null,null,null,null,null,null,null,null,1000]
["JA Solar","JAM5(L)-72-215/Si",0.16841082842461463,215,46.15,38.06,5.82,5.65,2.91,-161.52500000000001,-133.21,null,591,"",{"$f":"IF($A592=\"\",\"\",COUNTIF($A$2:$A592,$A592))","v":11},{"$f":"IF($A592=\"\",\"\",$O592+thousand*VLOOKUP($A592,$A$1:Q592,17,FALSE))","v":27011},{"$f":"IF(O592=1,MAX(Q$1:Q591)+1,\"\")","v":""},"JA Solar","JAM5(L)-72-215/Si",591,null,null,null,null,null,null,null,null,null,null,null,null,null,null,null,null,null,null,1000]
["JA Solar","JAM5(R) 72-220",0.17232735931821028,220,46.19,38.19,6.11,5.76,3.0550000000000006,-161.66499999999999,-133.66499999999999,null,592,"",{"$f":"IF($A593=\"\",\"\",COUNTIF($A$2:$A593,$A593))","v":12},{"$f":"IF($A593=\"\",\"\",$O593+thousand*VLOOKUP($A593,$A$1:Q593,17,FALSE))","v":27012},{"$f":"IF(O593=1,MAX(Q$1:Q592)+1,\"\")","v":""},"JA Solar","JAM5(R) 72-220",592,null,null,null,null,null,null,null,null,null,null,null,null,null,null,null,null,null,null,1000]
["JA Solar","JAP6(DG) 60-250",0.15249416404834187,250,37.659999999999997,31.28,8.6300000000000008,7.99,4.3150000000000004,-131.80999999999997,-109.48,null,593,"",{"$f":"IF($A594=\"\",\"\",COUNTIF($A$2:$A594,$A594))","v":13},{"$f":"IF($A594=\"\",\"\",$O594+thousand*VLOOKUP($A594,$A$1:Q594,17,FALSE))","v":27013},{"$f":"IF(O594=1,MAX(Q$1:Q593)+1,\"\")","v":""},"JA Solar","JAP6(DG) 60-250",593,null,null,null,null,null,null,null,null,null,null,null,null,null,null,null,null,null,null,1000]
["JA Solar","JAP6(BK) 60-250/3BB",0.15289117206372504,250,37.54,29.98,8.84,8.34,4.42,-131.39000000000001,-104.93,null,594,"",{"$f":"IF($A595=\"\",\"\",COUNTIF($A$2:$A595,$A595))","v":14},{"$f":"IF($A595=\"\",\"\",$O595+thousand*VLOOKUP($A595,$A$1:Q595,17,FALSE))","v":27014},{"$f":"IF(O595=1,MAX(Q$1:Q594)+1,\"\")","v":""},"JA Solar","JAP6(BK) 60-250/3BB",594,null,null,null,null,null,null,null,null,null,null,null,null,null,null,null,null,null,null,1000]
["JA Solar","JAM6(BK) 60-250/SI",0.15289117206372504,250,37.880000000000003,30.35,8.66,8.24,4.33,-132.58000000000001,-106.22500000000001,null,595,"",{"$f":"IF($A596=\"\",\"\",COUNTIF($A$2:$A596,$A596))","v":15},{"$f":"IF($A596=\"\",\"\",$O596+thousand*VLOOKUP($A596,$A$1:Q596,17,FALSE))","v":27015},{"$f":"IF(O596=1,MAX(Q$1:Q595)+1,\"\")","v":""},"JA Solar","JAM6(BK) 60-250/SI",595,null,null,null,null,null,null,null,null,null,null,null,null,null,null,null,null,null,null,1000]
["JA Solar","JAP6(DG) 60-255",0.15554404732930871,255,37.869999999999997,31.68,8.6999999999999993,8.0500000000000007,4.3499999999999996,-132.54499999999999,-110.88,null,596,"",{"$f":"IF($A597=\"\",\"\",COUNTIF($A$2:$A597,$A597))","v":16},{"$f":"IF($A597=\"\",\"\",$O597+thousand*VLOOKUP($A597,$A$1:Q597,17,FALSE))","v":27016},{"$f":"IF(O597=1,MAX(Q$1:Q596)+1,\"\")","v":""},"JA Solar","JAP6(DG) 60-255",596,null,null,null,null,null,null,null,null,null,null,null,null,null,null,null,null,null,null,1000]
["JA Solar","JAP6(BK) 60-255/3BB",0.15594899550499952,255,37.619999999999997,30.36,8.8800000000000008,8.4,4.4400000000000004,-131.66999999999999,-106.26,null,597,"",{"$f":"IF($A598=\"\",\"\",COUNTIF($A$2:$A598,$A598))","v":17},{"$f":"IF($A598=\"\",\"\",$O598+thousand*VLOOKUP($A598,$A$1:Q598,17,FALSE))","v":27017},{"$f":"IF(O598=1,MAX(Q$1:Q597)+1,\"\")","v":""},"JA Solar","JAP6(BK) 60-255/3BB",597,null,null,null,null,null,null,null,null,null,null,null,null,null,null,null,null,null,null,1000]
["JA Solar","JAP6-60-255",0.15594899550499952,255,37.85,30.8,8.84,8.2799999999999994,5.3040000000000003,-132.47500000000002,-107.80000000000003,null,598,"",{"$f":"IF($A599=\"\",\"\",COUNTIF($A$2:$A599,$A599))","v":18},{"$f":"IF($A599=\"\",\"\",$O599+thousand*VLOOKUP($A599,$A$1:Q599,17,FALSE))","v":27018},{"$f":"IF(O599=1,MAX(Q$1:Q598)+1,\"\")","v":""},"JA Solar","JAP6-60-255",598,null,null,null,null,null,null,null,null,null,null,null,null,null,null,null,null,null,null,1000]
["JA Solar","JAM6(BK) 60-255/SI",0.15594899550499952,255,38.1,30.62,8.7200000000000006,8.31,4.3600000000000003,-133.35,-107.17,null,599,"",{"$f":"IF($A600=\"\",\"\",COUNTIF($A$2:$A600,$A600))","v":19},{"$f":"IF($A600=\"\",\"\",$O600+thousand*VLOOKUP($A600,$A$1:Q600,17,FALSE))","v":27019},{"$f":"IF(O600=1,MAX(Q$1:Q599)+1,\"\")","v":""},"JA Solar","JAM6(BK) 60-255/SI",599,null,null,null,null,null,null,null,null,null,null,null,null,null,null,null,null,null,null,1000]
["JA Solar","JAM6(R)-60-255",0.15594899550499952,255,37.729999999999997,30.21,9.0399999999999991,8.44,4.5199999999999996,-132.05499999999998,-105.735,null,600,"",{"$f":"IF($A601=\"\",\"\",COUNTIF($A$2:$A601,$A601))","v":20},{"$f":"IF($A601=\"\",\"\",$O601+thousand*VLOOKUP($A601,$A$1:Q601,17,FALSE))","v":27020},{"$f":"IF(O601=1,MAX(Q$1:Q600)+1,\"\")","v":""},"JA Solar","JAM6(R)-60-255",600,null,null,null,null,null,null,null,null,null,null,null,null,null,null,null,null,null,null,1000]
["JA Solar","JAP6-60-260",0.15900681894627403,260,38.130000000000003,31.18,8.8800000000000008,8.34,5.3280000000000003,-133.45499999999998,-109.12999999999998,null,601,"",{"$f":"IF($A602=\"\",\"\",COUNTIF($A$2:$A602,$A602))","v":21},{"$f":"IF($A602=\"\",\"\",$O602+thousand*VLOOKUP($A602,$A$1:Q602,17,FALSE))","v":27021},{"$f":"IF(O602=1,MAX(Q$1:Q601)+1,\"\")","v":""},"JA Solar","JAP6-60-260",601,null,null,null,null,null,null,null,null,null,null,null,null,null,null,null,null,null,null,1000]
["JA Solar","JAM6(BK) 60-260/SI",0.15900681894627403,260,38.24,30.98,8.76,8.39,4.38,-133.84,-108.42999999999999,null,602,"",{"$f":"IF($A603=\"\",\"\",COUNTIF($A$2:$A603,$A603))","v":22},{"$f":"IF($A603=\"\",\"\",$O603+thousand*VLOOKUP($A603,$A$1:Q603,17,FALSE))","v":27022},{"$f":"IF(O603=1,MAX(Q$1:Q602)+1,\"\")","v":""},"JA Solar","JAM6(BK) 60-260/SI",602,null,null,null,null,null,null,null,null,null,null,null,null,null,null,null,null,null,null,1000]
["JA Solar","JAM6(R)-60-260",0.15900681894627403,260,37.86,30.57,9.08,8.51,4.54,-132.51,-106.99499999999999,null,603,"",{"$f":"IF($A604=\"\",\"\",COUNTIF($A$2:$A604,$A604))","v":23},{"$f":"IF($A604=\"\",\"\",$O604+thousand*VLOOKUP($A604,$A$1:Q604,17,FALSE))","v":27023},{"$f":"IF(O604=1,MAX(Q$1:Q603)+1,\"\")","v":""},"JA Solar","JAM6(R)-60-260",603,null,null,null,null,null,null,null,null,null,null,null,null,null,null,null,null,null,null,1000]
["JA Solar","JAM6(BK) 60-265/SI",0.16206464238754856,265,38.380000000000003,31.24,8.8000000000000007,8.48,4.4000000000000004,-134.33000000000001,-109.33999999999999,null,604,"",{"$f":"IF($A605=\"\",\"\",COUNTIF($A$2:$A605,$A605))","v":24},{"$f":"IF($A605=\"\",\"\",$O605+thousand*VLOOKUP($A605,$A$1:Q605,17,FALSE))","v":27024},{"$f":"IF(O605=1,MAX(Q$1:Q604)+1,\"\")","v":""},"JA Solar","JAM6(BK) 60-265/SI",604,null,null,null,null,null,null,null,null,null,null,null,null,null,null,null,null,null,null,1000]
["JA Solar","JAM6(R)-60-265",0.16206464238754856,265,38.01,30.93,9.1199999999999992,8.56,4.5599999999999996,-133.035,-108.255,null,605,"",{"$f":"IF($A606=\"\",\"\",COUNTIF($A$2:$A606,$A606))","v":25},{"$f":"IF($A606=\"\",\"\",$O606+thousand*VLOOKUP($A606,$A$1:Q606,17,FALSE))","v":27025},{"$f":"IF(O606=1,MAX(Q$1:Q605)+1,\"\")","v":""},"JA Solar","JAM6(R)-60-265",605,null,null,null,null,null,null,null,null,null,null,null,null,null,null,null,null,null,null,1000]
["JA Solar","JAM6(R)-60-270",0.16512246582882303,270,38.14,31.29,9.16,8.6300000000000008,4.58,-133.49,-109.515,null,606,"",{"$f":"IF($A607=\"\",\"\",COUNTIF($A$2:$A607,$A607))","v":26},{"$f":"IF($A607=\"\",\"\",$O607+thousand*VLOOKUP($A607,$A$1:Q607,17,FALSE))","v":27026},{"$f":"IF(O607=1,MAX(Q$1:Q606)+1,\"\")","v":""},"JA Solar","JAM6(R)-60-270",606,null,null,null,null,null,null,null,null,null,null,null,null,null,null,null,null,null,null,1000]
["JA Solar","JAM6-60-270/SI",0.16512246582882303,270,38.619999999999997,31.54,8.82,8.56,4.41,-135.16999999999999,-110.39,null,607,"",{"$f":"IF($A608=\"\",\"\",COUNTIF($A$2:$A608,$A608))","v":27},{"$f":"IF($A608=\"\",\"\",$O608+thousand*VLOOKUP($A608,$A$1:Q608,17,FALSE))","v":27027},{"$f":"IF(O608=1,MAX(Q$1:Q607)+1,\"\")","v":""},"JA Solar","JAM6-60-270/SI",607,null,null,null,null,null,null,null,null,null,null,null,null,null,null,null,null,null,null,1000]
["JA Solar","JAM6-60-270/Si",0.16512246582882303,270,38.619999999999997,31.54,8.82,8.56,4.41,-135.16999999999999,-110.39,null,608,"",{"$f":"IF($A609=\"\",\"\",COUNTIF($A$2:$A609,$A609))","v":28},{"$f":"IF($A609=\"\",\"\",$O609+thousand*VLOOKUP($A609,$A$1:Q609,17,FALSE))","v":27028},{"$f":"IF(O609=1,MAX(Q$1:Q608)+1,\"\")","v":""},"JA Solar","JAM6-60-270/Si",608,null,null,null,null,null,null,null,null,null,null,null,null,null,null,null,null,null,null,1000]
["JA Solar","JAM6(R)-60-275",0.16818028927009754,275,38.28,31.65,9.1999999999999993,8.6999999999999993,4.5999999999999996,-133.97999999999999,-110.77499999999998,null,609,"",{"$f":"IF($A610=\"\",\"\",COUNTIF($A$2:$A610,$A610))","v":29},{"$f":"IF($A610=\"\",\"\",$O610+thousand*VLOOKUP($A610,$A$1:Q610,17,FALSE))","v":27029},{"$f":"IF(O610=1,MAX(Q$1:Q609)+1,\"\")","v":""},"JA Solar","JAM6(R)-60-275",609,null,null,null,null,null,null,null,null,null,null,null,null,null,null,null,null,null,null,1000]
["JA Solar","JAM6(R)-60-280",0.17123811271137204,280,38.43,31.71,9.2200000000000006,8.83,4.6100000000000012,-134.505,-110.985,null,610,"",{"$f":"IF($A611=\"\",\"\",COUNTIF($A$2:$A611,$A611))","v":30},{"$f":"IF($A611=\"\",\"\",$O611+thousand*VLOOKUP($A611,$A$1:Q611,17,FALSE))","v":27030},{"$f":"IF(O611=1,MAX(Q$1:Q610)+1,\"\")","v":""},"JA Solar","JAM6(R)-60-280",610,null,null,null,null,null,null,null,null,null,null,null,null,null,null,null,null,null,null,1000]
["JA Solar","JAP6-72-305",0.1573465896545391,305,46.25,37.01,8.7799999999999994,8.24,5.2679999999999989,-161.875,-129.535,null,611,"",{"$f":"IF($A612=\"\",\"\",COUNTIF($A$2:$A612,$A612))","v":31},{"$f":"IF($A612=\"\",\"\",$O612+thousand*VLOOKUP($A612,$A$1:Q612,17,FALSE))","v":27031},{"$f":"IF(O612=1,MAX(Q$1:Q611)+1,\"\")","v":""},"JA Solar","JAP6-72-305",611,null,null,null,null,null,null,null,null,null,null,null,null,null,null,null,null,null,null,1000]
["JA Solar","JAP6-72-305/MP",0.1573465896545391,305,45.46,36.89,8.76,8.27,5.2559999999999993,-159.11000000000001,-129.11500000000001,null,612,"",{"$f":"IF($A613=\"\",\"\",COUNTIF($A$2:$A613,$A613))","v":32},{"$f":"IF($A613=\"\",\"\",$O613+thousand*VLOOKUP($A613,$A$1:Q613,17,FALSE))","v":27032},{"$f":"IF(O613=1,MAX(Q$1:Q612)+1,\"\")","v":""},"JA Solar","JAP6-72-305/MP",612,null,null,null,null,null,null,null,null,null,null,null,null,null,null,null,null,null,null,1000]
["JA Solar","JAP6-72-310",0.15992604194395779,310,46.42,37.299999999999997,8.85,8.31,5.3099999999999987,-162.47,-130.54999999999998,null,613,"",{"$f":"IF($A614=\"\",\"\",COUNTIF($A$2:$A614,$A614))","v":33},{"$f":"IF($A614=\"\",\"\",$O614+thousand*VLOOKUP($A614,$A$1:Q614,17,FALSE))","v":27033},{"$f":"IF(O614=1,MAX(Q$1:Q613)+1,\"\")","v":""},"JA Solar","JAP6-72-310",613,null,null,null,null,null,null,null,null,null,null,null,null,null,null,null,null,null,null,1000]
["JA Solar","JAP6-72-310/MP",0.15992604194395779,310,45.75,37.049999999999997,8.84,8.3699999999999992,5.3040000000000003,-160.125,-129.67499999999998,null,614,"",{"$f":"IF($A615=\"\",\"\",COUNTIF($A$2:$A615,$A615))","v":34},{"$f":"IF($A615=\"\",\"\",$O615+thousand*VLOOKUP($A615,$A$1:Q615,17,FALSE))","v":27034},{"$f":"IF(O615=1,MAX(Q$1:Q614)+1,\"\")","v":""},"JA Solar","JAP6-72-310/MP",614,null,null,null,null,null,null,null,null,null,null,null,null,null,null,null,null,null,null,1000]
["JA Solar","JAP6-72-315/MP",0.16250549423337643,315,45.9,37.369999999999997,8.8699999999999992,8.43,5.3219999999999992,-160.64999999999998,-130.79499999999999,null,615,"",{"$f":"IF($A616=\"\",\"\",COUNTIF($A$2:$A616,$A616))","v":35},{"$f":"IF($A616=\"\",\"\",$O616+thousand*VLOOKUP($A616,$A$1:Q616,17,FALSE))","v":27035},{"$f":"IF(O616=1,MAX(Q$1:Q615)+1,\"\")","v":""},"JA Solar","JAP6-72-315/MP",615,null,null,null,null,null,null,null,null,null,null,null,null,null,null,null,null,null,null,1000]
["JA Solar","JAM6-72-320/SI",0.16508494652279515,320,46.56,37.43,8.81,8.5500000000000007,4.4050000000000002,-162.95999999999998,-131.00499999999997,null,616,"",{"$f":"IF($A617=\"\",\"\",COUNTIF($A$2:$A617,$A617))","v":36},{"$f":"IF($A617=\"\",\"\",$O617+thousand*VLOOKUP($A617,$A$1:Q617,17,FALSE))","v":27036},{"$f":"IF(O617=1,MAX(Q$1:Q616)+1,\"\")","v":""},"JA Solar","JAM6-72-320/SI",616,null,null,null,null,null,null,null,null,null,null,null,null,null,null,null,null,null,null,1000]
["JA Solar","JAM6-72-320",0.16508494652279515,320,46.56,37.43,8.81,8.5500000000000007,4.4050000000000002,-162.95999999999998,-131.00499999999997,null,617,"",{"$f":"IF($A618=\"\",\"\",COUNTIF($A$2:$A618,$A618))","v":37},{"$f":"IF($A618=\"\",\"\",$O618+thousand*VLOOKUP($A618,$A$1:Q618,17,FALSE))","v":27037},{"$f":"IF(O618=1,MAX(Q$1:Q617)+1,\"\")","v":""},"JA Solar","JAM6-72-320",617,null,null,null,null,null,null,null,null,null,null,null,null,null,null,null,null,null,null,1000]
["JA Solar","JAP6-72-320/MP",0.16508494652279515,320,45.98,37.619999999999997,8.89,8.51,5.3339999999999996,-160.92999999999995,-131.66999999999996,null,618,"",{"$f":"IF($A619=\"\",\"\",COUNTIF($A$2:$A619,$A619))","v":38},{"$f":"IF($A619=\"\",\"\",$O619+thousand*VLOOKUP($A619,$A$1:Q619,17,FALSE))","v":27038},{"$f":"IF(O619=1,MAX(Q$1:Q618)+1,\"\")","v":""},"JA Solar","JAP6-72-320/MP",618,null,null,null,null,null,null,null,null,null,null,null,null,null,null,null,null,null,null,1000]
["JA Solar","JAM6-72-325/SI",0.16766439881221382,325,46.71,37.53,8.86,8.66,4.43,-163.48499999999999,-131.35499999999999,null,619,"",{"$f":"IF($A620=\"\",\"\",COUNTIF($A$2:$A620,$A620))","v":39},{"$f":"IF($A620=\"\",\"\",$O620+thousand*VLOOKUP($A620,$A$1:Q620,17,FALSE))","v":27039},{"$f":"IF(O620=1,MAX(Q$1:Q619)+1,\"\")","v":""},"JA Solar","JAM6-72-325/SI",619,null,null,null,null,null,null,null,null,null,null,null,null,null,null,null,null,null,null,1000]
["JA Solar","JAM6-72-325",0.16766439881221382,325,46.71,37.53,8.86,8.66,4.43,-163.48499999999999,-131.35499999999999,null,620,"",{"$f":"IF($A621=\"\",\"\",COUNTIF($A$2:$A621,$A621))","v":40},{"$f":"IF($A621=\"\",\"\",$O621+thousand*VLOOKUP($A621,$A$1:Q621,17,FALSE))","v":27040},{"$f":"IF(O621=1,MAX(Q$1:Q620)+1,\"\")","v":""},"JA Solar","JAM6-72-325",620,null,null,null,null,null,null,null,null,null,null,null,null,null,null,null,null,null,null,1000]
["Jetion","JT205PDe(54)1482x992",0.13944212267641809,205,33,27,8.2799999999999994,7.6,4.1399999999999997,-115.49999999999999,-94.5,null,621,"",{"$f":"IF($A622=\"\",\"\",COUNTIF($A$2:$A622,$A622))","v":1},{"$f":"IF($A622=\"\",\"\",$O622+thousand*VLOOKUP($A622,$A$1:Q622,17,FALSE))","v":28001},{"$f":"IF(O622=1,MAX(Q$1:Q621)+1,\"\")","v":28},"Jetion","JT205PDe(54)1482x992",621,null,null,null,null,null,null,null,null,null,null,null,null,null,null,null,null,null,null,1000]
["Jetion","JT210PDe(54)1482x992",0.14284315005876974,210,33.299999999999997,27.3,8.4,7.7,4.2,-116.54999999999997,-95.549999999999983,null,622,"",{"$f":"IF($A623=\"\",\"\",COUNTIF($A$2:$A623,$A623))","v":2},{"$f":"IF($A623=\"\",\"\",$O623+thousand*VLOOKUP($A623,$A$1:Q623,17,FALSE))","v":28002},{"$f":"IF(O623=1,MAX(Q$1:Q622)+1,\"\")","v":""},"Jetion","JT210PDe(54)1482x992",622,null,null,null,null,null,null,null,null,null,null,null,null,null,null,null,null,null,null,1000]
["Jetion","JT215PDe(54)1482x992",0.14624417744112142,215,33.799999999999997,27.6,8.5,7.8,4.25,-118.29999999999998,-96.6,null,623,"",{"$f":"IF($A624=\"\",\"\",COUNTIF($A$2:$A624,$A624))","v":3},{"$f":"IF($A624=\"\",\"\",$O624+thousand*VLOOKUP($A624,$A$1:Q624,17,FALSE))","v":28003},{"$f":"IF(O624=1,MAX(Q$1:Q623)+1,\"\")","v":""},"Jetion","JT215PDe(54)1482x992",623,null,null,null,null,null,null,null,null,null,null,null,null,null,null,null,null,null,null,1000]
["Jetion","JT220PDe(54)1482x992",0.14964520482347307,220,34.200000000000003,27.9,8.6,7.9,4.3,-119.7,-97.649999999999991,null,624,"",{"$f":"IF($A625=\"\",\"\",COUNTIF($A$2:$A625,$A625))","v":4},{"$f":"IF($A625=\"\",\"\",$O625+thousand*VLOOKUP($A625,$A$1:Q625,17,FALSE))","v":28004},{"$f":"IF(O625=1,MAX(Q$1:Q624)+1,\"\")","v":""},"Jetion","JT220PDe(54)1482x992",624,null,null,null,null,null,null,null,null,null,null,null,null,null,null,null,null,null,null,1000]
["Jetion","JT225PDe(54)1482x992",0.15304623220582472,225,34.5,28.13,8.6999999999999993,8,4.3499999999999996,-120.75,-98.454999999999984,null,625,"",{"$f":"IF($A626=\"\",\"\",COUNTIF($A$2:$A626,$A626))","v":5},{"$f":"IF($A626=\"\",\"\",$O626+thousand*VLOOKUP($A626,$A$1:Q626,17,FALSE))","v":28005},{"$f":"IF(O626=1,MAX(Q$1:Q625)+1,\"\")","v":""},"Jetion","JT225PDe(54)1482x992",625,null,null,null,null,null,null,null,null,null,null,null,null,null,null,null,null,null,null,1000]
["Jetion","JTPLe245(60)1638x982",0.15231430710045782,245,37.4,31.1,8.65,7.89,4.3250000000000002,-130.89999999999998,-108.85,null,626,"",{"$f":"IF($A627=\"\",\"\",COUNTIF($A$2:$A627,$A627))","v":6},{"$f":"IF($A627=\"\",\"\",$O627+thousand*VLOOKUP($A627,$A$1:Q627,17,FALSE))","v":28006},{"$f":"IF(O627=1,MAX(Q$1:Q626)+1,\"\")","v":""},"Jetion","JTPLe245(60)1638x982",626,null,null,null,null,null,null,null,null,null,null,null,null,null,null,null,null,null,null,1000]
["Jetion","JT250SBb(96)1580x1069",0.14801482516488854,250,61.7,51,5.4,4.9000000000000004,2.16,-215.95,-178.49999999999997,null,627,"",{"$f":"IF($A628=\"\",\"\",COUNTIF($A$2:$A628,$A628))","v":7},{"$f":"IF($A628=\"\",\"\",$O628+thousand*VLOOKUP($A628,$A$1:Q628,17,FALSE))","v":28007},{"$f":"IF(O628=1,MAX(Q$1:Q627)+1,\"\")","v":""},"Jetion","JT250SBb(96)1580x1069",627,null,null,null,null,null,null,null,null,null,null,null,null,null,null,null,null,null,null,1000]
["Jetion","JT250SBb(96)1580x1069",0.14801482516488854,250,61.7,51,5.4,4.9000000000000004,2.1059999999999999,-215.95,-178.49999999999997,null,628,"",{"$f":"IF($A629=\"\",\"\",COUNTIF($A$2:$A629,$A629))","v":8},{"$f":"IF($A629=\"\",\"\",$O629+thousand*VLOOKUP($A629,$A$1:Q629,17,FALSE))","v":28008},{"$f":"IF(O629=1,MAX(Q$1:Q628)+1,\"\")","v":""},"Jetion","JT250SBb(96)1580x1069",628,null,null,null,null,null,null,null,null,null,null,null,null,null,null,null,null,null,null,1000]
["Jetion","JTPLe250(60)1638x982",0.15542276234740593,250,37.6,31.4,8.75,7.98,4.375,-131.6,-109.89999999999998,null,629,"",{"$f":"IF($A630=\"\",\"\",COUNTIF($A$2:$A630,$A630))","v":9},{"$f":"IF($A630=\"\",\"\",$O630+thousand*VLOOKUP($A630,$A$1:Q630,17,FALSE))","v":28009},{"$f":"IF(O630=1,MAX(Q$1:Q629)+1,\"\")","v":""},"Jetion","JTPLe250(60)1638x982",629,null,null,null,null,null,null,null,null,null,null,null,null,null,null,null,null,null,null,1000]
["Jetion","JTPLe250(60)1638x982",0.15542276234740593,250,37.6,31.4,8.75,7.98,4.375,-131.6,-109.89999999999998,null,630,"",{"$f":"IF($A631=\"\",\"\",COUNTIF($A$2:$A631,$A631))","v":10},{"$f":"IF($A631=\"\",\"\",$O631+thousand*VLOOKUP($A631,$A$1:Q631,17,FALSE))","v":28010},{"$f":"IF(O631=1,MAX(Q$1:Q630)+1,\"\")","v":""},"Jetion","JTPLe250(60)1638x982",630,null,null,null,null,null,null,null,null,null,null,null,null,null,null,null,null,null,null,1000]
["Jetion","JT255SBb(96)1580x1069",0.1509751216681863,255,62.3,51.5,5.45,4.96,2.1255000000000002,-218.04999999999995,-180.24999999999997,null,631,"",{"$f":"IF($A632=\"\",\"\",COUNTIF($A$2:$A632,$A632))","v":11},{"$f":"IF($A632=\"\",\"\",$O632+thousand*VLOOKUP($A632,$A$1:Q632,17,FALSE))","v":28011},{"$f":"IF(O632=1,MAX(Q$1:Q631)+1,\"\")","v":""},"Jetion","JT255SBb(96)1580x1069",631,null,null,null,null,null,null,null,null,null,null,null,null,null,null,null,null,null,null,1000]
["Jetion","JT260SBb(96)1580x1069",0.15393541817148404,260,62.9,52,5.5,5.01,2.2000000000000002,-220.14999999999995,-181.99999999999994,null,632,"",{"$f":"IF($A633=\"\",\"\",COUNTIF($A$2:$A633,$A633))","v":12},{"$f":"IF($A633=\"\",\"\",$O633+thousand*VLOOKUP($A633,$A$1:Q633,17,FALSE))","v":28012},{"$f":"IF(O633=1,MAX(Q$1:Q632)+1,\"\")","v":""},"Jetion","JT260SBb(96)1580x1069",632,null,null,null,null,null,null,null,null,null,null,null,null,null,null,null,null,null,null,1000]
["Jetion","JT290PMe(72)1954x982",0.15113392133114589,290,45.1,37.200000000000003,8.41,7.8,4.2050000000000001,-157.85,-130.19999999999999,null,633,"",{"$f":"IF($A634=\"\",\"\",COUNTIF($A$2:$A634,$A634))","v":13},{"$f":"IF($A634=\"\",\"\",$O634+thousand*VLOOKUP($A634,$A$1:Q634,17,FALSE))","v":28013},{"$f":"IF(O634=1,MAX(Q$1:Q633)+1,\"\")","v":""},"Jetion","JT290PMe(72)1954x982",633,null,null,null,null,null,null,null,null,null,null,null,null,null,null,null,null,null,null,1000]
["Jetion","JT295PMe(72)1954x982",0.15373967859547599,295,45.4,37.5,8.4600000000000009,7.87,4.2300000000000004,-158.89999999999998,-131.24999999999997,null,634,"",{"$f":"IF($A635=\"\",\"\",COUNTIF($A$2:$A635,$A635))","v":14},{"$f":"IF($A635=\"\",\"\",$O635+thousand*VLOOKUP($A635,$A$1:Q635,17,FALSE))","v":28014},{"$f":"IF(O635=1,MAX(Q$1:Q634)+1,\"\")","v":""},"Jetion","JT295PMe(72)1954x982",634,null,null,null,null,null,null,null,null,null,null,null,null,null,null,null,null,null,null,1000]
["Jetion","JT300PMe(72)1954x982",0.15634543585980609,300,45.8,37.799999999999997,8.5,7.94,4.25,-160.29999999999998,-132.29999999999998,null,635,"",{"$f":"IF($A636=\"\",\"\",COUNTIF($A$2:$A636,$A636))","v":15},{"$f":"IF($A636=\"\",\"\",$O636+thousand*VLOOKUP($A636,$A$1:Q636,17,FALSE))","v":28015},{"$f":"IF(O636=1,MAX(Q$1:Q635)+1,\"\")","v":""},"Jetion","JT300PMe(72)1954x982",635,null,null,null,null,null,null,null,null,null,null,null,null,null,null,null,null,null,null,1000]
["Jetion","JT305PMe(72)1954x982",0.15895119312413619,305,46.1,38.1,8.6,8.01,4.3,-161.35,-133.35,null,636,"",{"$f":"IF($A637=\"\",\"\",COUNTIF($A$2:$A637,$A637))","v":16},{"$f":"IF($A637=\"\",\"\",$O637+thousand*VLOOKUP($A637,$A$1:Q637,17,FALSE))","v":28016},{"$f":"IF(O637=1,MAX(Q$1:Q636)+1,\"\")","v":""},"Jetion","JT305PMe(72)1954x982",636,null,null,null,null,null,null,null,null,null,null,null,null,null,null,null,null,null,null,1000]
["Jiangsu Linyang","Poly 245 WP 60 cells",0.15250051040987159,245,37.130000000000003,30,8.68,8.17,5.3815999999999997,-122.52900000000002,-99.000000000000014,null,637,"",{"$f":"IF($A638=\"\",\"\",COUNTIF($A$2:$A638,$A638))","v":1},{"$f":"IF($A638=\"\",\"\",$O638+thousand*VLOOKUP($A638,$A$1:Q638,17,FALSE))","v":29001},{"$f":"IF(O638=1,MAX(Q$1:Q637)+1,\"\")","v":29},"Jiangsu Linyang","Poly 245 WP 60 cells",637,null,null,null,null,null,null,null,null,null,null,null,null,null,null,null,null,null,null,1000]
["Jiangsu Linyang","Poly 250 WP 60 cells",0.15561276572435878,250,37.200000000000003,30.06,8.74,8.32,5.4188000000000001,-122.76000000000002,-99.198000000000008,null,638,"",{"$f":"IF($A639=\"\",\"\",COUNTIF($A$2:$A639,$A639))","v":2},{"$f":"IF($A639=\"\",\"\",$O639+thousand*VLOOKUP($A639,$A$1:Q639,17,FALSE))","v":29002},{"$f":"IF(O639=1,MAX(Q$1:Q638)+1,\"\")","v":""},"Jiangsu Linyang","Poly 250 WP 60 cells",638,null,null,null,null,null,null,null,null,null,null,null,null,null,null,null,null,null,null,1000]
["Jiangsu Linyang","Poly 255 WP 60 cells",0.15872502103884592,255,37.26,30.11,8.9600000000000009,8.4700000000000006,5.5552000000000001,-122.958,-99.363,null,639,"",{"$f":"IF($A640=\"\",\"\",COUNTIF($A$2:$A640,$A640))","v":3},{"$f":"IF($A640=\"\",\"\",$O640+thousand*VLOOKUP($A640,$A$1:Q640,17,FALSE))","v":29003},{"$f":"IF(O640=1,MAX(Q$1:Q639)+1,\"\")","v":""},"Jiangsu Linyang","Poly 255 WP 60 cells",639,null,null,null,null,null,null,null,null,null,null,null,null,null,null,null,null,null,null,1000]
["Jinkosolar","JKM 205M-72",0.16057776663742324,205,45.9,37.200000000000003,5.9,5.51,2.95,-137.69999999999999,-111.60000000000001,null,640,"",{"$f":"IF($A641=\"\",\"\",COUNTIF($A$2:$A641,$A641))","v":1},{"$f":"IF($A641=\"\",\"\",$O641+thousand*VLOOKUP($A641,$A$1:Q641,17,FALSE))","v":30001},{"$f":"IF(O641=1,MAX(Q$1:Q640)+1,\"\")","v":30},"Jinkosolar","JKM 205M-72",640,null,null,null,null,null,null,null,null,null,null,null,null,null,null,null,null,null,null,1000]
["Jinkosolar","JKM 210M-72",0.16449429753101891,210,46.1,37.4,5.99,5.61,2.9950000000000006,-138.30000000000001,-112.2,null,641,{"$f":"IF(M642>MAX(Q$2:Q$7985),\"\",VLOOKUP(M642,Q$2:R$7985,2,FALSE))","v":""},{"$f":"IF($A642=\"\",\"\",COUNTIF($A$2:$A642,$A642))","v":2},{"$f":"IF($A642=\"\",\"\",$O642+thousand*VLOOKUP($A642,$A$1:Q642,17,FALSE))","v":30002},{"$f":"IF(O642=1,MAX(Q$1:Q641)+1,\"\")","v":""},"Jinkosolar","JKM 210M-72",641,null,null,null,null,null,null,null,null,null,null,null,null,null,null,null,null,null,null,1000]
["Jinkosolar","JKM 245PP-60",0.14968230694037146,245,37.5,30.1,8.76,8.14,5.2559999999999993,-116.25,{"$f":"F643/E643*J643","v":-93.310000000000016},null,642,"",{"$f":"IF($A643=\"\",\"\",COUNTIF($A$2:$A643,$A643))","v":3},{"$f":"IF($A643=\"\",\"\",$O643+thousand*VLOOKUP($A643,$A$1:Q643,17,FALSE))","v":30003},{"$f":"IF(O643=1,MAX(Q$1:Q642)+1,\"\")","v":""},{"$f":"IF(A643=\"\",\"\",A643)","v":"Jinkosolar"},{"$f":"IF(B643=\"\",\"\",B643)","v":"JKM 245PP-60"},{"$f":"$M643","v":642},null,null,null,null,null,null,null,null,null,null,null,null,null,null,null,null,null,null,1000]
["Jinkosolar","JKMS 245P-60",0.15126818305302414,245,37.4,30.2,8.69,8.1199999999999992,4.2580999999999998,-140.99800000000002,-113.85400000000001,null,643,"",{"$f":"IF($A644=\"\",\"\",COUNTIF($A$2:$A644,$A644))","v":4},{"$f":"IF($A644=\"\",\"\",$O644+thousand*VLOOKUP($A644,$A$1:Q644,17,FALSE))","v":30004},{"$f":"IF(O644=1,MAX(Q$1:Q643)+1,\"\")","v":""},"Jinkosolar","JKMS 245P-60",643,null,null,null,null,null,null,null,null,null,null,null,null,null,null,null,null,null,null,1000]
["Jinkosolar","JKM 245P-60",0.14968230694037146,245,37.5,30.1,8.76,8.14,5.2559999999999993,-120,-96.320000000000007,null,644,"",{"$f":"IF($A645=\"\",\"\",COUNTIF($A$2:$A645,$A645))","v":5},{"$f":"IF($A645=\"\",\"\",$O645+thousand*VLOOKUP($A645,$A$1:Q645,17,FALSE))","v":30005},{"$f":"IF(O645=1,MAX(Q$1:Q644)+1,\"\")","v":""},"Jinkosolar","JKM 245P-60",644,null,null,null,null,null,null,null,null,null,null,null,null,null,null,null,null,null,null,1000]
["Jinkosolar","JKM 250PP-60",0.15273704789833822,250,37.700000000000003,30.5,8.85,8.1999999999999993,5.3099999999999987,-116.87000000000002,-94.550000000000011,null,645,"",{"$f":"IF($A646=\"\",\"\",COUNTIF($A$2:$A646,$A646))","v":6},{"$f":"IF($A646=\"\",\"\",$O646+thousand*VLOOKUP($A646,$A$1:Q646,17,FALSE))","v":30006},{"$f":"IF(O646=1,MAX(Q$1:Q645)+1,\"\")","v":""},"Jinkosolar","JKM 250PP-60",645,null,null,null,null,null,null,null,null,null,null,null,null,null,null,null,null,null,null,1000]
["Jinkosolar","JKMS 250P-60",0.15435528882961647,250,37.6,30.4,8.81,8.23,4.4050000000000002,-142.12800000000001,-114.91200000000001,null,646,"",{"$f":"IF($A647=\"\",\"\",COUNTIF($A$2:$A647,$A647))","v":7},{"$f":"IF($A647=\"\",\"\",$O647+thousand*VLOOKUP($A647,$A$1:Q647,17,FALSE))","v":30007},{"$f":"IF(O647=1,MAX(Q$1:Q646)+1,\"\")","v":""},"Jinkosolar","JKMS 250P-60",646,null,null,null,null,null,null,null,null,null,null,null,null,null,null,null,null,null,null,1000]
["Jinkosolar","JKM 250P-60",0.15273704789833822,250,37.700000000000003,30.5,8.85,8.1999999999999993,5.3099999999999987,-120.64000000000003,-97.600000000000023,null,647,"",{"$f":"IF($A648=\"\",\"\",COUNTIF($A$2:$A648,$A648))","v":8},{"$f":"IF($A648=\"\",\"\",$O648+thousand*VLOOKUP($A648,$A$1:Q648,17,FALSE))","v":30008},{"$f":"IF(O648=1,MAX(Q$1:Q647)+1,\"\")","v":""},"Jinkosolar","JKM 250P-60",647,null,null,null,null,null,null,null,null,null,null,null,null,null,null,null,null,null,null,1000]
["Jinkosolar","JKM 255M-60",0.15579178885630496,255,37.799999999999997,30.8,8.9600000000000009,8.2799999999999994,4.4800000000000004,-113.39999999999999,-92.4,null,648,"",{"$f":"IF($A649=\"\",\"\",COUNTIF($A$2:$A649,$A649))","v":9},{"$f":"IF($A649=\"\",\"\",$O649+thousand*VLOOKUP($A649,$A$1:Q649,17,FALSE))","v":30009},{"$f":"IF(O649=1,MAX(Q$1:Q648)+1,\"\")","v":""},"Jinkosolar","JKM 255M-60",648,null,null,null,null,null,null,null,null,null,null,null,null,null,null,null,null,null,null,1000]
["Jinkosolar","JKM 255PP-60",0.15579178885630496,255,38,30.8,8.92,8.2799999999999994,5.3520000000000003,-117.79999999999998,-95.479999999999976,null,649,"",{"$f":"IF($A650=\"\",\"\",COUNTIF($A$2:$A650,$A650))","v":10},{"$f":"IF($A650=\"\",\"\",$O650+thousand*VLOOKUP($A650,$A$1:Q650,17,FALSE))","v":30010},{"$f":"IF(O650=1,MAX(Q$1:Q649)+1,\"\")","v":""},"Jinkosolar","JKM 255PP-60",649,null,null,null,null,null,null,null,null,null,null,null,null,null,null,null,null,null,null,1000]
["Jinkosolar","JKMS 255P-60",0.15744239460620882,255,37.700000000000003,30.6,8.9499999999999993,8.34,5.3699999999999992,-120.64000000000003,-97.920000000000016,null,650,"",{"$f":"IF($A651=\"\",\"\",COUNTIF($A$2:$A651,$A651))","v":11},{"$f":"IF($A651=\"\",\"\",$O651+thousand*VLOOKUP($A651,$A$1:Q651,17,FALSE))","v":30011},{"$f":"IF(O651=1,MAX(Q$1:Q650)+1,\"\")","v":""},"Jinkosolar","JKMS 255P-60",650,null,null,null,null,null,null,null,null,null,null,null,null,null,null,null,null,null,null,1000]
["Jinkosolar","JKM 255P-60",0.15579178885630496,255,38,30.8,8.92,8.2799999999999994,5.3520000000000003,-121.6,-98.559999999999988,null,651,"",{"$f":"IF($A652=\"\",\"\",COUNTIF($A$2:$A652,$A652))","v":12},{"$f":"IF($A652=\"\",\"\",$O652+thousand*VLOOKUP($A652,$A$1:Q652,17,FALSE))","v":30012},{"$f":"IF(O652=1,MAX(Q$1:Q651)+1,\"\")","v":""},"Jinkosolar","JKM 255P-60",651,null,null,null,null,null,null,null,null,null,null,null,null,null,null,null,null,null,null,1000]
["Jinkosolar","JKM 260M-60",0.15884652981427175,260,37.9,30.9,9.1,8.42,4.55,-113.69999999999999,-92.699999999999989,null,652,"",{"$f":"IF($A653=\"\",\"\",COUNTIF($A$2:$A653,$A653))","v":13},{"$f":"IF($A653=\"\",\"\",$O653+thousand*VLOOKUP($A653,$A$1:Q653,17,FALSE))","v":30013},{"$f":"IF(O653=1,MAX(Q$1:Q652)+1,\"\")","v":""},"Jinkosolar","JKM 260M-60",652,null,null,null,null,null,null,null,null,null,null,null,null,null,null,null,null,null,null,1000]
["Jinkosolar","JKM 260PP-60",0.15884652981427175,260,38.1,31.1,8.98,8.3699999999999992,5.3880000000000008,-118.11,-96.41,null,653,"",{"$f":"IF($A654=\"\",\"\",COUNTIF($A$2:$A654,$A654))","v":14},{"$f":"IF($A654=\"\",\"\",$O654+thousand*VLOOKUP($A654,$A$1:Q654,17,FALSE))","v":30014},{"$f":"IF(O654=1,MAX(Q$1:Q653)+1,\"\")","v":""},"Jinkosolar","JKM 260PP-60",653,null,null,null,null,null,null,null,null,null,null,null,null,null,null,null,null,null,null,1000]
["Jinkosolar","JKM 260P-60",0.15884652981427175,260,38.1,31.1,8.98,8.3699999999999992,5.3880000000000008,-121.92,-99.52000000000001,null,654,"",{"$f":"IF($A655=\"\",\"\",COUNTIF($A$2:$A655,$A655))","v":15},{"$f":"IF($A655=\"\",\"\",$O655+thousand*VLOOKUP($A655,$A$1:Q655,17,FALSE))","v":30015},{"$f":"IF(O655=1,MAX(Q$1:Q654)+1,\"\")","v":""},"Jinkosolar","JKM 260P-60",654,null,null,null,null,null,null,null,null,null,null,null,null,null,null,null,null,null,null,1000]
["Jinkosolar","JKM 265M-60",0.16190127077223854,265,38.200000000000003,31.2,9.19,8.5,4.5950000000000006,-114.60000000000001,-93.600000000000009,null,655,"",{"$f":"IF($A656=\"\",\"\",COUNTIF($A$2:$A656,$A656))","v":16},{"$f":"IF($A656=\"\",\"\",$O656+thousand*VLOOKUP($A656,$A$1:Q656,17,FALSE))","v":30016},{"$f":"IF(O656=1,MAX(Q$1:Q655)+1,\"\")","v":""},"Jinkosolar","JKM 265M-60",655,null,null,null,null,null,null,null,null,null,null,null,null,null,null,null,null,null,null,1000]
["Jinkosolar","JKM 265M-96",0.15550274330311301,265,61.7,51,5.77,5.2,2.3079999999999998,-233.84299999999999,-193.28999999999996,null,656,"",{"$f":"IF($A657=\"\",\"\",COUNTIF($A$2:$A657,$A657))","v":17},{"$f":"IF($A657=\"\",\"\",$O657+thousand*VLOOKUP($A657,$A$1:Q657,17,FALSE))","v":30017},{"$f":"IF(O657=1,MAX(Q$1:Q656)+1,\"\")","v":""},"Jinkosolar","JKM 265M-96",656,null,null,null,null,null,null,null,null,null,null,null,null,null,null,null,null,null,null,1000]
["Jinkosolar","JKM 265PP-60",0.16190127077223854,265,38.6,31.4,9.0299999999999994,8.44,5.4179999999999993,-119.66000000000001,-97.339999999999989,null,657,"",{"$f":"IF($A658=\"\",\"\",COUNTIF($A$2:$A658,$A658))","v":18},{"$f":"IF($A658=\"\",\"\",$O658+thousand*VLOOKUP($A658,$A$1:Q658,17,FALSE))","v":30018},{"$f":"IF(O658=1,MAX(Q$1:Q657)+1,\"\")","v":""},"Jinkosolar","JKM 265PP-60",657,null,null,null,null,null,null,null,null,null,null,null,null,null,null,null,null,null,null,1000]
["Jinkosolar","JKM 265P-60",0.16190127077223854,265,38.6,31.4,9.0299999999999994,8.44,5.4179999999999993,-123.52000000000001,-100.47999999999999,null,658,"",{"$f":"IF($A659=\"\",\"\",COUNTIF($A$2:$A659,$A659))","v":19},{"$f":"IF($A659=\"\",\"\",$O659+thousand*VLOOKUP($A659,$A$1:Q659,17,FALSE))","v":30019},{"$f":"IF(O659=1,MAX(Q$1:Q658)+1,\"\")","v":""},"Jinkosolar","JKM 265P-60",658,null,null,null,null,null,null,null,null,null,null,null,null,null,null,null,null,null,null,1000]
["Jinkosolar","JKM 270M-60",0.16495601173020527,270,38.4,31.4,9.2799999999999994,8.6,4.6399999999999997,-115.2,-94.2,null,659,"",{"$f":"IF($A660=\"\",\"\",COUNTIF($A$2:$A660,$A660))","v":20},{"$f":"IF($A660=\"\",\"\",$O660+thousand*VLOOKUP($A660,$A$1:Q660,17,FALSE))","v":30020},{"$f":"IF(O660=1,MAX(Q$1:Q659)+1,\"\")","v":""},"Jinkosolar","JKM 270M-60",659,null,null,null,null,null,null,null,null,null,null,null,null,null,null,null,null,null,null,1000]
["Jinkosolar","JKM 270M-96",0.15843675732770005,270,62.3,51.5,5.82,5.24,2.3280000000000003,-236.11699999999999,-195.185,null,660,"",{"$f":"IF($A661=\"\",\"\",COUNTIF($A$2:$A661,$A661))","v":21},{"$f":"IF($A661=\"\",\"\",$O661+thousand*VLOOKUP($A661,$A$1:Q661,17,FALSE))","v":30021},{"$f":"IF(O661=1,MAX(Q$1:Q660)+1,\"\")","v":""},"Jinkosolar","JKM 270M-96",660,null,null,null,null,null,null,null,null,null,null,null,null,null,null,null,null,null,null,1000]
["Jinkosolar","JKM 290PP-72",0.14945741803549048,290,44.9,35.799999999999997,8.69,8.11,5.2139999999999995,-139.18999999999997,-110.97999999999996,null,661,"",{"$f":"IF($A662=\"\",\"\",COUNTIF($A$2:$A662,$A662))","v":22},{"$f":"IF($A662=\"\",\"\",$O662+thousand*VLOOKUP($A662,$A$1:Q662,17,FALSE))","v":30022},{"$f":"IF(O662=1,MAX(Q$1:Q661)+1,\"\")","v":""},"Jinkosolar","JKM 290PP-72",661,null,null,null,null,null,null,null,null,null,null,null,null,null,null,null,null,null,null,1000]
["Jinkosolar","JKMS 295M-72",0.15265358503063423,295,46,37.6,8.59,7.85,3.4359999999999999,-162.83999999999997,-133.10399999999998,null,662,"",{"$f":"IF($A663=\"\",\"\",COUNTIF($A$2:$A663,$A663))","v":23},{"$f":"IF($A663=\"\",\"\",$O663+thousand*VLOOKUP($A663,$A$1:Q663,17,FALSE))","v":30023},{"$f":"IF(O663=1,MAX(Q$1:Q662)+1,\"\")","v":""},"Jinkosolar","JKMS 295M-72",662,null,null,null,null,null,null,null,null,null,null,null,null,null,null,null,null,null,null,1000]
["Jinkosolar","JKM 295PP-72",0.15203427007058515,295,45.1,36.200000000000003,8.76,8.15,5.2559999999999993,-139.81,-112.22000000000001,null,663,"",{"$f":"IF($A664=\"\",\"\",COUNTIF($A$2:$A664,$A664))","v":24},{"$f":"IF($A664=\"\",\"\",$O664+thousand*VLOOKUP($A664,$A$1:Q664,17,FALSE))","v":30024},{"$f":"IF(O664=1,MAX(Q$1:Q663)+1,\"\")","v":""},"Jinkosolar","JKM 295PP-72",663,null,null,null,null,null,null,null,null,null,null,null,null,null,null,null,null,null,null,1000]
["Jinkosolar","JKMS 295P-72",0.15265358503063423,295,45.2,36.799999999999997,8.9499999999999993,8.02,4.4749999999999996,-165.88400000000001,-135.05600000000001,null,664,"",{"$f":"IF($A665=\"\",\"\",COUNTIF($A$2:$A665,$A665))","v":25},{"$f":"IF($A665=\"\",\"\",$O665+thousand*VLOOKUP($A665,$A$1:Q665,17,FALSE))","v":30025},{"$f":"IF(O665=1,MAX(Q$1:Q664)+1,\"\")","v":""},"Jinkosolar","JKMS 295P-72",664,null,null,null,null,null,null,null,null,null,null,null,null,null,null,null,null,null,null,1000]
["Jinkosolar","JKM 295P-72",0.15203427007058515,295,45.1,36.200000000000003,8.76,8.15,5.2559999999999993,-144.32,-115.84,null,665,"",{"$f":"IF($A666=\"\",\"\",COUNTIF($A$2:$A666,$A666))","v":26},{"$f":"IF($A666=\"\",\"\",$O666+thousand*VLOOKUP($A666,$A$1:Q666,17,FALSE))","v":30026},{"$f":"IF(O666=1,MAX(Q$1:Q665)+1,\"\")","v":""},"Jinkosolar","JKM 295P-72",665,null,null,null,null,null,null,null,null,null,null,null,null,null,null,null,null,null,null,1000]
["Jinkosolar","JKMS 300M-72",0.15524093392945851,300,46.4,38,8.67,7.9,3.468,-165.184,-135.28,null,666,"",{"$f":"IF($A667=\"\",\"\",COUNTIF($A$2:$A667,$A667))","v":27},{"$f":"IF($A667=\"\",\"\",$O667+thousand*VLOOKUP($A667,$A$1:Q667,17,FALSE))","v":30027},{"$f":"IF(O667=1,MAX(Q$1:Q666)+1,\"\")","v":""},"Jinkosolar","JKMS 300M-72",666,null,null,null,null,null,null,null,null,null,null,null,null,null,null,null,null,null,null,1000]
["Jinkosolar","JKM 300M-72",0.15461112210567979,300,45.5,37,8.64,8.11,4.32,-136.5,-111,null,667,"",{"$f":"IF($A668=\"\",\"\",COUNTIF($A$2:$A668,$A668))","v":28},{"$f":"IF($A668=\"\",\"\",$O668+thousand*VLOOKUP($A668,$A$1:Q668,17,FALSE))","v":30028},{"$f":"IF(O668=1,MAX(Q$1:Q667)+1,\"\")","v":""},"Jinkosolar","JKM 300M-72",667,null,null,null,null,null,null,null,null,null,null,null,null,null,null,null,null,null,null,1000]
["Jinkosolar","JKM 300PP-72",0.15461112210567979,300,45.3,36.6,8.84,8.1999999999999993,5.3040000000000003,-140.43,-113.46000000000002,null,668,"",{"$f":"IF($A669=\"\",\"\",COUNTIF($A$2:$A669,$A669))","v":29},{"$f":"IF($A669=\"\",\"\",$O669+thousand*VLOOKUP($A669,$A$1:Q669,17,FALSE))","v":30029},{"$f":"IF(O669=1,MAX(Q$1:Q668)+1,\"\")","v":""},"Jinkosolar","JKM 300PP-72",668,null,null,null,null,null,null,null,null,null,null,null,null,null,null,null,null,null,null,1000]
["Jinkosolar","JKMS 300P-72",0.15524093392945851,300,45.4,37.200000000000003,8.98,8.07,4.49,-168.88800000000001,-138.38400000000001,null,669,"",{"$f":"IF($A670=\"\",\"\",COUNTIF($A$2:$A670,$A670))","v":30},{"$f":"IF($A670=\"\",\"\",$O670+thousand*VLOOKUP($A670,$A$1:Q670,17,FALSE))","v":30030},{"$f":"IF(O670=1,MAX(Q$1:Q669)+1,\"\")","v":""},"Jinkosolar","JKMS 300P-72",669,null,null,null,null,null,null,null,null,null,null,null,null,null,null,null,null,null,null,1000]
["Jinkosolar","JKM 300P-72",0.15461112210567979,300,45.3,36.6,8.84,8.1999999999999993,5.3040000000000003,-144.95999999999998,-117.12,null,670,"",{"$f":"IF($A671=\"\",\"\",COUNTIF($A$2:$A671,$A671))","v":31},{"$f":"IF($A671=\"\",\"\",$O671+thousand*VLOOKUP($A671,$A$1:Q671,17,FALSE))","v":30031},{"$f":"IF(O671=1,MAX(Q$1:Q670)+1,\"\")","v":""},"Jinkosolar","JKM 300P-72",670,null,null,null,null,null,null,null,null,null,null,null,null,null,null,null,null,null,null,1000]
["Jinkosolar","JKMS 305M-72",0.15782828282828285,305,46.8,38.200000000000003,8.7200000000000006,7.99,3.4880000000000004,-168.94799999999998,-137.90199999999999,null,671,"",{"$f":"IF($A672=\"\",\"\",COUNTIF($A$2:$A672,$A672))","v":32},{"$f":"IF($A672=\"\",\"\",$O672+thousand*VLOOKUP($A672,$A$1:Q672,17,FALSE))","v":30032},{"$f":"IF(O672=1,MAX(Q$1:Q671)+1,\"\")","v":""},"Jinkosolar","JKMS 305M-72",671,null,null,null,null,null,null,null,null,null,null,null,null,null,null,null,null,null,null,1000]
["Jinkosolar","JKM 305M-72",0.15718797414077446,305,45.7,37.200000000000003,8.7200000000000006,8.1999999999999993,4.3600000000000003,-137.1,-111.6,null,672,"",{"$f":"IF($A673=\"\",\"\",COUNTIF($A$2:$A673,$A673))","v":33},{"$f":"IF($A673=\"\",\"\",$O673+thousand*VLOOKUP($A673,$A$1:Q673,17,FALSE))","v":30033},{"$f":"IF(O673=1,MAX(Q$1:Q672)+1,\"\")","v":""},"Jinkosolar","JKM 305M-72",672,null,null,null,null,null,null,null,null,null,null,null,null,null,null,null,null,null,null,1000]
["Jinkosolar","JKM 305PP-72",0.15718797414077446,305,45.6,36.799999999999997,8.91,8.3000000000000007,5.3460000000000001,-141.36000000000001,-114.08,null,673,"",{"$f":"IF($A674=\"\",\"\",COUNTIF($A$2:$A674,$A674))","v":34},{"$f":"IF($A674=\"\",\"\",$O674+thousand*VLOOKUP($A674,$A$1:Q674,17,FALSE))","v":30034},{"$f":"IF(O674=1,MAX(Q$1:Q673)+1,\"\")","v":""},"Jinkosolar","JKM 305PP-72",673,null,null,null,null,null,null,null,null,null,null,null,null,null,null,null,null,null,null,1000]
["Jinkosolar","JKMS 305P-72",0.15782828282828285,305,45.6,37.4,9.0500000000000007,8.16,5.4300000000000006,-145.91999999999999,-119.67999999999999,null,674,"",{"$f":"IF($A675=\"\",\"\",COUNTIF($A$2:$A675,$A675))","v":35},{"$f":"IF($A675=\"\",\"\",$O675+thousand*VLOOKUP($A675,$A$1:Q675,17,FALSE))","v":30035},{"$f":"IF(O675=1,MAX(Q$1:Q674)+1,\"\")","v":""},"Jinkosolar","JKMS 305P-72",674,null,null,null,null,null,null,null,null,null,null,null,null,null,null,null,null,null,null,1000]
["Jinkosolar","JKM 305P-72",0.15718797414077446,305,45.6,36.799999999999997,8.91,8.3000000000000007,5.3460000000000001,-145.91999999999999,-117.75999999999998,null,675,"",{"$f":"IF($A676=\"\",\"\",COUNTIF($A$2:$A676,$A676))","v":36},{"$f":"IF($A676=\"\",\"\",$O676+thousand*VLOOKUP($A676,$A$1:Q676,17,FALSE))","v":30036},{"$f":"IF(O676=1,MAX(Q$1:Q675)+1,\"\")","v":""},"Jinkosolar","JKM 305P-72",675,null,null,null,null,null,null,null,null,null,null,null,null,null,null,null,null,null,null,1000]
["Jinkosolar","JKMS 310M-72",0.16041563172710713,310,47.1,38.4,8.7799999999999994,8.07,4.3899999999999997,-141.30000000000001,-115.2,null,676,"",{"$f":"IF($A677=\"\",\"\",COUNTIF($A$2:$A677,$A677))","v":37},{"$f":"IF($A677=\"\",\"\",$O677+thousand*VLOOKUP($A677,$A$1:Q677,17,FALSE))","v":30037},{"$f":"IF(O677=1,MAX(Q$1:Q676)+1,\"\")","v":""},"Jinkosolar","JKMS 310M-72",676,null,null,null,null,null,null,null,null,null,null,null,null,null,null,null,null,null,null,1000]
["Jinkosolar","JKM 310M-72",0.1597648261758691,310,45.9,37.4,8.8000000000000007,8.2899999999999991,4.4000000000000004,-137.69999999999999,-112.19999999999999,null,677,"",{"$f":"IF($A678=\"\",\"\",COUNTIF($A$2:$A678,$A678))","v":38},{"$f":"IF($A678=\"\",\"\",$O678+thousand*VLOOKUP($A678,$A$1:Q678,17,FALSE))","v":30038},{"$f":"IF(O678=1,MAX(Q$1:Q677)+1,\"\")","v":""},"Jinkosolar","JKM 310M-72",677,null,null,null,null,null,null,null,null,null,null,null,null,null,null,null,null,null,null,1000]
["Jinkosolar","JKM 310PP-72",0.1597648261758691,310,45.9,37,8.9600000000000009,8.3800000000000008,5.3760000000000012,-142.29,-114.7,null,678,"",{"$f":"IF($A679=\"\",\"\",COUNTIF($A$2:$A679,$A679))","v":39},{"$f":"IF($A679=\"\",\"\",$O679+thousand*VLOOKUP($A679,$A$1:Q679,17,FALSE))","v":30039},{"$f":"IF(O679=1,MAX(Q$1:Q678)+1,\"\")","v":""},"Jinkosolar","JKM 310PP-72",678,null,null,null,null,null,null,null,null,null,null,null,null,null,null,null,null,null,null,1000]
["Jinkosolar","JKM 310P-72",0.1597648261758691,310,45.9,37,8.9600000000000009,8.3800000000000008,5.3760000000000012,-146.88000000000002,-118.40000000000003,null,679,"",{"$f":"IF($A680=\"\",\"\",COUNTIF($A$2:$A680,$A680))","v":40},{"$f":"IF($A680=\"\",\"\",$O680+thousand*VLOOKUP($A680,$A$1:Q680,17,FALSE))","v":30040},{"$f":"IF(O680=1,MAX(Q$1:Q679)+1,\"\")","v":""},"Jinkosolar","JKM 310P-72",679,null,null,null,null,null,null,null,null,null,null,null,null,null,null,null,null,null,null,1000]
["Jinkosolar","JKM 315M-72",0.16234167821096376,315,46.1,37.6,8.8699999999999992,8.3800000000000008,4.4350000000000005,-138.30000000000001,-112.80000000000001,null,680,"",{"$f":"IF($A681=\"\",\"\",COUNTIF($A$2:$A681,$A681))","v":41},{"$f":"IF($A681=\"\",\"\",$O681+thousand*VLOOKUP($A681,$A$1:Q681,17,FALSE))","v":30041},{"$f":"IF(O681=1,MAX(Q$1:Q680)+1,\"\")","v":""},"Jinkosolar","JKM 315M-72",680,null,null,null,null,null,null,null,null,null,null,null,null,null,null,null,null,null,null,1000]
["Kohima (Eternus)","KE-60-M230",0.14168843329554975,230,36.549999999999997,30.31,8.3000000000000007,7.59,4.0670000000000002,-115.86349999999999,-96.082699999999988,null,681,"",{"$f":"IF($A682=\"\",\"\",COUNTIF($A$2:$A682,$A682))","v":1},{"$f":"IF($A682=\"\",\"\",$O682+thousand*VLOOKUP($A682,$A$1:Q682,17,FALSE))","v":31001},{"$f":"IF(O682=1,MAX(Q$1:Q681)+1,\"\")","v":31},"Kohima (Eternus)","KE-60-M230",681,null,null,null,null,null,null,null,null,null,null,null,null,null,null,null,null,null,null,1000]
["Kohima (Eternus)","KE-60-M235",0.14476861662806167,235,36.9,30.8,8.4,7.63,4.1160000000000005,-115.86599999999999,-96.712000000000003,null,682,"",{"$f":"IF($A683=\"\",\"\",COUNTIF($A$2:$A683,$A683))","v":2},{"$f":"IF($A683=\"\",\"\",$O683+thousand*VLOOKUP($A683,$A$1:Q683,17,FALSE))","v":31002},{"$f":"IF(O683=1,MAX(Q$1:Q682)+1,\"\")","v":""},"Kohima (Eternus)","KE-60-M235",682,null,null,null,null,null,null,null,null,null,null,null,null,null,null,null,null,null,null,1000]
["Kohima (Eternus)","KE-60-M240",0.14784879996057365,240,37.1,30.93,8.52,7.76,4.0895999999999999,-115.75200000000001,-96.501599999999996,null,683,"",{"$f":"IF($A684=\"\",\"\",COUNTIF($A$2:$A684,$A684))","v":3},{"$f":"IF($A684=\"\",\"\",$O684+thousand*VLOOKUP($A684,$A$1:Q684,17,FALSE))","v":31003},{"$f":"IF(O684=1,MAX(Q$1:Q683)+1,\"\")","v":""},"Kohima (Eternus)","KE-60-M240",683,null,null,null,null,null,null,null,null,null,null,null,null,null,null,null,null,null,null,1000]
["Kohima (Eternus)","KE-60-M245",0.1509289832930856,245,37.5,31.14,8.61,7.87,4.1327999999999996,-115.875,-96.2226,null,684,"",{"$f":"IF($A685=\"\",\"\",COUNTIF($A$2:$A685,$A685))","v":4},{"$f":"IF($A685=\"\",\"\",$O685+thousand*VLOOKUP($A685,$A$1:Q685,17,FALSE))","v":31004},{"$f":"IF(O685=1,MAX(Q$1:Q684)+1,\"\")","v":""},"Kohima (Eternus)","KE-60-M245",684,null,null,null,null,null,null,null,null,null,null,null,null,null,null,null,null,null,null,1000]
["LDK Solar Co., Ltd.","LDK-170P-24(s)",0.13316205038225343,170,43.6,34.799999999999997,5.36,4.9000000000000004,3.2160000000000002,-156.95999999999998,-125.27999999999996,null,685,"",{"$f":"IF($A686=\"\",\"\",COUNTIF($A$2:$A686,$A686))","v":1},{"$f":"IF($A686=\"\",\"\",$O686+thousand*VLOOKUP($A686,$A$1:Q686,17,FALSE))","v":32001},{"$f":"IF(O686=1,MAX(Q$1:Q685)+1,\"\")","v":32},"LDK Solar Co., Ltd.","LDK-170P-24(s)",685,null,null,null,null,null,null,null,null,null,null,null,null,null,null,null,null,null,null,1000]
["LDK Solar Co., Ltd.","LDK-175P-24(s)",0.1370785812758491,175,44.1,35.299999999999997,5.41,4.97,3.246,-158.76,-127.07999999999998,null,686,"",{"$f":"IF($A687=\"\",\"\",COUNTIF($A$2:$A687,$A687))","v":2},{"$f":"IF($A687=\"\",\"\",$O687+thousand*VLOOKUP($A687,$A$1:Q687,17,FALSE))","v":32002},{"$f":"IF(O687=1,MAX(Q$1:Q686)+1,\"\")","v":""},"LDK Solar Co., Ltd.","LDK-175P-24(s)",686,null,null,null,null,null,null,null,null,null,null,null,null,null,null,null,null,null,null,1000]
["LDK Solar Co., Ltd.","LDK-180P-24(s)",0.14099511216944477,180,44.5,35.799999999999997,5.45,5.04,3.27,-160.20000000000002,-128.88,null,687,"",{"$f":"IF($A688=\"\",\"\",COUNTIF($A$2:$A688,$A688))","v":3},{"$f":"IF($A688=\"\",\"\",$O688+thousand*VLOOKUP($A688,$A$1:Q688,17,FALSE))","v":32003},{"$f":"IF(O688=1,MAX(Q$1:Q687)+1,\"\")","v":""},"LDK Solar Co., Ltd.","LDK-180P-24(s)",687,null,null,null,null,null,null,null,null,null,null,null,null,null,null,null,null,null,null,1000]
["LDK Solar Co., Ltd.","LDK-180D-24(s)",0.14099511216944477,180,44.5,35,5.57,5.16,3.3420000000000001,-173.55,-136.50000000000003,null,688,"",{"$f":"IF($A689=\"\",\"\",COUNTIF($A$2:$A689,$A689))","v":4},{"$f":"IF($A689=\"\",\"\",$O689+thousand*VLOOKUP($A689,$A$1:Q689,17,FALSE))","v":32004},{"$f":"IF(O689=1,MAX(Q$1:Q688)+1,\"\")","v":""},"LDK Solar Co., Ltd.","LDK-180D-24(s)",688,null,null,null,null,null,null,null,null,null,null,null,null,null,null,null,null,null,null,1000]
["LDK Solar Co., Ltd.","LDK-185P-24(s)",0.1449116430630405,185,44.9,36.299999999999997,5.5,5.1100000000000003,3.3,-161.63999999999999,-130.67999999999998,null,689,"",{"$f":"IF($A690=\"\",\"\",COUNTIF($A$2:$A690,$A690))","v":5},{"$f":"IF($A690=\"\",\"\",$O690+thousand*VLOOKUP($A690,$A$1:Q690,17,FALSE))","v":32005},{"$f":"IF(O690=1,MAX(Q$1:Q689)+1,\"\")","v":""},"LDK Solar Co., Ltd.","LDK-185P-24(s)",689,null,null,null,null,null,null,null,null,null,null,null,null,null,null,null,null,null,null,1000]
["LDK Solar Co., Ltd.","LDK-185D-24(s)",0.1449116430630405,185,44.7,35.5,5.63,5.23,3.3780000000000001,-174.33000000000004,-138.45000000000005,null,690,"",{"$f":"IF($A691=\"\",\"\",COUNTIF($A$2:$A691,$A691))","v":6},{"$f":"IF($A691=\"\",\"\",$O691+thousand*VLOOKUP($A691,$A$1:Q691,17,FALSE))","v":32006},{"$f":"IF(O691=1,MAX(Q$1:Q690)+1,\"\")","v":""},"LDK Solar Co., Ltd.","LDK-185D-24(s)",690,null,null,null,null,null,null,null,null,null,null,null,null,null,null,null,null,null,null,1000]
["LDK Solar Co., Ltd.","LDK190PCFW",0.14598315815354357,190,30,23.6,8.31,8.06,4.9859999999999998,-107.99999999999999,-84.96,null,691,"",{"$f":"IF($A692=\"\",\"\",COUNTIF($A$2:$A692,$A692))","v":7},{"$f":"IF($A692=\"\",\"\",$O692+thousand*VLOOKUP($A692,$A$1:Q692,17,FALSE))","v":32007},{"$f":"IF(O692=1,MAX(Q$1:Q691)+1,\"\")","v":""},"LDK Solar Co., Ltd.","LDK190PCFW",691,null,null,null,null,null,null,null,null,null,null,null,null,null,null,null,null,null,null,1000]
["LDK Solar Co., Ltd.","LDK-190P-24(s)",0.14882817395663617,190,45.4,36.799999999999997,5.54,5.17,3.3239999999999998,-163.43999999999997,-132.47999999999996,null,692,"",{"$f":"IF($A693=\"\",\"\",COUNTIF($A$2:$A693,$A693))","v":8},{"$f":"IF($A693=\"\",\"\",$O693+thousand*VLOOKUP($A693,$A$1:Q693,17,FALSE))","v":32008},{"$f":"IF(O693=1,MAX(Q$1:Q692)+1,\"\")","v":""},"LDK Solar Co., Ltd.","LDK-190P-24(s)",692,null,null,null,null,null,null,null,null,null,null,null,null,null,null,null,null,null,null,1000]
["LDK Solar Co., Ltd.","LDK-190D-24(s)",0.14882817395663617,190,44.9,36,5.69,5.3,3.4140000000000006,-175.10999999999999,-140.4,null,693,"",{"$f":"IF($A694=\"\",\"\",COUNTIF($A$2:$A694,$A694))","v":9},{"$f":"IF($A694=\"\",\"\",$O694+thousand*VLOOKUP($A694,$A$1:Q694,17,FALSE))","v":32009},{"$f":"IF(O694=1,MAX(Q$1:Q693)+1,\"\")","v":""},"LDK Solar Co., Ltd.","LDK-190D-24(s)",693,null,null,null,null,null,null,null,null,null,null,null,null,null,null,null,null,null,null,1000]
["LDK Solar Co., Ltd.","LDK195PCFW",0.14982482021021576,195,30.1,23.9,8.5500000000000007,8.16,5.13,-108.36,-86.039999999999992,null,694,"",{"$f":"IF($A695=\"\",\"\",COUNTIF($A$2:$A695,$A695))","v":10},{"$f":"IF($A695=\"\",\"\",$O695+thousand*VLOOKUP($A695,$A$1:Q695,17,FALSE))","v":32010},{"$f":"IF(O695=1,MAX(Q$1:Q694)+1,\"\")","v":""},"LDK Solar Co., Ltd.","LDK195PCFW",694,null,null,null,null,null,null,null,null,null,null,null,null,null,null,null,null,null,null,1000]
["LDK Solar Co., Ltd.","LDK-195P-24(s)",0.15274470485023187,195,45.8,37.299999999999997,5.58,5.24,3.3479999999999999,-164.88,-134.28,null,695,"",{"$f":"IF($A696=\"\",\"\",COUNTIF($A$2:$A696,$A696))","v":11},{"$f":"IF($A696=\"\",\"\",$O696+thousand*VLOOKUP($A696,$A$1:Q696,17,FALSE))","v":32011},{"$f":"IF(O696=1,MAX(Q$1:Q695)+1,\"\")","v":""},"LDK Solar Co., Ltd.","LDK-195P-24(s)",695,null,null,null,null,null,null,null,null,null,null,null,null,null,null,null,null,null,null,1000]
["LDK Solar Co., Ltd.","LDK195MCFW",0.14982482021021576,195,29.6,24.1,8.7799999999999994,8.1,5.2679999999999989,-115.44,-93.99,null,696,"",{"$f":"IF($A697=\"\",\"\",COUNTIF($A$2:$A697,$A697))","v":12},{"$f":"IF($A697=\"\",\"\",$O697+thousand*VLOOKUP($A697,$A$1:Q697,17,FALSE))","v":32012},{"$f":"IF(O697=1,MAX(Q$1:Q696)+1,\"\")","v":""},"LDK Solar Co., Ltd.","LDK195MCFW",696,null,null,null,null,null,null,null,null,null,null,null,null,null,null,null,null,null,null,1000]
["LDK Solar Co., Ltd.","LDK-195D-24(s)",0.15274470485023187,195,45.2,36.4,5.74,5.37,3.444,-176.28,-141.95999999999998,null,697,"",{"$f":"IF($A698=\"\",\"\",COUNTIF($A$2:$A698,$A698))","v":13},{"$f":"IF($A698=\"\",\"\",$O698+thousand*VLOOKUP($A698,$A$1:Q698,17,FALSE))","v":32013},{"$f":"IF(O698=1,MAX(Q$1:Q697)+1,\"\")","v":""},"LDK Solar Co., Ltd.","LDK-195D-24(s)",697,null,null,null,null,null,null,null,null,null,null,null,null,null,null,null,null,null,null,1000]
["LDK Solar Co., Ltd.","LDK200PCFW",0.15366648226688795,200,30.2,24.2,8.69,8.27,5.2139999999999995,-108.72,-87.11999999999999,null,698,"",{"$f":"IF($A699=\"\",\"\",COUNTIF($A$2:$A699,$A699))","v":14},{"$f":"IF($A699=\"\",\"\",$O699+thousand*VLOOKUP($A699,$A$1:Q699,17,FALSE))","v":32014},{"$f":"IF(O699=1,MAX(Q$1:Q698)+1,\"\")","v":""},"LDK Solar Co., Ltd.","LDK200PCFW",698,null,null,null,null,null,null,null,null,null,null,null,null,null,null,null,null,null,null,1000]
["LDK Solar Co., Ltd.","LDK-200P-24(s)",0.15666123574382756,200,46.2,37.799999999999997,5.62,5.3,3.3719999999999999,-166.32000000000002,-136.08000000000001,null,699,"",{"$f":"IF($A700=\"\",\"\",COUNTIF($A$2:$A700,$A700))","v":15},{"$f":"IF($A700=\"\",\"\",$O700+thousand*VLOOKUP($A700,$A$1:Q700,17,FALSE))","v":32015},{"$f":"IF(O700=1,MAX(Q$1:Q699)+1,\"\")","v":""},"LDK Solar Co., Ltd.","LDK-200P-24(s)",699,null,null,null,null,null,null,null,null,null,null,null,null,null,null,null,null,null,null,1000]
["LDK Solar Co., Ltd.","LDK200MCFW",0.15366648226688795,200,29.9,24.5,8.85,8.16,5.3099999999999987,-116.60999999999999,-95.549999999999983,null,700,"",{"$f":"IF($A701=\"\",\"\",COUNTIF($A$2:$A701,$A701))","v":16},{"$f":"IF($A701=\"\",\"\",$O701+thousand*VLOOKUP($A701,$A$1:Q701,17,FALSE))","v":32016},{"$f":"IF(O701=1,MAX(Q$1:Q700)+1,\"\")","v":""},"LDK Solar Co., Ltd.","LDK200MCFW",700,null,null,null,null,null,null,null,null,null,null,null,null,null,null,null,null,null,null,1000]
["LDK Solar Co., Ltd.","LDK-200D-24(s)",0.15666123574382756,200,45.4,36.9,5.8,5.44,3.4799999999999995,-177.06,-143.91,null,701,"",{"$f":"IF($A702=\"\",\"\",COUNTIF($A$2:$A702,$A702))","v":17},{"$f":"IF($A702=\"\",\"\",$O702+thousand*VLOOKUP($A702,$A$1:Q702,17,FALSE))","v":32017},{"$f":"IF(O702=1,MAX(Q$1:Q701)+1,\"\")","v":""},"LDK Solar Co., Ltd.","LDK-200D-24(s)",701,null,null,null,null,null,null,null,null,null,null,null,null,null,null,null,null,null,null,1000]
["LDK Solar Co., Ltd.","LDK205PCFW",0.15750814432356014,205,30.3,24.4,8.83,8.39,5.2979999999999992,-109.08,-87.839999999999989,null,702,"",{"$f":"IF($A703=\"\",\"\",COUNTIF($A$2:$A703,$A703))","v":18},{"$f":"IF($A703=\"\",\"\",$O703+thousand*VLOOKUP($A703,$A$1:Q703,17,FALSE))","v":32018},{"$f":"IF(O703=1,MAX(Q$1:Q702)+1,\"\")","v":""},"LDK Solar Co., Ltd.","LDK205PCFW",702,null,null,null,null,null,null,null,null,null,null,null,null,null,null,null,null,null,null,1000]
["LDK Solar Co., Ltd.","LDK205MCFW",0.15750814432356014,205,30.2,24.9,8.92,8.23,5.3520000000000003,-117.78000000000002,-97.110000000000014,null,703,"",{"$f":"IF($A704=\"\",\"\",COUNTIF($A$2:$A704,$A704))","v":19},{"$f":"IF($A704=\"\",\"\",$O704+thousand*VLOOKUP($A704,$A$1:Q704,17,FALSE))","v":32019},{"$f":"IF(O704=1,MAX(Q$1:Q703)+1,\"\")","v":""},"LDK Solar Co., Ltd.","LDK205MCFW",703,null,null,null,null,null,null,null,null,null,null,null,null,null,null,null,null,null,null,1000]
["LDK Solar Co., Ltd.","LDK210PCFW",0.16134980638023233,210,30.5,24.7,8.9700000000000006,8.5,5.3819999999999997,-109.80000000000001,-88.92,null,704,"",{"$f":"IF($A705=\"\",\"\",COUNTIF($A$2:$A705,$A705))","v":20},{"$f":"IF($A705=\"\",\"\",$O705+thousand*VLOOKUP($A705,$A$1:Q705,17,FALSE))","v":32020},{"$f":"IF(O705=1,MAX(Q$1:Q704)+1,\"\")","v":""},"LDK Solar Co., Ltd.","LDK210PCFW",704,null,null,null,null,null,null,null,null,null,null,null,null,null,null,null,null,null,null,1000]
["LDK Solar Co., Ltd.","LDK210MCFW",0.16134980638023233,210,30.5,25.3,8.98,8.3000000000000007,5.3880000000000008,-118.95,-98.67,null,705,{"$f":"IF(M706>MAX(Q$2:Q$7985),\"\",VLOOKUP(M706,Q$2:R$7985,2,FALSE))","v":""},{"$f":"IF($A706=\"\",\"\",COUNTIF($A$2:$A706,$A706))","v":21},{"$f":"IF($A706=\"\",\"\",$O706+thousand*VLOOKUP($A706,$A$1:Q706,17,FALSE))","v":32021},{"$f":"IF(O706=1,MAX(Q$1:Q705)+1,\"\")","v":""},"LDK Solar Co., Ltd.","LDK210MCFW",705,null,null,null,null,null,null,null,null,null,null,null,null,null,null,null,null,null,null,1000]
["LDK Solar Co., Ltd.","LDK215PCFW",0.16519146843690452,215,30.7,24.9,9.11,8.6199999999999992,5.4659999999999993,-110.52,{"$f":"F707/E707*J707","v":-89.64},null,706,"",{"$f":"IF($A707=\"\",\"\",COUNTIF($A$2:$A707,$A707))","v":22},{"$f":"IF($A707=\"\",\"\",$O707+thousand*VLOOKUP($A707,$A$1:Q707,17,FALSE))","v":32022},{"$f":"IF(O707=1,MAX(Q$1:Q706)+1,\"\")","v":""},{"$f":"IF(A707=\"\",\"\",A707)","v":"LDK Solar Co., Ltd."},{"$f":"IF(B707=\"\",\"\",B707)","v":"LDK215PCFW"},{"$f":"$M707","v":706},null,null,null,null,null,null,null,null,null,null,null,null,null,null,null,null,null,null,1000]
["LDK Solar Co., Ltd.","LDK-215P-20",0.13172825013417899,215,36.200000000000003,28.5,8.23,7.58,4.9380000000000006,-130.32,-102.59999999999998,null,707,"",{"$f":"IF($A708=\"\",\"\",COUNTIF($A$2:$A708,$A708))","v":23},{"$f":"IF($A708=\"\",\"\",$O708+thousand*VLOOKUP($A708,$A$1:Q708,17,FALSE))","v":32023},{"$f":"IF(O708=1,MAX(Q$1:Q707)+1,\"\")","v":""},"LDK Solar Co., Ltd.","LDK-215P-20",707,null,null,null,null,null,null,null,null,null,null,null,null,null,null,null,null,null,null,1000]
["LDK Solar Co., Ltd.","LDK215MCFW",0.16519146843690452,215,30.9,25.5,9.0500000000000007,8.43,5.4300000000000006,-120.51,-99.450000000000017,null,708,"",{"$f":"IF($A709=\"\",\"\",COUNTIF($A$2:$A709,$A709))","v":24},{"$f":"IF($A709=\"\",\"\",$O709+thousand*VLOOKUP($A709,$A$1:Q709,17,FALSE))","v":32024},{"$f":"IF(O709=1,MAX(Q$1:Q708)+1,\"\")","v":""},"LDK Solar Co., Ltd.","LDK215MCFW",708,null,null,null,null,null,null,null,null,null,null,null,null,null,null,null,null,null,null,1000]
["LDK Solar Co., Ltd.","LDK-220P-20",0.13479169781171807,220,36.4,28.7,8.3000000000000007,7.68,4.9800000000000004,-131.04,-103.32,null,709,"",{"$f":"IF($A710=\"\",\"\",COUNTIF($A$2:$A710,$A710))","v":25},{"$f":"IF($A710=\"\",\"\",$O710+thousand*VLOOKUP($A710,$A$1:Q710,17,FALSE))","v":32025},{"$f":"IF(O710=1,MAX(Q$1:Q709)+1,\"\")","v":""},"LDK Solar Co., Ltd.","LDK-220P-20",709,null,null,null,null,null,null,null,null,null,null,null,null,null,null,null,null,null,null,1000]
["LDK Solar Co., Ltd.","LDK220MCFW",0.16903313049357674,220,31.2,25.7,9.11,8.56,5.4659999999999993,-121.67999999999999,-100.22999999999999,null,710,"",{"$f":"IF($A711=\"\",\"\",COUNTIF($A$2:$A711,$A711))","v":26},{"$f":"IF($A711=\"\",\"\",$O711+thousand*VLOOKUP($A711,$A$1:Q711,17,FALSE))","v":32026},{"$f":"IF(O711=1,MAX(Q$1:Q710)+1,\"\")","v":""},"LDK Solar Co., Ltd.","LDK220MCFW",710,null,null,null,null,null,null,null,null,null,null,null,null,null,null,null,null,null,null,1000]
["LDK Solar Co., Ltd.","LDK-220D-20",0.13479169781171807,220,36.299999999999997,27.5,8.82,8.0500000000000007,5.2919999999999998,-141.57,-107.25000000000001,null,711,"",{"$f":"IF($A712=\"\",\"\",COUNTIF($A$2:$A712,$A712))","v":27},{"$f":"IF($A712=\"\",\"\",$O712+thousand*VLOOKUP($A712,$A$1:Q712,17,FALSE))","v":32027},{"$f":"IF(O712=1,MAX(Q$1:Q711)+1,\"\")","v":""},"LDK Solar Co., Ltd.","LDK-220D-20",711,null,null,null,null,null,null,null,null,null,null,null,null,null,null,null,null,null,null,1000]
["LDK Solar Co., Ltd.","LDK-225P-20",0.13785514548925709,225,36.6,29,8.36,7.78,5.0159999999999991,-131.76,-104.39999999999999,null,712,"",{"$f":"IF($A713=\"\",\"\",COUNTIF($A$2:$A713,$A713))","v":28},{"$f":"IF($A713=\"\",\"\",$O713+thousand*VLOOKUP($A713,$A$1:Q713,17,FALSE))","v":32028},{"$f":"IF(O713=1,MAX(Q$1:Q712)+1,\"\")","v":""},"LDK Solar Co., Ltd.","LDK-225P-20",712,null,null,null,null,null,null,null,null,null,null,null,null,null,null,null,null,null,null,1000]
["LDK Solar Co., Ltd.","LDK-225D-20",0.13785514548925709,225,36.5,27.9,8.83,8.1,5.2979999999999992,-142.35,-108.80999999999999,null,713,"",{"$f":"IF($A714=\"\",\"\",COUNTIF($A$2:$A714,$A714))","v":29},{"$f":"IF($A714=\"\",\"\",$O714+thousand*VLOOKUP($A714,$A$1:Q714,17,FALSE))","v":32029},{"$f":"IF(O714=1,MAX(Q$1:Q713)+1,\"\")","v":""},"LDK Solar Co., Ltd.","LDK-225D-20",713,null,null,null,null,null,null,null,null,null,null,null,null,null,null,null,null,null,null,1000]
["LDK Solar Co., Ltd.","LDK-230P-20",0.14091859316679614,230,36.9,29.3,8.43,7.88,5.0579999999999989,-132.83999999999997,-105.47999999999999,null,714,"",{"$f":"IF($A715=\"\",\"\",COUNTIF($A$2:$A715,$A715))","v":30},{"$f":"IF($A715=\"\",\"\",$O715+thousand*VLOOKUP($A715,$A$1:Q715,17,FALSE))","v":32030},{"$f":"IF(O715=1,MAX(Q$1:Q714)+1,\"\")","v":""},"LDK Solar Co., Ltd.","LDK-230P-20",714,null,null,null,null,null,null,null,null,null,null,null,null,null,null,null,null,null,null,1000]
["LDK Solar Co., Ltd.","LDK-230D-20",0.14091859316679614,230,36.799999999999997,28.3,8.85,8.15,5.3099999999999987,-143.51999999999998,-110.36999999999999,null,715,"",{"$f":"IF($A716=\"\",\"\",COUNTIF($A$2:$A716,$A716))","v":31},{"$f":"IF($A716=\"\",\"\",$O716+thousand*VLOOKUP($A716,$A$1:Q716,17,FALSE))","v":32031},{"$f":"IF(O716=1,MAX(Q$1:Q715)+1,\"\")","v":""},"LDK Solar Co., Ltd.","LDK-230D-20",715,null,null,null,null,null,null,null,null,null,null,null,null,null,null,null,null,null,null,1000]
["LDK Solar Co., Ltd.","LDK235PAFW",0.1456825880170802,235,37.1,29.5,8.5,7.98,5.0999999999999996,-133.56,-106.2,null,716,"",{"$f":"IF($A717=\"\",\"\",COUNTIF($A$2:$A717,$A717))","v":32},{"$f":"IF($A717=\"\",\"\",$O717+thousand*VLOOKUP($A717,$A$1:Q717,17,FALSE))","v":32032},{"$f":"IF(O717=1,MAX(Q$1:Q716)+1,\"\")","v":""},"LDK Solar Co., Ltd.","LDK235PAFW",716,null,null,null,null,null,null,null,null,null,null,null,null,null,null,null,null,null,null,1000]
["LDK Solar Co., Ltd.","LDK-235P-20",0.14398204084433519,235,37.1,29.5,8.5,7.98,5.0999999999999996,-133.56,-106.2,null,717,"",{"$f":"IF($A718=\"\",\"\",COUNTIF($A$2:$A718,$A718))","v":33},{"$f":"IF($A718=\"\",\"\",$O718+thousand*VLOOKUP($A718,$A$1:Q718,17,FALSE))","v":32033},{"$f":"IF(O718=1,MAX(Q$1:Q717)+1,\"\")","v":""},"LDK Solar Co., Ltd.","LDK-235P-20",717,null,null,null,null,null,null,null,null,null,null,null,null,null,null,null,null,null,null,1000]
["LDK Solar Co., Ltd.","LDK-235D-20",0.14398204084433519,235,37,28.7,8.8699999999999992,8.2100000000000009,5.3219999999999992,-144.29999999999998,-111.92999999999998,null,718,"",{"$f":"IF($A719=\"\",\"\",COUNTIF($A$2:$A719,$A719))","v":34},{"$f":"IF($A719=\"\",\"\",$O719+thousand*VLOOKUP($A719,$A$1:Q719,17,FALSE))","v":32034},{"$f":"IF(O719=1,MAX(Q$1:Q718)+1,\"\")","v":""},"LDK Solar Co., Ltd.","LDK-235D-20",718,null,null,null,null,null,null,null,null,null,null,null,null,null,null,null,null,null,null,1000]
["LDK Solar Co., Ltd.","LDK240PAFW",0.14878221754935853,240,37.299999999999997,29.8,8.56,8.08,5.136000000000001,-134.27999999999997,-107.27999999999999,null,719,"",{"$f":"IF($A720=\"\",\"\",COUNTIF($A$2:$A720,$A720))","v":35},{"$f":"IF($A720=\"\",\"\",$O720+thousand*VLOOKUP($A720,$A$1:Q720,17,FALSE))","v":32035},{"$f":"IF(O720=1,MAX(Q$1:Q719)+1,\"\")","v":""},"LDK Solar Co., Ltd.","LDK240PAFW",719,null,null,null,null,null,null,null,null,null,null,null,null,null,null,null,null,null,null,1000]
["LDK Solar Co., Ltd.","LDK-240P-20",0.14704548852187424,240,37.299999999999997,29.8,8.56,8.08,5.136000000000001,-134.27999999999997,-107.27999999999999,null,720,"",{"$f":"IF($A721=\"\",\"\",COUNTIF($A$2:$A721,$A721))","v":36},{"$f":"IF($A721=\"\",\"\",$O721+thousand*VLOOKUP($A721,$A$1:Q721,17,FALSE))","v":32036},{"$f":"IF(O721=1,MAX(Q$1:Q720)+1,\"\")","v":""},"LDK Solar Co., Ltd.","LDK-240P-20",720,null,null,null,null,null,null,null,null,null,null,null,null,null,null,null,null,null,null,1000]
["LDK Solar Co., Ltd.","LDK-240D-20",0.14704548852187424,240,37.299999999999997,29.1,8.8800000000000008,8.26,5.3280000000000003,-145.47,-113.49000000000001,null,721,"",{"$f":"IF($A722=\"\",\"\",COUNTIF($A$2:$A722,$A722))","v":37},{"$f":"IF($A722=\"\",\"\",$O722+thousand*VLOOKUP($A722,$A$1:Q722,17,FALSE))","v":32037},{"$f":"IF(O722=1,MAX(Q$1:Q721)+1,\"\")","v":""},"LDK Solar Co., Ltd.","LDK-240D-20",721,null,null,null,null,null,null,null,null,null,null,null,null,null,null,null,null,null,null,1000]
["LDK Solar Co., Ltd.","LDK245PAFW",0.15188184708163679,245,37.5,30,8.6300000000000008,8.18,5.1780000000000008,-135,-108,null,722,"",{"$f":"IF($A723=\"\",\"\",COUNTIF($A$2:$A723,$A723))","v":38},{"$f":"IF($A723=\"\",\"\",$O723+thousand*VLOOKUP($A723,$A$1:Q723,17,FALSE))","v":32038},{"$f":"IF(O723=1,MAX(Q$1:Q722)+1,\"\")","v":""},"LDK Solar Co., Ltd.","LDK245PAFW",722,null,null,null,null,null,null,null,null,null,null,null,null,null,null,null,null,null,null,1000]
["LDK Solar Co., Ltd.","LDK-245P-20",0.15010893619941326,245,37.5,30,8.6300000000000008,8.18,5.1780000000000008,-135,-108,null,723,"",{"$f":"IF($A724=\"\",\"\",COUNTIF($A$2:$A724,$A724))","v":39},{"$f":"IF($A724=\"\",\"\",$O724+thousand*VLOOKUP($A724,$A$1:Q724,17,FALSE))","v":32039},{"$f":"IF(O724=1,MAX(Q$1:Q723)+1,\"\")","v":""},"LDK Solar Co., Ltd.","LDK-245P-20",723,null,null,null,null,null,null,null,null,null,null,null,null,null,null,null,null,null,null,1000]
["LDK Solar Co., Ltd.","LDK245MAFW",0.15188184708163679,245,37.6,29.5,8.9,8.32,5.34,-146.64000000000001,-115.05000000000001,null,724,"",{"$f":"IF($A725=\"\",\"\",COUNTIF($A$2:$A725,$A725))","v":40},{"$f":"IF($A725=\"\",\"\",$O725+thousand*VLOOKUP($A725,$A$1:Q725,17,FALSE))","v":32040},{"$f":"IF(O725=1,MAX(Q$1:Q724)+1,\"\")","v":""},"LDK Solar Co., Ltd.","LDK245MAFW",724,null,null,null,null,null,null,null,null,null,null,null,null,null,null,null,null,null,null,1000]
["LDK Solar Co., Ltd.","LDK-245D-20",0.15010893619941326,245,37.6,29.5,8.9,8.32,5.34,-146.64000000000001,-115.05000000000001,null,725,"",{"$f":"IF($A726=\"\",\"\",COUNTIF($A$2:$A726,$A726))","v":41},{"$f":"IF($A726=\"\",\"\",$O726+thousand*VLOOKUP($A726,$A$1:Q726,17,FALSE))","v":32041},{"$f":"IF(O726=1,MAX(Q$1:Q725)+1,\"\")","v":""},"LDK Solar Co., Ltd.","LDK-245D-20",725,null,null,null,null,null,null,null,null,null,null,null,null,null,null,null,null,null,null,1000]
["LDK Solar Co., Ltd.","LDK250PAFW",0.15498147661391512,250,37.700000000000003,30.3,8.69,8.27,5.2139999999999995,-135.72,-109.08,null,726,"",{"$f":"IF($A727=\"\",\"\",COUNTIF($A$2:$A727,$A727))","v":42},{"$f":"IF($A727=\"\",\"\",$O727+thousand*VLOOKUP($A727,$A$1:Q727,17,FALSE))","v":32042},{"$f":"IF(O727=1,MAX(Q$1:Q726)+1,\"\")","v":""},"LDK Solar Co., Ltd.","LDK250PAFW",726,null,null,null,null,null,null,null,null,null,null,null,null,null,null,null,null,null,null,1000]
["LDK Solar Co., Ltd.","LDK-250P-20",0.15317238387695234,250,37.700000000000003,30.3,8.69,8.27,5.2139999999999995,-135.72,-109.08,null,727,"",{"$f":"IF($A728=\"\",\"\",COUNTIF($A$2:$A728,$A728))","v":43},{"$f":"IF($A728=\"\",\"\",$O728+thousand*VLOOKUP($A728,$A$1:Q728,17,FALSE))","v":32043},{"$f":"IF(O728=1,MAX(Q$1:Q727)+1,\"\")","v":""},"LDK Solar Co., Ltd.","LDK-250P-20",727,null,null,null,null,null,null,null,null,null,null,null,null,null,null,null,null,null,null,1000]
["LDK Solar Co., Ltd.","LDK250MAFW",0.15498147661391512,250,37.799999999999997,29.9,8.92,8.3800000000000008,5.3520000000000003,-147.41999999999999,-116.61,null,728,"",{"$f":"IF($A729=\"\",\"\",COUNTIF($A$2:$A729,$A729))","v":44},{"$f":"IF($A729=\"\",\"\",$O729+thousand*VLOOKUP($A729,$A$1:Q729,17,FALSE))","v":32044},{"$f":"IF(O729=1,MAX(Q$1:Q728)+1,\"\")","v":""},"LDK Solar Co., Ltd.","LDK250MAFW",728,null,null,null,null,null,null,null,null,null,null,null,null,null,null,null,null,null,null,1000]
["LDK Solar Co., Ltd.","LDK-250D-20",0.15317238387695234,250,37.799999999999997,29.9,8.92,8.3800000000000008,5.3520000000000003,-147.41999999999999,-116.61,null,729,"",{"$f":"IF($A730=\"\",\"\",COUNTIF($A$2:$A730,$A730))","v":45},{"$f":"IF($A730=\"\",\"\",$O730+thousand*VLOOKUP($A730,$A$1:Q730,17,FALSE))","v":32045},{"$f":"IF(O730=1,MAX(Q$1:Q729)+1,\"\")","v":""},"LDK Solar Co., Ltd.","LDK-250D-20",729,null,null,null,null,null,null,null,null,null,null,null,null,null,null,null,null,null,null,1000]
["LDK Solar Co., Ltd.","LDK255PAFW",0.15808110614619342,255,37.9,30.5,8.76,8.3699999999999992,5.2559999999999993,-136.43999999999997,-109.79999999999998,null,730,"",{"$f":"IF($A731=\"\",\"\",COUNTIF($A$2:$A731,$A731))","v":46},{"$f":"IF($A731=\"\",\"\",$O731+thousand*VLOOKUP($A731,$A$1:Q731,17,FALSE))","v":32046},{"$f":"IF(O731=1,MAX(Q$1:Q730)+1,\"\")","v":""},"LDK Solar Co., Ltd.","LDK255PAFW",730,null,null,null,null,null,null,null,null,null,null,null,null,null,null,null,null,null,null,1000]
["LDK Solar Co., Ltd.","LDK-255P-20",0.15623583155449136,255,37.9,30.5,8.76,8.3699999999999992,5.2559999999999993,-136.43999999999997,-109.79999999999998,null,731,"",{"$f":"IF($A732=\"\",\"\",COUNTIF($A$2:$A732,$A732))","v":47},{"$f":"IF($A732=\"\",\"\",$O732+thousand*VLOOKUP($A732,$A$1:Q732,17,FALSE))","v":32047},{"$f":"IF(O732=1,MAX(Q$1:Q731)+1,\"\")","v":""},"LDK Solar Co., Ltd.","LDK-255P-20",731,null,null,null,null,null,null,null,null,null,null,null,null,null,null,null,null,null,null,1000]
["LDK Solar Co., Ltd.","LDK255MAFW",0.15808110614619342,255,38.1,30.3,8.93,8.43,5.3579999999999997,-148.59000000000003,-118.17000000000003,null,732,"",{"$f":"IF($A733=\"\",\"\",COUNTIF($A$2:$A733,$A733))","v":48},{"$f":"IF($A733=\"\",\"\",$O733+thousand*VLOOKUP($A733,$A$1:Q733,17,FALSE))","v":32048},{"$f":"IF(O733=1,MAX(Q$1:Q732)+1,\"\")","v":""},"LDK Solar Co., Ltd.","LDK255MAFW",732,null,null,null,null,null,null,null,null,null,null,null,null,null,null,null,null,null,null,1000]
["LDK Solar Co., Ltd.","LDK-255D-20",0.15623583155449136,255,38.1,30.3,8.93,8.43,5.3579999999999997,-148.59000000000003,-118.17000000000003,null,733,"",{"$f":"IF($A734=\"\",\"\",COUNTIF($A$2:$A734,$A734))","v":49},{"$f":"IF($A734=\"\",\"\",$O734+thousand*VLOOKUP($A734,$A$1:Q734,17,FALSE))","v":32049},{"$f":"IF(O734=1,MAX(Q$1:Q733)+1,\"\")","v":""},"LDK Solar Co., Ltd.","LDK-255D-20",733,null,null,null,null,null,null,null,null,null,null,null,null,null,null,null,null,null,null,1000]
["LDK Solar Co., Ltd.","LDK260PAFW",0.16118073567847171,260,38.1,30.8,8.82,8.4700000000000006,5.2919999999999998,-137.16,-110.87999999999998,null,734,"",{"$f":"IF($A735=\"\",\"\",COUNTIF($A$2:$A735,$A735))","v":50},{"$f":"IF($A735=\"\",\"\",$O735+thousand*VLOOKUP($A735,$A$1:Q735,17,FALSE))","v":32050},{"$f":"IF(O735=1,MAX(Q$1:Q734)+1,\"\")","v":""},"LDK Solar Co., Ltd.","LDK260PAFW",734,null,null,null,null,null,null,null,null,null,null,null,null,null,null,null,null,null,null,1000]
["LDK Solar Co., Ltd.","LDK260MAFW",0.16118073567847171,260,38.299999999999997,30.7,8.9499999999999993,8.48,5.3699999999999992,-149.37,-119.73,null,735,"",{"$f":"IF($A736=\"\",\"\",COUNTIF($A$2:$A736,$A736))","v":51},{"$f":"IF($A736=\"\",\"\",$O736+thousand*VLOOKUP($A736,$A$1:Q736,17,FALSE))","v":32051},{"$f":"IF(O736=1,MAX(Q$1:Q735)+1,\"\")","v":""},"LDK Solar Co., Ltd.","LDK260MAFW",735,null,null,null,null,null,null,null,null,null,null,null,null,null,null,null,null,null,null,1000]
["LDK Solar Co., Ltd.","LDK-260D-20",0.15929927923203044,260,38.299999999999997,30.7,8.9499999999999993,8.48,5.3699999999999992,-149.37,-119.73,null,736,"",{"$f":"IF($A737=\"\",\"\",COUNTIF($A$2:$A737,$A737))","v":52},{"$f":"IF($A737=\"\",\"\",$O737+thousand*VLOOKUP($A737,$A$1:Q737,17,FALSE))","v":32052},{"$f":"IF(O737=1,MAX(Q$1:Q736)+1,\"\")","v":""},"LDK Solar Co., Ltd.","LDK-260D-20",736,null,null,null,null,null,null,null,null,null,null,null,null,null,null,null,null,null,null,1000]
["LDK Solar Co., Ltd.","LDK265MAFW",0.16428036521075004,265,38.6,31.1,8.9700000000000006,8.5299999999999994,5.3819999999999997,-150.54000000000002,-121.29,null,737,"",{"$f":"IF($A738=\"\",\"\",COUNTIF($A$2:$A738,$A738))","v":53},{"$f":"IF($A738=\"\",\"\",$O738+thousand*VLOOKUP($A738,$A$1:Q738,17,FALSE))","v":32053},{"$f":"IF(O738=1,MAX(Q$1:Q737)+1,\"\")","v":""},"LDK Solar Co., Ltd.","LDK265MAFW",737,null,null,null,null,null,null,null,null,null,null,null,null,null,null,null,null,null,null,1000]
["LDK Solar Co., Ltd.","LDK-270P-24",0.13872818113995516,270,44.1,34.4,8.3699999999999992,7.87,5.0220000000000002,-158.76,-123.83999999999999,null,738,"",{"$f":"IF($A739=\"\",\"\",COUNTIF($A$2:$A739,$A739))","v":54},{"$f":"IF($A739=\"\",\"\",$O739+thousand*VLOOKUP($A739,$A$1:Q739,17,FALSE))","v":32054},{"$f":"IF(O739=1,MAX(Q$1:Q738)+1,\"\")","v":""},"LDK Solar Co., Ltd.","LDK-270P-24",738,null,null,null,null,null,null,null,null,null,null,null,null,null,null,null,null,null,null,1000]
["LDK Solar Co., Ltd.","LDK270MAFW",0.16737999474302831,270,38.9,31.5,8.99,8.58,5.3940000000000001,-151.70999999999998,-122.84999999999998,null,739,"",{"$f":"IF($A740=\"\",\"\",COUNTIF($A$2:$A740,$A740))","v":55},{"$f":"IF($A740=\"\",\"\",$O740+thousand*VLOOKUP($A740,$A$1:Q740,17,FALSE))","v":32055},{"$f":"IF(O740=1,MAX(Q$1:Q739)+1,\"\")","v":""},"LDK Solar Co., Ltd.","LDK270MAFW",739,null,null,null,null,null,null,null,null,null,null,null,null,null,null,null,null,null,null,1000]
["LDK Solar Co., Ltd.","LDK-275P-24",0.14129722153143584,275,44.3,34.799999999999997,8.41,7.92,5.0459999999999994,-159.47999999999999,-125.27999999999999,null,740,"",{"$f":"IF($A741=\"\",\"\",COUNTIF($A$2:$A741,$A741))","v":56},{"$f":"IF($A741=\"\",\"\",$O741+thousand*VLOOKUP($A741,$A$1:Q741,17,FALSE))","v":32056},{"$f":"IF(O741=1,MAX(Q$1:Q740)+1,\"\")","v":""},"LDK Solar Co., Ltd.","LDK-275P-24",740,null,null,null,null,null,null,null,null,null,null,null,null,null,null,null,null,null,null,1000]
["LDK Solar Co., Ltd.","LDK-280P-24",0.14386626192291646,280,44.6,35.299999999999997,8.44,7.95,5.0640000000000001,-160.56,-127.08,null,741,"",{"$f":"IF($A742=\"\",\"\",COUNTIF($A$2:$A742,$A742))","v":57},{"$f":"IF($A742=\"\",\"\",$O742+thousand*VLOOKUP($A742,$A$1:Q742,17,FALSE))","v":32057},{"$f":"IF(O742=1,MAX(Q$1:Q741)+1,\"\")","v":""},"LDK Solar Co., Ltd.","LDK-280P-24",741,null,null,null,null,null,null,null,null,null,null,null,null,null,null,null,null,null,null,1000]
["LDK Solar Co., Ltd.","LDK285PBFW",0.14777436254806556,285,44.8,35.700000000000003,8.48,8,5.0880000000000001,-161.28,-128.52000000000001,null,742,"",{"$f":"IF($A743=\"\",\"\",COUNTIF($A$2:$A743,$A743))","v":58},{"$f":"IF($A743=\"\",\"\",$O743+thousand*VLOOKUP($A743,$A$1:Q743,17,FALSE))","v":32058},{"$f":"IF(O743=1,MAX(Q$1:Q742)+1,\"\")","v":""},"LDK Solar Co., Ltd.","LDK285PBFW",742,null,null,null,null,null,null,null,null,null,null,null,null,null,null,null,null,null,null,1000]
["LDK Solar Co., Ltd.","LDK-285P-24",0.14643530231439711,285,44.8,35.700000000000003,8.48,8,5.0880000000000001,-161.28,-128.52000000000001,null,743,"",{"$f":"IF($A744=\"\",\"\",COUNTIF($A$2:$A744,$A744))","v":59},{"$f":"IF($A744=\"\",\"\",$O744+thousand*VLOOKUP($A744,$A$1:Q744,17,FALSE))","v":32059},{"$f":"IF(O744=1,MAX(Q$1:Q743)+1,\"\")","v":""},"LDK Solar Co., Ltd.","LDK-285P-24",743,null,null,null,null,null,null,null,null,null,null,null,null,null,null,null,null,null,null,1000]
["LDK Solar Co., Ltd.","LDK290PBFW",0.15036689522434743,290,45.1,36.1,8.51,8.0399999999999991,5.1059999999999999,-162.36000000000001,-129.96,null,744,"",{"$f":"IF($A745=\"\",\"\",COUNTIF($A$2:$A745,$A745))","v":60},{"$f":"IF($A745=\"\",\"\",$O745+thousand*VLOOKUP($A745,$A$1:Q745,17,FALSE))","v":32060},{"$f":"IF(O745=1,MAX(Q$1:Q744)+1,\"\")","v":""},"LDK Solar Co., Ltd.","LDK290PBFW",744,null,null,null,null,null,null,null,null,null,null,null,null,null,null,null,null,null,null,1000]
["LDK Solar Co., Ltd.","LDK-290P-24",0.14900434270587776,290,45.1,36.1,8.51,8.0399999999999991,5.1059999999999999,-162.36000000000001,-129.96,null,745,"",{"$f":"IF($A746=\"\",\"\",COUNTIF($A$2:$A746,$A746))","v":61},{"$f":"IF($A746=\"\",\"\",$O746+thousand*VLOOKUP($A746,$A$1:Q746,17,FALSE))","v":32061},{"$f":"IF(O746=1,MAX(Q$1:Q745)+1,\"\")","v":""},"LDK Solar Co., Ltd.","LDK-290P-24",745,null,null,null,null,null,null,null,null,null,null,null,null,null,null,null,null,null,null,1000]
["LDK Solar Co., Ltd.","LDK295PBFW",0.15295942790062927,295,45.3,36.6,8.5399999999999991,8.08,5.1239999999999997,-163.08000000000001,-131.76000000000002,null,746,"",{"$f":"IF($A747=\"\",\"\",COUNTIF($A$2:$A747,$A747))","v":62},{"$f":"IF($A747=\"\",\"\",$O747+thousand*VLOOKUP($A747,$A$1:Q747,17,FALSE))","v":32062},{"$f":"IF(O747=1,MAX(Q$1:Q746)+1,\"\")","v":""},"LDK Solar Co., Ltd.","LDK295PBFW",746,null,null,null,null,null,null,null,null,null,null,null,null,null,null,null,null,null,null,1000]
["LDK Solar Co., Ltd.","LDK-295P-24",0.15157338309735843,295,45.3,36.6,8.5399999999999991,8.08,5.1239999999999997,-163.08000000000001,-131.76000000000002,null,747,"",{"$f":"IF($A748=\"\",\"\",COUNTIF($A$2:$A748,$A748))","v":63},{"$f":"IF($A748=\"\",\"\",$O748+thousand*VLOOKUP($A748,$A$1:Q748,17,FALSE))","v":32063},{"$f":"IF(O748=1,MAX(Q$1:Q747)+1,\"\")","v":""},"LDK Solar Co., Ltd.","LDK-295P-24",747,null,null,null,null,null,null,null,null,null,null,null,null,null,null,null,null,null,null,1000]
["LDK Solar Co., Ltd.","LDK300PBFW",0.15555196057691112,300,45.6,37,8.58,8.1199999999999992,5.1480000000000006,-164.16,-133.19999999999999,null,748,"",{"$f":"IF($A749=\"\",\"\",COUNTIF($A$2:$A749,$A749))","v":64},{"$f":"IF($A749=\"\",\"\",$O749+thousand*VLOOKUP($A749,$A$1:Q749,17,FALSE))","v":32064},{"$f":"IF(O749=1,MAX(Q$1:Q748)+1,\"\")","v":""},"LDK Solar Co., Ltd.","LDK300PBFW",748,null,null,null,null,null,null,null,null,null,null,null,null,null,null,null,null,null,null,1000]
["LDK Solar Co., Ltd.","LDK-300P-24",0.15414242348883905,300,45.6,37,8.58,8.1199999999999992,5.1480000000000006,-164.16,-133.19999999999999,null,749,"",{"$f":"IF($A750=\"\",\"\",COUNTIF($A$2:$A750,$A750))","v":65},{"$f":"IF($A750=\"\",\"\",$O750+thousand*VLOOKUP($A750,$A$1:Q750,17,FALSE))","v":32065},{"$f":"IF(O750=1,MAX(Q$1:Q749)+1,\"\")","v":""},"LDK Solar Co., Ltd.","LDK-300P-24",749,null,null,null,null,null,null,null,null,null,null,null,null,null,null,null,null,null,null,1000]
["LDK Solar Co., Ltd.","LDK305PBFW",0.15814449325319296,305,45.8,37.4,8.61,8.17,5.1659999999999995,-164.88,-134.63999999999999,null,750,"",{"$f":"IF($A751=\"\",\"\",COUNTIF($A$2:$A751,$A751))","v":66},{"$f":"IF($A751=\"\",\"\",$O751+thousand*VLOOKUP($A751,$A$1:Q751,17,FALSE))","v":32066},{"$f":"IF(O751=1,MAX(Q$1:Q750)+1,\"\")","v":""},"LDK Solar Co., Ltd.","LDK305PBFW",750,null,null,null,null,null,null,null,null,null,null,null,null,null,null,null,null,null,null,1000]
["LDK Solar Co., Ltd.","LDK310PBFW",0.16073702592947481,310,46.1,37.799999999999997,8.65,8.2100000000000009,5.19,-165.96,-136.07999999999998,null,751,"",{"$f":"IF($A752=\"\",\"\",COUNTIF($A$2:$A752,$A752))","v":67},{"$f":"IF($A752=\"\",\"\",$O752+thousand*VLOOKUP($A752,$A$1:Q752,17,FALSE))","v":32067},{"$f":"IF(O752=1,MAX(Q$1:Q751)+1,\"\")","v":""},"LDK Solar Co., Ltd.","LDK310PBFW",751,null,null,null,null,null,null,null,null,null,null,null,null,null,null,null,null,null,null,1000]
["LG Electronics","LG 250 S1C-G3",0.1524390243902439,250,37.5,29.8,9,8.39,4.8599999999999994,-142.5,-113.24,null,752,"",{"$f":"IF($A753=\"\",\"\",COUNTIF($A$2:$A753,$A753))","v":1},{"$f":"IF($A753=\"\",\"\",$O753+thousand*VLOOKUP($A753,$A$1:Q753,17,FALSE))","v":33001},{"$f":"IF(O753=1,MAX(Q$1:Q752)+1,\"\")","v":33},"LG Electronics","LG 250 S1C-G3",752,null,null,null,null,null,null,null,null,null,null,null,null,null,null,null,null,null,null,1000]
["LG Electronics","LG 255 S1C-G3",0.15548780487804878,255,37.700000000000003,30,9.1,8.5,4.9139999999999997,-143.637,-114.3,null,753,"",{"$f":"IF($A754=\"\",\"\",COUNTIF($A$2:$A754,$A754))","v":2},{"$f":"IF($A754=\"\",\"\",$O754+thousand*VLOOKUP($A754,$A$1:Q754,17,FALSE))","v":33002},{"$f":"IF(O754=1,MAX(Q$1:Q753)+1,\"\")","v":""},"LG Electronics","LG 255 S1C-G3",753,null,null,null,null,null,null,null,null,null,null,null,null,null,null,null,null,null,null,1000]
["LG Electronics","LG 260 S1C-B3",0.15853658536585366,260,38.1,31.1,9.0500000000000007,8.3800000000000008,3.6200000000000006,-118.11,-96.41,null,754,"",{"$f":"IF($A755=\"\",\"\",COUNTIF($A$2:$A755,$A755))","v":3},{"$f":"IF($A755=\"\",\"\",$O755+thousand*VLOOKUP($A755,$A$1:Q755,17,FALSE))","v":33003},{"$f":"IF(O755=1,MAX(Q$1:Q754)+1,\"\")","v":""},"LG Electronics","LG 260 S1C-B3",754,null,null,null,null,null,null,null,null,null,null,null,null,null,null,null,null,null,null,1000]
["LG Electronics","LG 260 S1C-A3",0.15853658536585366,260,38.1,31.1,9.0500000000000007,8.3800000000000008,3.6200000000000006,-118.11,-96.41,null,755,"",{"$f":"IF($A756=\"\",\"\",COUNTIF($A$2:$A756,$A756))","v":4},{"$f":"IF($A756=\"\",\"\",$O756+thousand*VLOOKUP($A756,$A$1:Q756,17,FALSE))","v":33004},{"$f":"IF(O756=1,MAX(Q$1:Q755)+1,\"\")","v":""},"LG Electronics","LG 260 S1C-A3",755,null,null,null,null,null,null,null,null,null,null,null,null,null,null,null,null,null,null,1000]
["LG Electronics","LG 260 S1C-G3",0.15853658536585366,260,37.799999999999997,30.2,9.1999999999999993,8.61,4.968,-145.15199999999999,-115.96799999999999,null,756,"",{"$f":"IF($A757=\"\",\"\",COUNTIF($A$2:$A757,$A757))","v":5},{"$f":"IF($A757=\"\",\"\",$O757+thousand*VLOOKUP($A757,$A$1:Q757,17,FALSE))","v":33005},{"$f":"IF(O757=1,MAX(Q$1:Q756)+1,\"\")","v":""},"LG Electronics","LG 260 S1C-G3",756,null,null,null,null,null,null,null,null,null,null,null,null,null,null,null,null,null,null,1000]
["LG Electronics","LG 265 S1C-B3",0.16158536585365854,265,38.25,31.26,9.1,8.48,3.6399999999999997,-118.575,-96.906000000000006,null,757,"",{"$f":"IF($A758=\"\",\"\",COUNTIF($A$2:$A758,$A758))","v":6},{"$f":"IF($A758=\"\",\"\",$O758+thousand*VLOOKUP($A758,$A$1:Q758,17,FALSE))","v":33006},{"$f":"IF(O758=1,MAX(Q$1:Q757)+1,\"\")","v":""},"LG Electronics","LG 265 S1C-B3",757,null,null,null,null,null,null,null,null,null,null,null,null,null,null,null,null,null,null,1000]
["LG Electronics","LG 265 S1C-A3",0.16158536585365854,265,38.25,31.26,9.1,8.48,3.6399999999999997,-118.575,-96.906000000000006,null,758,"",{"$f":"IF($A759=\"\",\"\",COUNTIF($A$2:$A759,$A759))","v":7},{"$f":"IF($A759=\"\",\"\",$O759+thousand*VLOOKUP($A759,$A$1:Q759,17,FALSE))","v":33007},{"$f":"IF(O759=1,MAX(Q$1:Q758)+1,\"\")","v":""},"LG Electronics","LG 265 S1C-A3",758,null,null,null,null,null,null,null,null,null,null,null,null,null,null,null,null,null,null,1000]
["LG Electronics","LG 265 S1C-G3",0.16158536585365854,265,38,30.4,9.3000000000000007,8.7200000000000006,5.0220000000000002,-146.30000000000001,-117.04,null,759,"",{"$f":"IF($A760=\"\",\"\",COUNTIF($A$2:$A760,$A760))","v":8},{"$f":"IF($A760=\"\",\"\",$O760+thousand*VLOOKUP($A760,$A$1:Q760,17,FALSE))","v":33008},{"$f":"IF(O760=1,MAX(Q$1:Q759)+1,\"\")","v":""},"LG Electronics","LG 265 S1C-G3",759,null,null,null,null,null,null,null,null,null,null,null,null,null,null,null,null,null,null,1000]
["LG Electronics","LG 270 S1C-B3",0.16463414634146342,270,38.5,31.5,9.17,8.58,3.6680000000000001,-119.35000000000001,-97.65000000000002,null,760,"",{"$f":"IF($A761=\"\",\"\",COUNTIF($A$2:$A761,$A761))","v":9},{"$f":"IF($A761=\"\",\"\",$O761+thousand*VLOOKUP($A761,$A$1:Q761,17,FALSE))","v":33009},{"$f":"IF(O761=1,MAX(Q$1:Q760)+1,\"\")","v":""},"LG Electronics","LG 270 S1C-B3",760,null,null,null,null,null,null,null,null,null,null,null,null,null,null,null,null,null,null,1000]
["LG Electronics","LG 270 S1C-A3",0.16463414634146342,270,38.5,31.5,9.17,8.58,3.6680000000000001,-119.35000000000001,-97.65000000000002,null,761,"",{"$f":"IF($A762=\"\",\"\",COUNTIF($A$2:$A762,$A762))","v":10},{"$f":"IF($A762=\"\",\"\",$O762+thousand*VLOOKUP($A762,$A$1:Q762,17,FALSE))","v":33010},{"$f":"IF(O762=1,MAX(Q$1:Q761)+1,\"\")","v":""},"LG Electronics","LG 270 S1C-A3",761,null,null,null,null,null,null,null,null,null,null,null,null,null,null,null,null,null,null,1000]
["LG Electronics","LG 275 S1C-B3",0.1676829268292683,275,38.700000000000003,31.7,9.26,8.68,3.7040000000000002,-119.97000000000003,-98.27000000000001,null,762,"",{"$f":"IF($A763=\"\",\"\",COUNTIF($A$2:$A763,$A763))","v":11},{"$f":"IF($A763=\"\",\"\",$O763+thousand*VLOOKUP($A763,$A$1:Q763,17,FALSE))","v":33011},{"$f":"IF(O763=1,MAX(Q$1:Q762)+1,\"\")","v":""},"LG Electronics","LG 275 S1C-B3",762,null,null,null,null,null,null,null,null,null,null,null,null,null,null,null,null,null,null,1000]
["LG Electronics","LG 280 S1C-B3",0.17073170731707318,280,38.799999999999997,31.9,9.33,8.7799999999999994,3.7320000000000002,-120.27999999999999,-98.89,null,763,"",{"$f":"IF($A764=\"\",\"\",COUNTIF($A$2:$A764,$A764))","v":12},{"$f":"IF($A764=\"\",\"\",$O764+thousand*VLOOKUP($A764,$A$1:Q764,17,FALSE))","v":33012},{"$f":"IF(O764=1,MAX(Q$1:Q763)+1,\"\")","v":""},"LG Electronics","LG 280 S1C-B3",763,null,null,null,null,null,null,null,null,null,null,null,null,null,null,null,null,null,null,1000]
["LG Electronics","LG 285 S1C-A3",0.17378048780487804,285,39.5,31.6,9.59,9.0299999999999994,3.8359999999999999,-114.55,-91.64,null,764,"",{"$f":"IF($A765=\"\",\"\",COUNTIF($A$2:$A765,$A765))","v":13},{"$f":"IF($A765=\"\",\"\",$O765+thousand*VLOOKUP($A765,$A$1:Q765,17,FALSE))","v":33013},{"$f":"IF(O765=1,MAX(Q$1:Q764)+1,\"\")","v":""},"LG Electronics","LG 285 S1C-A3",764,null,null,null,null,null,null,null,null,null,null,null,null,null,null,null,null,null,null,1000]
["LG Electronics","LG 290 S1C-A3",0.17682926829268292,290,39.53,31.75,9.68,9.1300000000000008,3.8719999999999999,-114.63699999999999,-92.074999999999989,null,765,"",{"$f":"IF($A766=\"\",\"\",COUNTIF($A$2:$A766,$A766))","v":14},{"$f":"IF($A766=\"\",\"\",$O766+thousand*VLOOKUP($A766,$A$1:Q766,17,FALSE))","v":33014},{"$f":"IF(O766=1,MAX(Q$1:Q765)+1,\"\")","v":""},"LG Electronics","LG 290 S1C-A3",765,null,null,null,null,null,null,null,null,null,null,null,null,null,null,null,null,null,null,1000]
["LG Electronics","LG 290 S1C-G3",0.17682926829268292,290,39.049999999999997,31.68,9.76,9.15,2.9279999999999999,-121.05499999999999,-98.207999999999998,null,766,"",{"$f":"IF($A767=\"\",\"\",COUNTIF($A$2:$A767,$A767))","v":15},{"$f":"IF($A767=\"\",\"\",$O767+thousand*VLOOKUP($A767,$A$1:Q767,17,FALSE))","v":33015},{"$f":"IF(O767=1,MAX(Q$1:Q766)+1,\"\")","v":""},"LG Electronics","LG 290 S1C-G3",766,null,null,null,null,null,null,null,null,null,null,null,null,null,null,null,null,null,null,1000]
["LG Electronics","LG 295 S1C-A3",0.1798780487804878,295,39.700000000000003,31.8,9.85,9.2799999999999994,3.9400000000000004,-115.13,-92.22,null,767,"",{"$f":"IF($A768=\"\",\"\",COUNTIF($A$2:$A768,$A768))","v":16},{"$f":"IF($A768=\"\",\"\",$O768+thousand*VLOOKUP($A768,$A$1:Q768,17,FALSE))","v":33016},{"$f":"IF(O768=1,MAX(Q$1:Q767)+1,\"\")","v":""},"LG Electronics","LG 295 S1C-A3",767,null,null,null,null,null,null,null,null,null,null,null,null,null,null,null,null,null,null,1000]
["LG Electronics","LG 295 S1C-G3",0.1798780487804878,295,39.19,31.81,9.8800000000000008,9.27,2.964,-121.489,-98.611000000000004,null,768,"",{"$f":"IF($A769=\"\",\"\",COUNTIF($A$2:$A769,$A769))","v":17},{"$f":"IF($A769=\"\",\"\",$O769+thousand*VLOOKUP($A769,$A$1:Q769,17,FALSE))","v":33017},{"$f":"IF(O769=1,MAX(Q$1:Q768)+1,\"\")","v":""},"LG Electronics","LG 295 S1C-G3",768,null,null,null,null,null,null,null,null,null,null,null,null,null,null,null,null,null,null,1000]
["LG Electronics","LG 300 S1C-A3",0.18292682926829268,300,39.74,31.96,9.9700000000000006,9.39,3.9880000000000004,-115.246,-92.683999999999997,null,769,{"$f":"IF(M770>MAX(Q$2:Q$7985),\"\",VLOOKUP(M770,Q$2:R$7985,2,FALSE))","v":""},{"$f":"IF($A770=\"\",\"\",COUNTIF($A$2:$A770,$A770))","v":18},{"$f":"IF($A770=\"\",\"\",$O770+thousand*VLOOKUP($A770,$A$1:Q770,17,FALSE))","v":33018},{"$f":"IF(O770=1,MAX(Q$1:Q769)+1,\"\")","v":""},"LG Electronics","LG 300 S1C-A3",769,null,null,null,null,null,null,null,null,null,null,null,null,null,null,null,null,null,null,1000]
["LG Electronics","LG 300 S1C-G3",0.18292682926829268,300,39.409999999999997,31.92,9.98,9.4,2.9939999999999998,-122.17099999999999,{"$f":"F771/E771*J771","v":-98.952000000000012},null,770,"",{"$f":"IF($A771=\"\",\"\",COUNTIF($A$2:$A771,$A771))","v":19},{"$f":"IF($A771=\"\",\"\",$O771+thousand*VLOOKUP($A771,$A$1:Q771,17,FALSE))","v":33019},{"$f":"IF(O771=1,MAX(Q$1:Q770)+1,\"\")","v":""},{"$f":"IF(A771=\"\",\"\",A771)","v":"LG Electronics"},{"$f":"IF(B771=\"\",\"\",B771)","v":"LG 300 S1C-G3"},{"$f":"$M771","v":770},null,null,null,null,null,null,null,null,null,null,null,null,null,null,null,null,null,null,1000]
["Lightwaysolar","Poly 185 Wp  48cells",0.14264785257151669,185,29.51,23.51,8.48,7.87,5.5120000000000005,-95.022200000000012,-75.702200000000019,null,771,"",{"$f":"IF($A772=\"\",\"\",COUNTIF($A$2:$A772,$A772))","v":1},{"$f":"IF($A772=\"\",\"\",$O772+thousand*VLOOKUP($A772,$A$1:Q772,17,FALSE))","v":34001},{"$f":"IF(O772=1,MAX(Q$1:Q771)+1,\"\")","v":34},"Lightwaysolar","Poly 185 Wp  48cells",771,null,null,null,null,null,null,null,null,null,null,null,null,null,null,null,null,null,null,1000]
["Lightwaysolar","Poly 190 Wp  48cells",0.14650319993831445,190,29.64,23.59,8.73,8.06,5.6745000000000001,-95.44080000000001,-75.959800000000001,null,772,"",{"$f":"IF($A773=\"\",\"\",COUNTIF($A$2:$A773,$A773))","v":2},{"$f":"IF($A773=\"\",\"\",$O773+thousand*VLOOKUP($A773,$A$1:Q773,17,FALSE))","v":34002},{"$f":"IF(O773=1,MAX(Q$1:Q772)+1,\"\")","v":""},"Lightwaysolar","Poly 190 Wp  48cells",772,null,null,null,null,null,null,null,null,null,null,null,null,null,null,null,null,null,null,1000]
["Lightwaysolar","Poly 195 Wp  48cells",0.15035854730511219,195,29.79,23.67,8.91,8.24,5.791500000000001,-95.9238,-76.217399999999998,null,773,"",{"$f":"IF($A774=\"\",\"\",COUNTIF($A$2:$A774,$A774))","v":3},{"$f":"IF($A774=\"\",\"\",$O774+thousand*VLOOKUP($A774,$A$1:Q774,17,FALSE))","v":34003},{"$f":"IF(O774=1,MAX(Q$1:Q773)+1,\"\")","v":""},"Lightwaysolar","Poly 195 Wp  48cells",773,null,null,null,null,null,null,null,null,null,null,null,null,null,null,null,null,null,null,1000]
["Lightwaysolar","Poly 200 Wp  48cells",0.15421389467190993,200,29.94,23.91,9.08,8.3699999999999992,5.902000000000001,-96.406800000000018,-76.990200000000016,null,774,"",{"$f":"IF($A775=\"\",\"\",COUNTIF($A$2:$A775,$A775))","v":4},{"$f":"IF($A775=\"\",\"\",$O775+thousand*VLOOKUP($A775,$A$1:Q775,17,FALSE))","v":34004},{"$f":"IF(O775=1,MAX(Q$1:Q774)+1,\"\")","v":""},"Lightwaysolar","Poly 200 Wp  48cells",774,null,null,null,null,null,null,null,null,null,null,null,null,null,null,null,null,null,null,1000]
["Lightwaysolar","Poly 205 Wp  48cells",0.1580692420387077,205,30.06,24.15,9.16,8.49,5.9540000000000006,-96.793200000000013,-77.763000000000019,null,775,"",{"$f":"IF($A776=\"\",\"\",COUNTIF($A$2:$A776,$A776))","v":5},{"$f":"IF($A776=\"\",\"\",$O776+thousand*VLOOKUP($A776,$A$1:Q776,17,FALSE))","v":34005},{"$f":"IF(O776=1,MAX(Q$1:Q775)+1,\"\")","v":""},"Lightwaysolar","Poly 205 Wp  48cells",775,null,null,null,null,null,null,null,null,null,null,null,null,null,null,null,null,null,null,1000]
["Lightwaysolar","Poly 210 Wp  54cells",0.14188709840883751,210,33.35,26.54,8.57,7.92,5.5705000000000009,-107.38700000000001,-85.458800000000011,null,776,"",{"$f":"IF($A777=\"\",\"\",COUNTIF($A$2:$A777,$A777))","v":6},{"$f":"IF($A777=\"\",\"\",$O777+thousand*VLOOKUP($A777,$A$1:Q777,17,FALSE))","v":34006},{"$f":"IF(O777=1,MAX(Q$1:Q776)+1,\"\")","v":""},"Lightwaysolar","Poly 210 Wp  54cells",776,null,null,null,null,null,null,null,null,null,null,null,null,null,null,null,null,null,null,1000]
["Lightwaysolar","Poly 210 Wp  48cells",0.16192458940550541,210,30.15,24.28,9.24,8.65,6.0060000000000002,-97.082999999999984,-78.181599999999989,null,777,"",{"$f":"IF($A778=\"\",\"\",COUNTIF($A$2:$A778,$A778))","v":7},{"$f":"IF($A778=\"\",\"\",$O778+thousand*VLOOKUP($A778,$A$1:Q778,17,FALSE))","v":34007},{"$f":"IF(O778=1,MAX(Q$1:Q777)+1,\"\")","v":""},"Lightwaysolar","Poly 210 Wp  48cells",777,null,null,null,null,null,null,null,null,null,null,null,null,null,null,null,null,null,null,1000]
["Lightwaysolar","Poly 215 Wp  54cells",0.14526536265666698,215,33.520000000000003,26.63,8.74,8.08,5.6810000000000009,-107.93440000000002,-85.74860000000001,null,778,"",{"$f":"IF($A779=\"\",\"\",COUNTIF($A$2:$A779,$A779))","v":8},{"$f":"IF($A779=\"\",\"\",$O779+thousand*VLOOKUP($A779,$A$1:Q779,17,FALSE))","v":34008},{"$f":"IF(O779=1,MAX(Q$1:Q778)+1,\"\")","v":""},"Lightwaysolar","Poly 215 Wp  54cells",778,null,null,null,null,null,null,null,null,null,null,null,null,null,null,null,null,null,null,1000]
["Lightwaysolar","Poly 220 Wp  54cells",0.14864362690449648,220,33.68,26.88,8.76,8.19,5.694,-108.4496,-86.553600000000003,null,779,"",{"$f":"IF($A780=\"\",\"\",COUNTIF($A$2:$A780,$A780))","v":9},{"$f":"IF($A780=\"\",\"\",$O780+thousand*VLOOKUP($A780,$A$1:Q780,17,FALSE))","v":34009},{"$f":"IF(O780=1,MAX(Q$1:Q779)+1,\"\")","v":""},"Lightwaysolar","Poly 220 Wp  54cells",779,null,null,null,null,null,null,null,null,null,null,null,null,null,null,null,null,null,null,1000]
["Lightwaysolar","Poly 225 Wp  54cells",0.15202189115232595,225,33.81,27.03,8.84,8.33,5.7460000000000004,-108.8682,-87.036599999999993,null,780,"",{"$f":"IF($A781=\"\",\"\",COUNTIF($A$2:$A781,$A781))","v":10},{"$f":"IF($A781=\"\",\"\",$O781+thousand*VLOOKUP($A781,$A$1:Q781,17,FALSE))","v":34010},{"$f":"IF(O781=1,MAX(Q$1:Q780)+1,\"\")","v":""},"Lightwaysolar","Poly 225 Wp  54cells",780,null,null,null,null,null,null,null,null,null,null,null,null,null,null,null,null,null,null,1000]
["Lightwaysolar","Poly 230 Wp  54cells",0.15540015540015539,230,33.92,27.35,9.02,8.4499999999999993,5.8630000000000004,-109.22239999999999,-88.066999999999993,null,781,"",{"$f":"IF($A782=\"\",\"\",COUNTIF($A$2:$A782,$A782))","v":11},{"$f":"IF($A782=\"\",\"\",$O782+thousand*VLOOKUP($A782,$A$1:Q782,17,FALSE))","v":34011},{"$f":"IF(O782=1,MAX(Q$1:Q781)+1,\"\")","v":""},"Lightwaysolar","Poly 230 Wp  54cells",781,null,null,null,null,null,null,null,null,null,null,null,null,null,null,null,null,null,null,1000]
["Lightwaysolar","Poly 235 Wp  60 cells",0.144740083764474,235,37.299999999999997,29.5,8.4499999999999993,7.98,5.4924999999999997,-120.10600000000001,-94.990000000000023,null,782,"",{"$f":"IF($A783=\"\",\"\",COUNTIF($A$2:$A783,$A783))","v":12},{"$f":"IF($A783=\"\",\"\",$O783+thousand*VLOOKUP($A783,$A$1:Q783,17,FALSE))","v":34012},{"$f":"IF(O783=1,MAX(Q$1:Q782)+1,\"\")","v":""},"Lightwaysolar","Poly 235 Wp  60 cells",782,null,null,null,null,null,null,null,null,null,null,null,null,null,null,null,null,null,null,1000]
["Lightwaysolar","Poly 235 Wp  54cells",0.15877841964798486,235,34.1,27.48,9.17,8.56,5.9604999999999997,-109.80199999999999,-88.485599999999991,null,783,"",{"$f":"IF($A784=\"\",\"\",COUNTIF($A$2:$A784,$A784))","v":13},{"$f":"IF($A784=\"\",\"\",$O784+thousand*VLOOKUP($A784,$A$1:Q784,17,FALSE))","v":34013},{"$f":"IF(O784=1,MAX(Q$1:Q783)+1,\"\")","v":""},"Lightwaysolar","Poly 235 Wp  54cells",783,null,null,null,null,null,null,null,null,null,null,null,null,null,null,null,null,null,null,1000]
["Lightwaysolar","Poly 240 Wp  60 cells",0.14781966001478197,240,37.4,29.65,8.56,8.11,5.5640000000000001,-120.428,-95.472999999999985,null,784,"",{"$f":"IF($A785=\"\",\"\",COUNTIF($A$2:$A785,$A785))","v":14},{"$f":"IF($A785=\"\",\"\",$O785+thousand*VLOOKUP($A785,$A$1:Q785,17,FALSE))","v":34014},{"$f":"IF(O785=1,MAX(Q$1:Q784)+1,\"\")","v":""},"Lightwaysolar","Poly 240 Wp  60 cells",784,null,null,null,null,null,null,null,null,null,null,null,null,null,null,null,null,null,null,1000]
["Lightwaysolar","LW235(29)P1650*990",0.14692378328741965,240,36.61,28.83,8.8670000000000009,8.3079999999999998,6.1182300000000014,-117.88420000000001,-92.832599999999999,null,785,"",{"$f":"IF($A786=\"\",\"\",COUNTIF($A$2:$A786,$A786))","v":15},{"$f":"IF($A786=\"\",\"\",$O786+thousand*VLOOKUP($A786,$A$1:Q786,17,FALSE))","v":34015},{"$f":"IF(O786=1,MAX(Q$1:Q785)+1,\"\")","v":""},"Lightwaysolar","LW235(29)P1650*990",785,null,null,null,null,null,null,null,null,null,null,null,null,null,null,null,null,null,null,1000]
["Lightwaysolar","Poly 245 Wp  60 cells",0.15089923626508991,245,37.5,29.8,8.69,8.24,5.6484999999999994,-120.75000000000001,-95.956000000000003,null,786,"",{"$f":"IF($A787=\"\",\"\",COUNTIF($A$2:$A787,$A787))","v":16},{"$f":"IF($A787=\"\",\"\",$O787+thousand*VLOOKUP($A787,$A$1:Q787,17,FALSE))","v":34016},{"$f":"IF(O787=1,MAX(Q$1:Q786)+1,\"\")","v":""},"Lightwaysolar","Poly 245 Wp  60 cells",786,null,null,null,null,null,null,null,null,null,null,null,null,null,null,null,null,null,null,1000]
["Lightwaysolar","LW240(29)P1650*990",0.14998469543924089,245,37.03,29.08,9.0259999999999998,8.4139999999999997,6.2279400000000003,-119.2366,-93.637599999999992,null,787,"",{"$f":"IF($A788=\"\",\"\",COUNTIF($A$2:$A788,$A788))","v":17},{"$f":"IF($A788=\"\",\"\",$O788+thousand*VLOOKUP($A788,$A$1:Q788,17,FALSE))","v":34017},{"$f":"IF(O788=1,MAX(Q$1:Q787)+1,\"\")","v":""},"Lightwaysolar","LW240(29)P1650*990",787,null,null,null,null,null,null,null,null,null,null,null,null,null,null,null,null,null,null,1000]
["Lightwaysolar","LW245(29)P1650*990",0.15182124273033365,248,37.42,29.61,8.9339999999999993,8.3829999999999991,6.1644600000000001,-120.49240000000002,-95.344200000000015,null,788,"",{"$f":"IF($A789=\"\",\"\",COUNTIF($A$2:$A789,$A789))","v":18},{"$f":"IF($A789=\"\",\"\",$O789+thousand*VLOOKUP($A789,$A$1:Q789,17,FALSE))","v":34018},{"$f":"IF(O789=1,MAX(Q$1:Q788)+1,\"\")","v":""},"Lightwaysolar","LW245(29)P1650*990",788,null,null,null,null,null,null,null,null,null,null,null,null,null,null,null,null,null,null,1000]
["Lightwaysolar","Poly 250 Wp  60 cells",0.15397881251539788,250,37.799999999999997,29.95,8.7799999999999994,8.36,5.7069999999999999,-121.71599999999999,-96.438999999999993,null,789,"",{"$f":"IF($A790=\"\",\"\",COUNTIF($A$2:$A790,$A790))","v":19},{"$f":"IF($A790=\"\",\"\",$O790+thousand*VLOOKUP($A790,$A$1:Q790,17,FALSE))","v":34019},{"$f":"IF(O790=1,MAX(Q$1:Q789)+1,\"\")","v":""},"Lightwaysolar","Poly 250 Wp  60 cells",789,null,null,null,null,null,null,null,null,null,null,null,null,null,null,null,null,null,null,1000]
["Lightwaysolar","LW250(29)P1650*990",0.15488215488215484,253,37.26,29.49,9.1579999999999995,8.5779999999999994,6.3190200000000001,-119.9772,-94.957799999999992,null,790,"",{"$f":"IF($A791=\"\",\"\",COUNTIF($A$2:$A791,$A791))","v":20},{"$f":"IF($A791=\"\",\"\",$O791+thousand*VLOOKUP($A791,$A$1:Q791,17,FALSE))","v":34020},{"$f":"IF(O791=1,MAX(Q$1:Q790)+1,\"\")","v":""},"Lightwaysolar","LW250(29)P1650*990",790,null,null,null,null,null,null,null,null,null,null,null,null,null,null,null,null,null,null,1000]
["Lightwaysolar","Poly 255 Wp  60 cells",0.15705838876570583,255,37.880000000000003,30.1,8.9,8.48,5.7850000000000001,-121.97360000000002,-96.922000000000011,null,791,"",{"$f":"IF($A792=\"\",\"\",COUNTIF($A$2:$A792,$A792))","v":21},{"$f":"IF($A792=\"\",\"\",$O792+thousand*VLOOKUP($A792,$A$1:Q792,17,FALSE))","v":34021},{"$f":"IF(O792=1,MAX(Q$1:Q791)+1,\"\")","v":""},"Lightwaysolar","Poly 255 Wp  60 cells",791,null,null,null,null,null,null,null,null,null,null,null,null,null,null,null,null,null,null,1000]
["Lightwaysolar","Poly 260 Wp  60 cells",0.16013796501601379,260,37.79,30.25,9.06,8.61,5.8890000000000011,-121.68380000000001,-97.405000000000001,null,792,"",{"$f":"IF($A793=\"\",\"\",COUNTIF($A$2:$A793,$A793))","v":22},{"$f":"IF($A793=\"\",\"\",$O793+thousand*VLOOKUP($A793,$A$1:Q793,17,FALSE))","v":34022},{"$f":"IF(O793=1,MAX(Q$1:Q792)+1,\"\")","v":""},"Lightwaysolar","Poly 260 Wp  60 cells",792,null,null,null,null,null,null,null,null,null,null,null,null,null,null,null,null,null,null,1000]
["Lightwaysolar","Poly 285 Wp  72 cells",0.14687693259121831,285,44.53,35.69,8.4600000000000009,8.01,5.4990000000000006,-143.38660000000002,-114.92179999999999,null,793,"",{"$f":"IF($A794=\"\",\"\",COUNTIF($A$2:$A794,$A794))","v":23},{"$f":"IF($A794=\"\",\"\",$O794+thousand*VLOOKUP($A794,$A$1:Q794,17,FALSE))","v":34023},{"$f":"IF(O794=1,MAX(Q$1:Q793)+1,\"\")","v":""},"Lightwaysolar","Poly 285 Wp  72 cells",793,null,null,null,null,null,null,null,null,null,null,null,null,null,null,null,null,null,null,1000]
["Lightwaysolar","LW280(29)P1970*990",0.14613136440547606,285,44.68,35.56,8.5690000000000008,8.0139999999999993,5.9126100000000017,-143.86960000000002,-114.50320000000002,null,794,"",{"$f":"IF($A795=\"\",\"\",COUNTIF($A$2:$A795,$A795))","v":24},{"$f":"IF($A795=\"\",\"\",$O795+thousand*VLOOKUP($A795,$A$1:Q795,17,FALSE))","v":34024},{"$f":"IF(O795=1,MAX(Q$1:Q794)+1,\"\")","v":""},"Lightwaysolar","LW280(29)P1970*990",794,null,null,null,null,null,null,null,null,null,null,null,null,null,null,null,null,null,null,1000]
["Lightwaysolar","Poly 290 Wp  72 cells",0.14945372088229231,290,44.81,35.81,8.49,8.11,5.5185000000000004,-144.28820000000002,-115.30820000000001,null,795,"",{"$f":"IF($A796=\"\",\"\",COUNTIF($A$2:$A796,$A796))","v":25},{"$f":"IF($A796=\"\",\"\",$O796+thousand*VLOOKUP($A796,$A$1:Q796,17,FALSE))","v":34025},{"$f":"IF(O796=1,MAX(Q$1:Q795)+1,\"\")","v":""},"Lightwaysolar","Poly 290 Wp  72 cells",795,null,null,null,null,null,null,null,null,null,null,null,null,null,null,null,null,null,null,1000]
["Lightwaysolar","LW285(29)P1970*990",0.14869507255294059,290,44.99,35.85,8.68,8.0820000000000007,5.9892000000000003,-144.86780000000002,-115.43700000000001,null,796,"",{"$f":"IF($A797=\"\",\"\",COUNTIF($A$2:$A797,$A797))","v":26},{"$f":"IF($A797=\"\",\"\",$O797+thousand*VLOOKUP($A797,$A$1:Q797,17,FALSE))","v":34026},{"$f":"IF(O797=1,MAX(Q$1:Q796)+1,\"\")","v":""},"Lightwaysolar","LW285(29)P1970*990",796,null,null,null,null,null,null,null,null,null,null,null,null,null,null,null,null,null,null,1000]
["Lightwaysolar","LW290(29)P1970*990",0.15074603907091216,294,45.22,35.96,8.7490000000000006,8.1809999999999992,6.0368100000000009,-145.60839999999999,-115.79119999999999,null,797,"",{"$f":"IF($A798=\"\",\"\",COUNTIF($A$2:$A798,$A798))","v":27},{"$f":"IF($A798=\"\",\"\",$O798+thousand*VLOOKUP($A798,$A$1:Q798,17,FALSE))","v":34027},{"$f":"IF(O798=1,MAX(Q$1:Q797)+1,\"\")","v":""},"Lightwaysolar","LW290(29)P1970*990",797,null,null,null,null,null,null,null,null,null,null,null,null,null,null,null,null,null,null,1000]
["Lightwaysolar","Poly 295 Wp  72 cells",0.1520305091733663,295,44.91,35.99,8.59,8.2100000000000009,5.5834999999999999,-144.61019999999999,-115.88780000000001,null,798,"",{"$f":"IF($A799=\"\",\"\",COUNTIF($A$2:$A799,$A799))","v":28},{"$f":"IF($A799=\"\",\"\",$O799+thousand*VLOOKUP($A799,$A$1:Q799,17,FALSE))","v":34028},{"$f":"IF(O799=1,MAX(Q$1:Q798)+1,\"\")","v":""},"Lightwaysolar","Poly 295 Wp  72 cells",798,null,null,null,null,null,null,null,null,null,null,null,null,null,null,null,null,null,null,1000]
["Lightwaysolar","Poly 300 Wp  72 cells",0.15460729746444032,300,45.08,36.15,8.68,8.31,5.6420000000000003,-145.1576,-116.40300000000001,null,799,"",{"$f":"IF($A800=\"\",\"\",COUNTIF($A$2:$A800,$A800))","v":29},{"$f":"IF($A800=\"\",\"\",$O800+thousand*VLOOKUP($A800,$A$1:Q800,17,FALSE))","v":34029},{"$f":"IF(O800=1,MAX(Q$1:Q799)+1,\"\")","v":""},"Lightwaysolar","Poly 300 Wp  72 cells",799,null,null,null,null,null,null,null,null,null,null,null,null,null,null,null,null,null,null,1000]
["Lightwaysolar","Poly 305 Wp  72 cells",0.15718408575551435,305,45.31,36.340000000000003,8.76,8.42,5.694,-145.8982,-117.01480000000001,null,800,"",{"$f":"IF($A801=\"\",\"\",COUNTIF($A$2:$A801,$A801))","v":30},{"$f":"IF($A801=\"\",\"\",$O801+thousand*VLOOKUP($A801,$A$1:Q801,17,FALSE))","v":34030},{"$f":"IF(O801=1,MAX(Q$1:Q800)+1,\"\")","v":""},"Lightwaysolar","Poly 305 Wp  72 cells",800,null,null,null,null,null,null,null,null,null,null,null,null,null,null,null,null,null,null,1000]
["Lightwaysolar","Poly 310 Wp  72 cells",0.15976087404658834,310,45.56,36.54,8.85,8.51,5.7525000000000004,-146.70320000000001,-117.6588,null,801,"",{"$f":"IF($A802=\"\",\"\",COUNTIF($A$2:$A802,$A802))","v":31},{"$f":"IF($A802=\"\",\"\",$O802+thousand*VLOOKUP($A802,$A$1:Q802,17,FALSE))","v":34031},{"$f":"IF(O802=1,MAX(Q$1:Q801)+1,\"\")","v":""},"Lightwaysolar","Poly 310 Wp  72 cells",801,null,null,null,null,null,null,null,null,null,null,null,null,null,null,null,null,null,null,1000]
["Masdar PV GmbH","MPV135-M",9.4405594405594415E-2,135,146.69999999999999,116.4,1.37,1.1599999999999999,1.37,-465,-368.95705521472394,null,802,"",{"$f":"IF($A803=\"\",\"\",COUNTIF($A$2:$A803,$A803))","v":1},{"$f":"IF($A803=\"\",\"\",$O803+thousand*VLOOKUP($A803,$A$1:Q803,17,FALSE))","v":35001},{"$f":"IF(O803=1,MAX(Q$1:Q802)+1,\"\")","v":35},"Masdar PV GmbH","MPV135-M",802,null,null,null,null,null,null,null,null,null,null,null,null,null,null,null,null,null,null,1000]
["Masdar PV GmbH","MPV530-MXL",9.2657342657342656E-2,530,297,232.5,2.68,2.2799999999999998,2.68,-680,-532.32323232323233,null,803,"",{"$f":"IF($A804=\"\",\"\",COUNTIF($A$2:$A804,$A804))","v":2},{"$f":"IF($A804=\"\",\"\",$O804+thousand*VLOOKUP($A804,$A$1:Q804,17,FALSE))","v":35002},{"$f":"IF(O804=1,MAX(Q$1:Q803)+1,\"\")","v":""},"Masdar PV GmbH","MPV530-MXL",803,null,null,null,null,null,null,null,null,null,null,null,null,null,null,null,null,null,null,1000]
["Masdar PV GmbH","MPV540-MXL",9.4405594405594415E-2,540,299,234.8,2.7,2.2999999999999998,2.7,-700,-549.69899665551839,null,804,"",{"$f":"IF($A805=\"\",\"\",COUNTIF($A$2:$A805,$A805))","v":3},{"$f":"IF($A805=\"\",\"\",$O805+thousand*VLOOKUP($A805,$A$1:Q805,17,FALSE))","v":35003},{"$f":"IF(O805=1,MAX(Q$1:Q804)+1,\"\")","v":""},"Masdar PV GmbH","MPV540-MXL",804,null,null,null,null,null,null,null,null,null,null,null,null,null,null,null,null,null,null,1000]
["Meyer Burger AG","MegaSlate II Crea I 120Wp",0.13937282229965156,120,18.600000000000001,14.8,8.6,8.1,3.4399999999999995,-61.38000000000001,-48.84,null,805,"",{"$f":"IF($A806=\"\",\"\",COUNTIF($A$2:$A806,$A806))","v":1},{"$f":"IF($A806=\"\",\"\",$O806+thousand*VLOOKUP($A806,$A$1:Q806,17,FALSE))","v":36001},{"$f":"IF(O806=1,MAX(Q$1:Q805)+1,\"\")","v":36},"Meyer Burger AG","MegaSlate II Crea I 120Wp",805,null,null,null,null,null,null,null,null,null,null,null,null,null,null,null,null,null,null,1000]
["Meyer Burger AG","MegaSlate II Crea I 125Wp",0.14518002322880372,125,18.899999999999999,15.3,8.8000000000000007,8.1999999999999993,3.5200000000000005,-62.370000000000005,-50.490000000000009,null,806,"",{"$f":"IF($A807=\"\",\"\",COUNTIF($A$2:$A807,$A807))","v":2},{"$f":"IF($A807=\"\",\"\",$O807+thousand*VLOOKUP($A807,$A$1:Q807,17,FALSE))","v":36002},{"$f":"IF(O807=1,MAX(Q$1:Q806)+1,\"\")","v":""},"Meyer Burger AG","MegaSlate II Crea I 125Wp",806,null,null,null,null,null,null,null,null,null,null,null,null,null,null,null,null,null,null,1000]
["Meyer Burger AG","MegaSlate II Standard 165Wp",0.14505494505494504,165,25.2,20.5,8.6,8.1,3.4399999999999995,-83.160000000000011,-67.650000000000006,null,807,"",{"$f":"IF($A808=\"\",\"\",COUNTIF($A$2:$A808,$A808))","v":3},{"$f":"IF($A808=\"\",\"\",$O808+thousand*VLOOKUP($A808,$A$1:Q808,17,FALSE))","v":36003},{"$f":"IF(O808=1,MAX(Q$1:Q807)+1,\"\")","v":""},"Meyer Burger AG","MegaSlate II Standard 165Wp",807,null,null,null,null,null,null,null,null,null,null,null,null,null,null,null,null,null,null,1000]
["Meyer Burger AG","MegaSlate II Standard 170Wp",0.14945054945054945,170,25.3,20.7,8.8000000000000007,8.1999999999999993,3.5200000000000005,-83.490000000000009,-68.31,null,808,"",{"$f":"IF($A809=\"\",\"\",COUNTIF($A$2:$A809,$A809))","v":4},{"$f":"IF($A809=\"\",\"\",$O809+thousand*VLOOKUP($A809,$A$1:Q809,17,FALSE))","v":36004},{"$f":"IF(O809=1,MAX(Q$1:Q808)+1,\"\")","v":""},"Meyer Burger AG","MegaSlate II Standard 170Wp",808,null,null,null,null,null,null,null,null,null,null,null,null,null,null,null,null,null,null,1000]
["Meyer Burger AG","Black 250Wp",0.15233721854175503,250,37.799999999999997,30.5,8.8000000000000007,8.1999999999999993,3.5200000000000005,-124.74000000000001,-100.65000000000002,null,809,"",{"$f":"IF($A810=\"\",\"\",COUNTIF($A$2:$A810,$A810))","v":5},{"$f":"IF($A810=\"\",\"\",$O810+thousand*VLOOKUP($A810,$A$1:Q810,17,FALSE))","v":36005},{"$f":"IF(O810=1,MAX(Q$1:Q809)+1,\"\")","v":""},"Meyer Burger AG","Black 250Wp",809,null,null,null,null,null,null,null,null,null,null,null,null,null,null,null,null,null,null,1000]
["Meyer Burger AG","Black 245Wp",0.15233721854175503,250,37.799999999999997,30.5,8.8000000000000007,8.1999999999999993,3.5200000000000005,-124.74000000000001,-100.65000000000002,null,810,"",{"$f":"IF($A811=\"\",\"\",COUNTIF($A$2:$A811,$A811))","v":6},{"$f":"IF($A811=\"\",\"\",$O811+thousand*VLOOKUP($A811,$A$1:Q811,17,FALSE))","v":36006},{"$f":"IF(O811=1,MAX(Q$1:Q810)+1,\"\")","v":""},"Meyer Burger AG","Black 245Wp",810,null,null,null,null,null,null,null,null,null,null,null,null,null,null,null,null,null,null,1000]
["Meyer Burger AG","Sky 260Wp",0.15843070728342523,260,37.799999999999997,30.3,9.1,8.6,3.6399999999999997,-124.74000000000001,-99.990000000000009,null,811,"",{"$f":"IF($A812=\"\",\"\",COUNTIF($A$2:$A812,$A812))","v":7},{"$f":"IF($A812=\"\",\"\",$O812+thousand*VLOOKUP($A812,$A$1:Q812,17,FALSE))","v":36007},{"$f":"IF(O812=1,MAX(Q$1:Q811)+1,\"\")","v":""},"Meyer Burger AG","Sky 260Wp",811,null,null,null,null,null,null,null,null,null,null,null,null,null,null,null,null,null,null,1000]
["Meyer Burger AG","Black 260Wp",0.15843070728342523,260,38,30.8,9,8.4,3.5999999999999996,-125.4,-101.64,null,812,"",{"$f":"IF($A813=\"\",\"\",COUNTIF($A$2:$A813,$A813))","v":8},{"$f":"IF($A813=\"\",\"\",$O813+thousand*VLOOKUP($A813,$A$1:Q813,17,FALSE))","v":36008},{"$f":"IF(O813=1,MAX(Q$1:Q812)+1,\"\")","v":""},"Meyer Burger AG","Black 260Wp",812,null,null,null,null,null,null,null,null,null,null,null,null,null,null,null,null,null,null,1000]
["Meyer Burger AG","Sky 265Wp",0.16147745165426031,265,38,30.6,9.1999999999999993,8.6999999999999993,3.6799999999999997,-125.4,-100.98000000000002,null,813,"",{"$f":"IF($A814=\"\",\"\",COUNTIF($A$2:$A814,$A814))","v":9},{"$f":"IF($A814=\"\",\"\",$O814+thousand*VLOOKUP($A814,$A$1:Q814,17,FALSE))","v":36009},{"$f":"IF(O814=1,MAX(Q$1:Q813)+1,\"\")","v":""},"Meyer Burger AG","Sky 265Wp",813,null,null,null,null,null,null,null,null,null,null,null,null,null,null,null,null,null,null,1000]
["Mitsubishi","MLE-255HD",0.15399713142598323,255,37.799999999999997,31.2,8.89,8.18,4.4450000000000003,-115,-94.920634920634924,null,814,"",{"$f":"IF($A815=\"\",\"\",COUNTIF($A$2:$A815,$A815))","v":1},{"$f":"IF($A815=\"\",\"\",$O815+thousand*VLOOKUP($A815,$A$1:Q815,17,FALSE))","v":37001},{"$f":"IF(O815=1,MAX(Q$1:Q814)+1,\"\")","v":37},"Mitsubishi","MLE-255HD",814,null,null,null,null,null,null,null,null,null,null,null,null,null,null,null,null,null,null,1000]
["Mitsubishi","MLE-260HD",0.15701668302257116,260,38,31.4,8.98,8.2899999999999991,4.49,-114,-94.2,null,815,"",{"$f":"IF($A816=\"\",\"\",COUNTIF($A$2:$A816,$A816))","v":2},{"$f":"IF($A816=\"\",\"\",$O816+thousand*VLOOKUP($A816,$A$1:Q816,17,FALSE))","v":37002},{"$f":"IF(O816=1,MAX(Q$1:Q815)+1,\"\")","v":""},"Mitsubishi","MLE-260HD",815,null,null,null,null,null,null,null,null,null,null,null,null,null,null,null,null,null,null,1000]
["Mitsubishi","MLE-265HD",0.16003623461915906,265,38.200000000000003,31.7,9.08,8.3800000000000008,4.54,-113,-93.772251308900522,null,816,"",{"$f":"IF($A817=\"\",\"\",COUNTIF($A$2:$A817,$A817))","v":3},{"$f":"IF($A817=\"\",\"\",$O817+thousand*VLOOKUP($A817,$A$1:Q817,17,FALSE))","v":37003},{"$f":"IF(O817=1,MAX(Q$1:Q816)+1,\"\")","v":""},"Mitsubishi","MLE-265HD",816,null,null,null,null,null,null,null,null,null,null,null,null,null,null,null,null,null,null,1000]
["MoserBaer","MBPV CAAP BC 200Wp",0.12150291819633778,200,36.049999999999997,28.02,7.95,7.14,0,-110,-85.497919556171993,null,817,"",{"$f":"IF($A818=\"\",\"\",COUNTIF($A$2:$A818,$A818))","v":1},{"$f":"IF($A818=\"\",\"\",$O818+thousand*VLOOKUP($A818,$A$1:Q818,17,FALSE))","v":38001},{"$f":"IF(O818=1,MAX(Q$1:Q817)+1,\"\")","v":38},"MoserBaer","MBPV CAAP BC 200Wp",817,null,null,null,null,null,null,null,null,null,null,null,null,null,null,null,null,null,null,1000]
["MoserBaer","MBPV CAAP BC 205Wp",0.12454049115124621,205,36.25,28.29,7.99,7.25,0,-112,-87.40634482758621,null,818,"",{"$f":"IF($A819=\"\",\"\",COUNTIF($A$2:$A819,$A819))","v":2},{"$f":"IF($A819=\"\",\"\",$O819+thousand*VLOOKUP($A819,$A$1:Q819,17,FALSE))","v":38002},{"$f":"IF(O819=1,MAX(Q$1:Q818)+1,\"\")","v":""},"MoserBaer","MBPV CAAP BC 205Wp",818,null,null,null,null,null,null,null,null,null,null,null,null,null,null,null,null,null,null,1000]
["MoserBaer","MBPV CAAP BC 210Wp",0.12757806410615469,210,36.380000000000003,28.58,8.0399999999999991,7.35,0,-114,-89.557998900494766,null,819,"",{"$f":"IF($A820=\"\",\"\",COUNTIF($A$2:$A820,$A820))","v":3},{"$f":"IF($A820=\"\",\"\",$O820+thousand*VLOOKUP($A820,$A$1:Q820,17,FALSE))","v":38003},{"$f":"IF(O820=1,MAX(Q$1:Q819)+1,\"\")","v":""},"MoserBaer","MBPV CAAP BC 210Wp",819,null,null,null,null,null,null,null,null,null,null,null,null,null,null,null,null,null,null,1000]
["MoserBaer","MBPV CAAP BC 215Wp",0.13061563706106311,215,36.5,28.79,8.07,7.47,0,-116,-91.496986301369859,null,820,"",{"$f":"IF($A821=\"\",\"\",COUNTIF($A$2:$A821,$A821))","v":4},{"$f":"IF($A821=\"\",\"\",$O821+thousand*VLOOKUP($A821,$A$1:Q821,17,FALSE))","v":38004},{"$f":"IF(O821=1,MAX(Q$1:Q820)+1,\"\")","v":""},"MoserBaer","MBPV CAAP BC 215Wp",820,null,null,null,null,null,null,null,null,null,null,null,null,null,null,null,null,null,null,1000]
["MoserBaer","MBPV CAAP BC 220Wp",0.13365321001597155,220,36.64,29.03,8.14,7.58,0,-117,-92.699508733624455,null,821,"",{"$f":"IF($A822=\"\",\"\",COUNTIF($A$2:$A822,$A822))","v":5},{"$f":"IF($A822=\"\",\"\",$O822+thousand*VLOOKUP($A822,$A$1:Q822,17,FALSE))","v":38005},{"$f":"IF(O822=1,MAX(Q$1:Q821)+1,\"\")","v":""},"MoserBaer","MBPV CAAP BC 220Wp",821,null,null,null,null,null,null,null,null,null,null,null,null,null,null,null,null,null,null,1000]
["MoserBaer","MBPV CAAP BC 225Wp",0.13669078297088,225,36.950000000000003,29.27,8.23,7.69,0,-119,-94.266035182679275,null,822,"",{"$f":"IF($A823=\"\",\"\",COUNTIF($A$2:$A823,$A823))","v":6},{"$f":"IF($A823=\"\",\"\",$O823+thousand*VLOOKUP($A823,$A$1:Q823,17,FALSE))","v":38006},{"$f":"IF(O823=1,MAX(Q$1:Q822)+1,\"\")","v":""},"MoserBaer","MBPV CAAP BC 225Wp",822,null,null,null,null,null,null,null,null,null,null,null,null,null,null,null,null,null,null,1000]
["MoserBaer","MBPV CAAP BC 230Wp",0.13972835592578844,230,37.25,29.5,8.34,7.8,0,-120,-95.033557046979865,null,823,"",{"$f":"IF($A824=\"\",\"\",COUNTIF($A$2:$A824,$A824))","v":7},{"$f":"IF($A824=\"\",\"\",$O824+thousand*VLOOKUP($A824,$A$1:Q824,17,FALSE))","v":38007},{"$f":"IF(O824=1,MAX(Q$1:Q823)+1,\"\")","v":""},"MoserBaer","MBPV CAAP BC 230Wp",823,null,null,null,null,null,null,null,null,null,null,null,null,null,null,null,null,null,null,1000]
["MoserBaer","MBPV CAAP BC 235Wp",0.14276592888069692,235,37.409999999999997,29.83,8.44,7.88,0,-122,-97.280406308473673,null,824,"",{"$f":"IF($A825=\"\",\"\",COUNTIF($A$2:$A825,$A825))","v":8},{"$f":"IF($A825=\"\",\"\",$O825+thousand*VLOOKUP($A825,$A$1:Q825,17,FALSE))","v":38008},{"$f":"IF(O825=1,MAX(Q$1:Q824)+1,\"\")","v":""},"MoserBaer","MBPV CAAP BC 235Wp",824,null,null,null,null,null,null,null,null,null,null,null,null,null,null,null,null,null,null,1000]
["MoserBaer","MBPV CAAP BC 240Wp",0.14580350183560534,240,37.65,30.16,8.49,7.96,0,-123,-98.53067729083665,null,825,"",{"$f":"IF($A826=\"\",\"\",COUNTIF($A$2:$A826,$A826))","v":9},{"$f":"IF($A826=\"\",\"\",$O826+thousand*VLOOKUP($A826,$A$1:Q826,17,FALSE))","v":38009},{"$f":"IF(O826=1,MAX(Q$1:Q825)+1,\"\")","v":""},"MoserBaer","MBPV CAAP BC 240Wp",825,null,null,null,null,null,null,null,null,null,null,null,null,null,null,null,null,null,null,1000]
["MoserBaer","MBPV CAAP BC 245Wp",0.14884107479051376,245,37.770000000000003,30.67,8.5500000000000007,7.99,0,-126,-102.31453534551231,null,826,"",{"$f":"IF($A827=\"\",\"\",COUNTIF($A$2:$A827,$A827))","v":10},{"$f":"IF($A827=\"\",\"\",$O827+thousand*VLOOKUP($A827,$A$1:Q827,17,FALSE))","v":38010},{"$f":"IF(O827=1,MAX(Q$1:Q826)+1,\"\")","v":""},"MoserBaer","MBPV CAAP BC 245Wp",826,null,null,null,null,null,null,null,null,null,null,null,null,null,null,null,null,null,null,1000]
["MoserBaer","MBPV CAAP BC 250Wp",0.15187864774542223,250,37.89,30.95,8.6,8.08,0,-127,-103.73845341778834,null,827,"",{"$f":"IF($A828=\"\",\"\",COUNTIF($A$2:$A828,$A828))","v":11},{"$f":"IF($A828=\"\",\"\",$O828+thousand*VLOOKUP($A828,$A$1:Q828,17,FALSE))","v":38011},{"$f":"IF(O828=1,MAX(Q$1:Q827)+1,\"\")","v":""},"MoserBaer","MBPV CAAP BC 250Wp",827,null,null,null,null,null,null,null,null,null,null,null,null,null,null,null,null,null,null,1000]
["MPRIME Solar Solutions SA","M 135P",0.13146265348264793,130,21.97,17.48,8.1300000000000008,7.44,2.7642000000000007,-72,-57.285389167045977,null,828,"",{"$f":"IF($A829=\"\",\"\",COUNTIF($A$2:$A829,$A829))","v":1},{"$f":"IF($A829=\"\",\"\",$O829+thousand*VLOOKUP($A829,$A$1:Q829,17,FALSE))","v":39001},{"$f":"IF(O829=1,MAX(Q$1:Q828)+1,\"\")","v":39},"MPRIME Solar Solutions SA","M 135P",828,null,null,null,null,null,null,null,null,null,null,null,null,null,null,null,null,null,null,1000]
["MPRIME Solar Solutions SA","M 135P",0.1365189093858267,135,22.01,17.510000000000002,8.14,7.71,2.7676000000000007,-74,-58.87051340299864,null,829,"",{"$f":"IF($A830=\"\",\"\",COUNTIF($A$2:$A830,$A830))","v":2},{"$f":"IF($A830=\"\",\"\",$O830+thousand*VLOOKUP($A830,$A$1:Q830,17,FALSE))","v":39002},{"$f":"IF(O830=1,MAX(Q$1:Q829)+1,\"\")","v":""},"MPRIME Solar Solutions SA","M 135P",829,null,null,null,null,null,null,null,null,null,null,null,null,null,null,null,null,null,null,1000]
["MPRIME Solar Solutions SA","M 140P",0.14157516528900549,140,22.2,17.7,8.17,7.91,2.7778,-77,-61.391891891891888,null,830,"",{"$f":"IF($A831=\"\",\"\",COUNTIF($A$2:$A831,$A831))","v":3},{"$f":"IF($A831=\"\",\"\",$O831+thousand*VLOOKUP($A831,$A$1:Q831,17,FALSE))","v":39003},{"$f":"IF(O831=1,MAX(Q$1:Q830)+1,\"\")","v":""},"MPRIME Solar Solutions SA","M 140P",830,null,null,null,null,null,null,null,null,null,null,null,null,null,null,null,null,null,null,1000]
["MPRIME Solar Solutions SA","M 145P",0.14663142119218425,145,22.5,17.95,8.3000000000000007,8.08,2.8220000000000005,-79,-63.024444444444441,null,831,"",{"$f":"IF($A832=\"\",\"\",COUNTIF($A$2:$A832,$A832))","v":4},{"$f":"IF($A832=\"\",\"\",$O832+thousand*VLOOKUP($A832,$A$1:Q832,17,FALSE))","v":39004},{"$f":"IF(O832=1,MAX(Q$1:Q831)+1,\"\")","v":""},"MPRIME Solar Solutions SA","M 145P",831,null,null,null,null,null,null,null,null,null,null,null,null,null,null,null,null,null,null,1000]
["MPRIME Solar Solutions SA","M 215P",0.13358202371174119,215,36.28,27.84,8.17,7.72,6.2092000000000001,-133,-102.05953693495039,null,832,"",{"$f":"IF($A833=\"\",\"\",COUNTIF($A$2:$A833,$A833))","v":5},{"$f":"IF($A833=\"\",\"\",$O833+thousand*VLOOKUP($A833,$A$1:Q833,17,FALSE))","v":39005},{"$f":"IF(O833=1,MAX(Q$1:Q832)+1,\"\")","v":""},"MPRIME Solar Solutions SA","M 215P",832,null,null,null,null,null,null,null,null,null,null,null,null,null,null,null,null,null,null,1000]
["MPRIME Solar Solutions SA","M 220P",0.13668858240271189,220,36.549999999999997,27.91,8.23,7.88,6.2548000000000004,-135,-103.08755129958962,null,833,{"$f":"IF(M834>MAX(Q$2:Q$7985),\"\",VLOOKUP(M834,Q$2:R$7985,2,FALSE))","v":""},{"$f":"IF($A834=\"\",\"\",COUNTIF($A$2:$A834,$A834))","v":6},{"$f":"IF($A834=\"\",\"\",$O834+thousand*VLOOKUP($A834,$A$1:Q834,17,FALSE))","v":39006},{"$f":"IF(O834=1,MAX(Q$1:Q833)+1,\"\")","v":""},"MPRIME Solar Solutions SA","M 220P",833,null,null,null,null,null,null,null,null,null,null,null,null,null,null,null,null,null,null,1000]
["MPRIME Solar Solutions SA","M 225P",0.13979514109368263,225,36.950000000000003,28.2,8.3699999999999992,7.98,6.3611999999999993,-137,{"$f":"F835/E835*J835","v":-104.55751014884979},null,834,"",{"$f":"IF($A835=\"\",\"\",COUNTIF($A$2:$A835,$A835))","v":7},{"$f":"IF($A835=\"\",\"\",$O835+thousand*VLOOKUP($A835,$A$1:Q835,17,FALSE))","v":39007},{"$f":"IF(O835=1,MAX(Q$1:Q834)+1,\"\")","v":""},{"$f":"IF(A835=\"\",\"\",A835)","v":"MPRIME Solar Solutions SA"},{"$f":"IF(B835=\"\",\"\",B835)","v":"M 225P"},{"$f":"$M835","v":834},null,null,null,null,null,null,null,null,null,null,null,null,null,null,null,null,null,null,1000]
["MPRIME Solar Solutions SA","M 230P",0.14290169978465336,230,37.19,28.33,8.39,8.1199999999999992,6.3764000000000003,-140,-106.64694810432913,null,835,"",{"$f":"IF($A836=\"\",\"\",COUNTIF($A$2:$A836,$A836))","v":8},{"$f":"IF($A836=\"\",\"\",$O836+thousand*VLOOKUP($A836,$A$1:Q836,17,FALSE))","v":39008},{"$f":"IF(O836=1,MAX(Q$1:Q835)+1,\"\")","v":""},"MPRIME Solar Solutions SA","M 230P",835,null,null,null,null,null,null,null,null,null,null,null,null,null,null,null,null,null,null,1000]
["MPRIME Solar Solutions SA","M 235P",0.1460082584756241,235,37.44,28.82,8.41,8.15,6.3915999999999995,-142,-109.30662393162393,null,836,"",{"$f":"IF($A837=\"\",\"\",COUNTIF($A$2:$A837,$A837))","v":9},{"$f":"IF($A837=\"\",\"\",$O837+thousand*VLOOKUP($A837,$A$1:Q837,17,FALSE))","v":39009},{"$f":"IF(O837=1,MAX(Q$1:Q836)+1,\"\")","v":""},"MPRIME Solar Solutions SA","M 235P",836,null,null,null,null,null,null,null,null,null,null,null,null,null,null,null,null,null,null,1000]
["MPRIME Solar Solutions SA","M 240P",0.1491148171665948,240,37.799999999999997,29.24,8.58,8.2100000000000009,6.5207999999999995,-142,-109.84338624338625,null,837,"",{"$f":"IF($A838=\"\",\"\",COUNTIF($A$2:$A838,$A838))","v":10},{"$f":"IF($A838=\"\",\"\",$O838+thousand*VLOOKUP($A838,$A$1:Q838,17,FALSE))","v":39010},{"$f":"IF(O838=1,MAX(Q$1:Q837)+1,\"\")","v":""},"MPRIME Solar Solutions SA","M 240P",837,null,null,null,null,null,null,null,null,null,null,null,null,null,null,null,null,null,null,1000]
["MPRIME Solar Solutions SA","M 245P",0.15222137585756551,245,37.83,29.77,8.6,8.23,6.5359999999999996,-145,-114.106529209622,null,838,"",{"$f":"IF($A839=\"\",\"\",COUNTIF($A$2:$A839,$A839))","v":11},{"$f":"IF($A839=\"\",\"\",$O839+thousand*VLOOKUP($A839,$A$1:Q839,17,FALSE))","v":39011},{"$f":"IF(O839=1,MAX(Q$1:Q838)+1,\"\")","v":""},"MPRIME Solar Solutions SA","M 245P",838,null,null,null,null,null,null,null,null,null,null,null,null,null,null,null,null,null,null,1000]
["NexPower","NT-165AG",0.10714285714285714,165,87.3,67.099999999999994,2.67,2.46,1.8956999999999999,-171.108,-131.51599999999999,null,839,"",{"$f":"IF($A840=\"\",\"\",COUNTIF($A$2:$A840,$A840))","v":1},{"$f":"IF($A840=\"\",\"\",$O840+thousand*VLOOKUP($A840,$A$1:Q840,17,FALSE))","v":40001},{"$f":"IF(O840=1,MAX(Q$1:Q839)+1,\"\")","v":40},"NexPower","NT-165AG",839,null,null,null,null,null,null,null,null,null,null,null,null,null,null,null,null,null,null,1000]
["NexPower","NT-165AF",0.10508590294902888,165,87.3,67.099999999999994,2.67,2.46,1.8956999999999999,-171.108,-131.51599999999999,null,840,"",{"$f":"IF($A841=\"\",\"\",COUNTIF($A$2:$A841,$A841))","v":2},{"$f":"IF($A841=\"\",\"\",$O841+thousand*VLOOKUP($A841,$A$1:Q841,17,FALSE))","v":40002},{"$f":"IF(O841=1,MAX(Q$1:Q840)+1,\"\")","v":""},"NexPower","NT-165AF",840,null,null,null,null,null,null,null,null,null,null,null,null,null,null,null,null,null,null,1000]
["NexPower","NT-165AX",0.10508590294902888,165,87.3,67.099999999999994,2.67,2.46,1.8956999999999999,-171.108,-131.51599999999999,null,841,"",{"$f":"IF($A842=\"\",\"\",COUNTIF($A$2:$A842,$A842))","v":3},{"$f":"IF($A842=\"\",\"\",$O842+thousand*VLOOKUP($A842,$A$1:Q842,17,FALSE))","v":40003},{"$f":"IF(O842=1,MAX(Q$1:Q841)+1,\"\")","v":""},"NexPower","NT-165AX",841,null,null,null,null,null,null,null,null,null,null,null,null,null,null,null,null,null,null,1000]
["NexPower","NT-170AG",0.11038961038961038,170,87.9,68.599999999999994,2.78,2.48,1.8904000000000001,-175.8,-137.19999999999999,null,842,"",{"$f":"IF($A843=\"\",\"\",COUNTIF($A$2:$A843,$A843))","v":4},{"$f":"IF($A843=\"\",\"\",$O843+thousand*VLOOKUP($A843,$A$1:Q843,17,FALSE))","v":40004},{"$f":"IF(O843=1,MAX(Q$1:Q842)+1,\"\")","v":""},"NexPower","NT-170AG",842,null,null,null,null,null,null,null,null,null,null,null,null,null,null,null,null,null,null,1000]
["NexPower","NT-170AF",0.1082703242505146,170,87.9,68.599999999999994,2.78,2.48,1.8904000000000001,-175.8,-137.19999999999999,null,843,"",{"$f":"IF($A844=\"\",\"\",COUNTIF($A$2:$A844,$A844))","v":5},{"$f":"IF($A844=\"\",\"\",$O844+thousand*VLOOKUP($A844,$A$1:Q844,17,FALSE))","v":40005},{"$f":"IF(O844=1,MAX(Q$1:Q843)+1,\"\")","v":""},"NexPower","NT-170AF",843,null,null,null,null,null,null,null,null,null,null,null,null,null,null,null,null,null,null,1000]
["NexPower","NT-170AX",0.1082703242505146,170,87.9,68.599999999999994,2.78,2.48,1.8904000000000001,-175.8,-137.19999999999999,null,844,"",{"$f":"IF($A845=\"\",\"\",COUNTIF($A$2:$A845,$A845))","v":6},{"$f":"IF($A845=\"\",\"\",$O845+thousand*VLOOKUP($A845,$A$1:Q845,17,FALSE))","v":40006},{"$f":"IF(O845=1,MAX(Q$1:Q844)+1,\"\")","v":""},"NexPower","NT-170AX",844,null,null,null,null,null,null,null,null,null,null,null,null,null,null,null,null,null,null,1000]
["NexPower","NT-175AG",0.11363636363636363,175,88.2,69.8,2.87,2.5099999999999998,2.0090000000000003,-171.99,-136.10999999999999,null,845,"",{"$f":"IF($A846=\"\",\"\",COUNTIF($A$2:$A846,$A846))","v":7},{"$f":"IF($A846=\"\",\"\",$O846+thousand*VLOOKUP($A846,$A$1:Q846,17,FALSE))","v":40007},{"$f":"IF(O846=1,MAX(Q$1:Q845)+1,\"\")","v":""},"NexPower","NT-175AG",845,null,null,null,null,null,null,null,null,null,null,null,null,null,null,null,null,null,null,1000]
["NexPower","NT-175AF",0.11145474555200033,175,88.2,69.8,2.87,2.5099999999999998,2.0090000000000003,-171.99,-136.10999999999999,null,846,"",{"$f":"IF($A847=\"\",\"\",COUNTIF($A$2:$A847,$A847))","v":8},{"$f":"IF($A847=\"\",\"\",$O847+thousand*VLOOKUP($A847,$A$1:Q847,17,FALSE))","v":40008},{"$f":"IF(O847=1,MAX(Q$1:Q846)+1,\"\")","v":""},"NexPower","NT-175AF",846,null,null,null,null,null,null,null,null,null,null,null,null,null,null,null,null,null,null,1000]
["NexPower","NT-175AX",0.11145474555200033,175,88.2,69.8,2.87,2.5099999999999998,2.0090000000000003,-171.99,-136.10999999999999,null,847,"",{"$f":"IF($A848=\"\",\"\",COUNTIF($A$2:$A848,$A848))","v":9},{"$f":"IF($A848=\"\",\"\",$O848+thousand*VLOOKUP($A848,$A$1:Q848,17,FALSE))","v":40009},{"$f":"IF(O848=1,MAX(Q$1:Q847)+1,\"\")","v":""},"NexPower","NT-175AX",847,null,null,null,null,null,null,null,null,null,null,null,null,null,null,null,null,null,null,1000]
["Ningbo Ulica Solar","UL-195D-72",0.15274470485023187,195,45.1,36,5.84,5.42,3.7959999999999998,-148.83000000000001,-118.80000000000001,null,848,"",{"$f":"IF($A849=\"\",\"\",COUNTIF($A$2:$A849,$A849))","v":1},{"$f":"IF($A849=\"\",\"\",$O849+thousand*VLOOKUP($A849,$A$1:Q849,17,FALSE))","v":41001},{"$f":"IF(O849=1,MAX(Q$1:Q848)+1,\"\")","v":41},"Ningbo Ulica Solar","UL-195D-72",848,null,null,null,null,null,null,null,null,null,null,null,null,null,null,null,null,null,null,1000]
["Ningbo Ulica Solar","UL-200D-72",0.15666123574382756,200,45.3,36.299999999999997,5.91,5.52,3.8415000000000004,-149.49,-119.79,null,849,"",{"$f":"IF($A850=\"\",\"\",COUNTIF($A$2:$A850,$A850))","v":2},{"$f":"IF($A850=\"\",\"\",$O850+thousand*VLOOKUP($A850,$A$1:Q850,17,FALSE))","v":41002},{"$f":"IF(O850=1,MAX(Q$1:Q849)+1,\"\")","v":""},"Ningbo Ulica Solar","UL-200D-72",849,null,null,null,null,null,null,null,null,null,null,null,null,null,null,null,null,null,null,1000]
["Ningbo Ulica Solar","UL-205D-72",0.16057776663742324,205,45.4,36.5,5.98,5.63,3.8870000000000005,-149.82000000000002,-120.45000000000002,null,850,"",{"$f":"IF($A851=\"\",\"\",COUNTIF($A$2:$A851,$A851))","v":3},{"$f":"IF($A851=\"\",\"\",$O851+thousand*VLOOKUP($A851,$A$1:Q851,17,FALSE))","v":41003},{"$f":"IF(O851=1,MAX(Q$1:Q850)+1,\"\")","v":""},"Ningbo Ulica Solar","UL-205D-72",850,null,null,null,null,null,null,null,null,null,null,null,null,null,null,null,null,null,null,1000]
["Ningbo Ulica Solar","UL-240P-60",0.14705080421472114,240,37,30.2,8.5399999999999991,7.95,5.5509999999999993,-122.10000000000001,-99.660000000000011,null,851,"",{"$f":"IF($A852=\"\",\"\",COUNTIF($A$2:$A852,$A852))","v":4},{"$f":"IF($A852=\"\",\"\",$O852+thousand*VLOOKUP($A852,$A$1:Q852,17,FALSE))","v":41004},{"$f":"IF(O852=1,MAX(Q$1:Q851)+1,\"\")","v":""},"Ningbo Ulica Solar","UL-240P-60",851,null,null,null,null,null,null,null,null,null,null,null,null,null,null,null,null,null,null,1000]
["Ningbo Ulica Solar","UL-245P-60",0.15011436263586117,245,37.1,30.3,8.64,8.08,5.6160000000000014,-122.42999999999999,-99.99,null,852,"",{"$f":"IF($A853=\"\",\"\",COUNTIF($A$2:$A853,$A853))","v":5},{"$f":"IF($A853=\"\",\"\",$O853+thousand*VLOOKUP($A853,$A$1:Q853,17,FALSE))","v":41005},{"$f":"IF(O853=1,MAX(Q$1:Q852)+1,\"\")","v":""},"Ningbo Ulica Solar","UL-245P-60",852,null,null,null,null,null,null,null,null,null,null,null,null,null,null,null,null,null,null,1000]
["Ningbo Ulica Solar","UL-250P-60",0.15317792105700118,250,37.4,30.5,8.7799999999999994,8.2100000000000009,5.7069999999999999,-123.42,-100.65,null,853,"",{"$f":"IF($A854=\"\",\"\",COUNTIF($A$2:$A854,$A854))","v":6},{"$f":"IF($A854=\"\",\"\",$O854+thousand*VLOOKUP($A854,$A$1:Q854,17,FALSE))","v":41006},{"$f":"IF(O854=1,MAX(Q$1:Q853)+1,\"\")","v":""},"Ningbo Ulica Solar","UL-250P-60",853,null,null,null,null,null,null,null,null,null,null,null,null,null,null,null,null,null,null,1000]
["Ningbo Ulica Solar","UL-250M-60",0.15317792105700118,250,37.6,30.5,8.6999999999999993,8.1999999999999993,5.6550000000000002,-124.08000000000001,-100.65,null,854,"",{"$f":"IF($A855=\"\",\"\",COUNTIF($A$2:$A855,$A855))","v":7},{"$f":"IF($A855=\"\",\"\",$O855+thousand*VLOOKUP($A855,$A$1:Q855,17,FALSE))","v":41007},{"$f":"IF(O855=1,MAX(Q$1:Q854)+1,\"\")","v":""},"Ningbo Ulica Solar","UL-250M-60",854,null,null,null,null,null,null,null,null,null,null,null,null,null,null,null,null,null,null,1000]
["Ningbo Ulica Solar","UL-255M-60",0.15624147947814118,255,37.799999999999997,30.6,8.82,8.35,5.7330000000000005,-124.74000000000001,-100.98000000000002,null,855,"",{"$f":"IF($A856=\"\",\"\",COUNTIF($A$2:$A856,$A856))","v":8},{"$f":"IF($A856=\"\",\"\",$O856+thousand*VLOOKUP($A856,$A$1:Q856,17,FALSE))","v":41008},{"$f":"IF(O856=1,MAX(Q$1:Q855)+1,\"\")","v":""},"Ningbo Ulica Solar","UL-255M-60",855,null,null,null,null,null,null,null,null,null,null,null,null,null,null,null,null,null,null,1000]
["Ningbo Ulica Solar","UL-260M-60",0.15930503789928122,260,38,30.8,8.98,8.4499999999999993,5.8369999999999997,-125.4,-101.64,null,856,"",{"$f":"IF($A857=\"\",\"\",COUNTIF($A$2:$A857,$A857))","v":9},{"$f":"IF($A857=\"\",\"\",$O857+thousand*VLOOKUP($A857,$A$1:Q857,17,FALSE))","v":41009},{"$f":"IF(O857=1,MAX(Q$1:Q856)+1,\"\")","v":""},"Ningbo Ulica Solar","UL-260M-60",856,null,null,null,null,null,null,null,null,null,null,null,null,null,null,null,null,null,null,1000]
["Ningbo Ulica Solar","UL-290P-72",0.14893631226500803,290,44.7,36.299999999999997,8.5,7.99,5.5250000000000004,-147.51,-119.78999999999998,null,857,"",{"$f":"IF($A858=\"\",\"\",COUNTIF($A$2:$A858,$A858))","v":10},{"$f":"IF($A858=\"\",\"\",$O858+thousand*VLOOKUP($A858,$A$1:Q858,17,FALSE))","v":41010},{"$f":"IF(O858=1,MAX(Q$1:Q857)+1,\"\")","v":""},"Ningbo Ulica Solar","UL-290P-72",857,null,null,null,null,null,null,null,null,null,null,null,null,null,null,null,null,null,null,1000]
["Ningbo Ulica Solar","UL-295P-72",0.15150417971785299,295,44.9,36.4,8.5500000000000007,8.11,5.557500000000001,-148.16999999999999,-120.11999999999999,null,858,"",{"$f":"IF($A859=\"\",\"\",COUNTIF($A$2:$A859,$A859))","v":11},{"$f":"IF($A859=\"\",\"\",$O859+thousand*VLOOKUP($A859,$A$1:Q859,17,FALSE))","v":41011},{"$f":"IF(O859=1,MAX(Q$1:Q858)+1,\"\")","v":""},"Ningbo Ulica Solar","UL-295P-72",858,null,null,null,null,null,null,null,null,null,null,null,null,null,null,null,null,null,null,1000]
["Ningbo Ulica Solar","UL-300P-72",0.15407204717069797,300,45.1,36.5,8.6199999999999992,8.2200000000000006,5.6029999999999998,-148.83000000000001,-120.45000000000002,null,859,"",{"$f":"IF($A860=\"\",\"\",COUNTIF($A$2:$A860,$A860))","v":12},{"$f":"IF($A860=\"\",\"\",$O860+thousand*VLOOKUP($A860,$A$1:Q860,17,FALSE))","v":41012},{"$f":"IF(O860=1,MAX(Q$1:Q859)+1,\"\")","v":""},"Ningbo Ulica Solar","UL-300P-72",859,null,null,null,null,null,null,null,null,null,null,null,null,null,null,null,null,null,null,1000]
["Ningbo Ulica Solar","UL-300M-72",0.15407204717069797,300,45.2,36.700000000000003,8.7200000000000006,8.18,5.668000000000001,-149.16000000000003,-121.11000000000001,null,860,"",{"$f":"IF($A861=\"\",\"\",COUNTIF($A$2:$A861,$A861))","v":13},{"$f":"IF($A861=\"\",\"\",$O861+thousand*VLOOKUP($A861,$A$1:Q861,17,FALSE))","v":41013},{"$f":"IF(O861=1,MAX(Q$1:Q860)+1,\"\")","v":""},"Ningbo Ulica Solar","UL-300M-72",860,null,null,null,null,null,null,null,null,null,null,null,null,null,null,null,null,null,null,1000]
["Ningbo Ulica Solar","UL-305M-72",0.15663991462354293,305,45.5,36.799999999999997,8.8000000000000007,8.2899999999999991,5.7200000000000006,-150.15,-121.43999999999998,null,861,"",{"$f":"IF($A862=\"\",\"\",COUNTIF($A$2:$A862,$A862))","v":14},{"$f":"IF($A862=\"\",\"\",$O862+thousand*VLOOKUP($A862,$A$1:Q862,17,FALSE))","v":41014},{"$f":"IF(O862=1,MAX(Q$1:Q861)+1,\"\")","v":""},"Ningbo Ulica Solar","UL-305M-72",861,null,null,null,null,null,null,null,null,null,null,null,null,null,null,null,null,null,null,1000]
["Ningbo Ulica Solar","UL-310M-72",0.15920778207638789,310,45.6,37,8.92,8.39,5.798,-150.48000000000002,-122.10000000000001,null,862,"",{"$f":"IF($A863=\"\",\"\",COUNTIF($A$2:$A863,$A863))","v":15},{"$f":"IF($A863=\"\",\"\",$O863+thousand*VLOOKUP($A863,$A$1:Q863,17,FALSE))","v":41015},{"$f":"IF(O863=1,MAX(Q$1:Q862)+1,\"\")","v":""},"Ningbo Ulica Solar","UL-310M-72",862,null,null,null,null,null,null,null,null,null,null,null,null,null,null,null,null,null,null,1000]
["Open Renewables","Open 235-PQ60",0.14328569338081071,235,37.200000000000003,29.5,8.6,8.1,3.4399999999999995,-122.76000000000002,-97.350000000000009,null,863,"",{"$f":"IF($A864=\"\",\"\",COUNTIF($A$2:$A864,$A864))","v":1},{"$f":"IF($A864=\"\",\"\",$O864+thousand*VLOOKUP($A864,$A$1:Q864,17,FALSE))","v":42001},{"$f":"IF(O864=1,MAX(Q$1:Q863)+1,\"\")","v":42},"Open Renewables","Open 235-PQ60",863,null,null,null,null,null,null,null,null,null,null,null,null,null,null,null,null,null,null,1000]
["Open Renewables","Open 240-PQ60",0.14633432515487046,240,37.35,29.6,8.75,8.1999999999999993,3.5000000000000004,-123.25500000000002,-97.680000000000021,null,864,"",{"$f":"IF($A865=\"\",\"\",COUNTIF($A$2:$A865,$A865))","v":2},{"$f":"IF($A865=\"\",\"\",$O865+thousand*VLOOKUP($A865,$A$1:Q865,17,FALSE))","v":42002},{"$f":"IF(O865=1,MAX(Q$1:Q864)+1,\"\")","v":""},"Open Renewables","Open 240-PQ60",864,null,null,null,null,null,null,null,null,null,null,null,null,null,null,null,null,null,null,1000]
["Open Renewables","Open 245-PQ60",0.14938295692893028,245,37.5,29.75,8.85,8.3000000000000007,3.54,-123.75,-98.174999999999997,null,865,"",{"$f":"IF($A866=\"\",\"\",COUNTIF($A$2:$A866,$A866))","v":3},{"$f":"IF($A866=\"\",\"\",$O866+thousand*VLOOKUP($A866,$A$1:Q866,17,FALSE))","v":42003},{"$f":"IF(O866=1,MAX(Q$1:Q865)+1,\"\")","v":""},"Open Renewables","Open 245-PQ60",865,null,null,null,null,null,null,null,null,null,null,null,null,null,null,null,null,null,null,1000]
["Open Renewables","Open 250-PQ60",0.15243158870299009,250,37.75,29.9,8.9499999999999993,8.4499999999999993,3.58,-124.57500000000002,-98.67,null,866,"",{"$f":"IF($A867=\"\",\"\",COUNTIF($A$2:$A867,$A867))","v":4},{"$f":"IF($A867=\"\",\"\",$O867+thousand*VLOOKUP($A867,$A$1:Q867,17,FALSE))","v":42004},{"$f":"IF(O867=1,MAX(Q$1:Q866)+1,\"\")","v":""},"Open Renewables","Open 250-PQ60",866,null,null,null,null,null,null,null,null,null,null,null,null,null,null,null,null,null,null,1000]
["Open Renewables","Open 255-PQ60",0.1554802204770499,255,38,30,9,8.5500000000000007,3.5999999999999996,-125.4,-99,null,867,"",{"$f":"IF($A868=\"\",\"\",COUNTIF($A$2:$A868,$A868))","v":5},{"$f":"IF($A868=\"\",\"\",$O868+thousand*VLOOKUP($A868,$A$1:Q868,17,FALSE))","v":42005},{"$f":"IF(O868=1,MAX(Q$1:Q867)+1,\"\")","v":""},"Open Renewables","Open 255-PQ60",867,null,null,null,null,null,null,null,null,null,null,null,null,null,null,null,null,null,null,1000]
["Panasonic","VBHN230SE51",0.18241807049268743,230,52.1,42.5,5.78,5.42,1.734,-130.25,-106.25,null,868,"",{"$f":"IF($A869=\"\",\"\",COUNTIF($A$2:$A869,$A869))","v":1},{"$f":"IF($A869=\"\",\"\",$O869+thousand*VLOOKUP($A869,$A$1:Q869,17,FALSE))","v":43001},{"$f":"IF(O869=1,MAX(Q$1:Q868)+1,\"\")","v":43},"Panasonic","VBHN230SE51",868,null,null,null,null,null,null,null,null,null,null,null,null,null,null,null,null,null,null,1000]
["Panasonic","VBHN235SE51",0.18638368072078929,235,52.4,43.4,5.78,5.43,1.734,-131,-108.5,null,869,"",{"$f":"IF($A870=\"\",\"\",COUNTIF($A$2:$A870,$A870))","v":2},{"$f":"IF($A870=\"\",\"\",$O870+thousand*VLOOKUP($A870,$A$1:Q870,17,FALSE))","v":43002},{"$f":"IF(O870=1,MAX(Q$1:Q869)+1,\"\")","v":""},"Panasonic","VBHN235SE51",869,null,null,null,null,null,null,null,null,null,null,null,null,null,null,null,null,null,null,1000]
["Panasonic","VBHN235SE10",0.18638368072078929,235,51.8,43,5.84,5.48,1.752,-129.5,-107.5,null,870,"",{"$f":"IF($A871=\"\",\"\",COUNTIF($A$2:$A871,$A871))","v":3},{"$f":"IF($A871=\"\",\"\",$O871+thousand*VLOOKUP($A871,$A$1:Q871,17,FALSE))","v":43003},{"$f":"IF(O871=1,MAX(Q$1:Q870)+1,\"\")","v":""},"Panasonic","VBHN235SE10",870,null,null,null,null,null,null,null,null,null,null,null,null,null,null,null,null,null,null,1000]
["Panasonic","VBHN240SJ25",0.19034929094889122,240,52.4,43.6,5.85,5.51,1.7549999999999999,-131,-109,null,871,"",{"$f":"IF($A872=\"\",\"\",COUNTIF($A$2:$A872,$A872))","v":4},{"$f":"IF($A872=\"\",\"\",$O872+thousand*VLOOKUP($A872,$A$1:Q872,17,FALSE))","v":43004},{"$f":"IF(O872=1,MAX(Q$1:Q871)+1,\"\")","v":""},"Panasonic","VBHN240SJ25",871,null,null,null,null,null,null,null,null,null,null,null,null,null,null,null,null,null,null,1000]
["Panasonic","VBHN240SE10",0.19034929094889122,240,52.4,43.7,5.85,5.51,1.7549999999999999,-131,-109.25,null,872,"",{"$f":"IF($A873=\"\",\"\",COUNTIF($A$2:$A873,$A873))","v":5},{"$f":"IF($A873=\"\",\"\",$O873+thousand*VLOOKUP($A873,$A$1:Q873,17,FALSE))","v":43005},{"$f":"IF(O873=1,MAX(Q$1:Q872)+1,\"\")","v":""},"Panasonic","VBHN240SE10",872,null,null,null,null,null,null,null,null,null,null,null,null,null,null,null,null,null,null,1000]
["Phono Solar","PS190M-24/F",0.14882817395663617,190,45,37,5.45,5.14,3.27,-164.25,-135.04999999999998,null,873,"",{"$f":"IF($A874=\"\",\"\",COUNTIF($A$2:$A874,$A874))","v":1},{"$f":"IF($A874=\"\",\"\",$O874+thousand*VLOOKUP($A874,$A$1:Q874,17,FALSE))","v":44001},{"$f":"IF(O874=1,MAX(Q$1:Q873)+1,\"\")","v":44},"Phono Solar","PS190M-24/F",873,null,null,null,null,null,null,null,null,null,null,null,null,null,null,null,null,null,null,1000]
["Phono Solar","PS195M-24/F",0.15274470485023187,195,45.2,37.4,5.5,5.22,3.3,-164.98000000000002,-136.51000000000002,null,874,"",{"$f":"IF($A875=\"\",\"\",COUNTIF($A$2:$A875,$A875))","v":2},{"$f":"IF($A875=\"\",\"\",$O875+thousand*VLOOKUP($A875,$A$1:Q875,17,FALSE))","v":44002},{"$f":"IF(O875=1,MAX(Q$1:Q874)+1,\"\")","v":""},"Phono Solar","PS195M-24/F",874,null,null,null,null,null,null,null,null,null,null,null,null,null,null,null,null,null,null,1000]
["Phono Solar","PS200M-24/F",0.15666123574382756,200,45.4,37.799999999999997,5.55,5.3,3.3299999999999996,-165.70999999999998,-137.96999999999997,null,875,"",{"$f":"IF($A876=\"\",\"\",COUNTIF($A$2:$A876,$A876))","v":3},{"$f":"IF($A876=\"\",\"\",$O876+thousand*VLOOKUP($A876,$A$1:Q876,17,FALSE))","v":44003},{"$f":"IF(O876=1,MAX(Q$1:Q875)+1,\"\")","v":""},"Phono Solar","PS200M-24/F",875,null,null,null,null,null,null,null,null,null,null,null,null,null,null,null,null,null,null,1000]
["Phono Solar","PS205M-24/F",0.16057776663742324,205,45.6,38.200000000000003,5.6,5.38,3.3599999999999994,-166.43999999999997,-139.42999999999998,null,876,"",{"$f":"IF($A877=\"\",\"\",COUNTIF($A$2:$A877,$A877))","v":4},{"$f":"IF($A877=\"\",\"\",$O877+thousand*VLOOKUP($A877,$A$1:Q877,17,FALSE))","v":44004},{"$f":"IF(O877=1,MAX(Q$1:Q876)+1,\"\")","v":""},"Phono Solar","PS205M-24/F",876,null,null,null,null,null,null,null,null,null,null,null,null,null,null,null,null,null,null,1000]
["Phono Solar","PS210M-24/F",0.16449429753101891,210,45.8,38.6,5.65,5.46,3.39,-167.17,-140.89000000000001,null,877,"",{"$f":"IF($A878=\"\",\"\",COUNTIF($A$2:$A878,$A878))","v":5},{"$f":"IF($A878=\"\",\"\",$O878+thousand*VLOOKUP($A878,$A$1:Q878,17,FALSE))","v":44005},{"$f":"IF(O878=1,MAX(Q$1:Q877)+1,\"\")","v":""},"Phono Solar","PS210M-24/F",877,null,null,null,null,null,null,null,null,null,null,null,null,null,null,null,null,null,null,1000]
["Phono Solar","PS235P-20/U",0.14444826907946495,235,37.299999999999997,29.6,8.4,7.94,5.8800000000000008,-136.14499999999998,-108.03999999999999,null,878,"",{"$f":"IF($A879=\"\",\"\",COUNTIF($A$2:$A879,$A879))","v":6},{"$f":"IF($A879=\"\",\"\",$O879+thousand*VLOOKUP($A879,$A$1:Q879,17,FALSE))","v":44006},{"$f":"IF(O879=1,MAX(Q$1:Q878)+1,\"\")","v":""},"Phono Solar","PS235P-20/U",878,null,null,null,null,null,null,null,null,null,null,null,null,null,null,null,null,null,null,1000]
["Phono Solar","PS235M-20/U",0.14444826907946495,235,37.5,29.8,8.35,7.9,5.01,-136.875,-108.77,null,879,"",{"$f":"IF($A880=\"\",\"\",COUNTIF($A$2:$A880,$A880))","v":7},{"$f":"IF($A880=\"\",\"\",$O880+thousand*VLOOKUP($A880,$A$1:Q880,17,FALSE))","v":44007},{"$f":"IF(O880=1,MAX(Q$1:Q879)+1,\"\")","v":""},"Phono Solar","PS235M-20/U",879,null,null,null,null,null,null,null,null,null,null,null,null,null,null,null,null,null,null,1000]
["Phono Solar","PS240P-20/U",0.14752163650668765,240,37.5,29.8,8.5,8.06,5.9500000000000011,-136.875,-108.77,null,880,"",{"$f":"IF($A881=\"\",\"\",COUNTIF($A$2:$A881,$A881))","v":8},{"$f":"IF($A881=\"\",\"\",$O881+thousand*VLOOKUP($A881,$A$1:Q881,17,FALSE))","v":44008},{"$f":"IF(O881=1,MAX(Q$1:Q880)+1,\"\")","v":""},"Phono Solar","PS240P-20/U",880,null,null,null,null,null,null,null,null,null,null,null,null,null,null,null,null,null,null,1000]
["Phono Solar","PS240M-20/U",0.14752163650668765,240,37.6,30,8.4499999999999993,8,5.0699999999999985,-137.24,-109.5,null,881,"",{"$f":"IF($A882=\"\",\"\",COUNTIF($A$2:$A882,$A882))","v":9},{"$f":"IF($A882=\"\",\"\",$O882+thousand*VLOOKUP($A882,$A$1:Q882,17,FALSE))","v":44009},{"$f":"IF(O882=1,MAX(Q$1:Q881)+1,\"\")","v":""},"Phono Solar","PS240M-20/U",881,null,null,null,null,null,null,null,null,null,null,null,null,null,null,null,null,null,null,1000]
["Phono Solar","PS245P-20/U",0.15059500393391032,245,37.700000000000003,30,8.6,8.18,6.02,-137.60500000000002,-109.50000000000001,null,882,"",{"$f":"IF($A883=\"\",\"\",COUNTIF($A$2:$A883,$A883))","v":10},{"$f":"IF($A883=\"\",\"\",$O883+thousand*VLOOKUP($A883,$A$1:Q883,17,FALSE))","v":44010},{"$f":"IF(O883=1,MAX(Q$1:Q882)+1,\"\")","v":""},"Phono Solar","PS245P-20/U",882,null,null,null,null,null,null,null,null,null,null,null,null,null,null,null,null,null,null,1000]
["Phono Solar","PS245M-20/U",0.15059500393391032,245,37.799999999999997,30.2,8.5500000000000007,8.1300000000000008,5.13,-137.96999999999997,-110.22999999999998,null,883,"",{"$f":"IF($A884=\"\",\"\",COUNTIF($A$2:$A884,$A884))","v":11},{"$f":"IF($A884=\"\",\"\",$O884+thousand*VLOOKUP($A884,$A$1:Q884,17,FALSE))","v":44011},{"$f":"IF(O884=1,MAX(Q$1:Q883)+1,\"\")","v":""},"Phono Solar","PS245M-20/U",883,null,null,null,null,null,null,null,null,null,null,null,null,null,null,null,null,null,null,1000]
["Phono Solar","PS250P-20/U",0.15366837136113295,250,37.799999999999997,30.2,8.6999999999999993,8.3000000000000007,6.09,-137.96999999999997,-110.22999999999998,null,884,"",{"$f":"IF($A885=\"\",\"\",COUNTIF($A$2:$A885,$A885))","v":12},{"$f":"IF($A885=\"\",\"\",$O885+thousand*VLOOKUP($A885,$A$1:Q885,17,FALSE))","v":44012},{"$f":"IF(O885=1,MAX(Q$1:Q884)+1,\"\")","v":""},"Phono Solar","PS250P-20/U",884,null,null,null,null,null,null,null,null,null,null,null,null,null,null,null,null,null,null,1000]
["Phono Solar","PS250M-20/U",0.15366837136113295,250,37.9,30.4,8.65,8.24,5.19,-138.33499999999998,-110.95999999999998,null,885,"",{"$f":"IF($A886=\"\",\"\",COUNTIF($A$2:$A886,$A886))","v":13},{"$f":"IF($A886=\"\",\"\",$O886+thousand*VLOOKUP($A886,$A$1:Q886,17,FALSE))","v":44013},{"$f":"IF(O886=1,MAX(Q$1:Q885)+1,\"\")","v":""},"Phono Solar","PS250M-20/U",885,null,null,null,null,null,null,null,null,null,null,null,null,null,null,null,null,null,null,1000]
["Phono Solar","PS255P-20/U",0.15674173878835562,255,37.9,30.4,8.8000000000000007,8.42,6.160000000000001,-138.33499999999998,-110.95999999999998,null,886,"",{"$f":"IF($A887=\"\",\"\",COUNTIF($A$2:$A887,$A887))","v":14},{"$f":"IF($A887=\"\",\"\",$O887+thousand*VLOOKUP($A887,$A$1:Q887,17,FALSE))","v":44014},{"$f":"IF(O887=1,MAX(Q$1:Q886)+1,\"\")","v":""},"Phono Solar","PS255P-20/U",886,null,null,null,null,null,null,null,null,null,null,null,null,null,null,null,null,null,null,1000]
["Phono Solar","PS255M-20/U",0.15674173878835562,255,38,30.6,8.75,8.35,5.25,-138.69999999999999,-111.69,null,887,"",{"$f":"IF($A888=\"\",\"\",COUNTIF($A$2:$A888,$A888))","v":15},{"$f":"IF($A888=\"\",\"\",$O888+thousand*VLOOKUP($A888,$A$1:Q888,17,FALSE))","v":44015},{"$f":"IF(O888=1,MAX(Q$1:Q887)+1,\"\")","v":""},"Phono Solar","PS255M-20/U",887,null,null,null,null,null,null,null,null,null,null,null,null,null,null,null,null,null,null,1000]
["Phono Solar","PS260P-24/T",0.13399630582492247,260,44,35.200000000000003,8.1,7.38,4.8599999999999994,-160.6,-128.47999999999999,null,888,"",{"$f":"IF($A889=\"\",\"\",COUNTIF($A$2:$A889,$A889))","v":16},{"$f":"IF($A889=\"\",\"\",$O889+thousand*VLOOKUP($A889,$A$1:Q889,17,FALSE))","v":44016},{"$f":"IF(O889=1,MAX(Q$1:Q888)+1,\"\")","v":""},"Phono Solar","PS260P-24/T",888,null,null,null,null,null,null,null,null,null,null,null,null,null,null,null,null,null,null,1000]
["Phono Solar","PS260P-20/U",0.15981510621557829,260,38,30.6,8.9,8.5299999999999994,6.2300000000000013,-138.69999999999999,-111.69,null,889,"",{"$f":"IF($A890=\"\",\"\",COUNTIF($A$2:$A890,$A890))","v":17},{"$f":"IF($A890=\"\",\"\",$O890+thousand*VLOOKUP($A890,$A$1:Q890,17,FALSE))","v":44017},{"$f":"IF(O890=1,MAX(Q$1:Q889)+1,\"\")","v":""},"Phono Solar","PS260P-20/U",889,null,null,null,null,null,null,null,null,null,null,null,null,null,null,null,null,null,null,1000]
["Phono Solar","PS260M-24/T",0.13399630582492247,260,44.3,35.5,8.0500000000000007,7.32,4.0250000000000004,-161.69499999999999,-129.57500000000002,null,890,"",{"$f":"IF($A891=\"\",\"\",COUNTIF($A$2:$A891,$A891))","v":18},{"$f":"IF($A891=\"\",\"\",$O891+thousand*VLOOKUP($A891,$A$1:Q891,17,FALSE))","v":44018},{"$f":"IF(O891=1,MAX(Q$1:Q890)+1,\"\")","v":""},"Phono Solar","PS260M-24/T",890,null,null,null,null,null,null,null,null,null,null,null,null,null,null,null,null,null,null,1000]
["Phono Solar","PS260M-20/U",0.15981510621557829,260,38.1,30.8,8.85,8.4600000000000009,5.3099999999999987,-139.065,-112.41999999999999,null,891,"",{"$f":"IF($A892=\"\",\"\",COUNTIF($A$2:$A892,$A892))","v":19},{"$f":"IF($A892=\"\",\"\",$O892+thousand*VLOOKUP($A892,$A$1:Q892,17,FALSE))","v":44019},{"$f":"IF(O892=1,MAX(Q$1:Q891)+1,\"\")","v":""},"Phono Solar","PS260M-20/U",891,null,null,null,null,null,null,null,null,null,null,null,null,null,null,null,null,null,null,1000]
["Phono Solar","PS265P-24/T",0.13657315786001714,265,44.2,35.299999999999997,8.15,7.49,4.8899999999999997,-161.33000000000001,-128.845,null,892,"",{"$f":"IF($A893=\"\",\"\",COUNTIF($A$2:$A893,$A893))","v":20},{"$f":"IF($A893=\"\",\"\",$O893+thousand*VLOOKUP($A893,$A$1:Q893,17,FALSE))","v":44020},{"$f":"IF(O893=1,MAX(Q$1:Q892)+1,\"\")","v":""},"Phono Solar","PS265P-24/T",892,null,null,null,null,null,null,null,null,null,null,null,null,null,null,null,null,null,null,1000]
["Phono Solar","PS265P-20/U",0.16288847364280096,265,38.1,30.8,9,8.61,6.3000000000000007,-139.065,-112.41999999999999,null,893,"",{"$f":"IF($A894=\"\",\"\",COUNTIF($A$2:$A894,$A894))","v":21},{"$f":"IF($A894=\"\",\"\",$O894+thousand*VLOOKUP($A894,$A$1:Q894,17,FALSE))","v":44021},{"$f":"IF(O894=1,MAX(Q$1:Q893)+1,\"\")","v":""},"Phono Solar","PS265P-20/U",893,null,null,null,null,null,null,null,null,null,null,null,null,null,null,null,null,null,null,1000]
["Phono Solar","PS265M-24/T",0.13657315786001714,265,44.5,35.700000000000003,8.1,7.43,4.0500000000000007,-162.42499999999998,-130.30499999999998,null,894,"",{"$f":"IF($A895=\"\",\"\",COUNTIF($A$2:$A895,$A895))","v":22},{"$f":"IF($A895=\"\",\"\",$O895+thousand*VLOOKUP($A895,$A$1:Q895,17,FALSE))","v":44022},{"$f":"IF(O895=1,MAX(Q$1:Q894)+1,\"\")","v":""},"Phono Solar","PS265M-24/T",894,null,null,null,null,null,null,null,null,null,null,null,null,null,null,null,null,null,null,1000]
["Phono Solar","PS265M-20/U",0.16288847364280096,265,38.200000000000003,31,8.9499999999999993,8.5500000000000007,5.3699999999999992,-139.43000000000004,-113.15000000000002,null,895,"",{"$f":"IF($A896=\"\",\"\",COUNTIF($A$2:$A896,$A896))","v":23},{"$f":"IF($A896=\"\",\"\",$O896+thousand*VLOOKUP($A896,$A$1:Q896,17,FALSE))","v":44023},{"$f":"IF(O896=1,MAX(Q$1:Q895)+1,\"\")","v":""},"Phono Solar","PS265M-20/U",895,null,null,null,null,null,null,null,null,null,null,null,null,null,null,null,null,null,null,1000]
["Phono Solar","PS270P-24/T",0.13915000989511184,270,44.4,35.5,8.1999999999999993,7.61,4.919999999999999,-162.05999999999997,-129.57499999999999,null,896,"",{"$f":"IF($A897=\"\",\"\",COUNTIF($A$2:$A897,$A897))","v":24},{"$f":"IF($A897=\"\",\"\",$O897+thousand*VLOOKUP($A897,$A$1:Q897,17,FALSE))","v":44024},{"$f":"IF(O897=1,MAX(Q$1:Q896)+1,\"\")","v":""},"Phono Solar","PS270P-24/T",896,null,null,null,null,null,null,null,null,null,null,null,null,null,null,null,null,null,null,1000]
["Phono Solar","PS270M-24/T",0.13915000989511184,270,44.7,35.799999999999997,8.15,7.54,4.0750000000000002,-163.155,-130.66999999999999,null,897,{"$f":"IF(M898>MAX(Q$2:Q$7985),\"\",VLOOKUP(M898,Q$2:R$7985,2,FALSE))","v":""},{"$f":"IF($A898=\"\",\"\",COUNTIF($A$2:$A898,$A898))","v":25},{"$f":"IF($A898=\"\",\"\",$O898+thousand*VLOOKUP($A898,$A$1:Q898,17,FALSE))","v":44025},{"$f":"IF(O898=1,MAX(Q$1:Q897)+1,\"\")","v":""},"Phono Solar","PS270M-24/T",897,null,null,null,null,null,null,null,null,null,null,null,null,null,null,null,null,null,null,1000]
["Phono Solar","PS270M-20/U",0.1659618410700236,270,38.299999999999997,31.2,9.0500000000000007,8.65,5.4300000000000006,-139.79499999999999,{"$f":"F899/E899*J899","v":-113.88},null,898,"",{"$f":"IF($A899=\"\",\"\",COUNTIF($A$2:$A899,$A899))","v":26},{"$f":"IF($A899=\"\",\"\",$O899+thousand*VLOOKUP($A899,$A$1:Q899,17,FALSE))","v":44026},{"$f":"IF(O899=1,MAX(Q$1:Q898)+1,\"\")","v":""},{"$f":"IF(A899=\"\",\"\",A899)","v":"Phono Solar"},{"$f":"IF(B899=\"\",\"\",B899)","v":"PS270M-20/U"},{"$f":"$M899","v":898},null,null,null,null,null,null,null,null,null,null,null,null,null,null,null,null,null,null,1000]
["Phono Solar","PS275P-24/T",0.1417268619302065,275,44.6,35.6,8.25,7.71,4.95,-162.79,-129.94,null,899,"",{"$f":"IF($A900=\"\",\"\",COUNTIF($A$2:$A900,$A900))","v":27},{"$f":"IF($A900=\"\",\"\",$O900+thousand*VLOOKUP($A900,$A$1:Q900,17,FALSE))","v":44027},{"$f":"IF(O900=1,MAX(Q$1:Q899)+1,\"\")","v":""},"Phono Solar","PS275P-24/T",899,null,null,null,null,null,null,null,null,null,null,null,null,null,null,null,null,null,null,1000]
["Phono Solar","PS275M-24/T",0.1417268619302065,275,44.9,36,8.23,7.65,4.1150000000000002,-163.88499999999999,-131.4,null,900,"",{"$f":"IF($A901=\"\",\"\",COUNTIF($A$2:$A901,$A901))","v":28},{"$f":"IF($A901=\"\",\"\",$O901+thousand*VLOOKUP($A901,$A$1:Q901,17,FALSE))","v":44028},{"$f":"IF(O901=1,MAX(Q$1:Q900)+1,\"\")","v":""},"Phono Solar","PS275M-24/T",900,null,null,null,null,null,null,null,null,null,null,null,null,null,null,null,null,null,null,1000]
["Phono Solar","PS280P-24/T",0.14430371396530114,280,44.8,35.799999999999997,8.35,7.82,5.01,-163.52000000000001,-130.66999999999999,null,901,"",{"$f":"IF($A902=\"\",\"\",COUNTIF($A$2:$A902,$A902))","v":29},{"$f":"IF($A902=\"\",\"\",$O902+thousand*VLOOKUP($A902,$A$1:Q902,17,FALSE))","v":44029},{"$f":"IF(O902=1,MAX(Q$1:Q901)+1,\"\")","v":""},"Phono Solar","PS280P-24/T",901,null,null,null,null,null,null,null,null,null,null,null,null,null,null,null,null,null,null,1000]
["Phono Solar","PS280M-24/T",0.14430371396530114,280,45.1,36.1,8.3000000000000007,7.75,4.1500000000000004,-164.61500000000001,-131.76500000000001,null,902,"",{"$f":"IF($A903=\"\",\"\",COUNTIF($A$2:$A903,$A903))","v":30},{"$f":"IF($A903=\"\",\"\",$O903+thousand*VLOOKUP($A903,$A$1:Q903,17,FALSE))","v":44030},{"$f":"IF(O903=1,MAX(Q$1:Q902)+1,\"\")","v":""},"Phono Solar","PS280M-24/T",902,null,null,null,null,null,null,null,null,null,null,null,null,null,null,null,null,null,null,1000]
["Phono Solar","PS285P-24/T",0.14688056600039581,285,45,35.9,8.42,7.92,5.0519999999999996,-164.25,-131.035,null,903,"",{"$f":"IF($A904=\"\",\"\",COUNTIF($A$2:$A904,$A904))","v":31},{"$f":"IF($A904=\"\",\"\",$O904+thousand*VLOOKUP($A904,$A$1:Q904,17,FALSE))","v":44031},{"$f":"IF(O904=1,MAX(Q$1:Q903)+1,\"\")","v":""},"Phono Solar","PS285P-24/T",903,null,null,null,null,null,null,null,null,null,null,null,null,null,null,null,null,null,null,1000]
["Phono Solar","PS285M-24/T",0.14688056600039581,285,45.3,36.299999999999997,8.3800000000000008,7.86,4.1900000000000004,-165.34499999999997,-132.49499999999998,null,904,"",{"$f":"IF($A905=\"\",\"\",COUNTIF($A$2:$A905,$A905))","v":32},{"$f":"IF($A905=\"\",\"\",$O905+thousand*VLOOKUP($A905,$A$1:Q905,17,FALSE))","v":44032},{"$f":"IF(O905=1,MAX(Q$1:Q904)+1,\"\")","v":""},"Phono Solar","PS285M-24/T",904,null,null,null,null,null,null,null,null,null,null,null,null,null,null,null,null,null,null,1000]
["Phono Solar","PS290P-24/T",0.14945741803549048,290,45.2,36.1,8.5,8.0299999999999994,5.0999999999999996,-164.98000000000002,-131.76500000000001,null,905,"",{"$f":"IF($A906=\"\",\"\",COUNTIF($A$2:$A906,$A906))","v":33},{"$f":"IF($A906=\"\",\"\",$O906+thousand*VLOOKUP($A906,$A$1:Q906,17,FALSE))","v":44033},{"$f":"IF(O906=1,MAX(Q$1:Q905)+1,\"\")","v":""},"Phono Solar","PS290P-24/T",905,null,null,null,null,null,null,null,null,null,null,null,null,null,null,null,null,null,null,1000]
["Phono Solar","PS290M-24/T",0.14945741803549048,290,45.5,36.4,8.4499999999999993,7.97,4.2249999999999996,-166.07499999999996,-132.85999999999996,null,906,"",{"$f":"IF($A907=\"\",\"\",COUNTIF($A$2:$A907,$A907))","v":34},{"$f":"IF($A907=\"\",\"\",$O907+thousand*VLOOKUP($A907,$A$1:Q907,17,FALSE))","v":44034},{"$f":"IF(O907=1,MAX(Q$1:Q906)+1,\"\")","v":""},"Phono Solar","PS290M-24/T",906,null,null,null,null,null,null,null,null,null,null,null,null,null,null,null,null,null,null,1000]
["Phono Solar","PS295P-24/T",0.15203427007058515,295,45.4,36.200000000000003,8.58,8.1300000000000008,5.1480000000000006,-165.70999999999998,-132.13,null,907,"",{"$f":"IF($A908=\"\",\"\",COUNTIF($A$2:$A908,$A908))","v":35},{"$f":"IF($A908=\"\",\"\",$O908+thousand*VLOOKUP($A908,$A$1:Q908,17,FALSE))","v":44035},{"$f":"IF(O908=1,MAX(Q$1:Q907)+1,\"\")","v":""},"Phono Solar","PS295P-24/T",907,null,null,null,null,null,null,null,null,null,null,null,null,null,null,null,null,null,null,1000]
["Phono Solar","PS295M-24/T",0.15203427007058515,295,45.7,36.6,8.5299999999999994,8.08,4.2649999999999997,-166.80500000000001,-133.59,null,908,"",{"$f":"IF($A909=\"\",\"\",COUNTIF($A$2:$A909,$A909))","v":36},{"$f":"IF($A909=\"\",\"\",$O909+thousand*VLOOKUP($A909,$A$1:Q909,17,FALSE))","v":44036},{"$f":"IF(O909=1,MAX(Q$1:Q908)+1,\"\")","v":""},"Phono Solar","PS295M-24/T",908,null,null,null,null,null,null,null,null,null,null,null,null,null,null,null,null,null,null,1000]
["Phono Solar","PS300P-24/T",0.15461112210567979,300,45.6,36.4,8.65,8.24,5.19,-166.43999999999997,-132.85999999999996,null,909,"",{"$f":"IF($A910=\"\",\"\",COUNTIF($A$2:$A910,$A910))","v":37},{"$f":"IF($A910=\"\",\"\",$O910+thousand*VLOOKUP($A910,$A$1:Q910,17,FALSE))","v":44037},{"$f":"IF(O910=1,MAX(Q$1:Q909)+1,\"\")","v":""},"Phono Solar","PS300P-24/T",909,null,null,null,null,null,null,null,null,null,null,null,null,null,null,null,null,null,null,1000]
["Phono Solar","PS300M-24/T",0.15461112210567979,300,45.9,36.700000000000003,8.6,8.17,4.3,-167.535,-133.95500000000001,null,910,"",{"$f":"IF($A911=\"\",\"\",COUNTIF($A$2:$A911,$A911))","v":38},{"$f":"IF($A911=\"\",\"\",$O911+thousand*VLOOKUP($A911,$A$1:Q911,17,FALSE))","v":44038},{"$f":"IF(O911=1,MAX(Q$1:Q910)+1,\"\")","v":""},"Phono Solar","PS300M-24/T",910,null,null,null,null,null,null,null,null,null,null,null,null,null,null,null,null,null,null,1000]
["Phono Solar","PS305P-24/T",0.15718797414077446,305,45.8,36.5,8.7200000000000006,8.34,5.2320000000000002,-167.17,-133.22499999999999,null,911,"",{"$f":"IF($A912=\"\",\"\",COUNTIF($A$2:$A912,$A912))","v":39},{"$f":"IF($A912=\"\",\"\",$O912+thousand*VLOOKUP($A912,$A$1:Q912,17,FALSE))","v":44039},{"$f":"IF(O912=1,MAX(Q$1:Q911)+1,\"\")","v":""},"Phono Solar","PS305P-24/T",911,null,null,null,null,null,null,null,null,null,null,null,null,null,null,null,null,null,null,1000]
["Phono Solar","PS305M-24/T",0.15718797414077446,305,46.1,36.9,8.68,8.26,4.34,-168.26499999999999,-134.68499999999997,null,912,"",{"$f":"IF($A913=\"\",\"\",COUNTIF($A$2:$A913,$A913))","v":40},{"$f":"IF($A913=\"\",\"\",$O913+thousand*VLOOKUP($A913,$A$1:Q913,17,FALSE))","v":44040},{"$f":"IF(O913=1,MAX(Q$1:Q912)+1,\"\")","v":""},"Phono Solar","PS305M-24/T",912,null,null,null,null,null,null,null,null,null,null,null,null,null,null,null,null,null,null,1000]
["Phono Solar","PS310P-24/T",0.1597648261758691,310,46,36.700000000000003,8.8000000000000007,8.4499999999999993,5.28,-167.9,-133.95500000000001,null,913,"",{"$f":"IF($A914=\"\",\"\",COUNTIF($A$2:$A914,$A914))","v":41},{"$f":"IF($A914=\"\",\"\",$O914+thousand*VLOOKUP($A914,$A$1:Q914,17,FALSE))","v":44041},{"$f":"IF(O914=1,MAX(Q$1:Q913)+1,\"\")","v":""},"Phono Solar","PS310P-24/T",913,null,null,null,null,null,null,null,null,null,null,null,null,null,null,null,null,null,null,1000]
["Phono Solar","PS310M-24/T",0.1597648261758691,310,46.3,37.1,8.75,8.36,4.375,-168.995,-135.41500000000002,null,914,"",{"$f":"IF($A915=\"\",\"\",COUNTIF($A$2:$A915,$A915))","v":42},{"$f":"IF($A915=\"\",\"\",$O915+thousand*VLOOKUP($A915,$A$1:Q915,17,FALSE))","v":44042},{"$f":"IF(O915=1,MAX(Q$1:Q914)+1,\"\")","v":""},"Phono Solar","PS310M-24/T",914,null,null,null,null,null,null,null,null,null,null,null,null,null,null,null,null,null,null,1000]
["Phono Solar","PS315P-24/T",0.16234167821096376,315,46.2,36.799999999999997,8.8800000000000008,8.5500000000000007,5.3280000000000003,-168.63,-134.31999999999996,null,915,"",{"$f":"IF($A916=\"\",\"\",COUNTIF($A$2:$A916,$A916))","v":43},{"$f":"IF($A916=\"\",\"\",$O916+thousand*VLOOKUP($A916,$A$1:Q916,17,FALSE))","v":44043},{"$f":"IF(O916=1,MAX(Q$1:Q915)+1,\"\")","v":""},"Phono Solar","PS315P-24/T",915,null,null,null,null,null,null,null,null,null,null,null,null,null,null,null,null,null,null,1000]
["Phono Solar","PS315M-24/T",0.16234167821096376,315,46.5,37.299999999999997,8.83,8.4499999999999993,4.415,-169.72500000000002,-136.14500000000001,null,916,"",{"$f":"IF($A917=\"\",\"\",COUNTIF($A$2:$A917,$A917))","v":44},{"$f":"IF($A917=\"\",\"\",$O917+thousand*VLOOKUP($A917,$A$1:Q917,17,FALSE))","v":44044},{"$f":"IF(O917=1,MAX(Q$1:Q916)+1,\"\")","v":""},"Phono Solar","PS315M-24/T",916,null,null,null,null,null,null,null,null,null,null,null,null,null,null,null,null,null,null,1000]
["Phono Solar","PS320P-24/T",0.16491853024605846,320,46.4,37,8.9499999999999993,8.64,5.3699999999999992,-169.36,-135.05000000000001,null,917,"",{"$f":"IF($A918=\"\",\"\",COUNTIF($A$2:$A918,$A918))","v":45},{"$f":"IF($A918=\"\",\"\",$O918+thousand*VLOOKUP($A918,$A$1:Q918,17,FALSE))","v":44045},{"$f":"IF(O918=1,MAX(Q$1:Q917)+1,\"\")","v":""},"Phono Solar","PS320P-24/T",917,null,null,null,null,null,null,null,null,null,null,null,null,null,null,null,null,null,null,1000]
["Phono Solar","PS320M-24/T",0.16491853024605846,320,46.7,37.4,8.9,8.5500000000000007,4.4500000000000011,-170.45499999999998,-136.51,null,918,"",{"$f":"IF($A919=\"\",\"\",COUNTIF($A$2:$A919,$A919))","v":46},{"$f":"IF($A919=\"\",\"\",$O919+thousand*VLOOKUP($A919,$A$1:Q919,17,FALSE))","v":44046},{"$f":"IF(O919=1,MAX(Q$1:Q918)+1,\"\")","v":""},"Phono Solar","PS320M-24/T",918,null,null,null,null,null,null,null,null,null,null,null,null,null,null,null,null,null,null,1000]
["Phono Solar","PS325P-24/T",0.1674953822811531,325,46.6,37.200000000000003,9.02,8.74,5.411999999999999,-170.09,-135.78,null,919,"",{"$f":"IF($A920=\"\",\"\",COUNTIF($A$2:$A920,$A920))","v":47},{"$f":"IF($A920=\"\",\"\",$O920+thousand*VLOOKUP($A920,$A$1:Q920,17,FALSE))","v":44047},{"$f":"IF(O920=1,MAX(Q$1:Q919)+1,\"\")","v":""},"Phono Solar","PS325P-24/T",919,null,null,null,null,null,null,null,null,null,null,null,null,null,null,null,null,null,null,1000]
["Phono Solar","PS325M-24/T",0.1674953822811531,325,46.9,37.6,8.98,8.64,4.49,-171.18499999999997,-137.24,null,920,"",{"$f":"IF($A921=\"\",\"\",COUNTIF($A$2:$A921,$A921))","v":48},{"$f":"IF($A921=\"\",\"\",$O921+thousand*VLOOKUP($A921,$A$1:Q921,17,FALSE))","v":44048},{"$f":"IF(O921=1,MAX(Q$1:Q920)+1,\"\")","v":""},"Phono Solar","PS325M-24/T",920,null,null,null,null,null,null,null,null,null,null,null,null,null,null,null,null,null,null,1000]
["Phono Solar","PS330P-24/T",0.17007223431624779,330,46.8,37.299999999999997,9.1,8.84,5.4599999999999991,-170.81999999999996,-136.14499999999995,null,921,"",{"$f":"IF($A922=\"\",\"\",COUNTIF($A$2:$A922,$A922))","v":49},{"$f":"IF($A922=\"\",\"\",$O922+thousand*VLOOKUP($A922,$A$1:Q922,17,FALSE))","v":44049},{"$f":"IF(O922=1,MAX(Q$1:Q921)+1,\"\")","v":""},"Phono Solar","PS330P-24/T",921,null,null,null,null,null,null,null,null,null,null,null,null,null,null,null,null,null,null,1000]
["Phono Solar","PS330M-24/T",0.17007223431624779,330,47.1,38,8.99,8.68,4.4950000000000001,-171.91500000000002,-138.70000000000002,null,922,"",{"$f":"IF($A923=\"\",\"\",COUNTIF($A$2:$A923,$A923))","v":50},{"$f":"IF($A923=\"\",\"\",$O923+thousand*VLOOKUP($A923,$A$1:Q923,17,FALSE))","v":44050},{"$f":"IF(O923=1,MAX(Q$1:Q922)+1,\"\")","v":""},"Phono Solar","PS330M-24/T",922,null,null,null,null,null,null,null,null,null,null,null,null,null,null,null,null,null,null,1000]
["Phono Solar","PS335M-24/T",0.17264908635134243,335,47.3,38.4,9.09,8.7200000000000006,4.5449999999999999,-172.64499999999998,-140.15999999999997,null,923,"",{"$f":"IF($A924=\"\",\"\",COUNTIF($A$2:$A924,$A924))","v":51},{"$f":"IF($A924=\"\",\"\",$O924+thousand*VLOOKUP($A924,$A$1:Q924,17,FALSE))","v":44051},{"$f":"IF(O924=1,MAX(Q$1:Q923)+1,\"\")","v":""},"Phono Solar","PS335M-24/T",923,null,null,null,null,null,null,null,null,null,null,null,null,null,null,null,null,null,null,1000]
["Phono Solar","PS340M-24/T",0.1752259383864371,340,47.5,38.700000000000003,9.19,8.7799999999999994,5.5140000000000002,-173.37499999999997,-141.255,null,924,"",{"$f":"IF($A925=\"\",\"\",COUNTIF($A$2:$A925,$A925))","v":52},{"$f":"IF($A925=\"\",\"\",$O925+thousand*VLOOKUP($A925,$A$1:Q925,17,FALSE))","v":44052},{"$f":"IF(O925=1,MAX(Q$1:Q924)+1,\"\")","v":""},"Phono Solar","PS340M-24/T",924,null,null,null,null,null,null,null,null,null,null,null,null,null,null,null,null,null,null,1000]
["Photonix","PNX-200",0.13445152182316261,200,32,26,8.09,7.69,4.0449999999999999,-107,-86.9375,null,925,"",{"$f":"IF($A926=\"\",\"\",COUNTIF($A$2:$A926,$A926))","v":1},{"$f":"IF($A926=\"\",\"\",$O926+thousand*VLOOKUP($A926,$A$1:Q926,17,FALSE))","v":45001},{"$f":"IF(O926=1,MAX(Q$1:Q925)+1,\"\")","v":45},"Photonix","PNX-200",925,null,null,null,null,null,null,null,null,null,null,null,null,null,null,null,null,null,null,1000]
["Photonix","PNX-210",0.14117409791432076,210,32,26,8.48,8.08,4.24,-107,-86.9375,null,926,"",{"$f":"IF($A927=\"\",\"\",COUNTIF($A$2:$A927,$A927))","v":2},{"$f":"IF($A927=\"\",\"\",$O927+thousand*VLOOKUP($A927,$A$1:Q927,17,FALSE))","v":45002},{"$f":"IF(O927=1,MAX(Q$1:Q926)+1,\"\")","v":""},"Photonix","PNX-210",926,null,null,null,null,null,null,null,null,null,null,null,null,null,null,null,null,null,null,1000]
["Photonix","PNX-220",0.13441065509920422,220,36,29,7.99,7.59,3.9950000000000001,-118,-95.055555555555557,null,927,"",{"$f":"IF($A928=\"\",\"\",COUNTIF($A$2:$A928,$A928))","v":3},{"$f":"IF($A928=\"\",\"\",$O928+thousand*VLOOKUP($A928,$A$1:Q928,17,FALSE))","v":45003},{"$f":"IF(O928=1,MAX(Q$1:Q927)+1,\"\")","v":""},"Photonix","PNX-220",927,null,null,null,null,null,null,null,null,null,null,null,null,null,null,null,null,null,null,1000]
["Photonix","PNX-230",0.14052023033098623,230,36,29,8.33,7.93,4.165,-118,-95.055555555555557,null,928,"",{"$f":"IF($A929=\"\",\"\",COUNTIF($A$2:$A929,$A929))","v":4},{"$f":"IF($A929=\"\",\"\",$O929+thousand*VLOOKUP($A929,$A$1:Q929,17,FALSE))","v":45004},{"$f":"IF(O929=1,MAX(Q$1:Q928)+1,\"\")","v":""},"Photonix","PNX-230",928,null,null,null,null,null,null,null,null,null,null,null,null,null,null,null,null,null,null,1000]
["Photonix","PNX-240",0.14662980556276825,240,36,29,8.68,8.2799999999999994,4.34,-118,-95.055555555555557,null,929,"",{"$f":"IF($A930=\"\",\"\",COUNTIF($A$2:$A930,$A930))","v":5},{"$f":"IF($A930=\"\",\"\",$O930+thousand*VLOOKUP($A930,$A$1:Q930,17,FALSE))","v":45005},{"$f":"IF(O930=1,MAX(Q$1:Q929)+1,\"\")","v":""},"Photonix","PNX-240",929,null,null,null,null,null,null,null,null,null,null,null,null,null,null,null,null,null,null,1000]
["Photonix","PNX-250",0.12851157889325826,250,43,35,7.54,7.14,3.77,-142,-115.58139534883721,null,930,"",{"$f":"IF($A931=\"\",\"\",COUNTIF($A$2:$A931,$A931))","v":6},{"$f":"IF($A931=\"\",\"\",$O931+thousand*VLOOKUP($A931,$A$1:Q931,17,FALSE))","v":45006},{"$f":"IF(O931=1,MAX(Q$1:Q930)+1,\"\")","v":""},"Photonix","PNX-250",930,null,null,null,null,null,null,null,null,null,null,null,null,null,null,null,null,null,null,1000]
["REC","REC 240PE-Eco",0.1454532231525168,240,36.799999999999997,29.7,8.75,8.17,2.1,-112,-90.391304347826093,null,931,"",{"$f":"IF($A932=\"\",\"\",COUNTIF($A$2:$A932,$A932))","v":1},{"$f":"IF($A932=\"\",\"\",$O932+thousand*VLOOKUP($A932,$A$1:Q932,17,FALSE))","v":46001},{"$f":"IF(O932=1,MAX(Q$1:Q931)+1,\"\")","v":46},"REC","REC 240PE-Eco",931,null,null,null,null,null,null,null,null,null,null,null,null,null,null,null,null,null,null,1000]
["REC","REC 245PE-Eco",0.14848349863486091,245,37.1,30.1,8.8000000000000007,8.23,2.1120000000000001,-114,-92.49056603773586,null,932,"",{"$f":"IF($A933=\"\",\"\",COUNTIF($A$2:$A933,$A933))","v":2},{"$f":"IF($A933=\"\",\"\",$O933+thousand*VLOOKUP($A933,$A$1:Q933,17,FALSE))","v":46002},{"$f":"IF(O933=1,MAX(Q$1:Q932)+1,\"\")","v":""},"REC","REC 245PE-Eco",932,null,null,null,null,null,null,null,null,null,null,null,null,null,null,null,null,null,null,1000]
["REC","REC 255PE-Plus",0.15454404959954909,255,38,30.6,8.89,8.34,1.9558,-109,-87.773684210526326,null,933,"",{"$f":"IF($A934=\"\",\"\",COUNTIF($A$2:$A934,$A934))","v":3},{"$f":"IF($A934=\"\",\"\",$O934+thousand*VLOOKUP($A934,$A$1:Q934,17,FALSE))","v":46003},{"$f":"IF(O934=1,MAX(Q$1:Q933)+1,\"\")","v":""},"REC","REC 255PE-Plus",933,null,null,null,null,null,null,null,null,null,null,null,null,null,null,null,null,null,null,1000]
["REC","REC 255PEI",0.14732237254881572,255,37.6,30.5,8.9499999999999993,8.42,2.1479999999999997,-116.18400000000001,-94.245000000000019,null,934,"",{"$f":"IF($A935=\"\",\"\",COUNTIF($A$2:$A935,$A935))","v":4},{"$f":"IF($A935=\"\",\"\",$O935+thousand*VLOOKUP($A935,$A$1:Q935,17,FALSE))","v":46004},{"$f":"IF(O935=1,MAX(Q$1:Q934)+1,\"\")","v":""},"REC","REC 255PEI",934,null,null,null,null,null,null,null,null,null,null,null,null,null,null,null,null,null,null,1000]
["REC","REC 255PE",0.15454404959954909,255,37.6,30.5,8.9499999999999993,8.42,2.1479999999999997,-116.18400000000001,-94.245000000000019,null,935,"",{"$f":"IF($A936=\"\",\"\",COUNTIF($A$2:$A936,$A936))","v":5},{"$f":"IF($A936=\"\",\"\",$O936+thousand*VLOOKUP($A936,$A$1:Q936,17,FALSE))","v":46005},{"$f":"IF(O936=1,MAX(Q$1:Q935)+1,\"\")","v":""},"REC","REC 255PE",935,null,null,null,null,null,null,null,null,null,null,null,null,null,null,null,null,null,null,1000]
["REC","REC 260PE",0.1575743250818932,260,38,30.8,8.98,8.4600000000000009,2.1552000000000002,-118.94,-96.403999999999996,null,936,"",{"$f":"IF($A937=\"\",\"\",COUNTIF($A$2:$A937,$A937))","v":6},{"$f":"IF($A937=\"\",\"\",$O937+thousand*VLOOKUP($A937,$A$1:Q937,17,FALSE))","v":46006},{"$f":"IF(O937=1,MAX(Q$1:Q936)+1,\"\")","v":""},"REC","REC 260PE",936,null,null,null,null,null,null,null,null,null,null,null,null,null,null,null,null,null,null,1000]
["Renesola","JC185S-24/Db-b",0.1449116430630405,185,44.3,35.799999999999997,5.52,5.18,1.9320000000000002,-137.77299999999997,-111.33799999999997,null,937,"",{"$f":"IF($A938=\"\",\"\",COUNTIF($A$2:$A938,$A938))","v":1},{"$f":"IF($A938=\"\",\"\",$O938+thousand*VLOOKUP($A938,$A$1:Q938,17,FALSE))","v":47001},{"$f":"IF(O938=1,MAX(Q$1:Q937)+1,\"\")","v":47},"Renesola","JC185S-24/Db-b",937,null,null,null,null,null,null,null,null,null,null,null,null,null,null,null,null,null,null,1000]
["Renesola","JC190S-24/Db-b",0.14882817395663617,190,44.9,36.6,5.49,5.19,1.9215000000000002,-139.63899999999998,-113.82599999999999,null,938,"",{"$f":"IF($A939=\"\",\"\",COUNTIF($A$2:$A939,$A939))","v":2},{"$f":"IF($A939=\"\",\"\",$O939+thousand*VLOOKUP($A939,$A$1:Q939,17,FALSE))","v":47002},{"$f":"IF(O939=1,MAX(Q$1:Q938)+1,\"\")","v":""},"Renesola","JC190S-24/Db-b",938,null,null,null,null,null,null,null,null,null,null,null,null,null,null,null,null,null,null,1000]
["Renesola","JC190F-24/Db-b",0.14882817395663617,190,44.9,36.6,5.49,5.19,1.9215000000000002,-139.63899999999998,-113.82599999999999,null,939,"",{"$f":"IF($A940=\"\",\"\",COUNTIF($A$2:$A940,$A940))","v":3},{"$f":"IF($A940=\"\",\"\",$O940+thousand*VLOOKUP($A940,$A$1:Q940,17,FALSE))","v":47003},{"$f":"IF(O940=1,MAX(Q$1:Q939)+1,\"\")","v":""},"Renesola","JC190F-24/Db-b",939,null,null,null,null,null,null,null,null,null,null,null,null,null,null,null,null,null,null,1000]
["Renesola","JC190F-24/Db",0.14882817395663617,190,44.9,36.6,5.49,5.19,1.9215000000000002,-139.63899999999998,-113.82599999999999,null,940,"",{"$f":"IF($A941=\"\",\"\",COUNTIF($A$2:$A941,$A941))","v":4},{"$f":"IF($A941=\"\",\"\",$O941+thousand*VLOOKUP($A941,$A$1:Q941,17,FALSE))","v":47004},{"$f":"IF(O941=1,MAX(Q$1:Q940)+1,\"\")","v":""},"Renesola","JC190F-24/Db",940,null,null,null,null,null,null,null,null,null,null,null,null,null,null,null,null,null,null,1000]
["Renesola","JC195S-24/Db-b",0.15274470485023187,195,45,36.700000000000003,5.61,5.32,1.9635000000000002,-139.94999999999999,-114.137,null,941,"",{"$f":"IF($A942=\"\",\"\",COUNTIF($A$2:$A942,$A942))","v":5},{"$f":"IF($A942=\"\",\"\",$O942+thousand*VLOOKUP($A942,$A$1:Q942,17,FALSE))","v":47005},{"$f":"IF(O942=1,MAX(Q$1:Q941)+1,\"\")","v":""},"Renesola","JC195S-24/Db-b",941,null,null,null,null,null,null,null,null,null,null,null,null,null,null,null,null,null,null,1000]
["Renesola","JC195F-24/Db-b",0.15274470485023187,195,45,36.700000000000003,5.61,5.32,1.9635000000000002,-139.94999999999999,-114.137,null,942,"",{"$f":"IF($A943=\"\",\"\",COUNTIF($A$2:$A943,$A943))","v":6},{"$f":"IF($A943=\"\",\"\",$O943+thousand*VLOOKUP($A943,$A$1:Q943,17,FALSE))","v":47006},{"$f":"IF(O943=1,MAX(Q$1:Q942)+1,\"\")","v":""},"Renesola","JC195F-24/Db-b",942,null,null,null,null,null,null,null,null,null,null,null,null,null,null,null,null,null,null,1000]
["Renesola","JC195F-24/Db",0.15274470485023187,195,45,36.700000000000003,5.61,5.32,1.9635000000000002,-139.94999999999999,-114.137,null,943,"",{"$f":"IF($A944=\"\",\"\",COUNTIF($A$2:$A944,$A944))","v":7},{"$f":"IF($A944=\"\",\"\",$O944+thousand*VLOOKUP($A944,$A$1:Q944,17,FALSE))","v":47007},{"$f":"IF(O944=1,MAX(Q$1:Q943)+1,\"\")","v":""},"Renesola","JC195F-24/Db",943,null,null,null,null,null,null,null,null,null,null,null,null,null,null,null,null,null,null,1000]
["Renesola","JC195S-24/Db",0.15274470485023187,195,45,36.700000000000003,5.61,5.32,1.9635000000000002,-139.94999999999999,-114.137,null,944,"",{"$f":"IF($A945=\"\",\"\",COUNTIF($A$2:$A945,$A945))","v":8},{"$f":"IF($A945=\"\",\"\",$O945+thousand*VLOOKUP($A945,$A$1:Q945,17,FALSE))","v":47008},{"$f":"IF(O945=1,MAX(Q$1:Q944)+1,\"\")","v":""},"Renesola","JC195S-24/Db",944,null,null,null,null,null,null,null,null,null,null,null,null,null,null,null,null,null,null,1000]
["Renesola","JC200S-24/Db-b",0.15666123574382756,200,45.3,37.1,5.7,5.41,1.9950000000000003,-140.88299999999998,-115.381,null,945,"",{"$f":"IF($A946=\"\",\"\",COUNTIF($A$2:$A946,$A946))","v":9},{"$f":"IF($A946=\"\",\"\",$O946+thousand*VLOOKUP($A946,$A$1:Q946,17,FALSE))","v":47009},{"$f":"IF(O946=1,MAX(Q$1:Q945)+1,\"\")","v":""},"Renesola","JC200S-24/Db-b",945,null,null,null,null,null,null,null,null,null,null,null,null,null,null,null,null,null,null,1000]
["Renesola","JC200F-24/Db-b",0.15666123574382756,200,45.3,37.1,5.7,5.41,1.9950000000000003,-140.88299999999998,-115.381,null,946,"",{"$f":"IF($A947=\"\",\"\",COUNTIF($A$2:$A947,$A947))","v":10},{"$f":"IF($A947=\"\",\"\",$O947+thousand*VLOOKUP($A947,$A$1:Q947,17,FALSE))","v":47010},{"$f":"IF(O947=1,MAX(Q$1:Q946)+1,\"\")","v":""},"Renesola","JC200F-24/Db-b",946,null,null,null,null,null,null,null,null,null,null,null,null,null,null,null,null,null,null,1000]
["Renesola","JC200F-24/Db",0.15666123574382756,200,45.3,37.1,5.7,5.41,1.9950000000000003,-140.88299999999998,-115.381,null,947,"",{"$f":"IF($A948=\"\",\"\",COUNTIF($A$2:$A948,$A948))","v":11},{"$f":"IF($A948=\"\",\"\",$O948+thousand*VLOOKUP($A948,$A$1:Q948,17,FALSE))","v":47011},{"$f":"IF(O948=1,MAX(Q$1:Q947)+1,\"\")","v":""},"Renesola","JC200F-24/Db",947,null,null,null,null,null,null,null,null,null,null,null,null,null,null,null,null,null,null,1000]
["Renesola","JC200S-24/Db",0.15666123574382756,200,45.3,37.1,5.7,5.41,1.9950000000000003,-140.88299999999998,-115.381,null,948,"",{"$f":"IF($A949=\"\",\"\",COUNTIF($A$2:$A949,$A949))","v":12},{"$f":"IF($A949=\"\",\"\",$O949+thousand*VLOOKUP($A949,$A$1:Q949,17,FALSE))","v":47012},{"$f":"IF(O949=1,MAX(Q$1:Q948)+1,\"\")","v":""},"Renesola","JC200S-24/Db",948,null,null,null,null,null,null,null,null,null,null,null,null,null,null,null,null,null,null,1000]
["Renesola","JC205S-24/Db-b",0.16057776663742324,205,45.6,37.4,5.88,5.48,2.0580000000000003,-141.816,-116.31400000000001,null,949,"",{"$f":"IF($A950=\"\",\"\",COUNTIF($A$2:$A950,$A950))","v":13},{"$f":"IF($A950=\"\",\"\",$O950+thousand*VLOOKUP($A950,$A$1:Q950,17,FALSE))","v":47013},{"$f":"IF(O950=1,MAX(Q$1:Q949)+1,\"\")","v":""},"Renesola","JC205S-24/Db-b",949,null,null,null,null,null,null,null,null,null,null,null,null,null,null,null,null,null,null,1000]
["Renesola","JC205F-24/Db-b",0.16057776663742324,205,45.6,37.4,5.88,5.48,2.0580000000000003,-141.816,-116.31400000000001,null,950,"",{"$f":"IF($A951=\"\",\"\",COUNTIF($A$2:$A951,$A951))","v":14},{"$f":"IF($A951=\"\",\"\",$O951+thousand*VLOOKUP($A951,$A$1:Q951,17,FALSE))","v":47014},{"$f":"IF(O951=1,MAX(Q$1:Q950)+1,\"\")","v":""},"Renesola","JC205F-24/Db-b",950,null,null,null,null,null,null,null,null,null,null,null,null,null,null,null,null,null,null,1000]
["Renesola","JC205F-24/Db",0.16057776663742324,205,45.6,37.4,5.88,5.48,2.0580000000000003,-141.816,-116.31400000000001,null,951,"",{"$f":"IF($A952=\"\",\"\",COUNTIF($A$2:$A952,$A952))","v":15},{"$f":"IF($A952=\"\",\"\",$O952+thousand*VLOOKUP($A952,$A$1:Q952,17,FALSE))","v":47015},{"$f":"IF(O952=1,MAX(Q$1:Q951)+1,\"\")","v":""},"Renesola","JC205F-24/Db",951,null,null,null,null,null,null,null,null,null,null,null,null,null,null,null,null,null,null,1000]
["Renesola","JC205S-24/Db",0.16057776663742324,205,45.6,37.4,5.88,5.48,2.0580000000000003,-141.816,-116.31400000000001,null,952,"",{"$f":"IF($A953=\"\",\"\",COUNTIF($A$2:$A953,$A953))","v":16},{"$f":"IF($A953=\"\",\"\",$O953+thousand*VLOOKUP($A953,$A$1:Q953,17,FALSE))","v":47016},{"$f":"IF(O953=1,MAX(Q$1:Q952)+1,\"\")","v":""},"Renesola","JC205S-24/Db",952,null,null,null,null,null,null,null,null,null,null,null,null,null,null,null,null,null,null,1000]
["Renesola","JC210S-24/Db-b",0.16449429753101891,210,45.4,37.200000000000003,6.05,5.65,2.1175000000000002,-141.19399999999999,-115.69199999999999,null,953,"",{"$f":"IF($A954=\"\",\"\",COUNTIF($A$2:$A954,$A954))","v":17},{"$f":"IF($A954=\"\",\"\",$O954+thousand*VLOOKUP($A954,$A$1:Q954,17,FALSE))","v":47017},{"$f":"IF(O954=1,MAX(Q$1:Q953)+1,\"\")","v":""},"Renesola","JC210S-24/Db-b",953,null,null,null,null,null,null,null,null,null,null,null,null,null,null,null,null,null,null,1000]
["Renesola","JC210F-24/Db-b",0.16449429753101891,210,45.4,37.200000000000003,6.05,5.65,2.1175000000000002,-141.19399999999999,-115.69199999999999,null,954,"",{"$f":"IF($A955=\"\",\"\",COUNTIF($A$2:$A955,$A955))","v":18},{"$f":"IF($A955=\"\",\"\",$O955+thousand*VLOOKUP($A955,$A$1:Q955,17,FALSE))","v":47018},{"$f":"IF(O955=1,MAX(Q$1:Q954)+1,\"\")","v":""},"Renesola","JC210F-24/Db-b",954,null,null,null,null,null,null,null,null,null,null,null,null,null,null,null,null,null,null,1000]
["Renesola","JC210F-24/Db",0.16449429753101891,210,45.4,37.200000000000003,6.05,5.65,2.1175000000000002,-141.19399999999999,-115.69199999999999,null,955,"",{"$f":"IF($A956=\"\",\"\",COUNTIF($A$2:$A956,$A956))","v":19},{"$f":"IF($A956=\"\",\"\",$O956+thousand*VLOOKUP($A956,$A$1:Q956,17,FALSE))","v":47019},{"$f":"IF(O956=1,MAX(Q$1:Q955)+1,\"\")","v":""},"Renesola","JC210F-24/Db",955,null,null,null,null,null,null,null,null,null,null,null,null,null,null,null,null,null,null,1000]
["Renesola","JC210S-24/Db",0.16449429753101891,210,45.4,37.200000000000003,6.05,5.65,2.1175000000000002,-141.19399999999999,-115.69199999999999,null,956,"",{"$f":"IF($A957=\"\",\"\",COUNTIF($A$2:$A957,$A957))","v":20},{"$f":"IF($A957=\"\",\"\",$O957+thousand*VLOOKUP($A957,$A$1:Q957,17,FALSE))","v":47020},{"$f":"IF(O957=1,MAX(Q$1:Q956)+1,\"\")","v":""},"Renesola","JC210S-24/Db",956,null,null,null,null,null,null,null,null,null,null,null,null,null,null,null,null,null,null,1000]
["Renesola","JC235M-24/Bb",0.14444826907946495,235,37,29.3,8.58,8.0299999999999994,3.5178000000000003,-111,-87.9,null,957,"",{"$f":"IF($A958=\"\",\"\",COUNTIF($A$2:$A958,$A958))","v":21},{"$f":"IF($A958=\"\",\"\",$O958+thousand*VLOOKUP($A958,$A$1:Q958,17,FALSE))","v":47021},{"$f":"IF(O958=1,MAX(Q$1:Q957)+1,\"\")","v":""},"Renesola","JC235M-24/Bb",957,null,null,null,null,null,null,null,null,null,null,null,null,null,null,null,null,null,null,1000]
["Renesola","JC240M-24/Bzh",0.14752163650668765,240,37.200000000000003,29.7,8.64,8.08,3.5424000000000007,-111.60000000000001,-89.100000000000009,null,958,"",{"$f":"IF($A959=\"\",\"\",COUNTIF($A$2:$A959,$A959))","v":22},{"$f":"IF($A959=\"\",\"\",$O959+thousand*VLOOKUP($A959,$A$1:Q959,17,FALSE))","v":47022},{"$f":"IF(O959=1,MAX(Q$1:Q958)+1,\"\")","v":""},"Renesola","JC240M-24/Bzh",958,null,null,null,null,null,null,null,null,null,null,null,null,null,null,null,null,null,null,1000]
["Renesola","JC240M-24/Bz",0.14752163650668765,240,37.200000000000003,29.7,8.64,8.08,3.5424000000000007,-111.60000000000001,-89.100000000000009,null,959,"",{"$f":"IF($A960=\"\",\"\",COUNTIF($A$2:$A960,$A960))","v":23},{"$f":"IF($A960=\"\",\"\",$O960+thousand*VLOOKUP($A960,$A$1:Q960,17,FALSE))","v":47023},{"$f":"IF(O960=1,MAX(Q$1:Q959)+1,\"\")","v":""},"Renesola","JC240M-24/Bz",959,null,null,null,null,null,null,null,null,null,null,null,null,null,null,null,null,null,null,1000]
["Renesola","JC240M-24/Bbh-b",0.14752163650668765,240,37.200000000000003,29.7,8.64,8.08,3.5424000000000007,-111.60000000000001,-89.100000000000009,null,960,"",{"$f":"IF($A961=\"\",\"\",COUNTIF($A$2:$A961,$A961))","v":24},{"$f":"IF($A961=\"\",\"\",$O961+thousand*VLOOKUP($A961,$A$1:Q961,17,FALSE))","v":47024},{"$f":"IF(O961=1,MAX(Q$1:Q960)+1,\"\")","v":""},"Renesola","JC240M-24/Bbh-b",960,null,null,null,null,null,null,null,null,null,null,null,null,null,null,null,null,null,null,1000]
["Renesola","JC240M-24/Bbh",0.14752163650668765,240,37.200000000000003,29.7,8.64,8.08,3.5424000000000007,-111.60000000000001,-89.100000000000009,null,961,{"$f":"IF(M962>MAX(Q$2:Q$7985),\"\",VLOOKUP(M962,Q$2:R$7985,2,FALSE))","v":""},{"$f":"IF($A962=\"\",\"\",COUNTIF($A$2:$A962,$A962))","v":25},{"$f":"IF($A962=\"\",\"\",$O962+thousand*VLOOKUP($A962,$A$1:Q962,17,FALSE))","v":47025},{"$f":"IF(O962=1,MAX(Q$1:Q961)+1,\"\")","v":""},"Renesola","JC240M-24/Bbh",961,null,null,null,null,null,null,null,null,null,null,null,null,null,null,null,null,null,null,1000]
["Renesola","JC240M-24/Bb",0.14752163650668765,240,37.200000000000003,29.7,8.64,8.08,3.5424000000000007,-111.60000000000001,{"$f":"F963/E963*J963","v":-89.100000000000009},null,962,"",{"$f":"IF($A963=\"\",\"\",COUNTIF($A$2:$A963,$A963))","v":26},{"$f":"IF($A963=\"\",\"\",$O963+thousand*VLOOKUP($A963,$A$1:Q963,17,FALSE))","v":47026},{"$f":"IF(O963=1,MAX(Q$1:Q962)+1,\"\")","v":""},{"$f":"IF(A963=\"\",\"\",A963)","v":"Renesola"},{"$f":"IF(B963=\"\",\"\",B963)","v":"JC240M-24/Bb"},{"$f":"$M963","v":962},null,null,null,null,null,null,null,null,null,null,null,null,null,null,null,null,null,null,1000]
["Renesola","JC240S-24/Bb-b",0.14752163650668765,240,37.200000000000003,29.5,8.7100000000000009,8.16,3.0485000000000007,-115.69200000000001,-91.745000000000005,null,963,"",{"$f":"IF($A964=\"\",\"\",COUNTIF($A$2:$A964,$A964))","v":27},{"$f":"IF($A964=\"\",\"\",$O964+thousand*VLOOKUP($A964,$A$1:Q964,17,FALSE))","v":47027},{"$f":"IF(O964=1,MAX(Q$1:Q963)+1,\"\")","v":""},"Renesola","JC240S-24/Bb-b",963,null,null,null,null,null,null,null,null,null,null,null,null,null,null,null,null,null,null,1000]
["Renesola","JC245M-24/Bzv",0.15059500393391032,245,37.1,29.9,8.74,8.19,3.5834000000000006,-108.703,-87.606999999999999,null,964,"",{"$f":"IF($A965=\"\",\"\",COUNTIF($A$2:$A965,$A965))","v":28},{"$f":"IF($A965=\"\",\"\",$O965+thousand*VLOOKUP($A965,$A$1:Q965,17,FALSE))","v":47028},{"$f":"IF(O965=1,MAX(Q$1:Q964)+1,\"\")","v":""},"Renesola","JC245M-24/Bzv",964,null,null,null,null,null,null,null,null,null,null,null,null,null,null,null,null,null,null,1000]
["Renesola","JC245M-24/Bzh",0.15059500393391032,245,37.299999999999997,29.9,8.73,8.19,3.5793000000000004,-111.9,-89.7,null,965,"",{"$f":"IF($A966=\"\",\"\",COUNTIF($A$2:$A966,$A966))","v":29},{"$f":"IF($A966=\"\",\"\",$O966+thousand*VLOOKUP($A966,$A$1:Q966,17,FALSE))","v":47029},{"$f":"IF(O966=1,MAX(Q$1:Q965)+1,\"\")","v":""},"Renesola","JC245M-24/Bzh",965,null,null,null,null,null,null,null,null,null,null,null,null,null,null,null,null,null,null,1000]
["Renesola","JC245M-24/Bz",0.15059500393391032,245,37.299999999999997,29.9,8.73,8.19,3.5793000000000004,-111.9,-89.7,null,966,"",{"$f":"IF($A967=\"\",\"\",COUNTIF($A$2:$A967,$A967))","v":30},{"$f":"IF($A967=\"\",\"\",$O967+thousand*VLOOKUP($A967,$A$1:Q967,17,FALSE))","v":47030},{"$f":"IF(O967=1,MAX(Q$1:Q966)+1,\"\")","v":""},"Renesola","JC245M-24/Bz",966,null,null,null,null,null,null,null,null,null,null,null,null,null,null,null,null,null,null,1000]
["Renesola","JC245M-24/Bb (Clarus)",0.15059500393391032,245,37.299999999999997,29.9,8.73,8.19,3.5793000000000004,-111.9,-89.7,null,967,"",{"$f":"IF($A968=\"\",\"\",COUNTIF($A$2:$A968,$A968))","v":31},{"$f":"IF($A968=\"\",\"\",$O968+thousand*VLOOKUP($A968,$A$1:Q968,17,FALSE))","v":47031},{"$f":"IF(O968=1,MAX(Q$1:Q967)+1,\"\")","v":""},"Renesola","JC245M-24/Bb (Clarus)",967,null,null,null,null,null,null,null,null,null,null,null,null,null,null,null,null,null,null,1000]
["Renesola","JC245M-24/Bbh-b",0.15059500393391032,245,37.299999999999997,29.9,8.73,8.19,3.5793000000000004,-111.9,-89.7,null,968,"",{"$f":"IF($A969=\"\",\"\",COUNTIF($A$2:$A969,$A969))","v":32},{"$f":"IF($A969=\"\",\"\",$O969+thousand*VLOOKUP($A969,$A$1:Q969,17,FALSE))","v":47032},{"$f":"IF(O969=1,MAX(Q$1:Q968)+1,\"\")","v":""},"Renesola","JC245M-24/Bbh-b",968,null,null,null,null,null,null,null,null,null,null,null,null,null,null,null,null,null,null,1000]
["Renesola","JC245M-24/Bbh",0.15059500393391032,245,37.299999999999997,29.9,8.73,8.19,3.5793000000000004,-111.9,-89.7,null,969,"",{"$f":"IF($A970=\"\",\"\",COUNTIF($A$2:$A970,$A970))","v":33},{"$f":"IF($A970=\"\",\"\",$O970+thousand*VLOOKUP($A970,$A$1:Q970,17,FALSE))","v":47033},{"$f":"IF(O970=1,MAX(Q$1:Q969)+1,\"\")","v":""},"Renesola","JC245M-24/Bbh",969,null,null,null,null,null,null,null,null,null,null,null,null,null,null,null,null,null,null,1000]
["Renesola","JC245M-24/Bbv",0.15059500393391032,245,37.1,29.9,8.74,8.19,3.5834000000000006,-108.703,-87.606999999999999,null,970,"",{"$f":"IF($A971=\"\",\"\",COUNTIF($A$2:$A971,$A971))","v":34},{"$f":"IF($A971=\"\",\"\",$O971+thousand*VLOOKUP($A971,$A$1:Q971,17,FALSE))","v":47034},{"$f":"IF(O971=1,MAX(Q$1:Q970)+1,\"\")","v":""},"Renesola","JC245M-24/Bbv",970,null,null,null,null,null,null,null,null,null,null,null,null,null,null,null,null,null,null,1000]
["Renesola","JC245M-24/Bb",0.15059500393391032,245,37.299999999999997,29.9,8.73,8.19,3.5793000000000004,-111.9,-89.7,null,971,"",{"$f":"IF($A972=\"\",\"\",COUNTIF($A$2:$A972,$A972))","v":35},{"$f":"IF($A972=\"\",\"\",$O972+thousand*VLOOKUP($A972,$A$1:Q972,17,FALSE))","v":47035},{"$f":"IF(O972=1,MAX(Q$1:Q971)+1,\"\")","v":""},"Renesola","JC245M-24/Bb",971,null,null,null,null,null,null,null,null,null,null,null,null,null,null,null,null,null,null,1000]
["Renesola","JC245F-24/Bzh",0.15059500393391032,245,37.4,30,8.7899999999999991,8.19,3.0764999999999998,-116.31399999999999,-93.3,null,972,"",{"$f":"IF($A973=\"\",\"\",COUNTIF($A$2:$A973,$A973))","v":36},{"$f":"IF($A973=\"\",\"\",$O973+thousand*VLOOKUP($A973,$A$1:Q973,17,FALSE))","v":47036},{"$f":"IF(O973=1,MAX(Q$1:Q972)+1,\"\")","v":""},"Renesola","JC245F-24/Bzh",972,null,null,null,null,null,null,null,null,null,null,null,null,null,null,null,null,null,null,1000]
["Renesola","JC245F-24/Bz",0.15059500393391032,245,37.4,30,8.7899999999999991,8.19,3.0764999999999998,-116.31399999999999,-93.3,null,973,"",{"$f":"IF($A974=\"\",\"\",COUNTIF($A$2:$A974,$A974))","v":37},{"$f":"IF($A974=\"\",\"\",$O974+thousand*VLOOKUP($A974,$A$1:Q974,17,FALSE))","v":47037},{"$f":"IF(O974=1,MAX(Q$1:Q973)+1,\"\")","v":""},"Renesola","JC245F-24/Bz",973,null,null,null,null,null,null,null,null,null,null,null,null,null,null,null,null,null,null,1000]
["Renesola","JC245F-24/Bbh-b",0.15059500393391032,245,37.4,30,8.7899999999999991,8.19,3.0764999999999998,-116.31399999999999,-93.3,null,974,"",{"$f":"IF($A975=\"\",\"\",COUNTIF($A$2:$A975,$A975))","v":38},{"$f":"IF($A975=\"\",\"\",$O975+thousand*VLOOKUP($A975,$A$1:Q975,17,FALSE))","v":47038},{"$f":"IF(O975=1,MAX(Q$1:Q974)+1,\"\")","v":""},"Renesola","JC245F-24/Bbh-b",974,null,null,null,null,null,null,null,null,null,null,null,null,null,null,null,null,null,null,1000]
["Renesola","JC245F-24/Bbh",0.15059500393391032,245,37.4,30,8.7899999999999991,8.19,3.0764999999999998,-116.31399999999999,-93.3,null,975,"",{"$f":"IF($A976=\"\",\"\",COUNTIF($A$2:$A976,$A976))","v":39},{"$f":"IF($A976=\"\",\"\",$O976+thousand*VLOOKUP($A976,$A$1:Q976,17,FALSE))","v":47039},{"$f":"IF(O976=1,MAX(Q$1:Q975)+1,\"\")","v":""},"Renesola","JC245F-24/Bbh",975,null,null,null,null,null,null,null,null,null,null,null,null,null,null,null,null,null,null,1000]
["Renesola","JC245F-24/Bb",0.15059500393391032,245,37.4,30,8.7899999999999991,8.19,3.0764999999999998,-116.31399999999999,-93.3,null,976,"",{"$f":"IF($A977=\"\",\"\",COUNTIF($A$2:$A977,$A977))","v":40},{"$f":"IF($A977=\"\",\"\",$O977+thousand*VLOOKUP($A977,$A$1:Q977,17,FALSE))","v":47040},{"$f":"IF(O977=1,MAX(Q$1:Q976)+1,\"\")","v":""},"Renesola","JC245F-24/Bb",976,null,null,null,null,null,null,null,null,null,null,null,null,null,null,null,null,null,null,1000]
["Renesola","JC245S-24/Bzh",0.15059500393391032,245,37.4,30,8.7899999999999991,8.19,3.0764999999999998,-116.31399999999999,-93.3,null,977,"",{"$f":"IF($A978=\"\",\"\",COUNTIF($A$2:$A978,$A978))","v":41},{"$f":"IF($A978=\"\",\"\",$O978+thousand*VLOOKUP($A978,$A$1:Q978,17,FALSE))","v":47041},{"$f":"IF(O978=1,MAX(Q$1:Q977)+1,\"\")","v":""},"Renesola","JC245S-24/Bzh",977,null,null,null,null,null,null,null,null,null,null,null,null,null,null,null,null,null,null,1000]
["Renesola","JC245S-24/Bz",0.15059500393391032,245,37.4,30,8.7899999999999991,8.19,3.0764999999999998,-116.31399999999999,-93.3,null,978,"",{"$f":"IF($A979=\"\",\"\",COUNTIF($A$2:$A979,$A979))","v":42},{"$f":"IF($A979=\"\",\"\",$O979+thousand*VLOOKUP($A979,$A$1:Q979,17,FALSE))","v":47042},{"$f":"IF(O979=1,MAX(Q$1:Q978)+1,\"\")","v":""},"Renesola","JC245S-24/Bz",978,null,null,null,null,null,null,null,null,null,null,null,null,null,null,null,null,null,null,1000]
["Renesola","JC245S-24/Bbh-b",0.15059500393391032,245,37.4,30,8.7899999999999991,8.19,3.0764999999999998,-116.31399999999999,-93.3,null,979,"",{"$f":"IF($A980=\"\",\"\",COUNTIF($A$2:$A980,$A980))","v":43},{"$f":"IF($A980=\"\",\"\",$O980+thousand*VLOOKUP($A980,$A$1:Q980,17,FALSE))","v":47043},{"$f":"IF(O980=1,MAX(Q$1:Q979)+1,\"\")","v":""},"Renesola","JC245S-24/Bbh-b",979,null,null,null,null,null,null,null,null,null,null,null,null,null,null,null,null,null,null,1000]
["Renesola","JC245S-24/Bbh",0.15059500393391032,245,37.4,30,8.7899999999999991,8.19,3.0764999999999998,-116.31399999999999,-93.3,null,980,"",{"$f":"IF($A981=\"\",\"\",COUNTIF($A$2:$A981,$A981))","v":44},{"$f":"IF($A981=\"\",\"\",$O981+thousand*VLOOKUP($A981,$A$1:Q981,17,FALSE))","v":47044},{"$f":"IF(O981=1,MAX(Q$1:Q980)+1,\"\")","v":""},"Renesola","JC245S-24/Bbh",980,null,null,null,null,null,null,null,null,null,null,null,null,null,null,null,null,null,null,1000]
["Renesola","JC245S-24/Bb-b",0.15059500393391032,245,37.4,30,8.7899999999999991,8.19,3.0764999999999998,-116.31399999999999,-93.3,null,981,"",{"$f":"IF($A982=\"\",\"\",COUNTIF($A$2:$A982,$A982))","v":45},{"$f":"IF($A982=\"\",\"\",$O982+thousand*VLOOKUP($A982,$A$1:Q982,17,FALSE))","v":47045},{"$f":"IF(O982=1,MAX(Q$1:Q981)+1,\"\")","v":""},"Renesola","JC245S-24/Bb-b",981,null,null,null,null,null,null,null,null,null,null,null,null,null,null,null,null,null,null,1000]
["Renesola","JC245S-24/Bb",0.15059500393391032,245,37.4,30,8.7899999999999991,8.19,3.0764999999999998,-116.31399999999999,-93.3,null,982,"",{"$f":"IF($A983=\"\",\"\",COUNTIF($A$2:$A983,$A983))","v":46},{"$f":"IF($A983=\"\",\"\",$O983+thousand*VLOOKUP($A983,$A$1:Q983,17,FALSE))","v":47046},{"$f":"IF(O983=1,MAX(Q$1:Q982)+1,\"\")","v":""},"Renesola","JC245S-24/Bb",982,null,null,null,null,null,null,null,null,null,null,null,null,null,null,null,null,null,null,1000]
["Renesola","JC250M-24/Bzv",0.15366837136113295,250,37.299999999999997,30.2,8.84,8.2899999999999991,3.6243999999999996,-109.28899999999999,-88.486000000000004,null,983,"",{"$f":"IF($A984=\"\",\"\",COUNTIF($A$2:$A984,$A984))","v":47},{"$f":"IF($A984=\"\",\"\",$O984+thousand*VLOOKUP($A984,$A$1:Q984,17,FALSE))","v":47047},{"$f":"IF(O984=1,MAX(Q$1:Q983)+1,\"\")","v":""},"Renesola","JC250M-24/Bzv",983,null,null,null,null,null,null,null,null,null,null,null,null,null,null,null,null,null,null,1000]
["Renesola","JC250M-24/Bzh",0.15366837136113295,250,37.4,30.1,8.83,8.31,3.6203000000000003,-112.19999999999999,-90.3,null,984,"",{"$f":"IF($A985=\"\",\"\",COUNTIF($A$2:$A985,$A985))","v":48},{"$f":"IF($A985=\"\",\"\",$O985+thousand*VLOOKUP($A985,$A$1:Q985,17,FALSE))","v":47048},{"$f":"IF(O985=1,MAX(Q$1:Q984)+1,\"\")","v":""},"Renesola","JC250M-24/Bzh",984,null,null,null,null,null,null,null,null,null,null,null,null,null,null,null,null,null,null,1000]
["Renesola","JC250M-24/Bz",0.15366837136113295,250,37.4,30.1,8.83,8.31,3.6203000000000003,-112.19999999999999,-90.3,null,985,"",{"$f":"IF($A986=\"\",\"\",COUNTIF($A$2:$A986,$A986))","v":49},{"$f":"IF($A986=\"\",\"\",$O986+thousand*VLOOKUP($A986,$A$1:Q986,17,FALSE))","v":47049},{"$f":"IF(O986=1,MAX(Q$1:Q985)+1,\"\")","v":""},"Renesola","JC250M-24/Bz",985,null,null,null,null,null,null,null,null,null,null,null,null,null,null,null,null,null,null,1000]
["Renesola","JC250M-24/Bbh-b",0.15366837136113295,250,37.4,30.1,8.83,8.31,3.6203000000000003,-112.19999999999999,-90.3,null,986,"",{"$f":"IF($A987=\"\",\"\",COUNTIF($A$2:$A987,$A987))","v":50},{"$f":"IF($A987=\"\",\"\",$O987+thousand*VLOOKUP($A987,$A$1:Q987,17,FALSE))","v":47050},{"$f":"IF(O987=1,MAX(Q$1:Q986)+1,\"\")","v":""},"Renesola","JC250M-24/Bbh-b",986,null,null,null,null,null,null,null,null,null,null,null,null,null,null,null,null,null,null,1000]
["Renesola","JC250M-24/Bbh",0.15366837136113295,250,37.4,30.1,8.83,8.31,3.6203000000000003,-112.19999999999999,-90.3,null,987,"",{"$f":"IF($A988=\"\",\"\",COUNTIF($A$2:$A988,$A988))","v":51},{"$f":"IF($A988=\"\",\"\",$O988+thousand*VLOOKUP($A988,$A$1:Q988,17,FALSE))","v":47051},{"$f":"IF(O988=1,MAX(Q$1:Q987)+1,\"\")","v":""},"Renesola","JC250M-24/Bbh",987,null,null,null,null,null,null,null,null,null,null,null,null,null,null,null,null,null,null,1000]
["Renesola","JC250M-24/Bbv",0.15366837136113295,250,37.299999999999997,30.2,8.84,8.2899999999999991,3.6243999999999996,-109.28899999999999,-88.486000000000004,null,988,"",{"$f":"IF($A989=\"\",\"\",COUNTIF($A$2:$A989,$A989))","v":52},{"$f":"IF($A989=\"\",\"\",$O989+thousand*VLOOKUP($A989,$A$1:Q989,17,FALSE))","v":47052},{"$f":"IF(O989=1,MAX(Q$1:Q988)+1,\"\")","v":""},"Renesola","JC250M-24/Bbv",988,null,null,null,null,null,null,null,null,null,null,null,null,null,null,null,null,null,null,1000]
["Renesola","JC250M-24/Bb",0.15366837136113295,250,37.4,30.1,8.83,8.31,3.6203000000000003,-112.19999999999999,-90.3,null,989,"",{"$f":"IF($A990=\"\",\"\",COUNTIF($A$2:$A990,$A990))","v":53},{"$f":"IF($A990=\"\",\"\",$O990+thousand*VLOOKUP($A990,$A$1:Q990,17,FALSE))","v":47053},{"$f":"IF(O990=1,MAX(Q$1:Q989)+1,\"\")","v":""},"Renesola","JC250M-24/Bb",989,null,null,null,null,null,null,null,null,null,null,null,null,null,null,null,null,null,null,1000]
["Renesola","JC250F-24/Bzh",0.15366837136113295,250,37.5,30.1,8.8699999999999992,8.32,3.1044999999999998,-116.62499999999999,-93.611000000000004,null,990,"",{"$f":"IF($A991=\"\",\"\",COUNTIF($A$2:$A991,$A991))","v":54},{"$f":"IF($A991=\"\",\"\",$O991+thousand*VLOOKUP($A991,$A$1:Q991,17,FALSE))","v":47054},{"$f":"IF(O991=1,MAX(Q$1:Q990)+1,\"\")","v":""},"Renesola","JC250F-24/Bzh",990,null,null,null,null,null,null,null,null,null,null,null,null,null,null,null,null,null,null,1000]
["Renesola","JC250F-24/Bz",0.15366837136113295,250,37.5,30.1,8.8699999999999992,8.32,3.1044999999999998,-116.62499999999999,-93.611000000000004,null,991,"",{"$f":"IF($A992=\"\",\"\",COUNTIF($A$2:$A992,$A992))","v":55},{"$f":"IF($A992=\"\",\"\",$O992+thousand*VLOOKUP($A992,$A$1:Q992,17,FALSE))","v":47055},{"$f":"IF(O992=1,MAX(Q$1:Q991)+1,\"\")","v":""},"Renesola","JC250F-24/Bz",991,null,null,null,null,null,null,null,null,null,null,null,null,null,null,null,null,null,null,1000]
["Renesola","JC250F-24/Bbh-b",0.15366837136113295,250,37.5,30.1,8.8699999999999992,8.32,3.1044999999999998,-116.62499999999999,-93.611000000000004,null,992,"",{"$f":"IF($A993=\"\",\"\",COUNTIF($A$2:$A993,$A993))","v":56},{"$f":"IF($A993=\"\",\"\",$O993+thousand*VLOOKUP($A993,$A$1:Q993,17,FALSE))","v":47056},{"$f":"IF(O993=1,MAX(Q$1:Q992)+1,\"\")","v":""},"Renesola","JC250F-24/Bbh-b",992,null,null,null,null,null,null,null,null,null,null,null,null,null,null,null,null,null,null,1000]
["Renesola","JC250F-24/Bbh",0.15366837136113295,250,37.5,30.1,8.8699999999999992,8.32,3.1044999999999998,-116.62499999999999,-93.611000000000004,null,993,"",{"$f":"IF($A994=\"\",\"\",COUNTIF($A$2:$A994,$A994))","v":57},{"$f":"IF($A994=\"\",\"\",$O994+thousand*VLOOKUP($A994,$A$1:Q994,17,FALSE))","v":47057},{"$f":"IF(O994=1,MAX(Q$1:Q993)+1,\"\")","v":""},"Renesola","JC250F-24/Bbh",993,null,null,null,null,null,null,null,null,null,null,null,null,null,null,null,null,null,null,1000]
["Renesola","JC250F-24/Bb",0.15366837136113295,250,37.5,30.1,8.8699999999999992,8.32,3.1044999999999998,-116.62499999999999,-93.611000000000004,null,994,"",{"$f":"IF($A995=\"\",\"\",COUNTIF($A$2:$A995,$A995))","v":58},{"$f":"IF($A995=\"\",\"\",$O995+thousand*VLOOKUP($A995,$A$1:Q995,17,FALSE))","v":47058},{"$f":"IF(O995=1,MAX(Q$1:Q994)+1,\"\")","v":""},"Renesola","JC250F-24/Bb",994,null,null,null,null,null,null,null,null,null,null,null,null,null,null,null,null,null,null,1000]
["Renesola","JC250S-24/Bzh",0.15366837136113295,250,37.5,30.1,8.8699999999999992,8.32,3.1044999999999998,-116.62499999999999,-93.611000000000004,null,995,"",{"$f":"IF($A996=\"\",\"\",COUNTIF($A$2:$A996,$A996))","v":59},{"$f":"IF($A996=\"\",\"\",$O996+thousand*VLOOKUP($A996,$A$1:Q996,17,FALSE))","v":47059},{"$f":"IF(O996=1,MAX(Q$1:Q995)+1,\"\")","v":""},"Renesola","JC250S-24/Bzh",995,null,null,null,null,null,null,null,null,null,null,null,null,null,null,null,null,null,null,1000]
["Renesola","JC250S-24/Bz",0.15366837136113295,250,37.5,30.1,8.8699999999999992,8.32,3.1044999999999998,-116.62499999999999,-93.611000000000004,null,996,"",{"$f":"IF($A997=\"\",\"\",COUNTIF($A$2:$A997,$A997))","v":60},{"$f":"IF($A997=\"\",\"\",$O997+thousand*VLOOKUP($A997,$A$1:Q997,17,FALSE))","v":47060},{"$f":"IF(O997=1,MAX(Q$1:Q996)+1,\"\")","v":""},"Renesola","JC250S-24/Bz",996,null,null,null,null,null,null,null,null,null,null,null,null,null,null,null,null,null,null,1000]
["Renesola","JC250S-24/Bbh-b",0.15366837136113295,250,37.5,30.1,8.8699999999999992,8.32,3.1044999999999998,-116.62499999999999,-93.611000000000004,null,997,"",{"$f":"IF($A998=\"\",\"\",COUNTIF($A$2:$A998,$A998))","v":61},{"$f":"IF($A998=\"\",\"\",$O998+thousand*VLOOKUP($A998,$A$1:Q998,17,FALSE))","v":47061},{"$f":"IF(O998=1,MAX(Q$1:Q997)+1,\"\")","v":""},"Renesola","JC250S-24/Bbh-b",997,null,null,null,null,null,null,null,null,null,null,null,null,null,null,null,null,null,null,1000]
["Renesola","JC250S-24/Bbh",0.15366837136113295,250,37.5,30.1,8.8699999999999992,8.32,3.1044999999999998,-116.62499999999999,-93.611000000000004,null,998,"",{"$f":"IF($A999=\"\",\"\",COUNTIF($A$2:$A999,$A999))","v":62},{"$f":"IF($A999=\"\",\"\",$O999+thousand*VLOOKUP($A999,$A$1:Q999,17,FALSE))","v":47062},{"$f":"IF(O999=1,MAX(Q$1:Q998)+1,\"\")","v":""},"Renesola","JC250S-24/Bbh",998,null,null,null,null,null,null,null,null,null,null,null,null,null,null,null,null,null,null,1000]
["Renesola","JC250S-24/Bb-b",0.15366837136113295,250,37.5,30.1,8.8699999999999992,8.32,3.1044999999999998,-116.62499999999999,{"$f":"F1000/E1000*J1000","v":-93.611000000000004},null,999,"",{"$f":"IF($A1000=\"\",\"\",COUNTIF($A$2:$A1000,$A1000))","v":63},{"$f":"IF($A1000=\"\",\"\",$O1000+thousand*VLOOKUP($A1000,$A$1:Q1000,17,FALSE))","v":47063},{"$f":"IF(O1000=1,MAX(Q$1:Q999)+1,\"\")","v":""},"Renesola","JC250S-24/Bb-b",999,null,null,null,null,null,null,null,null,null,null,null,null,null,null,null,null,null,null,1000]
["Renesola","JC255M-24/Bbh-b",0.15674173878835562,255,37.5,30.4,8.86,8.39,3.6325999999999996,-112.5,-91.2,null,1004,"",{"$f":"IF($A1005=\"\",\"\",COUNTIF($A$2:$A1005,$A1005))","v":68},{"$f":"IF($A1005=\"\",\"\",$O1005+thousand*VLOOKUP($A1005,$A$1:Q1005,17,FALSE))","v":47068},{"$f":"IF(O1005=1,MAX(Q$1:Q1004)+1,\"\")","v":""},"Renesola","JC255M-24/Bbh-b",1004,null,null,null,null,null,null,null,null,null,null,null,null,null,null,null,null,null,null,1000]
["Renesola","JC255F-24/Bz",0.15674173878835562,255,37.6,30.2,8.99,8.44,3.1465000000000005,-116.93599999999999,-93.921999999999983,null,1009,"",{"$f":"IF($A1010=\"\",\"\",COUNTIF($A$2:$A1010,$A1010))","v":73},{"$f":"IF($A1010=\"\",\"\",$O1010+thousand*VLOOKUP($A1010,$A$1:Q1010,17,FALSE))","v":47073},{"$f":"IF(O1010=1,MAX(Q$1:Q1009)+1,\"\")","v":""},"Renesola","JC255F-24/Bz",1009,null,null,null,null,null,null,null,null,null,null,null,null,null,null,null,null,null,null,1000]
["Renesola","JC255S-24/Bb-b",0.15674173878835562,255,37.6,30.2,8.99,8.44,3.1465000000000005,-116.93599999999999,-93.921999999999983,null,1017,"",{"$f":"IF($A1018=\"\",\"\",COUNTIF($A$2:$A1018,$A1018))","v":81},{"$f":"IF($A1018=\"\",\"\",$O1018+thousand*VLOOKUP($A1018,$A$1:Q1018,17,FALSE))","v":47081},{"$f":"IF(O1018=1,MAX(Q$1:Q1017)+1,\"\")","v":""},"Renesola","JC255S-24/Bb-b",1017,null,null,null,null,null,null,null,null,null,null,null,null,null,null,null,null,null,null,1000]
["Renesola","JC260M-24/Bbh",0.15981510621557829,260,44,34.799999999999997,8.09,7.47,3.3169,-132,-104.39999999999999,null,1023,"",{"$f":"IF($A1024=\"\",\"\",COUNTIF($A$2:$A1024,$A1024))","v":87},{"$f":"IF($A1024=\"\",\"\",$O1024+thousand*VLOOKUP($A1024,$A$1:Q1024,17,FALSE))","v":47087},{"$f":"IF(O1024=1,MAX(Q$1:Q1023)+1,\"\")","v":""},"Renesola","JC260M-24/Bbh",1023,null,null,null,null,null,null,null,null,null,null,null,null,null,null,null,null,null,null,1000]
["Renesola","JC265F-24/Bz",0.16288847364280096,265,37.9,30.6,9.19,8.66,3.2164999999999999,-117.86899999999999,-95.165999999999997,null,1034,"",{"$f":"IF($A1035=\"\",\"\",COUNTIF($A$2:$A1035,$A1035))","v":98},{"$f":"IF($A1035=\"\",\"\",$O1035+thousand*VLOOKUP($A1035,$A$1:Q1035,17,FALSE))","v":47098},{"$f":"IF(O1035=1,MAX(Q$1:Q1034)+1,\"\")","v":""},"Renesola","JC265F-24/Bz",1034,null,null,null,null,null,null,null,null,null,null,null,null,null,null,null,null,null,null,1000]
["Renesola","JC265S-24/Bbh-b",0.16288847364280096,265,37.9,30.6,9.19,8.66,3.2164999999999999,-117.86899999999999,-95.165999999999997,null,1040,"",{"$f":"IF($A1041=\"\",\"\",COUNTIF($A$2:$A1041,$A1041))","v":104},{"$f":"IF($A1041=\"\",\"\",$O1041+thousand*VLOOKUP($A1041,$A$1:Q1041,17,FALSE))","v":47104},{"$f":"IF(O1041=1,MAX(Q$1:Q1040)+1,\"\")","v":""},"Renesola","JC265S-24/Bbh-b",1040,null,null,null,null,null,null,null,null,null,null,null,null,null,null,null,null,null,null,1000]
["Renesola","JC270F-24/Bbh-b",0.1659618410700236,270,38.1,30.8,9.2799999999999994,8.77,3.2480000000000002,-118.491,-95.787999999999997,null,1045,"",{"$f":"IF($A1046=\"\",\"\",COUNTIF($A$2:$A1046,$A1046))","v":109},{"$f":"IF($A1046=\"\",\"\",$O1046+thousand*VLOOKUP($A1046,$A$1:Q1046,17,FALSE))","v":47109},{"$f":"IF(O1046=1,MAX(Q$1:Q1045)+1,\"\")","v":""},"Renesola","JC270F-24/Bbh-b",1045,null,null,null,null,null,null,null,null,null,null,null,null,null,null,null,null,null,null,1000]
["Renesola","JC270S-24/Bbh",0.1659618410700236,270,38.1,30.8,9.2799999999999994,8.77,3.2480000000000002,-118.491,-95.787999999999997,null,1051,"",{"$f":"IF($A1052=\"\",\"\",COUNTIF($A$2:$A1052,$A1052))","v":115},{"$f":"IF($A1052=\"\",\"\",$O1052+thousand*VLOOKUP($A1052,$A$1:Q1052,17,FALSE))","v":47115},{"$f":"IF(O1052=1,MAX(Q$1:Q1051)+1,\"\")","v":""},"Renesola","JC270S-24/Bbh",1051,null,null,null,null,null,null,null,null,null,null,null,null,null,null,null,null,null,null,1000]
["Renesola","JC290M-24/Abv",0.14945741803549048,290,44.4,36.1,8.57,8.06,3.5137,-130.09199999999998,-105.773,null,1059,"",{"$f":"IF($A1060=\"\",\"\",COUNTIF($A$2:$A1060,$A1060))","v":123},{"$f":"IF($A1060=\"\",\"\",$O1060+thousand*VLOOKUP($A1060,$A$1:Q1060,17,FALSE))","v":47123},{"$f":"IF(O1060=1,MAX(Q$1:Q1059)+1,\"\")","v":""},"Renesola","JC290M-24/Abv",1059,null,null,null,null,null,null,null,null,null,null,null,null,null,null,null,null,null,null,1000]
["Renesola","JC295M-24/Ab",0.15203427007058515,295,44.7,36.299999999999997,8.6199999999999992,8.1300000000000008,3.5341999999999993,-134.1,-108.89999999999999,null,1068,"",{"$f":"IF($A1069=\"\",\"\",COUNTIF($A$2:$A1069,$A1069))","v":132},{"$f":"IF($A1069=\"\",\"\",$O1069+thousand*VLOOKUP($A1069,$A$1:Q1069,17,FALSE))","v":47132},{"$f":"IF(O1069=1,MAX(Q$1:Q1068)+1,\"\")","v":""},"Renesola","JC295M-24/Ab",1068,null,null,null,null,null,null,null,null,null,null,null,null,null,null,null,null,null,null,1000]
["Renesola","JC305M-24/Azv",0.15718797414077446,305,44.9,37.1,8.75,8.23,3.5875000000000004,-131.55700000000002,-108.70300000000003,null,1076,"",{"$f":"IF($A1077=\"\",\"\",COUNTIF($A$2:$A1077,$A1077))","v":140},{"$f":"IF($A1077=\"\",\"\",$O1077+thousand*VLOOKUP($A1077,$A$1:Q1077,17,FALSE))","v":47140},{"$f":"IF(O1077=1,MAX(Q$1:Q1076)+1,\"\")","v":""},"Renesola","JC305M-24/Azv",1076,null,null,null,null,null,null,null,null,null,null,null,null,null,null,null,null,null,null,1000]
["Renesola","JC310M-24/Abh-b",0.1597648261758691,310,45,37,8.8000000000000007,8.3800000000000008,3.5200000000000005,-135,-111,null,1085,"",{"$f":"IF($A1086=\"\",\"\",COUNTIF($A$2:$A1086,$A1086))","v":149},{"$f":"IF($A1086=\"\",\"\",$O1086+thousand*VLOOKUP($A1086,$A$1:Q1086,17,FALSE))","v":47149},{"$f":"IF(O1086=1,MAX(Q$1:Q1085)+1,\"\")","v":""},"Renesola","JC310M-24/Abh-b",1085,null,null,null,null,null,null,null,null,null,null,null,null,null,null,null,null,null,null,1000]
["Risen Energy Co., Ltd","SYP300S",0.15461112210567979,300,44.9,35.9,8.85,8.36,4.4249999999999998,-142,-113.53674832962139,null,1090,"",{"$f":"IF($A1091=\"\",\"\",COUNTIF($A$2:$A1091,$A1091))","v":3},{"$f":"IF($A1091=\"\",\"\",$O1091+thousand*VLOOKUP($A1091,$A$1:Q1091,17,FALSE))","v":48003},{"$f":"IF(O1091=1,MAX(Q$1:Q1090)+1,\"\")","v":""},{"$f":"IF(A1091=\"\",\"\",A1091)","v":"Risen Energy Co., Ltd"},{"$f":"IF(B1091=\"\",\"\",B1091)","v":"SYP300S"},{"$f":"$M1091","v":1090},null,null,null,null,null,null,null,null,null,null,null,null,null,null,null,null,null,null,1000]
["Saint-Gobain Luxra","PV60S-P-240/3BB",0.14677552518117604,240,37.450000000000003,29.58,8.5,8.1,5.0999999999999996,-119.84000000000002,-94.656000000000006,null,1098,"",{"$f":"IF($A1099=\"\",\"\",COUNTIF($A$2:$A1099,$A1099))","v":6},{"$f":"IF($A1099=\"\",\"\",$O1099+thousand*VLOOKUP($A1099,$A$1:Q1099,17,FALSE))","v":50006},{"$f":"IF(O1099=1,MAX(Q$1:Q1098)+1,\"\")","v":""},"Saint-Gobain Luxra","PV60S-P-240/3BB",1098,null,null,null,null,null,null,null,null,null,null,null,null,null,null,null,null,null,null,1000]
["Samsung SDI. Co. Ltd.","PV-MBA1BG250",0.15329448237971902,250,37.799999999999997,30.7,8.68,8.15,2.9512,-131,-106.3941798941799,null,1110,"",{"$f":"IF($A1111=\"\",\"\",COUNTIF($A$2:$A1111,$A1111))","v":3},{"$f":"IF($A1111=\"\",\"\",$O1111+thousand*VLOOKUP($A1111,$A$1:Q1111,17,FALSE))","v":51003},{"$f":"IF(O1111=1,MAX(Q$1:Q1110)+1,\"\")","v":""},"Samsung SDI. Co. Ltd.","PV-MBA1BG250",1110,null,null,null,null,null,null,null,null,null,null,null,null,null,null,null,null,null,null,1000]
["Selfa GE S.A.","SV60P-230",0.14010635900122442,230,37,29.8,8.3000000000000007,7.7,2.4900000000000002,-111,-89.4,null,1112,"",{"$f":"IF($A1113=\"\",\"\",COUNTIF($A$2:$A1113,$A1113))","v":1},{"$f":"IF($A1113=\"\",\"\",$O1113+thousand*VLOOKUP($A1113,$A$1:Q1113,17,FALSE))","v":52001},{"$f":"IF(O1113=1,MAX(Q$1:Q1112)+1,\"\")","v":52},"Selfa GE S.A.","SV60P-230",1112,null,null,null,null,null,null,null,null,null,null,null,null,null,null,null,null,null,null,1000]
["Selfa GE S.A.","SV72P-275",0.14086397252793972,275,44.2,34.85,8.25,7.9,2.4750000000000001,-132.6,-104.55,null,1119,"",{"$f":"IF($A1120=\"\",\"\",COUNTIF($A$2:$A1120,$A1120))","v":8},{"$f":"IF($A1120=\"\",\"\",$O1120+thousand*VLOOKUP($A1120,$A$1:Q1120,17,FALSE))","v":52008},{"$f":"IF(O1120=1,MAX(Q$1:Q1119)+1,\"\")","v":""},"Selfa GE S.A.","SV72P-275",1119,null,null,null,null,null,null,null,null,null,null,null,null,null,null,null,null,null,null,1000]
["Sharp","ND-R245A6",0.14920028646455,245,38.299999999999997,30.3,8.48,8.09,4.24,-133,-105.21932114882507,null,1126,"",{"$f":"IF($A1127=\"\",\"\",COUNTIF($A$2:$A1127,$A1127))","v":5},{"$f":"IF($A1127=\"\",\"\",$O1127+thousand*VLOOKUP($A1127,$A$1:Q1127,17,FALSE))","v":53005},{"$f":"IF(O1127=1,MAX(Q$1:Q1126)+1,\"\")","v":""},"Sharp","ND-R245A6",1126,null,null,null,null,null,null,null,null,null,null,null,null,null,null,null,null,null,null,1000]
["Sharp Corporation","NA-E135G5",9.6194818020780934E-2,135,61.3,47,3.41,2.88,0,-190.03,-145.69999999999999,null,1136,"",{"$f":"IF($A1137=\"\",\"\",COUNTIF($A$2:$A1137,$A1137))","v":10},{"$f":"IF($A1137=\"\",\"\",$O1137+thousand*VLOOKUP($A1137,$A$1:Q1137,17,FALSE))","v":54010},{"$f":"IF(O1137=1,MAX(Q$1:Q1136)+1,\"\")","v":""},"Sharp Corporation","NA-E135G5",1136,null,null,null,null,null,null,null,null,null,null,null,null,null,null,null,null,null,null,1000]
["Solarezo","RS225 P60",0.13830153422501967,225,36.5,29.2,8.31,7.71,4.1550000000000002,-128,-102.39999999999999,null,1147,"",{"$f":"IF($A1148=\"\",\"\",COUNTIF($A$2:$A1148,$A1148))","v":6},{"$f":"IF($A1148=\"\",\"\",$O1148+thousand*VLOOKUP($A1148,$A$1:Q1148,17,FALSE))","v":57006},{"$f":"IF(O1148=1,MAX(Q$1:Q1147)+1,\"\")","v":""},"Solarezo","RS225 P60",1147,null,null,null,null,null,null,null,null,null,null,null,null,null,null,null,null,null,null,1000]
["Solarezo","RS230 M60",0.14137490165224234,230,36.42,29.92,8.48,7.69,4.24,-124,-101.86930258099945,null,1148,"",{"$f":"IF($A1149=\"\",\"\",COUNTIF($A$2:$A1149,$A1149))","v":7},{"$f":"IF($A1149=\"\",\"\",$O1149+thousand*VLOOKUP($A1149,$A$1:Q1149,17,FALSE))","v":57007},{"$f":"IF(O1149=1,MAX(Q$1:Q1148)+1,\"\")","v":""},"Solarezo","RS230 M60",1148,null,null,null,null,null,null,null,null,null,null,null,null,null,null,null,null,null,null,1000]
["Solar Frontier K. K.","SF145-S",0.11806961873284429,145,107,81,2.2000000000000002,1.8,0.22000000000000003,-321,-243,null,1161,"",{"$f":"IF($A1162=\"\",\"\",COUNTIF($A$2:$A1162,$A1162))","v":4},{"$f":"IF($A1162=\"\",\"\",$O1162+thousand*VLOOKUP($A1162,$A$1:Q1162,17,FALSE))","v":58004},{"$f":"IF(O1162=1,MAX(Q$1:Q1161)+1,\"\")","v":""},"Solar Frontier K. K.","SF145-S",1161,null,null,null,null,null,null,null,null,null,null,null,null,null,null,null,null,null,null,1000]
["Solarkauf","Luxra PV60S-245",0.14983334862245057,245,37.65,29.68,8.6,8.25,5.16,-136.6695,-107.7384,null,1169,"",{"$f":"IF($A1170=\"\",\"\",COUNTIF($A$2:$A1170,$A1170))","v":3},{"$f":"IF($A1170=\"\",\"\",$O1170+thousand*VLOOKUP($A1170,$A$1:Q1170,17,FALSE))","v":59003},{"$f":"IF(O1170=1,MAX(Q$1:Q1169)+1,\"\")","v":""},"Solarkauf","Luxra PV60S-245",1169,null,null,null,null,null,null,null,null,null,null,null,null,null,null,null,null,null,null,1000]
["Solarkauf","Luxra PV60S-250/SI",0.15289117206372504,250,37.92,30.96,8.6199999999999992,8.07,5.1719999999999988,-137.64960000000002,-112.38480000000003,null,1170,"",{"$f":"IF($A1171=\"\",\"\",COUNTIF($A$2:$A1171,$A1171))","v":4},{"$f":"IF($A1171=\"\",\"\",$O1171+thousand*VLOOKUP($A1171,$A$1:Q1171,17,FALSE))","v":59004},{"$f":"IF(O1171=1,MAX(Q$1:Q1170)+1,\"\")","v":""},"Solarkauf","Luxra PV60S-250/SI",1170,null,null,null,null,null,null,null,null,null,null,null,null,null,null,null,null,null,null,1000]
["Solibro","SL2-120 [G1.4+]",0.12764599510690353,120,97.6,76.900000000000006,1.69,1.56,0.16899999999999998,-283.03999999999996,-223.01,null,1183,"",{"$f":"IF($A1184=\"\",\"\",COUNTIF($A$2:$A1184,$A1184))","v":10},{"$f":"IF($A1184=\"\",\"\",$O1184+thousand*VLOOKUP($A1184,$A$1:Q1184,17,FALSE))","v":60010},{"$f":"IF(O1184=1,MAX(Q$1:Q1183)+1,\"\")","v":""},"Solibro","SL2-120 [G1.4+]",1183,null,null,null,null,null,null,null,null,null,null,null,null,null,null,null,null,null,null,1000]
["Stion","STN 125",0.11506568870036527,125,58,42.2,3.45,3,0,-162.4,-118.16000000000001,null,1187,"",{"$f":"IF($A1188=\"\",\"\",COUNTIF($A$2:$A1188,$A1188))","v":2},{"$f":"IF($A1188=\"\",\"\",$O1188+thousand*VLOOKUP($A1188,$A$1:Q1188,17,FALSE))","v":61002},{"$f":"IF(O1188=1,MAX(Q$1:Q1187)+1,\"\")","v":""},"Stion","STN 125",1187,null,null,null,null,null,null,null,null,null,null,null,null,null,null,null,null,null,null,1000]
["Sun Earth","Mono 190 Wp 72 cells",0.14882817395663617,190,45,36.6,5.42,5.2,2.71,-144.00000000000003,-117.12000000000003,null,1193,"",{"$f":"IF($A1194=\"\",\"\",COUNTIF($A$2:$A1194,$A1194))","v":1},{"$f":"IF($A1194=\"\",\"\",$O1194+thousand*VLOOKUP($A1194,$A$1:Q1194,17,FALSE))","v":62001},{"$f":"IF(O1194=1,MAX(Q$1:Q1193)+1,\"\")","v":62},"Sun Earth","Mono 190 Wp 72 cells",1193,null,null,null,null,null,null,null,null,null,null,null,null,null,null,null,null,null,null,1000]
["Suniva","MVX240-60-5-7B1",0.14752163650668765,240,37.200000000000003,29.7,8.64,8.08,3.8880000000000003,-126.48,-100.98,null,1205,"",{"$f":"IF($A1206=\"\",\"\",COUNTIF($A$2:$A1206,$A1206))","v":1},{"$f":"IF($A1206=\"\",\"\",$O1206+thousand*VLOOKUP($A1206,$A$1:Q1206,17,FALSE))","v":63001},{"$f":"IF(O1206=1,MAX(Q$1:Q1205)+1,\"\")","v":63},"Suniva","MVX240-60-5-7B1",1205,null,null,null,null,null,null,null,null,null,null,null,null,null,null,null,null,null,null,1000]
["Suniva","MVX255-60-7-701",0.15674173878835562,255,37.5,30.4,8.86,8.39,3.9869999999999992,-127.50000000000003,-103.36000000000001,null,1212,"",{"$f":"IF($A1213=\"\",\"\",COUNTIF($A$2:$A1213,$A1213))","v":8},{"$f":"IF($A1213=\"\",\"\",$O1213+thousand*VLOOKUP($A1213,$A$1:Q1213,17,FALSE))","v":63008},{"$f":"IF(O1213=1,MAX(Q$1:Q1212)+1,\"\")","v":""},"Suniva","MVX255-60-7-701",1212,null,null,null,null,null,null,null,null,null,null,null,null,null,null,null,null,null,null,1000]
["Suniva","OPT270-60-4-100",0.16643406991710352,270,38.5,31.2,9.15,8.68,4.3005000000000004,-130.9,-106.08,null,1219,"",{"$f":"IF($A1220=\"\",\"\",COUNTIF($A$2:$A1220,$A1220))","v":15},{"$f":"IF($A1220=\"\",\"\",$O1220+thousand*VLOOKUP($A1220,$A$1:Q1220,17,FALSE))","v":63015},{"$f":"IF(O1220=1,MAX(Q$1:Q1219)+1,\"\")","v":""},"Suniva","OPT270-60-4-100",1219,null,null,null,null,null,null,null,null,null,null,null,null,null,null,null,null,null,null,1000]
["SunPower","SPR-X20-245",0.19693235654884483,245,50.8,42.8,6.08,5.72,2.2496,-125.476,-105.71599999999999,null,1229,"",{"$f":"IF($A1230=\"\",\"\",COUNTIF($A$2:$A1230,$A1230))","v":2},{"$f":"IF($A1230=\"\",\"\",$O1230+thousand*VLOOKUP($A1230,$A$1:Q1230,17,FALSE))","v":64002},{"$f":"IF(O1230=1,MAX(Q$1:Q1229)+1,\"\")","v":""},"SunPower","SPR-X20-245",1229,null,null,null,null,null,null,null,null,null,null,null,null,null,null,null,null,null,null,1000]
["SunPower","SPR-X20-327-COM",0.20052565931242389,327,67.599999999999994,57.3,6.07,5.71,2.2459000000000002,-166.97199999999998,-141.53100000000001,null,1236,"",{"$f":"IF($A1237=\"\",\"\",COUNTIF($A$2:$A1237,$A1237))","v":9},{"$f":"IF($A1237=\"\",\"\",$O1237+thousand*VLOOKUP($A1237,$A$1:Q1237,17,FALSE))","v":64009},{"$f":"IF(O1237=1,MAX(Q$1:Q1236)+1,\"\")","v":""},"SunPower","SPR-X20-327-COM",1236,null,null,null,null,null,null,null,null,null,null,null,null,null,null,null,null,null,null,1000]
["SunPower","SPR-X21-335-BLK",0.20543148583994497,335,67.900000000000006,57.3,6.23,5.85,2.3050999999999999,-167.71299999999999,-141.53099999999998,null,1238,"",{"$f":"IF($A1239=\"\",\"\",COUNTIF($A$2:$A1239,$A1239))","v":11},{"$f":"IF($A1239=\"\",\"\",$O1239+thousand*VLOOKUP($A1239,$A$1:Q1239,17,FALSE))","v":64011},{"$f":"IF(O1239=1,MAX(Q$1:Q1238)+1,\"\")","v":""},"SunPower","SPR-X21-335-BLK",1238,null,null,null,null,null,null,null,null,null,null,null,null,null,null,null,null,null,null,1000]
["Suntech","STP 230-20/Wd",0.14137490165224234,230,36.799999999999997,29.8,8.25,7.72,5.5275000000000007,-121.44000000000001,-98.340000000000018,null,1250,"",{"$f":"IF($A1251=\"\",\"\",COUNTIF($A$2:$A1251,$A1251))","v":3},{"$f":"IF($A1251=\"\",\"\",$O1251+thousand*VLOOKUP($A1251,$A$1:Q1251,17,FALSE))","v":65003},{"$f":"IF(O1251=1,MAX(Q$1:Q1250)+1,\"\")","v":""},"Suntech","STP 230-20/Wd",1250,null,null,null,null,null,null,null,null,null,null,null,null,null,null,null,null,null,null,1000]
["Suntech","HiPerforma PLUTO 250-Wdm",0.15366837136113295,250,37.4,30,8.6300000000000008,8.34,4.4013,-115.93999999999998,-92.999999999999986,null,1258,"",{"$f":"IF($A1259=\"\",\"\",COUNTIF($A$2:$A1259,$A1259))","v":11},{"$f":"IF($A1259=\"\",\"\",$O1259+thousand*VLOOKUP($A1259,$A$1:Q1259,17,FALSE))","v":65011},{"$f":"IF(O1259=1,MAX(Q$1:Q1258)+1,\"\")","v":""},"Suntech","HiPerforma PLUTO 250-Wdm",1258,null,null,null,null,null,null,null,null,null,null,null,null,null,null,null,null,null,null,1000]
["Suntech","STP 255-20/Wd",0.15674173878835562,255,37.6,30.8,8.76,8.2799999999999994,5.8692000000000002,-124.08000000000001,-101.64000000000001,null,1263,"",{"$f":"IF($A1264=\"\",\"\",COUNTIF($A$2:$A1264,$A1264))","v":16},{"$f":"IF($A1264=\"\",\"\",$O1264+thousand*VLOOKUP($A1264,$A$1:Q1264,17,FALSE))","v":65016},{"$f":"IF(O1264=1,MAX(Q$1:Q1263)+1,\"\")","v":""},"Suntech","STP 255-20/Wd",1263,null,null,null,null,null,null,null,null,null,null,null,null,null,null,null,null,null,null,1000]
["Suntech","STP 265S-20/Wd+",0.16288847364280096,265,38.1,30.5,9.2200000000000006,8.69,5.532,-129.54000000000002,-103.7,null,1272,"",{"$f":"IF($A1273=\"\",\"\",COUNTIF($A$2:$A1273,$A1273))","v":25},{"$f":"IF($A1273=\"\",\"\",$O1273+thousand*VLOOKUP($A1273,$A$1:Q1273,17,FALSE))","v":65025},{"$f":"IF(O1273=1,MAX(Q$1:Q1272)+1,\"\")","v":""},"Suntech","STP 265S-20/Wd+",1272,null,null,null,null,null,null,null,null,null,null,null,null,null,null,null,null,null,null,1000]
["Suntech","STP 285-24/Vd (Superpoly)",0.14688056600039581,285,44.9,35.4,8.3699999999999992,8.06,4.6034999999999995,-148.16999999999999,-116.82,null,1280,"",{"$f":"IF($A1281=\"\",\"\",COUNTIF($A$2:$A1281,$A1281))","v":33},{"$f":"IF($A1281=\"\",\"\",$O1281+thousand*VLOOKUP($A1281,$A$1:Q1281,17,FALSE))","v":65033},{"$f":"IF(O1281=1,MAX(Q$1:Q1280)+1,\"\")","v":""},"Suntech","STP 285-24/Vd (Superpoly)",1280,null,null,null,null,null,null,null,null,null,null,null,null,null,null,null,null,null,null,1000]
["Suntech","STP 295-24/Vd",0.15203427007058515,295,45.1,35.700000000000003,8.57,8.27,4.7134999999999998,-148.83000000000001,-117.81000000000002,null,1286,"",{"$f":"IF($A1287=\"\",\"\",COUNTIF($A$2:$A1287,$A1287))","v":39},{"$f":"IF($A1287=\"\",\"\",$O1287+thousand*VLOOKUP($A1287,$A$1:Q1287,17,FALSE))","v":65039},{"$f":"IF(O1287=1,MAX(Q$1:Q1286)+1,\"\")","v":""},"Suntech","STP 295-24/Vd",1286,null,null,null,null,null,null,null,null,null,null,null,null,null,null,null,null,null,null,1000]
["Suntech","STP 300-24/Vd",0.15461112210567979,300,45.2,36.1,8.65,8.32,4.7575000000000003,-149.16000000000003,-119.13000000000001,null,1289,"",{"$f":"IF($A1290=\"\",\"\",COUNTIF($A$2:$A1290,$A1290))","v":42},{"$f":"IF($A1290=\"\",\"\",$O1290+thousand*VLOOKUP($A1290,$A$1:Q1290,17,FALSE))","v":65042},{"$f":"IF(O1290=1,MAX(Q$1:Q1289)+1,\"\")","v":""},"Suntech","STP 300-24/Vd",1289,null,null,null,null,null,null,null,null,null,null,null,null,null,null,null,null,null,null,1000]
["Tamesol","TM-M660235",0.14444826907946495,235,37.19,30.36,8.49,7.74,3.3959999999999999,-119.00800000000001,-97.152000000000015,null,1300,"",{"$f":"IF($A1301=\"\",\"\",COUNTIF($A$2:$A1301,$A1301))","v":3},{"$f":"IF($A1301=\"\",\"\",$O1301+thousand*VLOOKUP($A1301,$A$1:Q1301,17,FALSE))","v":66003},{"$f":"IF(O1301=1,MAX(Q$1:Q1300)+1,\"\")","v":""},"Tamesol","TM-M660235",1300,null,null,null,null,null,null,null,null,null,null,null,null,null,null,null,null,null,null,1000]
["Tamesol","TM-M660255",0.15674173878835562,255,38.1,31.1,8.76,8.1999999999999993,3.504,-121.92,-99.52000000000001,null,1308,"",{"$f":"IF($A1309=\"\",\"\",COUNTIF($A$2:$A1309,$A1309))","v":11},{"$f":"IF($A1309=\"\",\"\",$O1309+thousand*VLOOKUP($A1309,$A$1:Q1309,17,FALSE))","v":66011},{"$f":"IF(O1309=1,MAX(Q$1:Q1308)+1,\"\")","v":""},"Tamesol","TM-M660255",1308,null,null,null,null,null,null,null,null,null,null,null,null,null,null,null,null,null,null,1000]
["Tamesol","TM-P672290",0.14945741803549048,290,45,35.9,8.44,8.08,5.0640000000000001,-153,-122.05999999999999,null,1314,"",{"$f":"IF($A1315=\"\",\"\",COUNTIF($A$2:$A1315,$A1315))","v":17},{"$f":"IF($A1315=\"\",\"\",$O1315+thousand*VLOOKUP($A1315,$A$1:Q1315,17,FALSE))","v":66017},{"$f":"IF(O1315=1,MAX(Q$1:Q1314)+1,\"\")","v":""},"Tamesol","TM-P672290",1314,null,null,null,null,null,null,null,null,null,null,null,null,null,null,null,null,null,null,1000]
["Tianwei New Energy","TWY225M660",0.13830153422501967,225,36.799999999999997,29.7,8.18,7.58,1.6359999999999999,-117.76,-95.04000000000002,null,1322,"",{"$f":"IF($A1323=\"\",\"\",COUNTIF($A$2:$A1323,$A1323))","v":2},{"$f":"IF($A1323=\"\",\"\",$O1323+thousand*VLOOKUP($A1323,$A$1:Q1323,17,FALSE))","v":67002},{"$f":"IF(O1323=1,MAX(Q$1:Q1322)+1,\"\")","v":""},"Tianwei New Energy","TWY225M660",1322,null,null,null,null,null,null,null,null,null,null,null,null,null,null,null,null,null,null,600]
["Tianwei New Energy","TWY250P660",0.15366837136113295,250,37.799999999999997,30.5,8.85,8.1999999999999993,1.77,-120.96,-97.600000000000009,null,1331,"",{"$f":"IF($A1332=\"\",\"\",COUNTIF($A$2:$A1332,$A1332))","v":11},{"$f":"IF($A1332=\"\",\"\",$O1332+thousand*VLOOKUP($A1332,$A$1:Q1332,17,FALSE))","v":67011},{"$f":"IF(O1332=1,MAX(Q$1:Q1331)+1,\"\")","v":""},"Tianwei New Energy","TWY250P660",1331,null,null,null,null,null,null,null,null,null,null,null,null,null,null,null,null,null,null,1000]
["Tianwei New Energy","TWY260M660",0.15981510621557829,260,38.1,30.7,9.02,8.4700000000000006,1.804,-121.92,-98.24,null,1336,"",{"$f":"IF($A1337=\"\",\"\",COUNTIF($A$2:$A1337,$A1337))","v":16},{"$f":"IF($A1337=\"\",\"\",$O1337+thousand*VLOOKUP($A1337,$A$1:Q1337,17,FALSE))","v":67016},{"$f":"IF(O1337=1,MAX(Q$1:Q1336)+1,\"\")","v":""},"Tianwei New Energy","TWY260M660",1336,null,null,null,null,null,null,null,null,null,null,null,null,null,null,null,null,null,null,1000]
["Tianwei New Energy","TWY285P672",0.14688056600039581,285,44.6,36,8.5500000000000007,7.92,1.7100000000000002,-142.72000000000003,-115.20000000000002,null,1348,"",{"$f":"IF($A1349=\"\",\"\",COUNTIF($A$2:$A1349,$A1349))","v":28},{"$f":"IF($A1349=\"\",\"\",$O1349+thousand*VLOOKUP($A1349,$A$1:Q1349,17,FALSE))","v":67028},{"$f":"IF(O1349=1,MAX(Q$1:Q1348)+1,\"\")","v":""},"Tianwei New Energy","TWY285P672",1348,null,null,null,null,null,null,null,null,null,null,null,null,null,null,null,null,null,null,1000]
["Tianwei New Energy","TWY295M672",0.15203427007058515,295,45.5,36.700000000000003,8.68,8.0399999999999991,1.736,-145.6,-117.44,null,1353,"",{"$f":"IF($A1354=\"\",\"\",COUNTIF($A$2:$A1354,$A1354))","v":33},{"$f":"IF($A1354=\"\",\"\",$O1354+thousand*VLOOKUP($A1354,$A$1:Q1354,17,FALSE))","v":67033},{"$f":"IF(O1354=1,MAX(Q$1:Q1353)+1,\"\")","v":""},"Tianwei New Energy","TWY295M672",1353,null,null,null,null,null,null,null,null,null,null,null,null,null,null,null,null,null,null,1000]
["Tianwei New Energy","TWY310P672",0.1597648261758691,310,45.6,37,8.9600000000000009,8.3800000000000008,1.7920000000000003,-145.91999999999999,-118.39999999999999,null,1358,"",{"$f":"IF($A1359=\"\",\"\",COUNTIF($A$2:$A1359,$A1359))","v":38},{"$f":"IF($A1359=\"\",\"\",$O1359+thousand*VLOOKUP($A1359,$A$1:Q1359,17,FALSE))","v":67038},{"$f":"IF(O1359=1,MAX(Q$1:Q1358)+1,\"\")","v":""},"Tianwei New Energy","TWY310P672",1358,null,null,null,null,null,null,null,null,null,null,null,null,null,null,null,null,null,null,1000]
["Tianwei New Energy","TWY325M672",0.1674953822811531,325,46,37.5,9.14,8.67,1.8280000000000003,-147.19999999999999,-119.99999999999999,null,1365,"",{"$f":"IF($A1366=\"\",\"\",COUNTIF($A$2:$A1366,$A1366))","v":45},{"$f":"IF($A1366=\"\",\"\",$O1366+thousand*VLOOKUP($A1366,$A$1:Q1366,17,FALSE))","v":67045},{"$f":"IF(O1366=1,MAX(Q$1:Q1365)+1,\"\")","v":""},"Tianwei New Energy","TWY325M672",1365,null,null,null,null,null,null,null,null,null,null,null,null,null,null,null,null,null,null,1000]
["TOPSUN","TS-M235",0.14503307988545469,235,38.35,31.01,8.07,7.58,4.0350000000000001,-126.55500000000004,-102.33300000000003,null,1372,"",{"$f":"IF($A1373=\"\",\"\",COUNTIF($A$2:$A1373,$A1373))","v":6},{"$f":"IF($A1373=\"\",\"\",$O1373+thousand*VLOOKUP($A1373,$A$1:Q1373,17,FALSE))","v":68006},{"$f":"IF(O1373=1,MAX(Q$1:Q1372)+1,\"\")","v":""},"TOPSUN","TS-M235",1372,null,null,null,null,null,null,null,null,null,null,null,null,null,null,null,null,null,null,1000]
["TOPSUN","TS-M260",0.13426423200859292,260,43.89,35.04,7.83,7.45,3.915,-144.83699999999999,-115.63199999999998,null,1382,"",{"$f":"IF($A1383=\"\",\"\",COUNTIF($A$2:$A1383,$A1383))","v":16},{"$f":"IF($A1383=\"\",\"\",$O1383+thousand*VLOOKUP($A1383,$A$1:Q1383,17,FALSE))","v":68016},{"$f":"IF(O1383=1,MAX(Q$1:Q1382)+1,\"\")","v":""},"TOPSUN","TS-M260",1382,null,null,null,null,null,null,null,null,null,null,null,null,null,null,null,null,null,null,1000]
["TOPSUN","TS-S290",0.14975625877881515,290,44.96,36.61,8.52,7.95,4.26,-148.36799999999999,-120.81299999999999,null,1389,"",{"$f":"IF($A1390=\"\",\"\",COUNTIF($A$2:$A1390,$A1390))","v":23},{"$f":"IF($A1390=\"\",\"\",$O1390+thousand*VLOOKUP($A1390,$A$1:Q1390,17,FALSE))","v":68023},{"$f":"IF(O1390=1,MAX(Q$1:Q1389)+1,\"\")","v":""},"TOPSUN","TS-S290",1389,null,null,null,null,null,null,null,null,null,null,null,null,null,null,null,null,null,null,1000]
["TOPSUN","TS-M310",0.14451405981949728,310,50.21,40.53,8.1300000000000008,7.65,4.0650000000000013,-165.69300000000001,-133.749,null,1399,"",{"$f":"IF($A1400=\"\",\"\",COUNTIF($A$2:$A1400,$A1400))","v":33},{"$f":"IF($A1400=\"\",\"\",$O1400+thousand*VLOOKUP($A1400,$A$1:Q1400,17,FALSE))","v":68033},{"$f":"IF(O1400=1,MAX(Q$1:Q1399)+1,\"\")","v":""},"TOPSUN","TS-M310",1399,null,null,null,null,null,null,null,null,null,null,null,null,null,null,null,null,null,null,1000]
["TOPSUN","TS-M320",0.13591573224600748,320,53.44,42.77,7.86,7.46,4.8732000000000006,-176.352,-141.14100000000002,null,1403,"",{"$f":"IF($A1404=\"\",\"\",COUNTIF($A$2:$A1404,$A1404))","v":37},{"$f":"IF($A1404=\"\",\"\",$O1404+thousand*VLOOKUP($A1404,$A$1:Q1404,17,FALSE))","v":68037},{"$f":"IF(O1404=1,MAX(Q$1:Q1403)+1,\"\")","v":""},"TOPSUN","TS-M320",1403,null,null,null,null,null,null,null,null,null,null,null,null,null,null,null,null,null,null,1000]
["TOPSUN","TS-S330",0.15383754754978743,330,50.23,40.590000000000003,8.65,8.1300000000000008,4.3250000000000002,-165.75900000000001,-133.94700000000003,null,1408,"",{"$f":"IF($A1409=\"\",\"\",COUNTIF($A$2:$A1409,$A1409))","v":42},{"$f":"IF($A1409=\"\",\"\",$O1409+thousand*VLOOKUP($A1409,$A$1:Q1409,17,FALSE))","v":68042},{"$f":"IF(O1409=1,MAX(Q$1:Q1408)+1,\"\")","v":""},"TOPSUN","TS-S330",1408,null,null,null,null,null,null,null,null,null,null,null,null,null,null,null,null,null,null,1000]
["TOPSUN","TS-M340",0.15849929141493249,340,52.3,42.19,8.56,8.06,4.28,-172.59,-139.227,null,1416,"",{"$f":"IF($A1417=\"\",\"\",COUNTIF($A$2:$A1417,$A1417))","v":50},{"$f":"IF($A1417=\"\",\"\",$O1417+thousand*VLOOKUP($A1417,$A$1:Q1417,17,FALSE))","v":68050},{"$f":"IF(O1417=1,MAX(Q$1:Q1416)+1,\"\")","v":""},"TOPSUN","TS-M340",1416,null,null,null,null,null,null,null,null,null,null,null,null,null,null,null,null,null,null,1000]
["TOPSUN","TS-S360",0.15290519877675843,360,54.8,44.29,8.65,8.1300000000000008,2.5950000000000002,-180.84,-146.15700000000001,null,1425,"",{"$f":"IF($A1426=\"\",\"\",COUNTIF($A$2:$A1426,$A1426))","v":59},{"$f":"IF($A1426=\"\",\"\",$O1426+thousand*VLOOKUP($A1426,$A$1:Q1426,17,FALSE))","v":68059},{"$f":"IF(O1426=1,MAX(Q$1:Q1425)+1,\"\")","v":""},"TOPSUN","TS-S360",1425,null,null,null,null,null,null,null,null,null,null,null,null,null,null,null,null,null,null,1000]
["TOPSUN","TS-M375",0.1462741059726643,375,59.79,48.43,8.2799999999999994,7.77,4.8851999999999993,-197.30700000000002,-159.81900000000002,null,1433,"",{"$f":"IF($A1434=\"\",\"\",COUNTIF($A$2:$A1434,$A1434))","v":67},{"$f":"IF($A1434=\"\",\"\",$O1434+thousand*VLOOKUP($A1434,$A$1:Q1434,17,FALSE))","v":68067},{"$f":"IF(O1434=1,MAX(Q$1:Q1433)+1,\"\")","v":""},"TOPSUN","TS-M375",1433,null,null,null,null,null,null,null,null,null,null,null,null,null,null,null,null,null,null,1000]
["Trina Solar","TSM-205 D01A",0.16027783576447446,205,46,37.6,5.75,5.45,2.8750000000000004,-156.4,-127.84000000000002,null,1439,"",{"$f":"IF($A1440=\"\",\"\",COUNTIF($A$2:$A1440,$A1440))","v":2},{"$f":"IF($A1440=\"\",\"\",$O1440+thousand*VLOOKUP($A1440,$A$1:Q1440,17,FALSE))","v":69002},{"$f":"IF(O1440=1,MAX(Q$1:Q1439)+1,\"\")","v":""},"Trina Solar","TSM-205 D01A",1439,null,null,null,null,null,null,null,null,null,null,null,null,null,null,null,null,null,null,1000]
["Trina Solar","TSM-295 P14",0.15203427007058515,295,45.2,36.6,8.5500000000000007,8.07,4.2750000000000004,-153.68,{"$f":"F1448/E1448*J1448","v":-124.44},null,1447,"",{"$f":"IF($A1448=\"\",\"\",COUNTIF($A$2:$A1448,$A1448))","v":10},{"$f":"IF($A1448=\"\",\"\",$O1448+thousand*VLOOKUP($A1448,$A$1:Q1448,17,FALSE))","v":69010},{"$f":"IF(O1448=1,MAX(Q$1:Q1447)+1,\"\")","v":""},"Trina Solar","TSM-295 P14",1447,null,null,null,null,null,null,null,null,null,null,null,null,null,null,null,null,null,null,1000]
["TSMC Solar Ltd.","TS-135C-1",0.1242709437963945,135,62.5,44.1,3.49,3.06,0.38390000000000002,-118.75,-83.79,null,1458,"",{"$f":"IF($A1459=\"\",\"\",COUNTIF($A$2:$A1459,$A1459))","v":8},{"$f":"IF($A1459=\"\",\"\",$O1459+thousand*VLOOKUP($A1459,$A$1:Q1459,17,FALSE))","v":70008},{"$f":"IF(O1459=1,MAX(Q$1:Q1458)+1,\"\")","v":""},"TSMC Solar Ltd.","TS-135C-1",1458,null,null,null,null,null,null,null,null,null,null,null,null,null,null,null,null,null,null,1000]
["TSMC Solar Ltd.","TS-140C",0.1288735713444091,140,60.9,47.2,3.34,2.97,0.20039999999999999,-115.71,-89.68,null,1461,"",{"$f":"IF($A1462=\"\",\"\",COUNTIF($A$2:$A1462,$A1462))","v":11},{"$f":"IF($A1462=\"\",\"\",$O1462+thousand*VLOOKUP($A1462,$A$1:Q1462,17,FALSE))","v":70011},{"$f":"IF(O1462=1,MAX(Q$1:Q1461)+1,\"\")","v":""},"TSMC Solar Ltd.","TS-140C",1461,null,null,null,null,null,null,null,null,null,null,null,null,null,null,null,null,null,null,1000]
["TSMC Solar Ltd.","TS-155C1",0.14268145398845292,155,64.3,49.2,3.52,3.15,0.38719999999999999,-122.16999999999999,-93.48,null,1467,"",{"$f":"IF($A1468=\"\",\"\",COUNTIF($A$2:$A1468,$A1468))","v":17},{"$f":"IF($A1468=\"\",\"\",$O1468+thousand*VLOOKUP($A1468,$A$1:Q1468,17,FALSE))","v":70017},{"$f":"IF(O1468=1,MAX(Q$1:Q1467)+1,\"\")","v":""},"TSMC Solar Ltd.","TS-155C1",1467,null,null,null,null,null,null,null,null,null,null,null,null,null,null,null,null,null,null,1000]
["Upsolar","UP-M180MT-B",0.14099511216944477,180,44.8,36.200000000000003,5.22,4.97,2.6100000000000003,-156.79999999999995,-126.69999999999999,null,1475,"",{"$f":"IF($A1476=\"\",\"\",COUNTIF($A$2:$A1476,$A1476))","v":2},{"$f":"IF($A1476=\"\",\"\",$O1476+thousand*VLOOKUP($A1476,$A$1:Q1476,17,FALSE))","v":72002},{"$f":"IF(O1476=1,MAX(Q$1:Q1475)+1,\"\")","v":""},"Upsolar","UP-M180MT-B",1475,null,null,null,null,null,null,null,null,null,null,null,null,null,null,null,null,null,null,1000]
["Upsolar","UP-L185M-B",0.14655229778159429,185,45,36.4,5.3,5.08,2.6500000000000004,-157.49999999999997,-127.39999999999998,null,1484,"",{"$f":"IF($A1485=\"\",\"\",COUNTIF($A$2:$A1485,$A1485))","v":11},{"$f":"IF($A1485=\"\",\"\",$O1485+thousand*VLOOKUP($A1485,$A$1:Q1485,17,FALSE))","v":72011},{"$f":"IF(O1485=1,MAX(Q$1:Q1484)+1,\"\")","v":""},"Upsolar","UP-L185M-B",1484,null,null,null,null,null,null,null,null,null,null,null,null,null,null,null,null,null,null,1000]
["Upsolar","UP-M195MT-B",0.15274470485023187,195,45.6,36.799999999999997,5.5,5.3,2.75,-159.6,-128.79999999999998,null,1496,"",{"$f":"IF($A1497=\"\",\"\",COUNTIF($A$2:$A1497,$A1497))","v":23},{"$f":"IF($A1497=\"\",\"\",$O1497+thousand*VLOOKUP($A1497,$A$1:Q1497,17,FALSE))","v":72023},{"$f":"IF(O1497=1,MAX(Q$1:Q1496)+1,\"\")","v":""},"Upsolar","UP-M195MT-B",1496,null,null,null,null,null,null,null,null,null,null,null,null,null,null,null,null,null,null,1000]
["Upsolar","UP-M195MT",0.15274470485023187,195,45.4,36.6,5.65,5.33,2.8250000000000002,-158.89999999999998,-128.1,null,1497,"",{"$f":"IF($A1498=\"\",\"\",COUNTIF($A$2:$A1498,$A1498))","v":24},{"$f":"IF($A1498=\"\",\"\",$O1498+thousand*VLOOKUP($A1498,$A$1:Q1498,17,FALSE))","v":72024},{"$f":"IF(O1498=1,MAX(Q$1:Q1497)+1,\"\")","v":""},"Upsolar","UP-M195MT",1497,null,null,null,null,null,null,null,null,null,null,null,null,null,null,null,null,null,null,1000]
["Upsolar","UP-S200M-B",0.14766511913621813,200,45.9,37,5.6,5.41,2.8,-160.64999999999998,-129.5,null,1509,"",{"$f":"IF($A1510=\"\",\"\",COUNTIF($A$2:$A1510,$A1510))","v":36},{"$f":"IF($A1510=\"\",\"\",$O1510+thousand*VLOOKUP($A1510,$A$1:Q1510,17,FALSE))","v":72036},{"$f":"IF(O1510=1,MAX(Q$1:Q1509)+1,\"\")","v":""},"Upsolar","UP-S200M-B",1509,null,null,null,null,null,null,null,null,null,null,null,null,null,null,null,null,null,null,1000]
["Upsolar","UP-L205M",0.16239578943365854,205,46.6,37.4,5.75,5.48,2.8750000000000004,-163.1,-130.89999999999998,null,1518,"",{"$f":"IF($A1519=\"\",\"\",COUNTIF($A$2:$A1519,$A1519))","v":45},{"$f":"IF($A1519=\"\",\"\",$O1519+thousand*VLOOKUP($A1519,$A$1:Q1519,17,FALSE))","v":72045},{"$f":"IF(O1519=1,MAX(Q$1:Q1518)+1,\"\")","v":""},"Upsolar","UP-L205M",1518,null,null,null,null,null,null,null,null,null,null,null,null,null,null,null,null,null,null,1000]
["Upsolar","UP-M230PS",0.14137490165224234,230,37.200000000000003,29.7,8.3000000000000007,7.75,4.1500000000000004,-130.19999999999999,-103.94999999999999,null,1526,"",{"$f":"IF($A1527=\"\",\"\",COUNTIF($A$2:$A1527,$A1527))","v":53},{"$f":"IF($A1527=\"\",\"\",$O1527+thousand*VLOOKUP($A1527,$A$1:Q1527,17,FALSE))","v":72053},{"$f":"IF(O1527=1,MAX(Q$1:Q1526)+1,\"\")","v":""},"Upsolar","UP-M230PS",1526,null,null,null,null,null,null,null,null,null,null,null,null,null,null,null,null,null,null,1000]
["Upsolar","UP-S230P",0.13416460947598804,230,37.200000000000003,29.7,8.3000000000000007,7.75,4.1500000000000004,-130.19999999999999,-103.94999999999999,null,1532,"",{"$f":"IF($A1533=\"\",\"\",COUNTIF($A$2:$A1533,$A1533))","v":59},{"$f":"IF($A1533=\"\",\"\",$O1533+thousand*VLOOKUP($A1533,$A$1:Q1533,17,FALSE))","v":72059},{"$f":"IF(O1533=1,MAX(Q$1:Q1532)+1,\"\")","v":""},"Upsolar","UP-S230P",1532,null,null,null,null,null,null,null,null,null,null,null,null,null,null,null,null,null,null,1000]
["Upsolar","UP-M235PS-B",0.14444826907946495,235,37.6,30.2,8.3000000000000007,7.79,4.1500000000000004,-131.6,-105.69999999999999,null,1535,"",{"$f":"IF($A1536=\"\",\"\",COUNTIF($A$2:$A1536,$A1536))","v":62},{"$f":"IF($A1536=\"\",\"\",$O1536+thousand*VLOOKUP($A1536,$A$1:Q1536,17,FALSE))","v":72062},{"$f":"IF(O1536=1,MAX(Q$1:Q1535)+1,\"\")","v":""},"Upsolar","UP-M235PS-B",1535,null,null,null,null,null,null,null,null,null,null,null,null,null,null,null,null,null,null,1000]
["Upsolar","UP-S235P",0.13708123142111822,235,37.4,30,8.35,7.84,4.1749999999999998,-130.89999999999998,-104.99999999999999,null,1542,"",{"$f":"IF($A1543=\"\",\"\",COUNTIF($A$2:$A1543,$A1543))","v":69},{"$f":"IF($A1543=\"\",\"\",$O1543+thousand*VLOOKUP($A1543,$A$1:Q1543,17,FALSE))","v":72069},{"$f":"IF(O1543=1,MAX(Q$1:Q1542)+1,\"\")","v":""},"Upsolar","UP-S235P",1542,null,null,null,null,null,null,null,null,null,null,null,null,null,null,null,null,null,null,1000]
["Upsolar","UP-Z240P-B",0.14752163650668765,240,37.799999999999997,30.4,8.35,7.9,4.1749999999999998,-132.29999999999998,-106.39999999999999,null,1554,"",{"$f":"IF($A1555=\"\",\"\",COUNTIF($A$2:$A1555,$A1555))","v":81},{"$f":"IF($A1555=\"\",\"\",$O1555+thousand*VLOOKUP($A1555,$A$1:Q1555,17,FALSE))","v":72081},{"$f":"IF(O1555=1,MAX(Q$1:Q1554)+1,\"\")","v":""},"Upsolar","UP-Z240P-B",1554,null,null,null,null,null,null,null,null,null,null,null,null,null,null,null,null,null,null,1000]
["Upsolar","UP-M240MS-B",0.14752163650668765,240,37.4,30,8.5,8,4.25,-130.89999999999998,-104.99999999999999,null,1560,"",{"$f":"IF($A1561=\"\",\"\",COUNTIF($A$2:$A1561,$A1561))","v":87},{"$f":"IF($A1561=\"\",\"\",$O1561+thousand*VLOOKUP($A1561,$A$1:Q1561,17,FALSE))","v":72087},{"$f":"IF(O1561=1,MAX(Q$1:Q1560)+1,\"\")","v":""},"Upsolar","UP-M240MS-B",1560,null,null,null,null,null,null,null,null,null,null,null,null,null,null,null,null,null,null,1000]
["Upsolar","UP-M240M-B",0.14752163650668765,240,37.4,30,8.5,8,4.25,-130.89999999999998,-104.99999999999999,null,1568,"",{"$f":"IF($A1569=\"\",\"\",COUNTIF($A$2:$A1569,$A1569))","v":95},{"$f":"IF($A1569=\"\",\"\",$O1569+thousand*VLOOKUP($A1569,$A$1:Q1569,17,FALSE))","v":72095},{"$f":"IF(O1569=1,MAX(Q$1:Q1568)+1,\"\")","v":""},"Upsolar","UP-M240M-B",1568,null,null,null,null,null,null,null,null,null,null,null,null,null,null,null,null,null,null,1000]
["Upsolar","UP-S245P",0.14291447531137857,245,37.799999999999997,30.4,8.4499999999999993,8.06,4.2249999999999996,-132.29999999999998,-106.39999999999999,null,1577,"",{"$f":"IF($A1578=\"\",\"\",COUNTIF($A$2:$A1578,$A1578))","v":104},{"$f":"IF($A1578=\"\",\"\",$O1578+thousand*VLOOKUP($A1578,$A$1:Q1578,17,FALSE))","v":72104},{"$f":"IF(O1578=1,MAX(Q$1:Q1577)+1,\"\")","v":""},"Upsolar","UP-S245P",1577,null,null,null,null,null,null,null,null,null,null,null,null,null,null,null,null,null,null,1000]
["Upsolar","UP-M245MT",0.15059500393391032,245,37.4,29.8,8.6999999999999993,8.2200000000000006,4.3499999999999996,-130.89999999999998,-104.3,null,1585,"",{"$f":"IF($A1586=\"\",\"\",COUNTIF($A$2:$A1586,$A1586))","v":112},{"$f":"IF($A1586=\"\",\"\",$O1586+thousand*VLOOKUP($A1586,$A$1:Q1586,17,FALSE))","v":72112},{"$f":"IF(O1586=1,MAX(Q$1:Q1585)+1,\"\")","v":""},"Upsolar","UP-M245MT",1585,null,null,null,null,null,null,null,null,null,null,null,null,null,null,null,null,null,null,1000]
["Upsolar","UP-Z245M-B",0.15059500393391032,245,37.700000000000003,30.2,8.6,8.1199999999999992,4.3,-131.95000000000002,-105.7,null,1586,"",{"$f":"IF($A1587=\"\",\"\",COUNTIF($A$2:$A1587,$A1587))","v":113},{"$f":"IF($A1587=\"\",\"\",$O1587+thousand*VLOOKUP($A1587,$A$1:Q1587,17,FALSE))","v":72113},{"$f":"IF(O1587=1,MAX(Q$1:Q1586)+1,\"\")","v":""},"Upsolar","UP-Z245M-B",1586,null,null,null,null,null,null,null,null,null,null,null,null,null,null,null,null,null,null,1000]
["Upsolar","UP-M250MS",0.15366837136113295,250,37.700000000000003,30,8.8000000000000007,8.34,4.4000000000000004,-131.95000000000002,-105.00000000000001,null,1599,"",{"$f":"IF($A1600=\"\",\"\",COUNTIF($A$2:$A1600,$A1600))","v":126},{"$f":"IF($A1600=\"\",\"\",$O1600+thousand*VLOOKUP($A1600,$A$1:Q1600,17,FALSE))","v":72126},{"$f":"IF(O1600=1,MAX(Q$1:Q1599)+1,\"\")","v":""},"Upsolar","UP-M250MS",1599,null,null,null,null,null,null,null,null,null,null,null,null,null,null,null,null,null,null,1000]
["Upsolar","UP-M250M",0.15366837136113295,250,37.700000000000003,30,8.8000000000000007,8.34,4.4000000000000004,-131.95000000000002,-105.00000000000001,null,1607,"",{"$f":"IF($A1608=\"\",\"\",COUNTIF($A$2:$A1608,$A1608))","v":134},{"$f":"IF($A1608=\"\",\"\",$O1608+thousand*VLOOKUP($A1608,$A$1:Q1608,17,FALSE))","v":72134},{"$f":"IF(O1608=1,MAX(Q$1:Q1607)+1,\"\")","v":""},"Upsolar","UP-M250M",1607,null,null,null,null,null,null,null,null,null,null,null,null,null,null,null,null,null,null,1000]
["Upsolar","UP-M255MT",0.15674173878835562,255,38,30.2,8.8800000000000008,8.44,4.4400000000000004,-132.99999999999997,-105.69999999999997,null,1611,"",{"$f":"IF($A1612=\"\",\"\",COUNTIF($A$2:$A1612,$A1612))","v":138},{"$f":"IF($A1612=\"\",\"\",$O1612+thousand*VLOOKUP($A1612,$A$1:Q1612,17,FALSE))","v":72138},{"$f":"IF(O1612=1,MAX(Q$1:Q1611)+1,\"\")","v":""},"Upsolar","UP-M255MT",1611,null,null,null,null,null,null,null,null,null,null,null,null,null,null,null,null,null,null,1000]
["Upsolar","UP-S260M",0.15166434114676908,260,38.299999999999997,30.4,8.9600000000000009,8.5500000000000007,4.4800000000000004,-134.04999999999998,-106.39999999999998,null,1621,"",{"$f":"IF($A1622=\"\",\"\",COUNTIF($A$2:$A1622,$A1622))","v":148},{"$f":"IF($A1622=\"\",\"\",$O1622+thousand*VLOOKUP($A1622,$A$1:Q1622,17,FALSE))","v":72148},{"$f":"IF(O1622=1,MAX(Q$1:Q1621)+1,\"\")","v":""},"Upsolar","UP-S260M",1621,null,null,null,null,null,null,null,null,null,null,null,null,null,null,null,null,null,null,1000]
["Upsolar","UP-Z285P",0.14688056600039581,285,45,35.4,8.42,8.06,4.2100000000000009,-157.49999999999997,-123.89999999999998,null,1628,"",{"$f":"IF($A1629=\"\",\"\",COUNTIF($A$2:$A1629,$A1629))","v":155},{"$f":"IF($A1629=\"\",\"\",$O1629+thousand*VLOOKUP($A1629,$A$1:Q1629,17,FALSE))","v":72155},{"$f":"IF(O1629=1,MAX(Q$1:Q1628)+1,\"\")","v":""},"Upsolar","UP-Z285P",1628,null,null,null,null,null,null,null,null,null,null,null,null,null,null,null,null,null,null,1000]
["Upsolar","UP-M295PS",0.15203427007058515,295,45.4,35.700000000000003,8.58,8.2799999999999994,4.2900000000000009,-158.89999999999998,-124.95,null,1635,"",{"$f":"IF($A1636=\"\",\"\",COUNTIF($A$2:$A1636,$A1636))","v":162},{"$f":"IF($A1636=\"\",\"\",$O1636+thousand*VLOOKUP($A1636,$A$1:Q1636,17,FALSE))","v":72162},{"$f":"IF(O1636=1,MAX(Q$1:Q1635)+1,\"\")","v":""},"Upsolar","UP-M295PS",1635,null,null,null,null,null,null,null,null,null,null,null,null,null,null,null,null,null,null,1000]
["Upsolar","UP-M300M",0.15461112210567979,300,45.2,36.200000000000003,8.8000000000000007,8.34,4.4000000000000004,-158.20000000000002,-126.70000000000002,null,1645,"",{"$f":"IF($A1646=\"\",\"\",COUNTIF($A$2:$A1646,$A1646))","v":172},{"$f":"IF($A1646=\"\",\"\",$O1646+thousand*VLOOKUP($A1646,$A$1:Q1646,17,FALSE))","v":72172},{"$f":"IF(O1646=1,MAX(Q$1:Q1645)+1,\"\")","v":""},"Upsolar","UP-M300M",1645,null,null,null,null,null,null,null,null,null,null,null,null,null,null,null,null,null,null,1000]
["Voltec Solar","VSPS-200-48-A",0.14832976971061601,200,30.28,24.37,8.76,8.2100000000000009,4.38,-96.896000000000015,-77.984000000000009,null,1649,"",{"$f":"IF($A1650=\"\",\"\",COUNTIF($A$2:$A1650,$A1650))","v":3},{"$f":"IF($A1650=\"\",\"\",$O1650+thousand*VLOOKUP($A1650,$A$1:Q1650,17,FALSE))","v":73003},{"$f":"IF(O1650=1,MAX(Q$1:Q1649)+1,\"\")","v":""},"Voltec Solar","VSPS-200-48-A",1649,null,null,null,null,null,null,null,null,null,null,null,null,null,null,null,null,null,null,1000]
["Voltec Solar","VSPS-250-60-A",0.15304560759106214,250,37.6,30.6,8.64,8.1999999999999993,4.4063999999999997,-105.28000000000003,-85.680000000000021,null,1657,"",{"$f":"IF($A1658=\"\",\"\",COUNTIF($A$2:$A1658,$A1658))","v":11},{"$f":"IF($A1658=\"\",\"\",$O1658+thousand*VLOOKUP($A1658,$A$1:Q1658,17,FALSE))","v":73011},{"$f":"IF(O1658=1,MAX(Q$1:Q1657)+1,\"\")","v":""},"Voltec Solar","VSPS-250-60-A",1657,null,null,null,null,null,null,null,null,null,null,null,null,null,null,null,null,null,null,1000]
["Voltec Solar","VSMS-265-60-A",0.16222834404652589,265,38.6,31.5,8.7799999999999994,8.41,3.8631999999999995,-127.38000000000002,-103.95000000000002,null,1662,"",{"$f":"IF($A1663=\"\",\"\",COUNTIF($A$2:$A1663,$A1663))","v":16},{"$f":"IF($A1663=\"\",\"\",$O1663+thousand*VLOOKUP($A1663,$A$1:Q1663,17,FALSE))","v":73016},{"$f":"IF(O1663=1,MAX(Q$1:Q1662)+1,\"\")","v":""},"Voltec Solar","VSMS-265-60-A",1662,null,null,null,null,null,null,null,null,null,null,null,null,null,null,null,null,null,null,1000]
["Voltec Solar","VSPS-320-72-A",0.16121044865371642,320,46.8,37.69,9.2100000000000009,8.49,7.1837999999999997,-145.07999999999998,-116.83899999999998,null,1671,"",{"$f":"IF($A1672=\"\",\"\",COUNTIF($A$2:$A1672,$A1672))","v":25},{"$f":"IF($A1672=\"\",\"\",$O1672+thousand*VLOOKUP($A1672,$A$1:Q1672,17,FALSE))","v":73025},{"$f":"IF(O1672=1,MAX(Q$1:Q1671)+1,\"\")","v":""},"Voltec Solar","VSPS-320-72-A",1671,null,null,null,null,null,null,null,null,null,null,null,null,null,null,null,null,null,null,1000]
["Winaico","WSP-210M6",0.15605806251685983,210,31.03,25.62,8.83,8.1999999999999993,5.2096999999999998,-105.50200000000002,-87.108000000000018,null,1679,"",{"$f":"IF($A1680=\"\",\"\",COUNTIF($A$2:$A1680,$A1680))","v":8},{"$f":"IF($A1680=\"\",\"\",$O1680+thousand*VLOOKUP($A1680,$A$1:Q1680,17,FALSE))","v":74008},{"$f":"IF(O1680=1,MAX(Q$1:Q1679)+1,\"\")","v":""},"Winaico","WSP-210M6",1679,null,null,null,null,null,null,null,null,null,null,null,null,null,null,null,null,null,null,1000]
["Winaico","WSP-250M6",0.1503004506007509,250,37.39,29.92,8.89,8.3800000000000008,5.2451000000000008,-127.12600000000002,-101.72800000000002,null,1685,"",{"$f":"IF($A1686=\"\",\"\",COUNTIF($A$2:$A1686,$A1686))","v":14},{"$f":"IF($A1686=\"\",\"\",$O1686+thousand*VLOOKUP($A1686,$A$1:Q1686,17,FALSE))","v":74014},{"$f":"IF(O1686=1,MAX(Q$1:Q1685)+1,\"\")","v":""},"Winaico","WSP-250M6",1685,null,null,null,null,null,null,null,null,null,null,null,null,null,null,null,null,null,null,1000]
["Winaico","WSP-285M6",0.17134251368485601,285,38.64,31.76,9.5399999999999991,8.98,4.3883999999999999,-119.3976,-98.138400000000004,null,1696,"",{"$f":"IF($A1697=\"\",\"\",COUNTIF($A$2:$A1697,$A1697))","v":25},{"$f":"IF($A1697=\"\",\"\",$O1697+thousand*VLOOKUP($A1697,$A$1:Q1697,17,FALSE))","v":74025},{"$f":"IF(O1697=1,MAX(Q$1:Q1696)+1,\"\")","v":""},"Winaico","WSP-285M6",1696,null,null,null,null,null,null,null,null,null,null,null,null,null,null,null,null,null,null,1000]
["Win Win","WST-250P6",0.1503004506007509,250,37.520000000000003,30.73,8.5299999999999994,8.15,5.1179999999999994,-127.56800000000001,-104.482,null,1702,"",{"$f":"IF($A1703=\"\",\"\",COUNTIF($A$2:$A1703,$A1703))","v":6},{"$f":"IF($A1703=\"\",\"\",$O1703+thousand*VLOOKUP($A1703,$A$1:Q1703,17,FALSE))","v":75006},{"$f":"IF(O1703=1,MAX(Q$1:Q1702)+1,\"\")","v":""},"Win Win","WST-250P6",1702,null,null,null,null,null,null,null,null,null,null,null,null,null,null,null,null,null,null,1000]
["Win Win","WSP-260M6",0.15631246862478093,260,37.659999999999997,30.41,9.0470000000000006,8.5559999999999992,5.3377300000000005,-128.04399999999998,-103.39400000000001,null,1707,"",{"$f":"IF($A1708=\"\",\"\",COUNTIF($A$2:$A1708,$A1708))","v":11},{"$f":"IF($A1708=\"\",\"\",$O1708+thousand*VLOOKUP($A1708,$A$1:Q1708,17,FALSE))","v":75011},{"$f":"IF(O1708=1,MAX(Q$1:Q1707)+1,\"\")","v":""},"Win Win","WSP-260M6",1707,null,null,null,null,null,null,null,null,null,null,null,null,null,null,null,null,null,null,1000]
["Xunlight Corporation","XLS11-68",6.5630857312725235E-2,68,24.2,17.600000000000001,5.05,3.86,6.06,-72.599999999999994,-52.800000000000004,null,1713,"",{"$f":"IF($A1714=\"\",\"\",COUNTIF($A$2:$A1714,$A1714))","v":1},{"$f":"IF($A1714=\"\",\"\",$O1714+thousand*VLOOKUP($A1714,$A$1:Q1714,17,FALSE))","v":76001},{"$f":"IF(O1714=1,MAX(Q$1:Q1713)+1,\"\")","v":76},"Xunlight Corporation","XLS11-68",1713,null,null,null,null,null,null,null,null,null,null,null,null,null,null,null,null,null,null,1000]
["Xunlight Corporation","XR36-315",6.8668741988646767E-2,315,81,60,6.35,5.25,7.6834999999999996,-243,-180,null,1721,"",{"$f":"IF($A1722=\"\",\"\",COUNTIF($A$2:$A1722,$A1722))","v":9},{"$f":"IF($A1722=\"\",\"\",$O1722+thousand*VLOOKUP($A1722,$A$1:Q1722,17,FALSE))","v":76009},{"$f":"IF(O1722=1,MAX(Q$1:Q1721)+1,\"\")","v":""},"Xunlight Corporation","XR36-315",1721,null,null,null,null,null,null,null,null,null,null,null,null,null,null,null,null,null,null,1000]
["Yingli Solar","YL305P-35b",0.15638619699533407,305,45.61,36.58,8.9060000000000006,8.3379999999999992,4.5420600000000002,-145.952,-117.056,null,1730,"",{"$f":"IF($A1731=\"\",\"\",COUNTIF($A$2:$A1731,$A1731))","v":9},{"$f":"IF($A1731=\"\",\"\",$O1731+thousand*VLOOKUP($A1731,$A$1:Q1731,17,FALSE))","v":77009},{"$f":"IF(O1731=1,MAX(Q$1:Q1730)+1,\"\")","v":""},{"$f":"IF(A1731=\"\",\"\",A1731)","v":"Yingli Solar"},{"$f":"IF(B1731=\"\",\"\",B1731)","v":"YL305P-35b"},{"$f":"$M1731","v":1730},null,null,null,null,null,null,null,null,null,null,null,null,null,null,null,null,null,null,1000]
["Zebra Energy","ZBR-220P",0.13468013468013468,220,36.299999999999997,29.7,8.1199999999999992,7.41,4.0599999999999996,-127.05,-103.95,null,1738,"",{"$f":"IF($A1739=\"\",\"\",COUNTIF($A$2:$A1739,$A1739))","v":7},{"$f":"IF($A1739=\"\",\"\",$O1739+thousand*VLOOKUP($A1739,$A$1:Q1739,17,FALSE))","v":78007},{"$f":"IF(O1739=1,MAX(Q$1:Q1738)+1,\"\")","v":""},"Zebra Energy","ZBR-220P",1738,null,null,null,null,null,null,null,null,null,null,null,null,null,null,null,null,null,null,1000]
["Zebra Energy","ZBR-245MA",0.14998469543924089,245,37.5,30.5,8.6199999999999992,8.0299999999999994,3.448,-127.50000000000003,-103.70000000000003,null,1747,"",{"$f":"IF($A1748=\"\",\"\",COUNTIF($A$2:$A1748,$A1748))","v":16},{"$f":"IF($A1748=\"\",\"\",$O1748+thousand*VLOOKUP($A1748,$A$1:Q1748,17,FALSE))","v":78016},{"$f":"IF(O1748=1,MAX(Q$1:Q1747)+1,\"\")","v":""},"Zebra Energy","ZBR-245MA",1747,null,null,null,null,null,null,null,null,null,null,null,null,null,null,null,null,null,null,1000]
["Zebra Energy","ZBR-255P",0.15610651974288337,255,37.9,31.2,8.82,8.1999999999999993,4.41,-132.64999999999998,-109.19999999999999,null,1752,"",{"$f":"IF($A1753=\"\",\"\",COUNTIF($A$2:$A1753,$A1753))","v":21},{"$f":"IF($A1753=\"\",\"\",$O1753+thousand*VLOOKUP($A1753,$A$1:Q1753,17,FALSE))","v":78021},{"$f":"IF(O1753=1,MAX(Q$1:Q1752)+1,\"\")","v":""},"Zebra Energy","ZBR-255P",1752,null,null,null,null,null,null,null,null,null,null,null,null,null,null,null,null,null,null,1000]
["Zebra Energy","ZBR-275P",0.14194061204791916,275,43.6,35.200000000000003,8.67,7.81,4.335,-152.6,-123.2,null,1760,"",{"$f":"IF($A1761=\"\",\"\",COUNTIF($A$2:$A1761,$A1761))","v":29},{"$f":"IF($A1761=\"\",\"\",$O1761+thousand*VLOOKUP($A1761,$A$1:Q1761,17,FALSE))","v":78029},{"$f":"IF(O1761=1,MAX(Q$1:Q1760)+1,\"\")","v":""},"Zebra Energy","ZBR-275P",1760,null,null,null,null,null,null,null,null,null,null,null,null,null,null,null,null,null,null,1000]
["Zebra Energy","ZBR-285P",0.14710208884966164,285,43.9,35.799999999999997,8.77,7.96,4.3849999999999998,-153.64999999999998,-125.29999999999997,null,1764,"",{"$f":"IF($A1765=\"\",\"\",COUNTIF($A$2:$A1765,$A1765))","v":33},{"$f":"IF($A1765=\"\",\"\",$O1765+thousand*VLOOKUP($A1765,$A$1:Q1765,17,FALSE))","v":78033},{"$f":"IF(O1765=1,MAX(Q$1:Q1764)+1,\"\")","v":""},"Zebra Energy","ZBR-285P",1764,null,null,null,null,null,null,null,null,null,null,null,null,null,null,null,null,null,null,1000]
["Zebra Energy","ZBR-310P",0.16000578085401793,310,44.9,36.6,9.09,8.4700000000000006,4.5449999999999999,-157.14999999999998,-128.1,null,1774,"",{"$f":"IF($A1775=\"\",\"\",COUNTIF($A$2:$A1775,$A1775))","v":43},{"$f":"IF($A1775=\"\",\"\",$O1775+thousand*VLOOKUP($A1775,$A$1:Q1775,17,FALSE))","v":78043},{"$f":"IF(O1775=1,MAX(Q$1:Q1774)+1,\"\")","v":""},"Zebra Energy","ZBR-310P",1774,null,null,null,null,null,null,null,null,null,null,null,null,null,null,null,null,null,null,1000]
["ZNshine Solar","ZXM5-72-205/MS",0.16057776663742324,205,45.75,37.549999999999997,5.7,5.46,2.2800000000000002,-132.67499999999998,-108.89499999999998,null,1781,"",{"$f":"IF($A1782=\"\",\"\",COUNTIF($A$2:$A1782,$A1782))","v":7},{"$f":"IF($A1782=\"\",\"\",$O1782+thousand*VLOOKUP($A1782,$A$1:Q1782,17,FALSE))","v":79007},{"$f":"IF(O1782=1,MAX(Q$1:Q1781)+1,\"\")","v":""},"ZNshine Solar","ZXM5-72-205/MS",1781,null,null,null,null,null,null,null,null,null,null,null,null,null,null,null,null,null,null,1000]
["ZNshine Solar","ZXP6-60-245/P",0.15059500393391032,245,37.72,29.95,8.5299999999999994,8.18,5.1179999999999994,-124.47599999999998,-98.834999999999994,null,1788,"",{"$f":"IF($A1789=\"\",\"\",COUNTIF($A$2:$A1789,$A1789))","v":14},{"$f":"IF($A1789=\"\",\"\",$O1789+thousand*VLOOKUP($A1789,$A$1:Q1789,17,FALSE))","v":79014},{"$f":"IF(O1789=1,MAX(Q$1:Q1788)+1,\"\")","v":""},"ZNshine Solar","ZXP6-60-245/P",1788,null,null,null,null,null,null,null,null,null,null,null,null,null,null,null,null,null,null,1000]
["ZNshine Solar","ZXM6-60-260/M",0.15981510621557829,260,38.4,30.72,8.9499999999999993,8.4600000000000009,3.58,-111.35999999999999,-89.087999999999994,null,1798,"",{"$f":"IF($A1799=\"\",\"\",COUNTIF($A$2:$A1799,$A1799))","v":24},{"$f":"IF($A1799=\"\",\"\",$O1799+thousand*VLOOKUP($A1799,$A$1:Q1799,17,FALSE))","v":79024},{"$f":"IF(O1799=1,MAX(Q$1:Q1798)+1,\"\")","v":""},"ZNshine Solar","ZXM6-60-260/M",1798,null,null,null,null,null,null,null,null,null,null,null,null,null,null,null,null,null,null,1000]
["ZNshine Solar","ZXM5-96-265/MS",0.15574548014862233,265,60.1,49.4,5.73,5.36,2.2920000000000003,-174.28999999999996,-143.25999999999996,null,1802,"",{"$f":"IF($A1803=\"\",\"\",COUNTIF($A$2:$A1803,$A1803))","v":28},{"$f":"IF($A1803=\"\",\"\",$O1803+thousand*VLOOKUP($A1803,$A$1:Q1803,17,FALSE))","v":79028},{"$f":"IF(O1803=1,MAX(Q$1:Q1802)+1,\"\")","v":""},"ZNshine Solar","ZXM5-96-265/MS",1802,null,null,null,null,null,null,null,null,null,null,null,null,null,null,null,null,null,null,1000]
["ZNshine Solar","ZXM5-96-275/MS",0.16162266807875902,275,60.6,49.5,5.94,5.56,2.3760000000000003,-175.73999999999998,-143.54999999999998,null,1810,"",{"$f":"IF($A1811=\"\",\"\",COUNTIF($A$2:$A1811,$A1811))","v":36},{"$f":"IF($A1811=\"\",\"\",$O1811+thousand*VLOOKUP($A1811,$A$1:Q1811,17,FALSE))","v":79036},{"$f":"IF(O1811=1,MAX(Q$1:Q1810)+1,\"\")","v":""},"ZNshine Solar","ZXM5-96-275/MS",1810,null,null,null,null,null,null,null,null,null,null,null,null,null,null,null,null,null,null,1000]
[null,null,null,null,null,null,null,null,null,null,{"$error":"#DIV/0!"},null,1823,"",{"$f":"IF($A1824=\"\",\"\",COUNTIF($A$2:$A1824,$A1824))","v":""},{"$f":"IF($A1824=\"\",\"\",$O1824+thousand*VLOOKUP($A1824,$A$1:Q1824,17,FALSE))","v":""},{"$f":"IF(O1824=1,MAX(Q$1:Q1823)+1,\"\")","v":""},"","",1823,null,null,null,null,null,null,null,null,null,null,null,null,null,null,null,null,null,null,1000]
[null,null,null,null,null,null,null,null,null,null,{"$error":"#DIV/0!"},null,1824,"",{"$f":"IF($A1825=\"\",\"\",COUNTIF($A$2:$A1825,$A1825))","v":""},{"$f":"IF($A1825=\"\",\"\",$O1825+thousand*VLOOKUP($A1825,$A$1:Q1825,17,FALSE))","v":""},{"$f":"IF(O1825=1,MAX(Q$1:Q1824)+1,\"\")","v":""},"","",1824,null,null,null,null,null,null,null,null,null,null,null,null,null,null,null,null,null,null,1000]
[null,null,null,null,null,null,null,null,null,null,{"$error":"#DIV/0!"},null,1832,"",{"$f":"IF($A1833=\"\",\"\",COUNTIF($A$2:$A1833,$A1833))","v":""},{"$f":"IF($A1833=\"\",\"\",$O1833+thousand*VLOOKUP($A1833,$A$1:Q1833,17,FALSE))","v":""},{"$f":"IF(O1833=1,MAX(Q$1:Q1832)+1,\"\")","v":""},"","",1832,null,null,null,null,null,null,null,null,null,null,null,null,null,null,null,null,null,null,1000]
[null,null,null,null,null,null,null,null,null,null,{"$error":"#DIV/0!"},null,1845,"",{"$f":"IF($A1846=\"\",\"\",COUNTIF($A$2:$A1846,$A1846))","v":""},{"$f":"IF($A1846=\"\",\"\",$O1846+thousand*VLOOKUP($A1846,$A$1:Q1846,17,FALSE))","v":""},{"$f":"IF(O1846=1,MAX(Q$1:Q1845)+1,\"\")","v":""},"","",1845,null,null,null,null,null,null,null,null,null,null,null,null,null,null,null,null,null,null,1000]
[null,null,null,null,null,null,null,null,null,null,{"$error":"#DIV/0!"},null,1846,"",{"$f":"IF($A1847=\"\",\"\",COUNTIF($A$2:$A1847,$A1847))","v":""},{"$f":"IF($A1847=\"\",\"\",$O1847+thousand*VLOOKUP($A1847,$A$1:Q1847,17,FALSE))","v":""},{"$f":"IF(O1847=1,MAX(Q$1:Q1846)+1,\"\")","v":""},"","",1846,null,null,null,null,null,null,null,null,null,null,null,null,null,null,null,null,null,null,1000]
[null,null,null,null,null,null,null,null,null,null,{"$error":"#DIV/0!"},null,1857,{"$f":"IF(M1858>MAX(Q$2:Q$7985),\"\",VLOOKUP(M1858,Q$2:R$7985,2,FALSE))","v":""},{"$f":"IF($A1858=\"\",\"\",COUNTIF($A$2:$A1858,$A1858))","v":""},{"$f":"IF($A1858=\"\",\"\",$O1858+thousand*VLOOKUP($A1858,$A$1:Q1858,17,FALSE))","v":""},{"$f":"IF(O1858=1,MAX(Q$1:Q1857)+1,\"\")","v":""},"","",1857,null,null,null,null,null,null,null,null,null,null,null,null,null,null,null,null,null,null,1000]
[null,null,null,null,null,null,null,null,null,null,{"$error":"#DIV/0!"},null,1867,"",{"$f":"IF($A1868=\"\",\"\",COUNTIF($A$2:$A1868,$A1868))","v":""},{"$f":"IF($A1868=\"\",\"\",$O1868+thousand*VLOOKUP($A1868,$A$1:Q1868,17,FALSE))","v":""},{"$f":"IF(O1868=1,MAX(Q$1:Q1867)+1,\"\")","v":""},"","",1867,null,null,null,null,null,null,null,null,null,null,null,null,null,null,null,null,null,null,1000]
[null,null,null,null,null,null,null,null,null,null,{"$error":"#DIV/0!"},null,1874,"",{"$f":"IF($A1875=\"\",\"\",COUNTIF($A$2:$A1875,$A1875))","v":""},{"$f":"IF($A1875=\"\",\"\",$O1875+thousand*VLOOKUP($A1875,$A$1:Q1875,17,FALSE))","v":""},{"$f":"IF(O1875=1,MAX(Q$1:Q1874)+1,\"\")","v":""},"","",1874,null,null,null,null,null,null,null,null,null,null,null,null,null,null,null,null,null,null,1000]
[null,null,null,null,null,null,null,null,null,null,{"$error":"#DIV/0!"},null,1881,"",{"$f":"IF($A1882=\"\",\"\",COUNTIF($A$2:$A1882,$A1882))","v":""},{"$f":"IF($A1882=\"\",\"\",$O1882+thousand*VLOOKUP($A1882,$A$1:Q1882,17,FALSE))","v":""},{"$f":"IF(O1882=1,MAX(Q$1:Q1881)+1,\"\")","v":""},"","",1881]
[null,null,null,null,null,null,null,null,null,null,{"$error":"#DIV/0!"},null,1883,"",{"$f":"IF($A1884=\"\",\"\",COUNTIF($A$2:$A1884,$A1884))","v":""},{"$f":"IF($A1884=\"\",\"\",$O1884+thousand*VLOOKUP($A1884,$A$1:Q1884,17,FALSE))","v":""},{"$f":"IF(O1884=1,MAX(Q$1:Q1883)+1,\"\")","v":""},"","",1883]
[null,null,null,null,null,null,null,null,null,null,{"$error":"#DIV/0!"},null,1891,"",{"$f":"IF($A1892=\"\",\"\",COUNTIF($A$2:$A1892,$A1892))","v":""},{"$f":"IF($A1892=\"\",\"\",$O1892+thousand*VLOOKUP($A1892,$A$1:Q1892,17,FALSE))","v":""},{"$f":"IF(O1892=1,MAX(Q$1:Q1891)+1,\"\")","v":""},"","",1891]
[null,null,null,null,null,null,null,null,null,null,{"$error":"#DIV/0!"},null,1903,"",{"$f":"IF($A1904=\"\",\"\",COUNTIF($A$2:$A1904,$A1904))","v":""},{"$f":"IF($A1904=\"\",\"\",$O1904+thousand*VLOOKUP($A1904,$A$1:Q1904,17,FALSE))","v":""},{"$f":"IF(O1904=1,MAX(Q$1:Q1903)+1,\"\")","v":""},"","",1903]
[null,null,null,null,null,null,null,null,null,null,{"$error":"#DIV/0!"},null,1908,"",{"$f":"IF($A1909=\"\",\"\",COUNTIF($A$2:$A1909,$A1909))","v":""},{"$f":"IF($A1909=\"\",\"\",$O1909+thousand*VLOOKUP($A1909,$A$1:Q1909,17,FALSE))","v":""},{"$f":"IF(O1909=1,MAX(Q$1:Q1908)+1,\"\")","v":""},"","",1908]
[null,null,null,null,null,null,null,null,null,null,{"$error":"#DIV/0!"},null,1913,"",{"$f":"IF($A1914=\"\",\"\",COUNTIF($A$2:$A1914,$A1914))","v":""},{"$f":"IF($A1914=\"\",\"\",$O1914+thousand*VLOOKUP($A1914,$A$1:Q1914,17,FALSE))","v":""},{"$f":"IF(O1914=1,MAX(Q$1:Q1913)+1,\"\")","v":""},"","",1913]
[null,null,null,null,null,null,null,null,null,null,{"$error":"#DIV/0!"},null,1925,"",{"$f":"IF($A1926=\"\",\"\",COUNTIF($A$2:$A1926,$A1926))","v":""},{"$f":"IF($A1926=\"\",\"\",$O1926+thousand*VLOOKUP($A1926,$A$1:Q1926,17,FALSE))","v":""},{"$f":"IF(O1926=1,MAX(Q$1:Q1925)+1,\"\")","v":""},"","",1925]
[null,null,null,null,null,null,null,null,null,null,{"$error":"#DIV/0!"},null,1934,"",{"$f":"IF($A1935=\"\",\"\",COUNTIF($A$2:$A1935,$A1935))","v":""},{"$f":"IF($A1935=\"\",\"\",$O1935+thousand*VLOOKUP($A1935,$A$1:Q1935,17,FALSE))","v":""},{"$f":"IF(O1935=1,MAX(Q$1:Q1934)+1,\"\")","v":""},"","",1934]
[null,null,null,null,null,null,null,null,null,null,{"$error":"#DIV/0!"},null,1942,"",{"$f":"IF($A1943=\"\",\"\",COUNTIF($A$2:$A1943,$A1943))","v":""},{"$f":"IF($A1943=\"\",\"\",$O1943+thousand*VLOOKUP($A1943,$A$1:Q1943,17,FALSE))","v":""},{"$f":"IF(O1943=1,MAX(Q$1:Q1942)+1,\"\")","v":""},"","",1942]
[null,null,null,null,null,null,null,null,null,null,{"$error":"#DIV/0!"},null,1948,"",{"$f":"IF($A1949=\"\",\"\",COUNTIF($A$2:$A1949,$A1949))","v":""},{"$f":"IF($A1949=\"\",\"\",$O1949+thousand*VLOOKUP($A1949,$A$1:Q1949,17,FALSE))","v":""},{"$f":"IF(O1949=1,MAX(Q$1:Q1948)+1,\"\")","v":""},"","",1948]
[null,null,null,null,null,null,null,null,null,null,{"$error":"#DIV/0!"},null,1956,"",{"$f":"IF($A1957=\"\",\"\",COUNTIF($A$2:$A1957,$A1957))","v":""},{"$f":"IF($A1957=\"\",\"\",$O1957+thousand*VLOOKUP($A1957,$A$1:Q1957,17,FALSE))","v":""},{"$f":"IF(O1957=1,MAX(Q$1:Q1956)+1,\"\")","v":""},"","",1956]
[null,null,null,null,null,null,null,null,null,null,{"$f":"F1960/E1960*J1960","v":{"$error":"#DIV/0!"}},null,1959,"",{"$f":"IF($A1960=\"\",\"\",COUNTIF($A$2:$A1960,$A1960))","v":""},{"$f":"IF($A1960=\"\",\"\",$O1960+thousand*VLOOKUP($A1960,$A$1:Q1960,17,FALSE))","v":""},{"$f":"IF(O1960=1,MAX(Q$1:Q1959)+1,\"\")","v":""},"","",1959]
[null,null,null,null,null,null,null,null,null,null,{"$error":"#DIV/0!"},null,1970,"",{"$f":"IF($A1971=\"\",\"\",COUNTIF($A$2:$A1971,$A1971))","v":""},{"$f":"IF($A1971=\"\",\"\",$O1971+thousand*VLOOKUP($A1971,$A$1:Q1971,17,FALSE))","v":""},{"$f":"IF(O1971=1,MAX(Q$1:Q1970)+1,\"\")","v":""},"","",1970]
[null,null,null,null,null,null,null,null,null,null,{"$error":"#DIV/0!"},null,1976,"",{"$f":"IF($A1977=\"\",\"\",COUNTIF($A$2:$A1977,$A1977))","v":""},{"$f":"IF($A1977=\"\",\"\",$O1977+thousand*VLOOKUP($A1977,$A$1:Q1977,17,FALSE))","v":""},{"$f":"IF(O1977=1,MAX(Q$1:Q1976)+1,\"\")","v":""},"","",1976]
[null,null,null,null,null,null,null,null,null,null,{"$error":"#DIV/0!"},null,1984,"",{"$f":"IF($A1985=\"\",\"\",COUNTIF($A$2:$A1985,$A1985))","v":""},{"$f":"IF($A1985=\"\",\"\",$O1985+thousand*VLOOKUP($A1985,$A$1:Q1985,17,FALSE))","v":""},{"$f":"IF(O1985=1,MAX(Q$1:Q1984)+1,\"\")","v":""},"","",1984]
[null,null,null,null,null,null,null,null,null,null,{"$error":"#DIV/0!"},null,1993,"",{"$f":"IF($A1994=\"\",\"\",COUNTIF($A$2:$A1994,$A1994))","v":""},{"$f":"IF($A1994=\"\",\"\",$O1994+thousand*VLOOKUP($A1994,$A$1:Q1994,17,FALSE))","v":""},{"$f":"IF(O1994=1,MAX(Q$1:Q1993)+1,\"\")","v":""},"","",1993]
[null,null,null,null,null,null,null,null,null,null,{"$error":"#DIV/0!"},null,1998,"",{"$f":"IF($A1999=\"\",\"\",COUNTIF($A$2:$A1999,$A1999))","v":""},{"$f":"IF($A1999=\"\",\"\",$O1999+thousand*VLOOKUP($A1999,$A$1:Q1999,17,FALSE))","v":""},{"$f":"IF(O1999=1,MAX(Q$1:Q1998)+1,\"\")","v":""},"","",1998]
[null,null,null,null,null,null,null,null,null,null,{"$error":"#DIV/0!"},null,2006,"",{"$f":"IF($A2007=\"\",\"\",COUNTIF($A$2:$A2007,$A2007))","v":""},{"$f":"IF($A2007=\"\",\"\",$O2007+thousand*VLOOKUP($A2007,$A$1:Q2007,17,FALSE))","v":""},{"$f":"IF(O2007=1,MAX(Q$1:Q2006)+1,\"\")","v":""},"","",2006]
[null,null,null,null,null,null,null,null,null,null,{"$error":"#DIV/0!"},null,2010,"",{"$f":"IF($A2011=\"\",\"\",COUNTIF($A$2:$A2011,$A2011))","v":""},{"$f":"IF($A2011=\"\",\"\",$O2011+thousand*VLOOKUP($A2011,$A$1:Q2011,17,FALSE))","v":""},{"$f":"IF(O2011=1,MAX(Q$1:Q2010)+1,\"\")","v":""},"","",2010]
[null,null,null,null,null,null,null,null,null,null,{"$error":"#DIV/0!"},null,2020,"",{"$f":"IF($A2021=\"\",\"\",COUNTIF($A$2:$A2021,$A2021))","v":""},{"$f":"IF($A2021=\"\",\"\",$O2021+thousand*VLOOKUP($A2021,$A$1:Q2021,17,FALSE))","v":""},{"$f":"IF(O2021=1,MAX(Q$1:Q2020)+1,\"\")","v":""},"","",2020]
[null,null,null,null,null,null,null,null,null,null,{"$error":"#DIV/0!"},null,2027,"",{"$f":"IF($A2028=\"\",\"\",COUNTIF($A$2:$A2028,$A2028))","v":""},{"$f":"IF($A2028=\"\",\"\",$O2028+thousand*VLOOKUP($A2028,$A$1:Q2028,17,FALSE))","v":""},{"$f":"IF(O2028=1,MAX(Q$1:Q2027)+1,\"\")","v":""},"","",2027]
[null,null,null,null,null,null,null,null,null,null,{"$error":"#DIV/0!"},null,2034,"",{"$f":"IF($A2035=\"\",\"\",COUNTIF($A$2:$A2035,$A2035))","v":""},{"$f":"IF($A2035=\"\",\"\",$O2035+thousand*VLOOKUP($A2035,$A$1:Q2035,17,FALSE))","v":""},{"$f":"IF(O2035=1,MAX(Q$1:Q2034)+1,\"\")","v":""},"","",2034]
[null,null,null,null,null,null,null,null,null,null,{"$error":"#DIV/0!"},null,2044,"",{"$f":"IF($A2045=\"\",\"\",COUNTIF($A$2:$A2045,$A2045))","v":""},{"$f":"IF($A2045=\"\",\"\",$O2045+thousand*VLOOKUP($A2045,$A$1:Q2045,17,FALSE))","v":""},{"$f":"IF(O2045=1,MAX(Q$1:Q2044)+1,\"\")","v":""},"","",2044]
[null,null,null,null,null,null,null,null,null,null,{"$error":"#DIV/0!"},null,2051,"",{"$f":"IF($A2052=\"\",\"\",COUNTIF($A$2:$A2052,$A2052))","v":""},{"$f":"IF($A2052=\"\",\"\",$O2052+thousand*VLOOKUP($A2052,$A$1:Q2052,17,FALSE))","v":""},{"$f":"IF(O2052=1,MAX(Q$1:Q2051)+1,\"\")","v":""},"","",2051]
[null,null,null,null,null,null,null,null,null,null,{"$error":"#DIV/0!"},null,2056,"",{"$f":"IF($A2057=\"\",\"\",COUNTIF($A$2:$A2057,$A2057))","v":""},{"$f":"IF($A2057=\"\",\"\",$O2057+thousand*VLOOKUP($A2057,$A$1:Q2057,17,FALSE))","v":""},{"$f":"IF(O2057=1,MAX(Q$1:Q2056)+1,\"\")","v":""},"","",2056]
[null,null,null,null,null,null,null,null,null,null,{"$error":"#DIV/0!"},null,2061,"",{"$f":"IF($A2062=\"\",\"\",COUNTIF($A$2:$A2062,$A2062))","v":""},{"$f":"IF($A2062=\"\",\"\",$O2062+thousand*VLOOKUP($A2062,$A$1:Q2062,17,FALSE))","v":""},{"$f":"IF(O2062=1,MAX(Q$1:Q2061)+1,\"\")","v":""},"","",2061]
[null,null,null,null,null,null,null,null,null,null,{"$error":"#DIV/0!"},null,2070,"",{"$f":"IF($A2071=\"\",\"\",COUNTIF($A$2:$A2071,$A2071))","v":""},{"$f":"IF($A2071=\"\",\"\",$O2071+thousand*VLOOKUP($A2071,$A$1:Q2071,17,FALSE))","v":""},{"$f":"IF(O2071=1,MAX(Q$1:Q2070)+1,\"\")","v":""},"","",2070]
[null,null,null,null,null,null,null,null,null,null,{"$error":"#DIV/0!"},null,2078,"",{"$f":"IF($A2079=\"\",\"\",COUNTIF($A$2:$A2079,$A2079))","v":""},{"$f":"IF($A2079=\"\",\"\",$O2079+thousand*VLOOKUP($A2079,$A$1:Q2079,17,FALSE))","v":""},{"$f":"IF(O2079=1,MAX(Q$1:Q2078)+1,\"\")","v":""},"","",2078]
[null,null,null,null,null,null,null,null,null,null,{"$f":"F2088/E2088*J2088","v":{"$error":"#DIV/0!"}},null,2087,"",{"$f":"IF($A2088=\"\",\"\",COUNTIF($A$2:$A2088,$A2088))","v":""},{"$f":"IF($A2088=\"\",\"\",$O2088+thousand*VLOOKUP($A2088,$A$1:Q2088,17,FALSE))","v":""},{"$f":"IF(O2088=1,MAX(Q$1:Q2087)+1,\"\")","v":""},"","",2087]
[null,null,null,null,null,null,null,null,null,null,{"$error":"#DIV/0!"},null,2095,"",{"$f":"IF($A2096=\"\",\"\",COUNTIF($A$2:$A2096,$A2096))","v":""},{"$f":"IF($A2096=\"\",\"\",$O2096+thousand*VLOOKUP($A2096,$A$1:Q2096,17,FALSE))","v":""},{"$f":"IF(O2096=1,MAX(Q$1:Q2095)+1,\"\")","v":""},"","",2095]
[null,null,null,null,null,null,null,null,null,null,{"$error":"#DIV/0!"},null,2101,"",{"$f":"IF($A2102=\"\",\"\",COUNTIF($A$2:$A2102,$A2102))","v":""},{"$f":"IF($A2102=\"\",\"\",$O2102+thousand*VLOOKUP($A2102,$A$1:Q2102,17,FALSE))","v":""},{"$f":"IF(O2102=1,MAX(Q$1:Q2101)+1,\"\")","v":""},"","",2101]
[null,null,null,null,null,null,null,null,null,null,{"$error":"#DIV/0!"},null,2109,"",{"$f":"IF($A2110=\"\",\"\",COUNTIF($A$2:$A2110,$A2110))","v":""},{"$f":"IF($A2110=\"\",\"\",$O2110+thousand*VLOOKUP($A2110,$A$1:Q2110,17,FALSE))","v":""},{"$f":"IF(O2110=1,MAX(Q$1:Q2109)+1,\"\")","v":""},"","",2109]
[null,null,null,null,null,null,null,null,null,null,{"$error":"#DIV/0!"},null,2120,"",{"$f":"IF($A2121=\"\",\"\",COUNTIF($A$2:$A2121,$A2121))","v":""},{"$f":"IF($A2121=\"\",\"\",$O2121+thousand*VLOOKUP($A2121,$A$1:Q2121,17,FALSE))","v":""},{"$f":"IF(O2121=1,MAX(Q$1:Q2120)+1,\"\")","v":""},"","",2120]
[null,null,null,null,null,null,null,null,null,null,{"$error":"#DIV/0!"},null,2123,"",{"$f":"IF($A2124=\"\",\"\",COUNTIF($A$2:$A2124,$A2124))","v":""},{"$f":"IF($A2124=\"\",\"\",$O2124+thousand*VLOOKUP($A2124,$A$1:Q2124,17,FALSE))","v":""},{"$f":"IF(O2124=1,MAX(Q$1:Q2123)+1,\"\")","v":""},"","",2123]
[null,null,null,null,null,null,null,null,null,null,{"$error":"#DIV/0!"},null,2129,"",{"$f":"IF($A2130=\"\",\"\",COUNTIF($A$2:$A2130,$A2130))","v":""},{"$f":"IF($A2130=\"\",\"\",$O2130+thousand*VLOOKUP($A2130,$A$1:Q2130,17,FALSE))","v":""},{"$f":"IF(O2130=1,MAX(Q$1:Q2129)+1,\"\")","v":""},"","",2129]
[null,null,null,null,null,null,null,null,null,null,{"$error":"#DIV/0!"},null,2137,"",{"$f":"IF($A2138=\"\",\"\",COUNTIF($A$2:$A2138,$A2138))","v":""},{"$f":"IF($A2138=\"\",\"\",$O2138+thousand*VLOOKUP($A2138,$A$1:Q2138,17,FALSE))","v":""},{"$f":"IF(O2138=1,MAX(Q$1:Q2137)+1,\"\")","v":""},"","",2137]
[null,null,null,null,null,null,null,null,null,null,{"$error":"#DIV/0!"},null,2146,"",{"$f":"IF($A2147=\"\",\"\",COUNTIF($A$2:$A2147,$A2147))","v":""},{"$f":"IF($A2147=\"\",\"\",$O2147+thousand*VLOOKUP($A2147,$A$1:Q2147,17,FALSE))","v":""},{"$f":"IF(O2147=1,MAX(Q$1:Q2146)+1,\"\")","v":""},"","",2146]
[null,null,null,null,null,null,null,null,null,null,{"$f":"F2152/E2152*J2152","v":{"$error":"#DIV/0!"}},null,2151,"",{"$f":"IF($A2152=\"\",\"\",COUNTIF($A$2:$A2152,$A2152))","v":""},{"$f":"IF($A2152=\"\",\"\",$O2152+thousand*VLOOKUP($A2152,$A$1:Q2152,17,FALSE))","v":""},{"$f":"IF(O2152=1,MAX(Q$1:Q2151)+1,\"\")","v":""},"","",2151]
[null,null,null,null,null,null,null,null,null,null,{"$error":"#DIV/0!"},null,2159,"",{"$f":"IF($A2160=\"\",\"\",COUNTIF($A$2:$A2160,$A2160))","v":""},{"$f":"IF($A2160=\"\",\"\",$O2160+thousand*VLOOKUP($A2160,$A$1:Q2160,17,FALSE))","v":""},{"$f":"IF(O2160=1,MAX(Q$1:Q2159)+1,\"\")","v":""},"","",2159]
[null,null,null,null,null,null,null,null,null,null,{"$error":"#DIV/0!"},null,2171,"",{"$f":"IF($A2172=\"\",\"\",COUNTIF($A$2:$A2172,$A2172))","v":""},{"$f":"IF($A2172=\"\",\"\",$O2172+thousand*VLOOKUP($A2172,$A$1:Q2172,17,FALSE))","v":""},{"$f":"IF(O2172=1,MAX(Q$1:Q2171)+1,\"\")","v":""},"","",2171]
[null,null,null,null,null,null,null,null,null,null,{"$error":"#DIV/0!"},null,2173,"",{"$f":"IF($A2174=\"\",\"\",COUNTIF($A$2:$A2174,$A2174))","v":""},{"$f":"IF($A2174=\"\",\"\",$O2174+thousand*VLOOKUP($A2174,$A$1:Q2174,17,FALSE))","v":""},{"$f":"IF(O2174=1,MAX(Q$1:Q2173)+1,\"\")","v":""},"","",2173]
[null,null,null,null,null,null,null,null,null,null,{"$error":"#DIV/0!"},null,2180,"",{"$f":"IF($A2181=\"\",\"\",COUNTIF($A$2:$A2181,$A2181))","v":""},{"$f":"IF($A2181=\"\",\"\",$O2181+thousand*VLOOKUP($A2181,$A$1:Q2181,17,FALSE))","v":""},{"$f":"IF(O2181=1,MAX(Q$1:Q2180)+1,\"\")","v":""},"","",2180]
[null,null,null,null,null,null,null,null,null,null,{"$error":"#DIV/0!"},null,2194,"",{"$f":"IF($A2195=\"\",\"\",COUNTIF($A$2:$A2195,$A2195))","v":""},{"$f":"IF($A2195=\"\",\"\",$O2195+thousand*VLOOKUP($A2195,$A$1:Q2195,17,FALSE))","v":""},{"$f":"IF(O2195=1,MAX(Q$1:Q2194)+1,\"\")","v":""},"","",2194]
[null,null,null,null,null,null,null,null,null,null,{"$error":"#DIV/0!"},null,2197,"",{"$f":"IF($A2198=\"\",\"\",COUNTIF($A$2:$A2198,$A2198))","v":""},{"$f":"IF($A2198=\"\",\"\",$O2198+thousand*VLOOKUP($A2198,$A$1:Q2198,17,FALSE))","v":""},{"$f":"IF(O2198=1,MAX(Q$1:Q2197)+1,\"\")","v":""},"","",2197]
[null,null,null,null,null,null,null,null,null,null,{"$error":"#DIV/0!"},null,2204,"",{"$f":"IF($A2205=\"\",\"\",COUNTIF($A$2:$A2205,$A2205))","v":""},{"$f":"IF($A2205=\"\",\"\",$O2205+thousand*VLOOKUP($A2205,$A$1:Q2205,17,FALSE))","v":""},{"$f":"IF(O2205=1,MAX(Q$1:Q2204)+1,\"\")","v":""},"","",2204]
[null,null,null,null,null,null,null,null,null,null,{"$error":"#DIV/0!"},null,2216,"",{"$f":"IF($A2217=\"\",\"\",COUNTIF($A$2:$A2217,$A2217))","v":""},{"$f":"IF($A2217=\"\",\"\",$O2217+thousand*VLOOKUP($A2217,$A$1:Q2217,17,FALSE))","v":""},{"$f":"IF(O2217=1,MAX(Q$1:Q2216)+1,\"\")","v":""},"","",2216]
[null,null,null,null,null,null,null,null,null,null,{"$error":"#DIV/0!"},null,2222,"",{"$f":"IF($A2223=\"\",\"\",COUNTIF($A$2:$A2223,$A2223))","v":""},{"$f":"IF($A2223=\"\",\"\",$O2223+thousand*VLOOKUP($A2223,$A$1:Q2223,17,FALSE))","v":""},{"$f":"IF(O2223=1,MAX(Q$1:Q2222)+1,\"\")","v":""},"","",2222]
[null,null,null,null,null,null,null,null,null,null,{"$error":"#DIV/0!"},null,2230,"",{"$f":"IF($A2231=\"\",\"\",COUNTIF($A$2:$A2231,$A2231))","v":""},{"$f":"IF($A2231=\"\",\"\",$O2231+thousand*VLOOKUP($A2231,$A$1:Q2231,17,FALSE))","v":""},{"$f":"IF(O2231=1,MAX(Q$1:Q2230)+1,\"\")","v":""},"","",2230]
[null,null,null,null,null,null,null,null,null,null,{"$error":"#DIV/0!"},null,2239,"",{"$f":"IF($A2240=\"\",\"\",COUNTIF($A$2:$A2240,$A2240))","v":""},{"$f":"IF($A2240=\"\",\"\",$O2240+thousand*VLOOKUP($A2240,$A$1:Q2240,17,FALSE))","v":""},{"$f":"IF(O2240=1,MAX(Q$1:Q2239)+1,\"\")","v":""},"","",2239]
[null,null,null,null,null,null,null,null,null,null,{"$error":"#DIV/0!"},null,2240,"",{"$f":"IF($A2241=\"\",\"\",COUNTIF($A$2:$A2241,$A2241))","v":""},{"$f":"IF($A2241=\"\",\"\",$O2241+thousand*VLOOKUP($A2241,$A$1:Q2241,17,FALSE))","v":""},{"$f":"IF(O2241=1,MAX(Q$1:Q2240)+1,\"\")","v":""},"","",2240]
[null,null,null,null,null,null,null,null,null,null,{"$error":"#DIV/0!"},null,2252,"",{"$f":"IF($A2253=\"\",\"\",COUNTIF($A$2:$A2253,$A2253))","v":""},{"$f":"IF($A2253=\"\",\"\",$O2253+thousand*VLOOKUP($A2253,$A$1:Q2253,17,FALSE))","v":""},{"$f":"IF(O2253=1,MAX(Q$1:Q2252)+1,\"\")","v":""},"","",2252]
[null,null,null,null,null,null,null,null,null,null,{"$error":"#DIV/0!"},null,2256,"",{"$f":"IF($A2257=\"\",\"\",COUNTIF($A$2:$A2257,$A2257))","v":""},{"$f":"IF($A2257=\"\",\"\",$O2257+thousand*VLOOKUP($A2257,$A$1:Q2257,17,FALSE))","v":""},{"$f":"IF(O2257=1,MAX(Q$1:Q2256)+1,\"\")","v":""},"","",2256]
[null,null,null,null,null,null,null,null,null,null,{"$error":"#DIV/0!"},null,2262,"",{"$f":"IF($A2263=\"\",\"\",COUNTIF($A$2:$A2263,$A2263))","v":""},{"$f":"IF($A2263=\"\",\"\",$O2263+thousand*VLOOKUP($A2263,$A$1:Q2263,17,FALSE))","v":""},{"$f":"IF(O2263=1,MAX(Q$1:Q2262)+1,\"\")","v":""},"","",2262]
[null,null,null,null,null,null,null,null,null,null,{"$error":"#DIV/0!"},null,2273,"",{"$f":"IF($A2274=\"\",\"\",COUNTIF($A$2:$A2274,$A2274))","v":""},{"$f":"IF($A2274=\"\",\"\",$O2274+thousand*VLOOKUP($A2274,$A$1:Q2274,17,FALSE))","v":""},{"$f":"IF(O2274=1,MAX(Q$1:Q2273)+1,\"\")","v":""},"","",2273]
[null,null,null,null,null,null,null,null,null,null,{"$error":"#DIV/0!"},null,2283,"",{"$f":"IF($A2284=\"\",\"\",COUNTIF($A$2:$A2284,$A2284))","v":""},{"$f":"IF($A2284=\"\",\"\",$O2284+thousand*VLOOKUP($A2284,$A$1:Q2284,17,FALSE))","v":""},{"$f":"IF(O2284=1,MAX(Q$1:Q2283)+1,\"\")","v":""},"","",2283]
[null,null,null,null,null,null,null,null,null,null,{"$error":"#DIV/0!"},null,2290,"",{"$f":"IF($A2291=\"\",\"\",COUNTIF($A$2:$A2291,$A2291))","v":""},{"$f":"IF($A2291=\"\",\"\",$O2291+thousand*VLOOKUP($A2291,$A$1:Q2291,17,FALSE))","v":""},{"$f":"IF(O2291=1,MAX(Q$1:Q2290)+1,\"\")","v":""},"","",2290]
[null,null,null,null,null,null,null,null,null,null,{"$error":"#DIV/0!"},null,2297,"",{"$f":"IF($A2298=\"\",\"\",COUNTIF($A$2:$A2298,$A2298))","v":""},{"$f":"IF($A2298=\"\",\"\",$O2298+thousand*VLOOKUP($A2298,$A$1:Q2298,17,FALSE))","v":""},{"$f":"IF(O2298=1,MAX(Q$1:Q2297)+1,\"\")","v":""},"","",2297]
[null,null,null,null,null,null,null,null,null,null,{"$error":"#DIV/0!"},null,2305,{"$f":"IF(M2306>MAX(Q$2:Q$7985),\"\",VLOOKUP(M2306,Q$2:R$7985,2,FALSE))","v":""},{"$f":"IF($A2306=\"\",\"\",COUNTIF($A$2:$A2306,$A2306))","v":""},{"$f":"IF($A2306=\"\",\"\",$O2306+thousand*VLOOKUP($A2306,$A$1:Q2306,17,FALSE))","v":""},{"$f":"IF(O2306=1,MAX(Q$1:Q2305)+1,\"\")","v":""},"","",2305]
[null,null,null,null,null,null,null,null,null,null,{"$error":"#DIV/0!"},null,2307,"",{"$f":"IF($A2308=\"\",\"\",COUNTIF($A$2:$A2308,$A2308))","v":""},{"$f":"IF($A2308=\"\",\"\",$O2308+thousand*VLOOKUP($A2308,$A$1:Q2308,17,FALSE))","v":""},{"$f":"IF(O2308=1,MAX(Q$1:Q2307)+1,\"\")","v":""},"","",2307]
[null,null,null,null,null,null,null,null,null,null,{"$error":"#DIV/0!"},null,2319,"",{"$f":"IF($A2320=\"\",\"\",COUNTIF($A$2:$A2320,$A2320))","v":""},{"$f":"IF($A2320=\"\",\"\",$O2320+thousand*VLOOKUP($A2320,$A$1:Q2320,17,FALSE))","v":""},{"$f":"IF(O2320=1,MAX(Q$1:Q2319)+1,\"\")","v":""},"","",2319]
[null,null,null,null,null,null,null,null,null,null,{"$error":"#DIV/0!"},null,2324,"",{"$f":"IF($A2325=\"\",\"\",COUNTIF($A$2:$A2325,$A2325))","v":""},{"$f":"IF($A2325=\"\",\"\",$O2325+thousand*VLOOKUP($A2325,$A$1:Q2325,17,FALSE))","v":""},{"$f":"IF(O2325=1,MAX(Q$1:Q2324)+1,\"\")","v":""},"","",2324]
[null,null,null,null,null,null,null,null,null,null,{"$error":"#DIV/0!"},null,2333,"",{"$f":"IF($A2334=\"\",\"\",COUNTIF($A$2:$A2334,$A2334))","v":""},{"$f":"IF($A2334=\"\",\"\",$O2334+thousand*VLOOKUP($A2334,$A$1:Q2334,17,FALSE))","v":""},{"$f":"IF(O2334=1,MAX(Q$1:Q2333)+1,\"\")","v":""},"","",2333]
[null,null,null,null,null,null,null,null,null,null,{"$error":"#DIV/0!"},null,2341,"",{"$f":"IF($A2342=\"\",\"\",COUNTIF($A$2:$A2342,$A2342))","v":""},{"$f":"IF($A2342=\"\",\"\",$O2342+thousand*VLOOKUP($A2342,$A$1:Q2342,17,FALSE))","v":""},{"$f":"IF(O2342=1,MAX(Q$1:Q2341)+1,\"\")","v":""},"","",2341]
[null,null,null,null,null,null,null,null,null,null,{"$error":"#DIV/0!"},null,2347,"",{"$f":"IF($A2348=\"\",\"\",COUNTIF($A$2:$A2348,$A2348))","v":""},{"$f":"IF($A2348=\"\",\"\",$O2348+thousand*VLOOKUP($A2348,$A$1:Q2348,17,FALSE))","v":""},{"$f":"IF(O2348=1,MAX(Q$1:Q2347)+1,\"\")","v":""},"","",2347]
[null,null,null,null,null,null,null,null,null,null,{"$error":"#DIV/0!"},null,2355,"",{"$f":"IF($A2356=\"\",\"\",COUNTIF($A$2:$A2356,$A2356))","v":""},{"$f":"IF($A2356=\"\",\"\",$O2356+thousand*VLOOKUP($A2356,$A$1:Q2356,17,FALSE))","v":""},{"$f":"IF(O2356=1,MAX(Q$1:Q2355)+1,\"\")","v":""},"","",2355]
[null,null,null,null,null,null,null,null,null,null,{"$error":"#DIV/0!"},null,2358,"",{"$f":"IF($A2359=\"\",\"\",COUNTIF($A$2:$A2359,$A2359))","v":""},{"$f":"IF($A2359=\"\",\"\",$O2359+thousand*VLOOKUP($A2359,$A$1:Q2359,17,FALSE))","v":""},{"$f":"IF(O2359=1,MAX(Q$1:Q2358)+1,\"\")","v":""},"","",2358]
[null,null,null,null,null,null,null,null,null,null,{"$error":"#DIV/0!"},null,2369,{"$f":"IF(M2370>MAX(Q$2:Q$7985),\"\",VLOOKUP(M2370,Q$2:R$7985,2,FALSE))","v":""},{"$f":"IF($A2370=\"\",\"\",COUNTIF($A$2:$A2370,$A2370))","v":""},{"$f":"IF($A2370=\"\",\"\",$O2370+thousand*VLOOKUP($A2370,$A$1:Q2370,17,FALSE))","v":""},{"$f":"IF(O2370=1,MAX(Q$1:Q2369)+1,\"\")","v":""},"","",2369]
[null,null,null,null,null,null,null,null,null,null,{"$error":"#DIV/0!"},null,2375,"",{"$f":"IF($A2376=\"\",\"\",COUNTIF($A$2:$A2376,$A2376))","v":""},{"$f":"IF($A2376=\"\",\"\",$O2376+thousand*VLOOKUP($A2376,$A$1:Q2376,17,FALSE))","v":""},{"$f":"IF(O2376=1,MAX(Q$1:Q2375)+1,\"\")","v":""},"","",2375]
[null,null,null,null,null,null,null,null,null,null,{"$error":"#DIV/0!"},null,2383,"",{"$f":"IF($A2384=\"\",\"\",COUNTIF($A$2:$A2384,$A2384))","v":""},{"$f":"IF($A2384=\"\",\"\",$O2384+thousand*VLOOKUP($A2384,$A$1:Q2384,17,FALSE))","v":""},{"$f":"IF(O2384=1,MAX(Q$1:Q2383)+1,\"\")","v":""},"","",2383]
[null,null,null,null,null,null,null,null,null,null,{"$error":"#DIV/0!"},null,2392,"",{"$f":"IF($A2393=\"\",\"\",COUNTIF($A$2:$A2393,$A2393))","v":""},{"$f":"IF($A2393=\"\",\"\",$O2393+thousand*VLOOKUP($A2393,$A$1:Q2393,17,FALSE))","v":""},{"$f":"IF(O2393=1,MAX(Q$1:Q2392)+1,\"\")","v":""},"","",2392]
[null,null,null,null,null,null,null,null,null,null,{"$error":"#DIV/0!"},null,2400,"",{"$f":"IF($A2401=\"\",\"\",COUNTIF($A$2:$A2401,$A2401))","v":""},{"$f":"IF($A2401=\"\",\"\",$O2401+thousand*VLOOKUP($A2401,$A$1:Q2401,17,FALSE))","v":""},{"$f":"IF(O2401=1,MAX(Q$1:Q2400)+1,\"\")","v":""},"","",2400]
[null,null,null,null,null,null,null,null,null,null,{"$error":"#DIV/0!"},null,2405,"",{"$f":"IF($A2406=\"\",\"\",COUNTIF($A$2:$A2406,$A2406))","v":""},{"$f":"IF($A2406=\"\",\"\",$O2406+thousand*VLOOKUP($A2406,$A$1:Q2406,17,FALSE))","v":""},{"$f":"IF(O2406=1,MAX(Q$1:Q2405)+1,\"\")","v":""},"","",2405]
[null,null,null,null,null,null,null,null,null,null,{"$error":"#DIV/0!"},null,2417,"",{"$f":"IF($A2418=\"\",\"\",COUNTIF($A$2:$A2418,$A2418))","v":""},{"$f":"IF($A2418=\"\",\"\",$O2418+thousand*VLOOKUP($A2418,$A$1:Q2418,17,FALSE))","v":""},{"$f":"IF(O2418=1,MAX(Q$1:Q2417)+1,\"\")","v":""},"","",2417]
[null,null,null,null,null,null,null,null,null,null,{"$error":"#DIV/0!"},null,2422,"",{"$f":"IF($A2423=\"\",\"\",COUNTIF($A$2:$A2423,$A2423))","v":""},{"$f":"IF($A2423=\"\",\"\",$O2423+thousand*VLOOKUP($A2423,$A$1:Q2423,17,FALSE))","v":""},{"$f":"IF(O2423=1,MAX(Q$1:Q2422)+1,\"\")","v":""},"","",2422]
[null,null,null,null,null,null,null,null,null,null,{"$error":"#DIV/0!"},null,2426,"",{"$f":"IF($A2427=\"\",\"\",COUNTIF($A$2:$A2427,$A2427))","v":""},{"$f":"IF($A2427=\"\",\"\",$O2427+thousand*VLOOKUP($A2427,$A$1:Q2427,17,FALSE))","v":""},{"$f":"IF(O2427=1,MAX(Q$1:Q2426)+1,\"\")","v":""},"","",2426]
[null,null,null,null,null,null,null,null,null,null,{"$error":"#DIV/0!"},null,2436,"",{"$f":"IF($A2437=\"\",\"\",COUNTIF($A$2:$A2437,$A2437))","v":""},{"$f":"IF($A2437=\"\",\"\",$O2437+thousand*VLOOKUP($A2437,$A$1:Q2437,17,FALSE))","v":""},{"$f":"IF(O2437=1,MAX(Q$1:Q2436)+1,\"\")","v":""},"","",2436]
[null,null,null,null,null,null,null,null,null,null,{"$error":"#DIV/0!"},null,2443,"",{"$f":"IF($A2444=\"\",\"\",COUNTIF($A$2:$A2444,$A2444))","v":""},{"$f":"IF($A2444=\"\",\"\",$O2444+thousand*VLOOKUP($A2444,$A$1:Q2444,17,FALSE))","v":""},{"$f":"IF(O2444=1,MAX(Q$1:Q2443)+1,\"\")","v":""},"","",2443]
[null,null,null,null,null,null,null,null,null,null,{"$error":"#DIV/0!"},null,2450,"",{"$f":"IF($A2451=\"\",\"\",COUNTIF($A$2:$A2451,$A2451))","v":""},{"$f":"IF($A2451=\"\",\"\",$O2451+thousand*VLOOKUP($A2451,$A$1:Q2451,17,FALSE))","v":""},{"$f":"IF(O2451=1,MAX(Q$1:Q2450)+1,\"\")","v":""},"","",2450]
[null,null,null,null,null,null,null,null,null,null,{"$error":"#DIV/0!"},null,2458,"",{"$f":"IF($A2459=\"\",\"\",COUNTIF($A$2:$A2459,$A2459))","v":""},{"$f":"IF($A2459=\"\",\"\",$O2459+thousand*VLOOKUP($A2459,$A$1:Q2459,17,FALSE))","v":""},{"$f":"IF(O2459=1,MAX(Q$1:Q2458)+1,\"\")","v":""},"","",2458]
[null,null,null,null,null,null,null,null,null,null,{"$error":"#DIV/0!"},null,2468,"",{"$f":"IF($A2469=\"\",\"\",COUNTIF($A$2:$A2469,$A2469))","v":""},{"$f":"IF($A2469=\"\",\"\",$O2469+thousand*VLOOKUP($A2469,$A$1:Q2469,17,FALSE))","v":""},{"$f":"IF(O2469=1,MAX(Q$1:Q2468)+1,\"\")","v":""},"","",2468]
[null,null,null,null,null,null,null,null,null,null,{"$error":"#DIV/0!"},null,2472,"",{"$f":"IF($A2473=\"\",\"\",COUNTIF($A$2:$A2473,$A2473))","v":""},{"$f":"IF($A2473=\"\",\"\",$O2473+thousand*VLOOKUP($A2473,$A$1:Q2473,17,FALSE))","v":""},{"$f":"IF(O2473=1,MAX(Q$1:Q2472)+1,\"\")","v":""},"","",2472]
[null,null,null,null,null,null,null,null,null,null,{"$error":"#DIV/0!"},null,2477,"",{"$f":"IF($A2478=\"\",\"\",COUNTIF($A$2:$A2478,$A2478))","v":""},{"$f":"IF($A2478=\"\",\"\",$O2478+thousand*VLOOKUP($A2478,$A$1:Q2478,17,FALSE))","v":""},{"$f":"IF(O2478=1,MAX(Q$1:Q2477)+1,\"\")","v":""},"","",2477]
[null,null,null,null,null,null,null,null,null,null,{"$error":"#DIV/0!"},null,2486,"",{"$f":"IF($A2487=\"\",\"\",COUNTIF($A$2:$A2487,$A2487))","v":""},{"$f":"IF($A2487=\"\",\"\",$O2487+thousand*VLOOKUP($A2487,$A$1:Q2487,17,FALSE))","v":""},{"$f":"IF(O2487=1,MAX(Q$1:Q2486)+1,\"\")","v":""},"","",2486]
[null,null,null,null,null,null,null,null,null,null,{"$error":"#DIV/0!"},null,2494,"",{"$f":"IF($A2495=\"\",\"\",COUNTIF($A$2:$A2495,$A2495))","v":""},{"$f":"IF($A2495=\"\",\"\",$O2495+thousand*VLOOKUP($A2495,$A$1:Q2495,17,FALSE))","v":""},{"$f":"IF(O2495=1,MAX(Q$1:Q2494)+1,\"\")","v":""},"","",2494]
[null,null,null,null,null,null,null,null,null,null,{"$error":"#DIV/0!"},null,2500,"",{"$f":"IF($A2501=\"\",\"\",COUNTIF($A$2:$A2501,$A2501))","v":""},{"$f":"IF($A2501=\"\",\"\",$O2501+thousand*VLOOKUP($A2501,$A$1:Q2501,17,FALSE))","v":""},{"$f":"IF(O2501=1,MAX(Q$1:Q2500)+1,\"\")","v":""},"","",2500]
[null,null,null,null,null,null,null,null,null,null,{"$error":"#DIV/0!"},null,2508,null,{"$f":"IF($A2509=\"\",\"\",COUNTIF($A$2:$A2509,$A2509))","v":""},{"$f":"IF($A2509=\"\",\"\",$O2509+thousand*VLOOKUP($A2509,$A$1:Q2509,17,FALSE))","v":""},{"$f":"IF(O2509=1,MAX(Q$1:Q2508)+1,\"\")","v":""},"","",2508]
[null,null,null,null,null,null,null,null,null,null,{"$error":"#DIV/0!"},null,2519,null,{"$f":"IF($A2520=\"\",\"\",COUNTIF($A$2:$A2520,$A2520))","v":""},{"$f":"IF($A2520=\"\",\"\",$O2520+thousand*VLOOKUP($A2520,$A$1:Q2520,17,FALSE))","v":""},{"$f":"IF(O2520=1,MAX(Q$1:Q2519)+1,\"\")","v":""},"","",2519]
[null,null,null,null,null,null,null,null,null,null,{"$error":"#DIV/0!"},null,2522,null,{"$f":"IF($A2523=\"\",\"\",COUNTIF($A$2:$A2523,$A2523))","v":""},{"$f":"IF($A2523=\"\",\"\",$O2523+thousand*VLOOKUP($A2523,$A$1:Q2523,17,FALSE))","v":""},{"$f":"IF(O2523=1,MAX(Q$1:Q2522)+1,\"\")","v":""},"","",2522]
[null,null,null,null,null,null,null,null,null,null,{"$error":"#DIV/0!"},null,2536,null,{"$f":"IF($A2537=\"\",\"\",COUNTIF($A$2:$A2537,$A2537))","v":""},{"$f":"IF($A2537=\"\",\"\",$O2537+thousand*VLOOKUP($A2537,$A$1:Q2537,17,FALSE))","v":""},{"$f":"IF(O2537=1,MAX(Q$1:Q2536)+1,\"\")","v":""},"","",2536]
[null,null,null,null,null,null,null,null,null,null,{"$error":"#DIV/0!"},null,2543,null,{"$f":"IF($A2544=\"\",\"\",COUNTIF($A$2:$A2544,$A2544))","v":""},{"$f":"IF($A2544=\"\",\"\",$O2544+thousand*VLOOKUP($A2544,$A$1:Q2544,17,FALSE))","v":""},{"$f":"IF(O2544=1,MAX(Q$1:Q2543)+1,\"\")","v":""},"","",2543]
[null,null,null,null,null,null,null,null,null,null,{"$error":"#DIV/0!"},null,2545,null,{"$f":"IF($A2546=\"\",\"\",COUNTIF($A$2:$A2546,$A2546))","v":""},{"$f":"IF($A2546=\"\",\"\",$O2546+thousand*VLOOKUP($A2546,$A$1:Q2546,17,FALSE))","v":""},{"$f":"IF(O2546=1,MAX(Q$1:Q2545)+1,\"\")","v":""},"","",2545]
[null,null,null,null,null,null,null,null,null,null,{"$error":"#DIV/0!"},null,2553,null,{"$f":"IF($A2554=\"\",\"\",COUNTIF($A$2:$A2554,$A2554))","v":""},{"$f":"IF($A2554=\"\",\"\",$O2554+thousand*VLOOKUP($A2554,$A$1:Q2554,17,FALSE))","v":""},{"$f":"IF(O2554=1,MAX(Q$1:Q2553)+1,\"\")","v":""},"","",2553]
[null,null,null,null,null,null,null,null,null,null,{"$error":"#DIV/0!"},null,2565,null,{"$f":"IF($A2566=\"\",\"\",COUNTIF($A$2:$A2566,$A2566))","v":""},{"$f":"IF($A2566=\"\",\"\",$O2566+thousand*VLOOKUP($A2566,$A$1:Q2566,17,FALSE))","v":""},{"$f":"IF(O2566=1,MAX(Q$1:Q2565)+1,\"\")","v":""},"","",2565]
[null,null,null,null,null,null,null,null,null,null,{"$error":"#DIV/0!"},null,2570,null,{"$f":"IF($A2571=\"\",\"\",COUNTIF($A$2:$A2571,$A2571))","v":""},{"$f":"IF($A2571=\"\",\"\",$O2571+thousand*VLOOKUP($A2571,$A$1:Q2571,17,FALSE))","v":""},{"$f":"IF(O2571=1,MAX(Q$1:Q2570)+1,\"\")","v":""},"","",2570]
[null,null,null,null,null,null,null,null,null,null,{"$error":"#DIV/0!"},null,2575,null,{"$f":"IF($A2576=\"\",\"\",COUNTIF($A$2:$A2576,$A2576))","v":""},{"$f":"IF($A2576=\"\",\"\",$O2576+thousand*VLOOKUP($A2576,$A$1:Q2576,17,FALSE))","v":""},{"$f":"IF(O2576=1,MAX(Q$1:Q2575)+1,\"\")","v":""},"","",2575]
[null,null,null,null,null,null,null,null,null,null,{"$error":"#DIV/0!"},null,2587,null,{"$f":"IF($A2588=\"\",\"\",COUNTIF($A$2:$A2588,$A2588))","v":""},{"$f":"IF($A2588=\"\",\"\",$O2588+thousand*VLOOKUP($A2588,$A$1:Q2588,17,FALSE))","v":""},{"$f":"IF(O2588=1,MAX(Q$1:Q2587)+1,\"\")","v":""},"","",2587]
[null,null,null,null,null,null,null,null,null,null,{"$error":"#DIV/0!"},null,2589,null,{"$f":"IF($A2590=\"\",\"\",COUNTIF($A$2:$A2590,$A2590))","v":""},{"$f":"IF($A2590=\"\",\"\",$O2590+thousand*VLOOKUP($A2590,$A$1:Q2590,17,FALSE))","v":""},{"$f":"IF(O2590=1,MAX(Q$1:Q2589)+1,\"\")","v":""},"","",2589]
[null,null,null,null,null,null,null,null,null,null,{"$error":"#DIV/0!"},null,2596,null,{"$f":"IF($A2597=\"\",\"\",COUNTIF($A$2:$A2597,$A2597))","v":""},{"$f":"IF($A2597=\"\",\"\",$O2597+thousand*VLOOKUP($A2597,$A$1:Q2597,17,FALSE))","v":""},{"$f":"IF(O2597=1,MAX(Q$1:Q2596)+1,\"\")","v":""},"","",2596]
[null,null,null,null,null,null,null,null,null,null,{"$error":"#DIV/0!"},null,2610,null,{"$f":"IF($A2611=\"\",\"\",COUNTIF($A$2:$A2611,$A2611))","v":""},{"$f":"IF($A2611=\"\",\"\",$O2611+thousand*VLOOKUP($A2611,$A$1:Q2611,17,FALSE))","v":""},{"$f":"IF(O2611=1,MAX(Q$1:Q2610)+1,\"\")","v":""},"","",2610]
[null,null,null,null,null,null,null,null,null,null,{"$error":"#DIV/0!"},null,2611,null,{"$f":"IF($A2612=\"\",\"\",COUNTIF($A$2:$A2612,$A2612))","v":""},{"$f":"IF($A2612=\"\",\"\",$O2612+thousand*VLOOKUP($A2612,$A$1:Q2612,17,FALSE))","v":""},{"$f":"IF(O2612=1,MAX(Q$1:Q2611)+1,\"\")","v":""},"","",2611]
[null,null,null,null,null,null,null,null,null,null,{"$error":"#DIV/0!"},null,2621,null,{"$f":"IF($A2622=\"\",\"\",COUNTIF($A$2:$A2622,$A2622))","v":""},{"$f":"IF($A2622=\"\",\"\",$O2622+thousand*VLOOKUP($A2622,$A$1:Q2622,17,FALSE))","v":""},{"$f":"IF(O2622=1,MAX(Q$1:Q2621)+1,\"\")","v":""},"","",2621]
[null,null,null,null,null,null,null,null,null,null,{"$error":"#DIV/0!"},null,2632,null,{"$f":"IF($A2633=\"\",\"\",COUNTIF($A$2:$A2633,$A2633))","v":""},{"$f":"IF($A2633=\"\",\"\",$O2633+thousand*VLOOKUP($A2633,$A$1:Q2633,17,FALSE))","v":""},{"$f":"IF(O2633=1,MAX(Q$1:Q2632)+1,\"\")","v":""},"","",2632]
[null,null,null,null,null,null,null,null,null,null,{"$error":"#DIV/0!"},null,2638,null,{"$f":"IF($A2639=\"\",\"\",COUNTIF($A$2:$A2639,$A2639))","v":""},{"$f":"IF($A2639=\"\",\"\",$O2639+thousand*VLOOKUP($A2639,$A$1:Q2639,17,FALSE))","v":""},{"$f":"IF(O2639=1,MAX(Q$1:Q2638)+1,\"\")","v":""},"","",2638]
[null,null,null,null,null,null,null,null,null,null,{"$error":"#DIV/0!"},null,2646,null,{"$f":"IF($A2647=\"\",\"\",COUNTIF($A$2:$A2647,$A2647))","v":""},{"$f":"IF($A2647=\"\",\"\",$O2647+thousand*VLOOKUP($A2647,$A$1:Q2647,17,FALSE))","v":""},{"$f":"IF(O2647=1,MAX(Q$1:Q2646)+1,\"\")","v":""},"","",2646]
[null,null,null,null,null,null,null,null,null,null,{"$error":"#DIV/0!"},null,2654,null,{"$f":"IF($A2655=\"\",\"\",COUNTIF($A$2:$A2655,$A2655))","v":""},{"$f":"IF($A2655=\"\",\"\",$O2655+thousand*VLOOKUP($A2655,$A$1:Q2655,17,FALSE))","v":""},{"$f":"IF(O2655=1,MAX(Q$1:Q2654)+1,\"\")","v":""},"","",2654]
[null,null,null,null,null,null,null,null,null,null,{"$error":"#DIV/0!"},null,2655,null,{"$f":"IF($A2656=\"\",\"\",COUNTIF($A$2:$A2656,$A2656))","v":""},{"$f":"IF($A2656=\"\",\"\",$O2656+thousand*VLOOKUP($A2656,$A$1:Q2656,17,FALSE))","v":""},{"$f":"IF(O2656=1,MAX(Q$1:Q2655)+1,\"\")","v":""},"","",2655]
[null,null,null,null,null,null,null,null,null,null,{"$error":"#DIV/0!"},null,2668,null,{"$f":"IF($A2669=\"\",\"\",COUNTIF($A$2:$A2669,$A2669))","v":""},{"$f":"IF($A2669=\"\",\"\",$O2669+thousand*VLOOKUP($A2669,$A$1:Q2669,17,FALSE))","v":""},{"$f":"IF(O2669=1,MAX(Q$1:Q2668)+1,\"\")","v":""},"","",2668]
[null,null,null,null,null,null,null,null,null,null,{"$error":"#DIV/0!"},null,2672,null,{"$f":"IF($A2673=\"\",\"\",COUNTIF($A$2:$A2673,$A2673))","v":""},{"$f":"IF($A2673=\"\",\"\",$O2673+thousand*VLOOKUP($A2673,$A$1:Q2673,17,FALSE))","v":""},{"$f":"IF(O2673=1,MAX(Q$1:Q2672)+1,\"\")","v":""},"","",2672]
[null,null,null,null,null,null,null,null,null,null,{"$error":"#DIV/0!"},null,2682,null,{"$f":"IF($A2683=\"\",\"\",COUNTIF($A$2:$A2683,$A2683))","v":""},{"$f":"IF($A2683=\"\",\"\",$O2683+thousand*VLOOKUP($A2683,$A$1:Q2683,17,FALSE))","v":""},{"$f":"IF(O2683=1,MAX(Q$1:Q2682)+1,\"\")","v":""},"","",2682]
[null,null,null,null,null,null,null,null,null,null,{"$error":"#DIV/0!"},null,2689,null,{"$f":"IF($A2690=\"\",\"\",COUNTIF($A$2:$A2690,$A2690))","v":""},{"$f":"IF($A2690=\"\",\"\",$O2690+thousand*VLOOKUP($A2690,$A$1:Q2690,17,FALSE))","v":""},{"$f":"IF(O2690=1,MAX(Q$1:Q2689)+1,\"\")","v":""},"","",2689]
[null,null,null,null,null,null,null,null,null,null,{"$error":"#DIV/0!"},null,2696,null,{"$f":"IF($A2697=\"\",\"\",COUNTIF($A$2:$A2697,$A2697))","v":""},{"$f":"IF($A2697=\"\",\"\",$O2697+thousand*VLOOKUP($A2697,$A$1:Q2697,17,FALSE))","v":""},{"$f":"IF(O2697=1,MAX(Q$1:Q2696)+1,\"\")","v":""},"","",2696]
[null,null,null,null,null,null,null,null,null,null,{"$error":"#DIV/0!"},null,2704,null,{"$f":"IF($A2705=\"\",\"\",COUNTIF($A$2:$A2705,$A2705))","v":""},{"$f":"IF($A2705=\"\",\"\",$O2705+thousand*VLOOKUP($A2705,$A$1:Q2705,17,FALSE))","v":""},{"$f":"IF(O2705=1,MAX(Q$1:Q2704)+1,\"\")","v":""},"","",2704]
[null,null,null,null,null,null,null,null,null,null,{"$error":"#DIV/0!"},null,2714,null,{"$f":"IF($A2715=\"\",\"\",COUNTIF($A$2:$A2715,$A2715))","v":""},{"$f":"IF($A2715=\"\",\"\",$O2715+thousand*VLOOKUP($A2715,$A$1:Q2715,17,FALSE))","v":""},{"$f":"IF(O2715=1,MAX(Q$1:Q2714)+1,\"\")","v":""},"","",2714]
[null,null,null,null,null,null,null,null,null,null,{"$error":"#DIV/0!"},null,2718,null,{"$f":"IF($A2719=\"\",\"\",COUNTIF($A$2:$A2719,$A2719))","v":""},{"$f":"IF($A2719=\"\",\"\",$O2719+thousand*VLOOKUP($A2719,$A$1:Q2719,17,FALSE))","v":""},{"$f":"IF(O2719=1,MAX(Q$1:Q2718)+1,\"\")","v":""},"","",2718]
[null,null,null,null,null,null,null,null,null,null,{"$error":"#DIV/0!"},null,2723,null,{"$f":"IF($A2724=\"\",\"\",COUNTIF($A$2:$A2724,$A2724))","v":""},{"$f":"IF($A2724=\"\",\"\",$O2724+thousand*VLOOKUP($A2724,$A$1:Q2724,17,FALSE))","v":""},{"$f":"IF(O2724=1,MAX(Q$1:Q2723)+1,\"\")","v":""},"","",2723]
[null,null,null,null,null,null,null,null,null,null,{"$error":"#DIV/0!"},null,2735,null,{"$f":"IF($A2736=\"\",\"\",COUNTIF($A$2:$A2736,$A2736))","v":""},{"$f":"IF($A2736=\"\",\"\",$O2736+thousand*VLOOKUP($A2736,$A$1:Q2736,17,FALSE))","v":""},{"$f":"IF(O2736=1,MAX(Q$1:Q2735)+1,\"\")","v":""},"","",2735]
[null,null,null,null,null,null,null,null,null,null,{"$error":"#DIV/0!"},null,2740,null,{"$f":"IF($A2741=\"\",\"\",COUNTIF($A$2:$A2741,$A2741))","v":""},{"$f":"IF($A2741=\"\",\"\",$O2741+thousand*VLOOKUP($A2741,$A$1:Q2741,17,FALSE))","v":""},{"$f":"IF(O2741=1,MAX(Q$1:Q2740)+1,\"\")","v":""},"","",2740]
[null,null,null,null,null,null,null,null,null,null,{"$error":"#DIV/0!"},null,2749,null,{"$f":"IF($A2750=\"\",\"\",COUNTIF($A$2:$A2750,$A2750))","v":""},{"$f":"IF($A2750=\"\",\"\",$O2750+thousand*VLOOKUP($A2750,$A$1:Q2750,17,FALSE))","v":""},{"$f":"IF(O2750=1,MAX(Q$1:Q2749)+1,\"\")","v":""},"","",2749]
[null,null,null,null,null,null,null,null,null,null,{"$error":"#DIV/0!"},null,2754,null,{"$f":"IF($A2755=\"\",\"\",COUNTIF($A$2:$A2755,$A2755))","v":""},{"$f":"IF($A2755=\"\",\"\",$O2755+thousand*VLOOKUP($A2755,$A$1:Q2755,17,FALSE))","v":""},{"$f":"IF(O2755=1,MAX(Q$1:Q2754)+1,\"\")","v":""},{"$f":"IF(A2755=\"\",\"\",A2755)","v":""},{"$f":"IF(B2755=\"\",\"\",B2755)","v":""},{"$f":"$M2755","v":2754}]
[null,null,null,null,null,null,null,null,null,null,{"$error":"#DIV/0!"},null,2765,null,{"$f":"IF($A2766=\"\",\"\",COUNTIF($A$2:$A2766,$A2766))","v":""},{"$f":"IF($A2766=\"\",\"\",$O2766+thousand*VLOOKUP($A2766,$A$1:Q2766,17,FALSE))","v":""},{"$f":"IF(O2766=1,MAX(Q$1:Q2765)+1,\"\")","v":""},"","",2765]
[null,null,null,null,null,null,null,null,null,null,{"$error":"#DIV/0!"},null,2771,null,{"$f":"IF($A2772=\"\",\"\",COUNTIF($A$2:$A2772,$A2772))","v":""},{"$f":"IF($A2772=\"\",\"\",$O2772+thousand*VLOOKUP($A2772,$A$1:Q2772,17,FALSE))","v":""},{"$f":"IF(O2772=1,MAX(Q$1:Q2771)+1,\"\")","v":""},"","",2771]
[null,null,null,null,null,null,null,null,null,null,{"$error":"#DIV/0!"},null,2774,null,{"$f":"IF($A2775=\"\",\"\",COUNTIF($A$2:$A2775,$A2775))","v":""},{"$f":"IF($A2775=\"\",\"\",$O2775+thousand*VLOOKUP($A2775,$A$1:Q2775,17,FALSE))","v":""},{"$f":"IF(O2775=1,MAX(Q$1:Q2774)+1,\"\")","v":""},"","",2774]
[null,null,null,null,null,null,null,null,null,null,{"$error":"#DIV/0!"},null,2785,null,{"$f":"IF($A2786=\"\",\"\",COUNTIF($A$2:$A2786,$A2786))","v":""},{"$f":"IF($A2786=\"\",\"\",$O2786+thousand*VLOOKUP($A2786,$A$1:Q2786,17,FALSE))","v":""},{"$f":"IF(O2786=1,MAX(Q$1:Q2785)+1,\"\")","v":""},"","",2785]
[null,null,null,null,null,null,null,null,null,null,{"$f":"F2792/E2792*J2792","v":{"$error":"#DIV/0!"}},null,2791,null,{"$f":"IF($A2792=\"\",\"\",COUNTIF($A$2:$A2792,$A2792))","v":""},{"$f":"IF($A2792=\"\",\"\",$O2792+thousand*VLOOKUP($A2792,$A$1:Q2792,17,FALSE))","v":""},{"$f":"IF(O2792=1,MAX(Q$1:Q2791)+1,\"\")","v":""},"","",2791]
[null,null,null,null,null,null,null,null,null,null,{"$error":"#DIV/0!"},null,2799,null,{"$f":"IF($A2800=\"\",\"\",COUNTIF($A$2:$A2800,$A2800))","v":""},{"$f":"IF($A2800=\"\",\"\",$O2800+thousand*VLOOKUP($A2800,$A$1:Q2800,17,FALSE))","v":""},{"$f":"IF(O2800=1,MAX(Q$1:Q2799)+1,\"\")","v":""},"","",2799]
[null,null,null,null,null,null,null,null,null,null,{"$error":"#DIV/0!"},null,2807,null,{"$f":"IF($A2808=\"\",\"\",COUNTIF($A$2:$A2808,$A2808))","v":""},{"$f":"IF($A2808=\"\",\"\",$O2808+thousand*VLOOKUP($A2808,$A$1:Q2808,17,FALSE))","v":""},{"$f":"IF(O2808=1,MAX(Q$1:Q2807)+1,\"\")","v":""},"","",2807]
[null,null,null,null,null,null,null,null,null,null,{"$error":"#DIV/0!"},null,2816,null,{"$f":"IF($A2817=\"\",\"\",COUNTIF($A$2:$A2817,$A2817))","v":""},{"$f":"IF($A2817=\"\",\"\",$O2817+thousand*VLOOKUP($A2817,$A$1:Q2817,17,FALSE))","v":""},{"$f":"IF(O2817=1,MAX(Q$1:Q2816)+1,\"\")","v":""},"","",2816]
[null,null,null,null,null,null,null,null,null,null,{"$error":"#DIV/0!"},null,2821,null,{"$f":"IF($A2822=\"\",\"\",COUNTIF($A$2:$A2822,$A2822))","v":""},{"$f":"IF($A2822=\"\",\"\",$O2822+thousand*VLOOKUP($A2822,$A$1:Q2822,17,FALSE))","v":""},{"$f":"IF(O2822=1,MAX(Q$1:Q2821)+1,\"\")","v":""},"","",2821]
[null,null,null,null,null,null,null,null,null,null,{"$error":"#DIV/0!"},null,2833,null,{"$f":"IF($A2834=\"\",\"\",COUNTIF($A$2:$A2834,$A2834))","v":""},{"$f":"IF($A2834=\"\",\"\",$O2834+thousand*VLOOKUP($A2834,$A$1:Q2834,17,FALSE))","v":""},{"$f":"IF(O2834=1,MAX(Q$1:Q2833)+1,\"\")","v":""},"","",2833]
[null,null,null,null,null,null,null,null,null,null,{"$error":"#DIV/0!"},null,2835,null,{"$f":"IF($A2836=\"\",\"\",COUNTIF($A$2:$A2836,$A2836))","v":""},{"$f":"IF($A2836=\"\",\"\",$O2836+thousand*VLOOKUP($A2836,$A$1:Q2836,17,FALSE))","v":""},{"$f":"IF(O2836=1,MAX(Q$1:Q2835)+1,\"\")","v":""},"","",2835]
[null,null,null,null,null,null,null,null,null,null,{"$error":"#DIV/0!"},null,2842,null,{"$f":"IF($A2843=\"\",\"\",COUNTIF($A$2:$A2843,$A2843))","v":""},{"$f":"IF($A2843=\"\",\"\",$O2843+thousand*VLOOKUP($A2843,$A$1:Q2843,17,FALSE))","v":""},{"$f":"IF(O2843=1,MAX(Q$1:Q2842)+1,\"\")","v":""},"","",2842]
[null,null,null,null,null,null,null,null,null,null,{"$error":"#DIV/0!"},null,2849,null,{"$f":"IF($A2850=\"\",\"\",COUNTIF($A$2:$A2850,$A2850))","v":""},{"$f":"IF($A2850=\"\",\"\",$O2850+thousand*VLOOKUP($A2850,$A$1:Q2850,17,FALSE))","v":""},{"$f":"IF(O2850=1,MAX(Q$1:Q2849)+1,\"\")","v":""},"","",2849]
[null,null,null,null,null,null,null,null,null,null,{"$error":"#DIV/0!"},null,2857,null,{"$f":"IF($A2858=\"\",\"\",COUNTIF($A$2:$A2858,$A2858))","v":""},{"$f":"IF($A2858=\"\",\"\",$O2858+thousand*VLOOKUP($A2858,$A$1:Q2858,17,FALSE))","v":""},{"$f":"IF(O2858=1,MAX(Q$1:Q2857)+1,\"\")","v":""},"","",2857]
[null,null,null,null,null,null,null,null,null,null,{"$error":"#DIV/0!"},null,2867,null,{"$f":"IF($A2868=\"\",\"\",COUNTIF($A$2:$A2868,$A2868))","v":""},{"$f":"IF($A2868=\"\",\"\",$O2868+thousand*VLOOKUP($A2868,$A$1:Q2868,17,FALSE))","v":""},{"$f":"IF(O2868=1,MAX(Q$1:Q2867)+1,\"\")","v":""},"","",2867]
[null,null,null,null,null,null,null,null,null,null,{"$error":"#DIV/0!"},null,2871,null,{"$f":"IF($A2872=\"\",\"\",COUNTIF($A$2:$A2872,$A2872))","v":""},{"$f":"IF($A2872=\"\",\"\",$O2872+thousand*VLOOKUP($A2872,$A$1:Q2872,17,FALSE))","v":""},{"$f":"IF(O2872=1,MAX(Q$1:Q2871)+1,\"\")","v":""},"","",2871]
[null,null,null,null,null,null,null,null,null,null,{"$error":"#DIV/0!"},null,2884,null,{"$f":"IF($A2885=\"\",\"\",COUNTIF($A$2:$A2885,$A2885))","v":""},{"$f":"IF($A2885=\"\",\"\",$O2885+thousand*VLOOKUP($A2885,$A$1:Q2885,17,FALSE))","v":""},{"$f":"IF(O2885=1,MAX(Q$1:Q2884)+1,\"\")","v":""},"","",2884]
[null,null,null,null,null,null,null,null,null,null,{"$error":"#DIV/0!"},null,2892,null,{"$f":"IF($A2893=\"\",\"\",COUNTIF($A$2:$A2893,$A2893))","v":""},{"$f":"IF($A2893=\"\",\"\",$O2893+thousand*VLOOKUP($A2893,$A$1:Q2893,17,FALSE))","v":""},{"$f":"IF(O2893=1,MAX(Q$1:Q2892)+1,\"\")","v":""},"","",2892]
[null,null,null,null,null,null,null,null,null,null,{"$error":"#DIV/0!"},null,2893,null,{"$f":"IF($A2894=\"\",\"\",COUNTIF($A$2:$A2894,$A2894))","v":""},{"$f":"IF($A2894=\"\",\"\",$O2894+thousand*VLOOKUP($A2894,$A$1:Q2894,17,FALSE))","v":""},{"$f":"IF(O2894=1,MAX(Q$1:Q2893)+1,\"\")","v":""},"","",2893]
[null,null,null,null,null,null,null,null,null,null,{"$error":"#DIV/0!"},null,2902,null,{"$f":"IF($A2903=\"\",\"\",COUNTIF($A$2:$A2903,$A2903))","v":""},{"$f":"IF($A2903=\"\",\"\",$O2903+thousand*VLOOKUP($A2903,$A$1:Q2903,17,FALSE))","v":""},{"$f":"IF(O2903=1,MAX(Q$1:Q2902)+1,\"\")","v":""},"","",2902]
[null,null,null,null,null,null,null,null,null,null,{"$error":"#DIV/0!"},null,2914,null,{"$f":"IF($A2915=\"\",\"\",COUNTIF($A$2:$A2915,$A2915))","v":""},{"$f":"IF($A2915=\"\",\"\",$O2915+thousand*VLOOKUP($A2915,$A$1:Q2915,17,FALSE))","v":""},{"$f":"IF(O2915=1,MAX(Q$1:Q2914)+1,\"\")","v":""},"","",2914]
[null,null,null,null,null,null,null,null,null,null,{"$error":"#DIV/0!"},null,2918,null,{"$f":"IF($A2919=\"\",\"\",COUNTIF($A$2:$A2919,$A2919))","v":""},{"$f":"IF($A2919=\"\",\"\",$O2919+thousand*VLOOKUP($A2919,$A$1:Q2919,17,FALSE))","v":""},{"$f":"IF(O2919=1,MAX(Q$1:Q2918)+1,\"\")","v":""},"","",2918]
[null,null,null,null,null,null,null,null,null,null,{"$error":"#DIV/0!"},null,2924,null,{"$f":"IF($A2925=\"\",\"\",COUNTIF($A$2:$A2925,$A2925))","v":""},{"$f":"IF($A2925=\"\",\"\",$O2925+thousand*VLOOKUP($A2925,$A$1:Q2925,17,FALSE))","v":""},{"$f":"IF(O2925=1,MAX(Q$1:Q2924)+1,\"\")","v":""},"","",2924]
[null,null,null,null,null,null,null,null,null,null,{"$error":"#DIV/0!"},null,2935,null,{"$f":"IF($A2936=\"\",\"\",COUNTIF($A$2:$A2936,$A2936))","v":""},{"$f":"IF($A2936=\"\",\"\",$O2936+thousand*VLOOKUP($A2936,$A$1:Q2936,17,FALSE))","v":""},{"$f":"IF(O2936=1,MAX(Q$1:Q2935)+1,\"\")","v":""},"","",2935]
[null,null,null,null,null,null,null,null,null,null,{"$error":"#DIV/0!"},null,2938,null,{"$f":"IF($A2939=\"\",\"\",COUNTIF($A$2:$A2939,$A2939))","v":""},{"$f":"IF($A2939=\"\",\"\",$O2939+thousand*VLOOKUP($A2939,$A$1:Q2939,17,FALSE))","v":""},{"$f":"IF(O2939=1,MAX(Q$1:Q2938)+1,\"\")","v":""},"","",2938]
[null,null,null,null,null,null,null,null,null,null,{"$error":"#DIV/0!"},null,2952,null,{"$f":"IF($A2953=\"\",\"\",COUNTIF($A$2:$A2953,$A2953))","v":""},{"$f":"IF($A2953=\"\",\"\",$O2953+thousand*VLOOKUP($A2953,$A$1:Q2953,17,FALSE))","v":""},{"$f":"IF(O2953=1,MAX(Q$1:Q2952)+1,\"\")","v":""},"","",2952]
[null,null,null,null,null,null,null,null,null,null,{"$error":"#DIV/0!"},null,2959,null,{"$f":"IF($A2960=\"\",\"\",COUNTIF($A$2:$A2960,$A2960))","v":""},{"$f":"IF($A2960=\"\",\"\",$O2960+thousand*VLOOKUP($A2960,$A$1:Q2960,17,FALSE))","v":""},{"$f":"IF(O2960=1,MAX(Q$1:Q2959)+1,\"\")","v":""},"","",2959]
[null,null,null,null,null,null,null,null,null,null,{"$error":"#DIV/0!"},null,2960,null,{"$f":"IF($A2961=\"\",\"\",COUNTIF($A$2:$A2961,$A2961))","v":""},{"$f":"IF($A2961=\"\",\"\",$O2961+thousand*VLOOKUP($A2961,$A$1:Q2961,17,FALSE))","v":""},{"$f":"IF(O2961=1,MAX(Q$1:Q2960)+1,\"\")","v":""},"","",2960]
[null,null,null,null,null,null,null,null,null,null,{"$error":"#DIV/0!"},null,2969,null,{"$f":"IF($A2970=\"\",\"\",COUNTIF($A$2:$A2970,$A2970))","v":""},{"$f":"IF($A2970=\"\",\"\",$O2970+thousand*VLOOKUP($A2970,$A$1:Q2970,17,FALSE))","v":""},{"$f":"IF(O2970=1,MAX(Q$1:Q2969)+1,\"\")","v":""},"","",2969]
[null,null,null,null,null,null,null,null,null,null,{"$error":"#DIV/0!"},null,2981,null,{"$f":"IF($A2982=\"\",\"\",COUNTIF($A$2:$A2982,$A2982))","v":""},{"$f":"IF($A2982=\"\",\"\",$O2982+thousand*VLOOKUP($A2982,$A$1:Q2982,17,FALSE))","v":""},{"$f":"IF(O2982=1,MAX(Q$1:Q2981)+1,\"\")","v":""},"","",2981]
[null,null,null,null,null,null,null,null,null,null,{"$error":"#DIV/0!"},null,2986,null,{"$f":"IF($A2987=\"\",\"\",COUNTIF($A$2:$A2987,$A2987))","v":""},{"$f":"IF($A2987=\"\",\"\",$O2987+thousand*VLOOKUP($A2987,$A$1:Q2987,17,FALSE))","v":""},{"$f":"IF(O2987=1,MAX(Q$1:Q2986)+1,\"\")","v":""},"","",2986]
[null,null,null,null,null,null,null,null,null,null,{"$error":"#DIV/0!"},null,2995,null,{"$f":"IF($A2996=\"\",\"\",COUNTIF($A$2:$A2996,$A2996))","v":""},{"$f":"IF($A2996=\"\",\"\",$O2996+thousand*VLOOKUP($A2996,$A$1:Q2996,17,FALSE))","v":""},{"$f":"IF(O2996=1,MAX(Q$1:Q2995)+1,\"\")","v":""},"","",2995]
[null,null,null,null,null,null,null,null,null,null,{"$error":"#DIV/0!"},null,3003,null,{"$f":"IF($A3004=\"\",\"\",COUNTIF($A$2:$A3004,$A3004))","v":""},{"$f":"IF($A3004=\"\",\"\",$O3004+thousand*VLOOKUP($A3004,$A$1:Q3004,17,FALSE))","v":""},{"$f":"IF(O3004=1,MAX(Q$1:Q3003)+1,\"\")","v":""},"","",3003]
[null,null,null,null,null,null,null,null,null,null,{"$error":"#DIV/0!"},null,3009,null,{"$f":"IF($A3010=\"\",\"\",COUNTIF($A$2:$A3010,$A3010))","v":""},{"$f":"IF($A3010=\"\",\"\",$O3010+thousand*VLOOKUP($A3010,$A$1:Q3010,17,FALSE))","v":""},{"$f":"IF(O3010=1,MAX(Q$1:Q3009)+1,\"\")","v":""},"","",3009]
[null,null,null,null,null,null,null,null,null,null,{"$error":"#DIV/0!"},null,3017,null,{"$f":"IF($A3018=\"\",\"\",COUNTIF($A$2:$A3018,$A3018))","v":""},{"$f":"IF($A3018=\"\",\"\",$O3018+thousand*VLOOKUP($A3018,$A$1:Q3018,17,FALSE))","v":""},{"$f":"IF(O3018=1,MAX(Q$1:Q3017)+1,\"\")","v":""},"","",3017]
[null,null,null,null,null,null,null,null,null,null,{"$error":"#DIV/0!"},null,3020,null,{"$f":"IF($A3021=\"\",\"\",COUNTIF($A$2:$A3021,$A3021))","v":""},{"$f":"IF($A3021=\"\",\"\",$O3021+thousand*VLOOKUP($A3021,$A$1:Q3021,17,FALSE))","v":""},{"$f":"IF(O3021=1,MAX(Q$1:Q3020)+1,\"\")","v":""},"","",3020]
[null,null,null,null,null,null,null,null,null,null,{"$error":"#DIV/0!"},null,3031,null,{"$f":"IF($A3032=\"\",\"\",COUNTIF($A$2:$A3032,$A3032))","v":""},{"$f":"IF($A3032=\"\",\"\",$O3032+thousand*VLOOKUP($A3032,$A$1:Q3032,17,FALSE))","v":""},{"$f":"IF(O3032=1,MAX(Q$1:Q3031)+1,\"\")","v":""},"","",3031]
[null,null,null,null,null,null,null,null,null,null,{"$error":"#DIV/0!"},null,3037,null,{"$f":"IF($A3038=\"\",\"\",COUNTIF($A$2:$A3038,$A3038))","v":""},{"$f":"IF($A3038=\"\",\"\",$O3038+thousand*VLOOKUP($A3038,$A$1:Q3038,17,FALSE))","v":""},{"$f":"IF(O3038=1,MAX(Q$1:Q3037)+1,\"\")","v":""},"","",3037]
[null,null,null,null,null,null,null,null,null,null,{"$error":"#DIV/0!"},null,3045,null,{"$f":"IF($A3046=\"\",\"\",COUNTIF($A$2:$A3046,$A3046))","v":""},{"$f":"IF($A3046=\"\",\"\",$O3046+thousand*VLOOKUP($A3046,$A$1:Q3046,17,FALSE))","v":""},{"$f":"IF(O3046=1,MAX(Q$1:Q3045)+1,\"\")","v":""},"","",3045]
[null,null,null,null,null,null,null,null,null,null,{"$error":"#DIV/0!"},null,3054,null,{"$f":"IF($A3055=\"\",\"\",COUNTIF($A$2:$A3055,$A3055))","v":""},{"$f":"IF($A3055=\"\",\"\",$O3055+thousand*VLOOKUP($A3055,$A$1:Q3055,17,FALSE))","v":""},{"$f":"IF(O3055=1,MAX(Q$1:Q3054)+1,\"\")","v":""},"","",3054]
[null,null,null,null,null,null,null,null,null,null,{"$error":"#DIV/0!"},null,3062,null,{"$f":"IF($A3063=\"\",\"\",COUNTIF($A$2:$A3063,$A3063))","v":""},{"$f":"IF($A3063=\"\",\"\",$O3063+thousand*VLOOKUP($A3063,$A$1:Q3063,17,FALSE))","v":""},{"$f":"IF(O3063=1,MAX(Q$1:Q3062)+1,\"\")","v":""},"","",3062]
[null,null,null,null,null,null,null,null,null,null,{"$error":"#DIV/0!"},null,3067,null,{"$f":"IF($A3068=\"\",\"\",COUNTIF($A$2:$A3068,$A3068))","v":""},{"$f":"IF($A3068=\"\",\"\",$O3068+thousand*VLOOKUP($A3068,$A$1:Q3068,17,FALSE))","v":""},{"$f":"IF(O3068=1,MAX(Q$1:Q3067)+1,\"\")","v":""},"","",3067]
[null,null,null,null,null,null,null,null,null,null,{"$error":"#DIV/0!"},null,3071,null,{"$f":"IF($A3072=\"\",\"\",COUNTIF($A$2:$A3072,$A3072))","v":""},{"$f":"IF($A3072=\"\",\"\",$O3072+thousand*VLOOKUP($A3072,$A$1:Q3072,17,FALSE))","v":""},{"$f":"IF(O3072=1,MAX(Q$1:Q3071)+1,\"\")","v":""},"","",3071]
[null,null,null,null,null,null,null,null,null,null,{"$error":"#DIV/0!"},null,3084,null,{"$f":"IF($A3085=\"\",\"\",COUNTIF($A$2:$A3085,$A3085))","v":""},{"$f":"IF($A3085=\"\",\"\",$O3085+thousand*VLOOKUP($A3085,$A$1:Q3085,17,FALSE))","v":""},{"$f":"IF(O3085=1,MAX(Q$1:Q3084)+1,\"\")","v":""},"","",3084]
[null,null,null,null,null,null,null,null,null,null,{"$error":"#DIV/0!"},null,3088,null,{"$f":"IF($A3089=\"\",\"\",COUNTIF($A$2:$A3089,$A3089))","v":""},{"$f":"IF($A3089=\"\",\"\",$O3089+thousand*VLOOKUP($A3089,$A$1:Q3089,17,FALSE))","v":""},{"$f":"IF(O3089=1,MAX(Q$1:Q3088)+1,\"\")","v":""},"","",3088]
[null,null,null,null,null,null,null,null,null,null,{"$error":"#DIV/0!"},null,3098,null,{"$f":"IF($A3099=\"\",\"\",COUNTIF($A$2:$A3099,$A3099))","v":""},{"$f":"IF($A3099=\"\",\"\",$O3099+thousand*VLOOKUP($A3099,$A$1:Q3099,17,FALSE))","v":""},{"$f":"IF(O3099=1,MAX(Q$1:Q3098)+1,\"\")","v":""},"","",3098]
[null,null,null,null,null,null,null,null,null,null,{"$error":"#DIV/0!"},null,3103,null,{"$f":"IF($A3104=\"\",\"\",COUNTIF($A$2:$A3104,$A3104))","v":""},{"$f":"IF($A3104=\"\",\"\",$O3104+thousand*VLOOKUP($A3104,$A$1:Q3104,17,FALSE))","v":""},{"$f":"IF(O3104=1,MAX(Q$1:Q3103)+1,\"\")","v":""},"","",3103]
[null,null,null,null,null,null,null,null,null,null,{"$error":"#DIV/0!"},null,3113,null,{"$f":"IF($A3114=\"\",\"\",COUNTIF($A$2:$A3114,$A3114))","v":""},{"$f":"IF($A3114=\"\",\"\",$O3114+thousand*VLOOKUP($A3114,$A$1:Q3114,17,FALSE))","v":""},{"$f":"IF(O3114=1,MAX(Q$1:Q3113)+1,\"\")","v":""},"","",3113]
[null,null,null,null,null,null,null,null,null,null,{"$error":"#DIV/0!"},null,3120,null,{"$f":"IF($A3121=\"\",\"\",COUNTIF($A$2:$A3121,$A3121))","v":""},{"$f":"IF($A3121=\"\",\"\",$O3121+thousand*VLOOKUP($A3121,$A$1:Q3121,17,FALSE))","v":""},{"$f":"IF(O3121=1,MAX(Q$1:Q3120)+1,\"\")","v":""},"","",3120]
[null,null,null,null,null,null,null,null,null,null,{"$error":"#DIV/0!"},null,3130,null,{"$f":"IF($A3131=\"\",\"\",COUNTIF($A$2:$A3131,$A3131))","v":""},{"$f":"IF($A3131=\"\",\"\",$O3131+thousand*VLOOKUP($A3131,$A$1:Q3131,17,FALSE))","v":""},{"$f":"IF(O3131=1,MAX(Q$1:Q3130)+1,\"\")","v":""},"","",3130]
[null,null,null,null,null,null,null,null,null,null,{"$error":"#DIV/0!"},null,3134,null,{"$f":"IF($A3135=\"\",\"\",COUNTIF($A$2:$A3135,$A3135))","v":""},{"$f":"IF($A3135=\"\",\"\",$O3135+thousand*VLOOKUP($A3135,$A$1:Q3135,17,FALSE))","v":""},{"$f":"IF(O3135=1,MAX(Q$1:Q3134)+1,\"\")","v":""},"","",3134]
[null,null,null,null,null,null,null,null,null,null,{"$error":"#DIV/0!"},null,3139,null,{"$f":"IF($A3140=\"\",\"\",COUNTIF($A$2:$A3140,$A3140))","v":""},{"$f":"IF($A3140=\"\",\"\",$O3140+thousand*VLOOKUP($A3140,$A$1:Q3140,17,FALSE))","v":""},{"$f":"IF(O3140=1,MAX(Q$1:Q3139)+1,\"\")","v":""},"","",3139]
[null,null,null,null,null,null,null,null,null,null,{"$error":"#DIV/0!"},null,3148,null,{"$f":"IF($A3149=\"\",\"\",COUNTIF($A$2:$A3149,$A3149))","v":""},{"$f":"IF($A3149=\"\",\"\",$O3149+thousand*VLOOKUP($A3149,$A$1:Q3149,17,FALSE))","v":""},{"$f":"IF(O3149=1,MAX(Q$1:Q3148)+1,\"\")","v":""},"","",3148]
[null,null,null,null,null,null,null,null,null,null,{"$error":"#DIV/0!"},null,3156,null,{"$f":"IF($A3157=\"\",\"\",COUNTIF($A$2:$A3157,$A3157))","v":""},{"$f":"IF($A3157=\"\",\"\",$O3157+thousand*VLOOKUP($A3157,$A$1:Q3157,17,FALSE))","v":""},{"$f":"IF(O3157=1,MAX(Q$1:Q3156)+1,\"\")","v":""},"","",3156]
[null,null,null,null,null,null,null,null,null,null,{"$error":"#DIV/0!"},null,3164,null,{"$f":"IF($A3165=\"\",\"\",COUNTIF($A$2:$A3165,$A3165))","v":""},{"$f":"IF($A3165=\"\",\"\",$O3165+thousand*VLOOKUP($A3165,$A$1:Q3165,17,FALSE))","v":""},{"$f":"IF(O3165=1,MAX(Q$1:Q3164)+1,\"\")","v":""},"","",3164]
[null,null,null,null,null,null,null,null,null,null,{"$error":"#DIV/0!"},null,3170,null,{"$f":"IF($A3171=\"\",\"\",COUNTIF($A$2:$A3171,$A3171))","v":""},{"$f":"IF($A3171=\"\",\"\",$O3171+thousand*VLOOKUP($A3171,$A$1:Q3171,17,FALSE))","v":""},{"$f":"IF(O3171=1,MAX(Q$1:Q3170)+1,\"\")","v":""},"","",3170]
[null,null,null,null,null,null,null,null,null,null,{"$error":"#DIV/0!"},null,3181,null,{"$f":"IF($A3182=\"\",\"\",COUNTIF($A$2:$A3182,$A3182))","v":""},{"$f":"IF($A3182=\"\",\"\",$O3182+thousand*VLOOKUP($A3182,$A$1:Q3182,17,FALSE))","v":""},{"$f":"IF(O3182=1,MAX(Q$1:Q3181)+1,\"\")","v":""},"","",3181]
[null,null,null,null,null,null,null,null,null,null,{"$error":"#DIV/0!"},null,3184,null,{"$f":"IF($A3185=\"\",\"\",COUNTIF($A$2:$A3185,$A3185))","v":""},{"$f":"IF($A3185=\"\",\"\",$O3185+thousand*VLOOKUP($A3185,$A$1:Q3185,17,FALSE))","v":""},{"$f":"IF(O3185=1,MAX(Q$1:Q3184)+1,\"\")","v":""},"","",3184]
[null,null,null,null,null,null,null,null,null,null,{"$error":"#DIV/0!"},null,3190,null,{"$f":"IF($A3191=\"\",\"\",COUNTIF($A$2:$A3191,$A3191))","v":""},{"$f":"IF($A3191=\"\",\"\",$O3191+thousand*VLOOKUP($A3191,$A$1:Q3191,17,FALSE))","v":""},{"$f":"IF(O3191=1,MAX(Q$1:Q3190)+1,\"\")","v":""},"","",3190]
[null,null,null,null,null,null,null,null,null,null,{"$error":"#DIV/0!"},null,3198,null,{"$f":"IF($A3199=\"\",\"\",COUNTIF($A$2:$A3199,$A3199))","v":""},{"$f":"IF($A3199=\"\",\"\",$O3199+thousand*VLOOKUP($A3199,$A$1:Q3199,17,FALSE))","v":""},{"$f":"IF(O3199=1,MAX(Q$1:Q3198)+1,\"\")","v":""},"","",3198]
[null,null,null,null,null,null,null,null,null,null,{"$error":"#DIV/0!"},null,3206,null,{"$f":"IF($A3207=\"\",\"\",COUNTIF($A$2:$A3207,$A3207))","v":""},{"$f":"IF($A3207=\"\",\"\",$O3207+thousand*VLOOKUP($A3207,$A$1:Q3207,17,FALSE))","v":""},{"$f":"IF(O3207=1,MAX(Q$1:Q3206)+1,\"\")","v":""},"","",3206]
[null,null,null,null,null,null,null,null,null,null,{"$error":"#DIV/0!"},null,3215,null,{"$f":"IF($A3216=\"\",\"\",COUNTIF($A$2:$A3216,$A3216))","v":""},{"$f":"IF($A3216=\"\",\"\",$O3216+thousand*VLOOKUP($A3216,$A$1:Q3216,17,FALSE))","v":""},{"$f":"IF(O3216=1,MAX(Q$1:Q3215)+1,\"\")","v":""},"","",3215]
[null,null,null,null,null,null,null,null,null,null,{"$error":"#DIV/0!"},null,3220,null,{"$f":"IF($A3221=\"\",\"\",COUNTIF($A$2:$A3221,$A3221))","v":""},{"$f":"IF($A3221=\"\",\"\",$O3221+thousand*VLOOKUP($A3221,$A$1:Q3221,17,FALSE))","v":""},{"$f":"IF(O3221=1,MAX(Q$1:Q3220)+1,\"\")","v":""},"","",3220]
[null,null,null,null,null,null,null,null,null,null,{"$error":"#DIV/0!"},null,3232,null,{"$f":"IF($A3233=\"\",\"\",COUNTIF($A$2:$A3233,$A3233))","v":""},{"$f":"IF($A3233=\"\",\"\",$O3233+thousand*VLOOKUP($A3233,$A$1:Q3233,17,FALSE))","v":""},{"$f":"IF(O3233=1,MAX(Q$1:Q3232)+1,\"\")","v":""},"","",3232]
[null,null,null,null,null,null,null,null,null,null,{"$error":"#DIV/0!"},null,3237,null,{"$f":"IF($A3238=\"\",\"\",COUNTIF($A$2:$A3238,$A3238))","v":""},{"$f":"IF($A3238=\"\",\"\",$O3238+thousand*VLOOKUP($A3238,$A$1:Q3238,17,FALSE))","v":""},{"$f":"IF(O3238=1,MAX(Q$1:Q3237)+1,\"\")","v":""},"","",3237]
[null,null,null,null,null,null,null,null,null,null,{"$error":"#DIV/0!"},null,3249,null,{"$f":"IF($A3250=\"\",\"\",COUNTIF($A$2:$A3250,$A3250))","v":""},{"$f":"IF($A3250=\"\",\"\",$O3250+thousand*VLOOKUP($A3250,$A$1:Q3250,17,FALSE))","v":""},{"$f":"IF(O3250=1,MAX(Q$1:Q3249)+1,\"\")","v":""},"","",3249]
[null,null,null,null,null,null,null,null,null,null,{"$error":"#DIV/0!"},null,3251,null,{"$f":"IF($A3252=\"\",\"\",COUNTIF($A$2:$A3252,$A3252))","v":""},{"$f":"IF($A3252=\"\",\"\",$O3252+thousand*VLOOKUP($A3252,$A$1:Q3252,17,FALSE))","v":""},{"$f":"IF(O3252=1,MAX(Q$1:Q3251)+1,\"\")","v":""},"","",3251]
[null,null,null,null,null,null,null,null,null,null,{"$error":"#DIV/0!"},null,3263,null,{"$f":"IF($A3264=\"\",\"\",COUNTIF($A$2:$A3264,$A3264))","v":""},{"$f":"IF($A3264=\"\",\"\",$O3264+thousand*VLOOKUP($A3264,$A$1:Q3264,17,FALSE))","v":""},{"$f":"IF(O3264=1,MAX(Q$1:Q3263)+1,\"\")","v":""},"","",3263]
[null,null,null,null,null,null,null,null,null,null,{"$error":"#DIV/0!"},null,3266,null,{"$f":"IF($A3267=\"\",\"\",COUNTIF($A$2:$A3267,$A3267))","v":""},{"$f":"IF($A3267=\"\",\"\",$O3267+thousand*VLOOKUP($A3267,$A$1:Q3267,17,FALSE))","v":""},{"$f":"IF(O3267=1,MAX(Q$1:Q3266)+1,\"\")","v":""},{"$f":"IF(A3267=\"\",\"\",A3267)","v":""},{"$f":"IF(B3267=\"\",\"\",B3267)","v":""},{"$f":"$M3267","v":3266}]
[null,null,null,null,null,null,null,null,null,null,{"$error":"#DIV/0!"},null,3273,null,{"$f":"IF($A3274=\"\",\"\",COUNTIF($A$2:$A3274,$A3274))","v":""},{"$f":"IF($A3274=\"\",\"\",$O3274+thousand*VLOOKUP($A3274,$A$1:Q3274,17,FALSE))","v":""},{"$f":"IF(O3274=1,MAX(Q$1:Q3273)+1,\"\")","v":""},"","",3273]
[null,null,null,null,null,null,null,null,null,null,{"$error":"#DIV/0!"},null,3283,null,{"$f":"IF($A3284=\"\",\"\",COUNTIF($A$2:$A3284,$A3284))","v":""},{"$f":"IF($A3284=\"\",\"\",$O3284+thousand*VLOOKUP($A3284,$A$1:Q3284,17,FALSE))","v":""},{"$f":"IF(O3284=1,MAX(Q$1:Q3283)+1,\"\")","v":""},"","",3283]
[null,null,null,null,null,null,null,null,null,null,{"$error":"#DIV/0!"},null,3287,null,{"$f":"IF($A3288=\"\",\"\",COUNTIF($A$2:$A3288,$A3288))","v":""},{"$f":"IF($A3288=\"\",\"\",$O3288+thousand*VLOOKUP($A3288,$A$1:Q3288,17,FALSE))","v":""},{"$f":"IF(O3288=1,MAX(Q$1:Q3287)+1,\"\")","v":""},"","",3287]
[null,null,null,null,null,null,null,null,null,null,{"$error":"#DIV/0!"},null,3300,null,{"$f":"IF($A3301=\"\",\"\",COUNTIF($A$2:$A3301,$A3301))","v":""},{"$f":"IF($A3301=\"\",\"\",$O3301+thousand*VLOOKUP($A3301,$A$1:Q3301,17,FALSE))","v":""},{"$f":"IF(O3301=1,MAX(Q$1:Q3300)+1,\"\")","v":""},"","",3300]
[null,null,null,null,null,null,null,null,null,null,{"$error":"#DIV/0!"},null,3308,null,{"$f":"IF($A3309=\"\",\"\",COUNTIF($A$2:$A3309,$A3309))","v":""},{"$f":"IF($A3309=\"\",\"\",$O3309+thousand*VLOOKUP($A3309,$A$1:Q3309,17,FALSE))","v":""},{"$f":"IF(O3309=1,MAX(Q$1:Q3308)+1,\"\")","v":""},"","",3308]
[null,null,null,null,null,null,null,null,null,null,{"$error":"#DIV/0!"},null,3309,null,{"$f":"IF($A3310=\"\",\"\",COUNTIF($A$2:$A3310,$A3310))","v":""},{"$f":"IF($A3310=\"\",\"\",$O3310+thousand*VLOOKUP($A3310,$A$1:Q3310,17,FALSE))","v":""},{"$f":"IF(O3310=1,MAX(Q$1:Q3309)+1,\"\")","v":""},"","",3309]
[null,null,null,null,null,null,null,null,null,null,{"$error":"#DIV/0!"},null,3317,null,{"$f":"IF($A3318=\"\",\"\",COUNTIF($A$2:$A3318,$A3318))","v":""},{"$f":"IF($A3318=\"\",\"\",$O3318+thousand*VLOOKUP($A3318,$A$1:Q3318,17,FALSE))","v":""},{"$f":"IF(O3318=1,MAX(Q$1:Q3317)+1,\"\")","v":""},"","",3317]
[null,null,null,null,null,null,null,null,null,null,{"$error":"#DIV/0!"},null,3330,null,{"$f":"IF($A3331=\"\",\"\",COUNTIF($A$2:$A3331,$A3331))","v":""},{"$f":"IF($A3331=\"\",\"\",$O3331+thousand*VLOOKUP($A3331,$A$1:Q3331,17,FALSE))","v":""},{"$f":"IF(O3331=1,MAX(Q$1:Q3330)+1,\"\")","v":""},{"$f":"IF(A3331=\"\",\"\",A3331)","v":""},{"$f":"IF(B3331=\"\",\"\",B3331)","v":""},{"$f":"$M3331","v":3330}]
[null,null,null,null,null,null,null,null,null,null,{"$error":"#DIV/0!"},null,3334,null,{"$f":"IF($A3335=\"\",\"\",COUNTIF($A$2:$A3335,$A3335))","v":""},{"$f":"IF($A3335=\"\",\"\",$O3335+thousand*VLOOKUP($A3335,$A$1:Q3335,17,FALSE))","v":""},{"$f":"IF(O3335=1,MAX(Q$1:Q3334)+1,\"\")","v":""},"","",3334]
[null,null,null,null,null,null,null,null,null,null,{"$error":"#DIV/0!"},null,3344,null,{"$f":"IF($A3345=\"\",\"\",COUNTIF($A$2:$A3345,$A3345))","v":""},{"$f":"IF($A3345=\"\",\"\",$O3345+thousand*VLOOKUP($A3345,$A$1:Q3345,17,FALSE))","v":""},{"$f":"IF(O3345=1,MAX(Q$1:Q3344)+1,\"\")","v":""},"","",3344]
[null,null,null,null,null,null,null,null,null,null,{"$error":"#DIV/0!"},null,3351,null,{"$f":"IF($A3352=\"\",\"\",COUNTIF($A$2:$A3352,$A3352))","v":""},{"$f":"IF($A3352=\"\",\"\",$O3352+thousand*VLOOKUP($A3352,$A$1:Q3352,17,FALSE))","v":""},{"$f":"IF(O3352=1,MAX(Q$1:Q3351)+1,\"\")","v":""},"","",3351]
[null,null,null,null,null,null,null,null,null,null,{"$error":"#DIV/0!"},null,3358,null,{"$f":"IF($A3359=\"\",\"\",COUNTIF($A$2:$A3359,$A3359))","v":""},{"$f":"IF($A3359=\"\",\"\",$O3359+thousand*VLOOKUP($A3359,$A$1:Q3359,17,FALSE))","v":""},{"$f":"IF(O3359=1,MAX(Q$1:Q3358)+1,\"\")","v":""},"","",3358]
[null,null,null,null,null,null,null,null,null,null,{"$error":"#DIV/0!"},null,3366,null,{"$f":"IF($A3367=\"\",\"\",COUNTIF($A$2:$A3367,$A3367))","v":""},{"$f":"IF($A3367=\"\",\"\",$O3367+thousand*VLOOKUP($A3367,$A$1:Q3367,17,FALSE))","v":""},{"$f":"IF(O3367=1,MAX(Q$1:Q3366)+1,\"\")","v":""},"","",3366]
[null,null,null,null,null,null,null,null,null,null,{"$error":"#DIV/0!"},null,3368,null,{"$f":"IF($A3369=\"\",\"\",COUNTIF($A$2:$A3369,$A3369))","v":""},{"$f":"IF($A3369=\"\",\"\",$O3369+thousand*VLOOKUP($A3369,$A$1:Q3369,17,FALSE))","v":""},{"$f":"IF(O3369=1,MAX(Q$1:Q3368)+1,\"\")","v":""},"","",3368]
[null,null,null,null,null,null,null,null,null,null,{"$error":"#DIV/0!"},null,3380,null,{"$f":"IF($A3381=\"\",\"\",COUNTIF($A$2:$A3381,$A3381))","v":""},{"$f":"IF($A3381=\"\",\"\",$O3381+thousand*VLOOKUP($A3381,$A$1:Q3381,17,FALSE))","v":""},{"$f":"IF(O3381=1,MAX(Q$1:Q3380)+1,\"\")","v":""},"","",3380]
[null,null,null,null,null,null,null,null,null,null,{"$error":"#DIV/0!"},null,3385,null,{"$f":"IF($A3386=\"\",\"\",COUNTIF($A$2:$A3386,$A3386))","v":""},{"$f":"IF($A3386=\"\",\"\",$O3386+thousand*VLOOKUP($A3386,$A$1:Q3386,17,FALSE))","v":""},{"$f":"IF(O3386=1,MAX(Q$1:Q3385)+1,\"\")","v":""},"","",3385]
[null,null,null,null,null,null,null,null,null,null,{"$error":"#DIV/0!"},null,3397,null,{"$f":"IF($A3398=\"\",\"\",COUNTIF($A$2:$A3398,$A3398))","v":""},{"$f":"IF($A3398=\"\",\"\",$O3398+thousand*VLOOKUP($A3398,$A$1:Q3398,17,FALSE))","v":""},{"$f":"IF(O3398=1,MAX(Q$1:Q3397)+1,\"\")","v":""},"","",3397]
[null,null,null,null,null,null,null,null,null,null,{"$error":"#DIV/0!"},null,3402,null,{"$f":"IF($A3403=\"\",\"\",COUNTIF($A$2:$A3403,$A3403))","v":""},{"$f":"IF($A3403=\"\",\"\",$O3403+thousand*VLOOKUP($A3403,$A$1:Q3403,17,FALSE))","v":""},{"$f":"IF(O3403=1,MAX(Q$1:Q3402)+1,\"\")","v":""},"","",3402]
[null,null,null,null,null,null,null,null,null,null,{"$error":"#DIV/0!"},null,3411,null,{"$f":"IF($A3412=\"\",\"\",COUNTIF($A$2:$A3412,$A3412))","v":""},{"$f":"IF($A3412=\"\",\"\",$O3412+thousand*VLOOKUP($A3412,$A$1:Q3412,17,FALSE))","v":""},{"$f":"IF(O3412=1,MAX(Q$1:Q3411)+1,\"\")","v":""},"","",3411]
[null,null,null,null,null,null,null,null,null,null,{"$error":"#DIV/0!"},null,3416,null,{"$f":"IF($A3417=\"\",\"\",COUNTIF($A$2:$A3417,$A3417))","v":""},{"$f":"IF($A3417=\"\",\"\",$O3417+thousand*VLOOKUP($A3417,$A$1:Q3417,17,FALSE))","v":""},{"$f":"IF(O3417=1,MAX(Q$1:Q3416)+1,\"\")","v":""},"","",3416]
[null,null,null,null,null,null,null,null,null,null,{"$error":"#DIV/0!"},null,3427,null,{"$f":"IF($A3428=\"\",\"\",COUNTIF($A$2:$A3428,$A3428))","v":""},{"$f":"IF($A3428=\"\",\"\",$O3428+thousand*VLOOKUP($A3428,$A$1:Q3428,17,FALSE))","v":""},{"$f":"IF(O3428=1,MAX(Q$1:Q3427)+1,\"\")","v":""},"","",3427]
[null,null,null,null,null,null,null,null,null,null,{"$error":"#DIV/0!"},null,3433,null,{"$f":"IF($A3434=\"\",\"\",COUNTIF($A$2:$A3434,$A3434))","v":""},{"$f":"IF($A3434=\"\",\"\",$O3434+thousand*VLOOKUP($A3434,$A$1:Q3434,17,FALSE))","v":""},{"$f":"IF(O3434=1,MAX(Q$1:Q3433)+1,\"\")","v":""},"","",3433]
[null,null,null,null,null,null,null,null,null,null,{"$error":"#DIV/0!"},null,3436,null,{"$f":"IF($A3437=\"\",\"\",COUNTIF($A$2:$A3437,$A3437))","v":""},{"$f":"IF($A3437=\"\",\"\",$O3437+thousand*VLOOKUP($A3437,$A$1:Q3437,17,FALSE))","v":""},{"$f":"IF(O3437=1,MAX(Q$1:Q3436)+1,\"\")","v":""},"","",3436]
[null,null,null,null,null,null,null,null,null,null,{"$error":"#DIV/0!"},null,3447,null,{"$f":"IF($A3448=\"\",\"\",COUNTIF($A$2:$A3448,$A3448))","v":""},{"$f":"IF($A3448=\"\",\"\",$O3448+thousand*VLOOKUP($A3448,$A$1:Q3448,17,FALSE))","v":""},{"$f":"IF(O3448=1,MAX(Q$1:Q3447)+1,\"\")","v":""},"","",3447]
[null,null,null,null,null,null,null,null,null,null,{"$error":"#DIV/0!"},null,3453,null,{"$f":"IF($A3454=\"\",\"\",COUNTIF($A$2:$A3454,$A3454))","v":""},{"$f":"IF($A3454=\"\",\"\",$O3454+thousand*VLOOKUP($A3454,$A$1:Q3454,17,FALSE))","v":""},{"$f":"IF(O3454=1,MAX(Q$1:Q3453)+1,\"\")","v":""},"","",3453]
[null,null,null,null,null,null,null,null,null,null,{"$error":"#DIV/0!"},null,3461,null,{"$f":"IF($A3462=\"\",\"\",COUNTIF($A$2:$A3462,$A3462))","v":""},{"$f":"IF($A3462=\"\",\"\",$O3462+thousand*VLOOKUP($A3462,$A$1:Q3462,17,FALSE))","v":""},{"$f":"IF(O3462=1,MAX(Q$1:Q3461)+1,\"\")","v":""},"","",3461]
[null,null,null,null,null,null,null,null,null,null,{"$error":"#DIV/0!"},null,3469,null,{"$f":"IF($A3470=\"\",\"\",COUNTIF($A$2:$A3470,$A3470))","v":""},{"$f":"IF($A3470=\"\",\"\",$O3470+thousand*VLOOKUP($A3470,$A$1:Q3470,17,FALSE))","v":""},{"$f":"IF(O3470=1,MAX(Q$1:Q3469)+1,\"\")","v":""},"","",3469]
[null,null,null,null,null,null,null,null,null,null,{"$error":"#DIV/0!"},null,3478,null,{"$f":"IF($A3479=\"\",\"\",COUNTIF($A$2:$A3479,$A3479))","v":""},{"$f":"IF($A3479=\"\",\"\",$O3479+thousand*VLOOKUP($A3479,$A$1:Q3479,17,FALSE))","v":""},{"$f":"IF(O3479=1,MAX(Q$1:Q3478)+1,\"\")","v":""},"","",3478]
[null,null,null,null,null,null,null,null,null,null,{"$error":"#DIV/0!"},null,3483,null,{"$f":"IF($A3484=\"\",\"\",COUNTIF($A$2:$A3484,$A3484))","v":""},{"$f":"IF($A3484=\"\",\"\",$O3484+thousand*VLOOKUP($A3484,$A$1:Q3484,17,FALSE))","v":""},{"$f":"IF(O3484=1,MAX(Q$1:Q3483)+1,\"\")","v":""},"","",3483]
[null,null,null,null,null,null,null,null,null,null,{"$error":"#DIV/0!"},null,3487,null,{"$f":"IF($A3488=\"\",\"\",COUNTIF($A$2:$A3488,$A3488))","v":""},{"$f":"IF($A3488=\"\",\"\",$O3488+thousand*VLOOKUP($A3488,$A$1:Q3488,17,FALSE))","v":""},{"$f":"IF(O3488=1,MAX(Q$1:Q3487)+1,\"\")","v":""},"","",3487]
[null,null,null,null,null,null,null,null,null,null,{"$error":"#DIV/0!"},null,3497,null,{"$f":"IF($A3498=\"\",\"\",COUNTIF($A$2:$A3498,$A3498))","v":""},{"$f":"IF($A3498=\"\",\"\",$O3498+thousand*VLOOKUP($A3498,$A$1:Q3498,17,FALSE))","v":""},{"$f":"IF(O3498=1,MAX(Q$1:Q3497)+1,\"\")","v":""},"","",3497]
[null,null,null,null,null,null,null,null,null,null,{"$error":"#DIV/0!"},null,3505,null,{"$f":"IF($A3506=\"\",\"\",COUNTIF($A$2:$A3506,$A3506))","v":""},{"$f":"IF($A3506=\"\",\"\",$O3506+thousand*VLOOKUP($A3506,$A$1:Q3506,17,FALSE))","v":""},{"$f":"IF(O3506=1,MAX(Q$1:Q3505)+1,\"\")","v":""},"","",3505]
[null,null,null,null,null,null,null,null,null,null,{"$f":"F3513/E3513*J3513","v":{"$error":"#DIV/0!"}},null,3512,null,{"$f":"IF($A3513=\"\",\"\",COUNTIF($A$2:$A3513,$A3513))","v":""},{"$f":"IF($A3513=\"\",\"\",$O3513+thousand*VLOOKUP($A3513,$A$1:Q3513,17,FALSE))","v":""},{"$f":"IF(O3513=1,MAX(Q$1:Q3512)+1,\"\")","v":""},"","",3512]
[null,null,null,null,null,null,null,null,null,null,{"$error":"#DIV/0!"},null,3519,null,{"$f":"IF($A3520=\"\",\"\",COUNTIF($A$2:$A3520,$A3520))","v":""},{"$f":"IF($A3520=\"\",\"\",$O3520+thousand*VLOOKUP($A3520,$A$1:Q3520,17,FALSE))","v":""},{"$f":"IF(O3520=1,MAX(Q$1:Q3519)+1,\"\")","v":""},"","",3519]
[null,null,null,null,null,null,null,null,null,null,{"$error":"#DIV/0!"},null,3529,null,{"$f":"IF($A3530=\"\",\"\",COUNTIF($A$2:$A3530,$A3530))","v":""},{"$f":"IF($A3530=\"\",\"\",$O3530+thousand*VLOOKUP($A3530,$A$1:Q3530,17,FALSE))","v":""},{"$f":"IF(O3530=1,MAX(Q$1:Q3529)+1,\"\")","v":""},"","",3529]
[null,null,null,null,null,null,null,null,null,null,{"$error":"#DIV/0!"},null,3533,null,{"$f":"IF($A3534=\"\",\"\",COUNTIF($A$2:$A3534,$A3534))","v":""},{"$f":"IF($A3534=\"\",\"\",$O3534+thousand*VLOOKUP($A3534,$A$1:Q3534,17,FALSE))","v":""},{"$f":"IF(O3534=1,MAX(Q$1:Q3533)+1,\"\")","v":""},"","",3533]
[null,null,null,null,null,null,null,null,null,null,{"$error":"#DIV/0!"},null,3546,null,{"$f":"IF($A3547=\"\",\"\",COUNTIF($A$2:$A3547,$A3547))","v":""},{"$f":"IF($A3547=\"\",\"\",$O3547+thousand*VLOOKUP($A3547,$A$1:Q3547,17,FALSE))","v":""},{"$f":"IF(O3547=1,MAX(Q$1:Q3546)+1,\"\")","v":""},"","",3546]
[null,null,null,null,null,null,null,null,null,null,{"$error":"#DIV/0!"},null,3547,null,{"$f":"IF($A3548=\"\",\"\",COUNTIF($A$2:$A3548,$A3548))","v":""},{"$f":"IF($A3548=\"\",\"\",$O3548+thousand*VLOOKUP($A3548,$A$1:Q3548,17,FALSE))","v":""},{"$f":"IF(O3548=1,MAX(Q$1:Q3547)+1,\"\")","v":""},"","",3547]
[null,null,null,null,null,null,null,null,null,null,{"$error":"#DIV/0!"},null,3555,null,{"$f":"IF($A3556=\"\",\"\",COUNTIF($A$2:$A3556,$A3556))","v":""},{"$f":"IF($A3556=\"\",\"\",$O3556+thousand*VLOOKUP($A3556,$A$1:Q3556,17,FALSE))","v":""},{"$f":"IF(O3556=1,MAX(Q$1:Q3555)+1,\"\")","v":""},"","",3555]
[null,null,null,null,null,null,null,null,null,null,{"$error":"#DIV/0!"},null,3563,null,{"$f":"IF($A3564=\"\",\"\",COUNTIF($A$2:$A3564,$A3564))","v":""},{"$f":"IF($A3564=\"\",\"\",$O3564+thousand*VLOOKUP($A3564,$A$1:Q3564,17,FALSE))","v":""},{"$f":"IF(O3564=1,MAX(Q$1:Q3563)+1,\"\")","v":""},"","",3563]
[null,null,null,null,null,null,null,null,null,null,{"$error":"#DIV/0!"},null,3569,null,{"$f":"IF($A3570=\"\",\"\",COUNTIF($A$2:$A3570,$A3570))","v":""},{"$f":"IF($A3570=\"\",\"\",$O3570+thousand*VLOOKUP($A3570,$A$1:Q3570,17,FALSE))","v":""},{"$f":"IF(O3570=1,MAX(Q$1:Q3569)+1,\"\")","v":""},"","",3569]
[null,null,null,null,null,null,null,null,null,null,{"$error":"#DIV/0!"},null,3580,null,{"$f":"IF($A3581=\"\",\"\",COUNTIF($A$2:$A3581,$A3581))","v":""},{"$f":"IF($A3581=\"\",\"\",$O3581+thousand*VLOOKUP($A3581,$A$1:Q3581,17,FALSE))","v":""},{"$f":"IF(O3581=1,MAX(Q$1:Q3580)+1,\"\")","v":""},"","",3580]
[null,null,null,null,null,null,null,null,null,null,{"$error":"#DIV/0!"},null,3586,null,{"$f":"IF($A3587=\"\",\"\",COUNTIF($A$2:$A3587,$A3587))","v":""},{"$f":"IF($A3587=\"\",\"\",$O3587+thousand*VLOOKUP($A3587,$A$1:Q3587,17,FALSE))","v":""},{"$f":"IF(O3587=1,MAX(Q$1:Q3586)+1,\"\")","v":""},{"$f":"IF(A3587=\"\",\"\",A3587)","v":""},{"$f":"IF(B3587=\"\",\"\",B3587)","v":""},{"$f":"$M3587","v":3586}]
[null,null,null,null,null,null,null,null,null,null,{"$error":"#DIV/0!"},null,3597,null,{"$f":"IF($A3598=\"\",\"\",COUNTIF($A$2:$A3598,$A3598))","v":""},{"$f":"IF($A3598=\"\",\"\",$O3598+thousand*VLOOKUP($A3598,$A$1:Q3598,17,FALSE))","v":""},{"$f":"IF(O3598=1,MAX(Q$1:Q3597)+1,\"\")","v":""},"","",3597]
[null,null,null,null,null,null,null,null,null,null,{"$error":"#DIV/0!"},null,3600,null,{"$f":"IF($A3601=\"\",\"\",COUNTIF($A$2:$A3601,$A3601))","v":""},{"$f":"IF($A3601=\"\",\"\",$O3601+thousand*VLOOKUP($A3601,$A$1:Q3601,17,FALSE))","v":""},{"$f":"IF(O3601=1,MAX(Q$1:Q3600)+1,\"\")","v":""},"","",3600]
[null,null,null,null,null,null,null,null,null,null,{"$error":"#DIV/0!"},null,3612,null,{"$f":"IF($A3613=\"\",\"\",COUNTIF($A$2:$A3613,$A3613))","v":""},{"$f":"IF($A3613=\"\",\"\",$O3613+thousand*VLOOKUP($A3613,$A$1:Q3613,17,FALSE))","v":""},{"$f":"IF(O3613=1,MAX(Q$1:Q3612)+1,\"\")","v":""},"","",3612]
[null,null,null,null,null,null,null,null,null,null,{"$error":"#DIV/0!"},null,3614,null,{"$f":"IF($A3615=\"\",\"\",COUNTIF($A$2:$A3615,$A3615))","v":""},{"$f":"IF($A3615=\"\",\"\",$O3615+thousand*VLOOKUP($A3615,$A$1:Q3615,17,FALSE))","v":""},{"$f":"IF(O3615=1,MAX(Q$1:Q3614)+1,\"\")","v":""},"","",3614]
[null,null,null,null,null,null,null,null,null,null,{"$error":"#DIV/0!"},null,3622,null,{"$f":"IF($A3623=\"\",\"\",COUNTIF($A$2:$A3623,$A3623))","v":""},{"$f":"IF($A3623=\"\",\"\",$O3623+thousand*VLOOKUP($A3623,$A$1:Q3623,17,FALSE))","v":""},{"$f":"IF(O3623=1,MAX(Q$1:Q3622)+1,\"\")","v":""},"","",3622]
[null,null,null,null,null,null,null,null,null,null,{"$error":"#DIV/0!"},null,3631,null,{"$f":"IF($A3632=\"\",\"\",COUNTIF($A$2:$A3632,$A3632))","v":""},{"$f":"IF($A3632=\"\",\"\",$O3632+thousand*VLOOKUP($A3632,$A$1:Q3632,17,FALSE))","v":""},{"$f":"IF(O3632=1,MAX(Q$1:Q3631)+1,\"\")","v":""},"","",3631]
[null,null,null,null,null,null,null,null,null,null,{"$error":"#DIV/0!"},null,3636,null,{"$f":"IF($A3637=\"\",\"\",COUNTIF($A$2:$A3637,$A3637))","v":""},{"$f":"IF($A3637=\"\",\"\",$O3637+thousand*VLOOKUP($A3637,$A$1:Q3637,17,FALSE))","v":""},{"$f":"IF(O3637=1,MAX(Q$1:Q3636)+1,\"\")","v":""},"","",3636]
[null,null,null,null,null,null,null,null,null,null,{"$error":"#DIV/0!"},null,3648,null,{"$f":"IF($A3649=\"\",\"\",COUNTIF($A$2:$A3649,$A3649))","v":""},{"$f":"IF($A3649=\"\",\"\",$O3649+thousand*VLOOKUP($A3649,$A$1:Q3649,17,FALSE))","v":""},{"$f":"IF(O3649=1,MAX(Q$1:Q3648)+1,\"\")","v":""},"","",3648]
[null,null,null,null,null,null,null,null,null,null,{"$error":"#DIV/0!"},null,3657,null,{"$f":"IF($A3658=\"\",\"\",COUNTIF($A$2:$A3658,$A3658))","v":""},{"$f":"IF($A3658=\"\",\"\",$O3658+thousand*VLOOKUP($A3658,$A$1:Q3658,17,FALSE))","v":""},{"$f":"IF(O3658=1,MAX(Q$1:Q3657)+1,\"\")","v":""},"","",3657]
[null,null,null,null,null,null,null,null,null,null,{"$error":"#DIV/0!"},null,3658,null,{"$f":"IF($A3659=\"\",\"\",COUNTIF($A$2:$A3659,$A3659))","v":""},{"$f":"IF($A3659=\"\",\"\",$O3659+thousand*VLOOKUP($A3659,$A$1:Q3659,17,FALSE))","v":""},{"$f":"IF(O3659=1,MAX(Q$1:Q3658)+1,\"\")","v":""},"","",3658]
[null,null,null,null,null,null,null,null,null,null,{"$error":"#DIV/0!"},null,3665,null,{"$f":"IF($A3666=\"\",\"\",COUNTIF($A$2:$A3666,$A3666))","v":""},{"$f":"IF($A3666=\"\",\"\",$O3666+thousand*VLOOKUP($A3666,$A$1:Q3666,17,FALSE))","v":""},{"$f":"IF(O3666=1,MAX(Q$1:Q3665)+1,\"\")","v":""},"","",3665]
[null,null,null,null,null,null,null,null,null,null,{"$error":"#DIV/0!"},null,3679,null,{"$f":"IF($A3680=\"\",\"\",COUNTIF($A$2:$A3680,$A3680))","v":""},{"$f":"IF($A3680=\"\",\"\",$O3680+thousand*VLOOKUP($A3680,$A$1:Q3680,17,FALSE))","v":""},{"$f":"IF(O3680=1,MAX(Q$1:Q3679)+1,\"\")","v":""},"","",3679]
[null,null,null,null,null,null,null,null,null,null,{"$error":"#DIV/0!"},null,3682,null,{"$f":"IF($A3683=\"\",\"\",COUNTIF($A$2:$A3683,$A3683))","v":""},{"$f":"IF($A3683=\"\",\"\",$O3683+thousand*VLOOKUP($A3683,$A$1:Q3683,17,FALSE))","v":""},{"$f":"IF(O3683=1,MAX(Q$1:Q3682)+1,\"\")","v":""},"","",3682]
[null,null,null,null,null,null,null,null,null,null,{"$error":"#DIV/0!"},null,3693,null,{"$f":"IF($A3694=\"\",\"\",COUNTIF($A$2:$A3694,$A3694))","v":""},{"$f":"IF($A3694=\"\",\"\",$O3694+thousand*VLOOKUP($A3694,$A$1:Q3694,17,FALSE))","v":""},{"$f":"IF(O3694=1,MAX(Q$1:Q3693)+1,\"\")","v":""},"","",3693]
[null,null,null,null,null,null,null,null,null,null,{"$error":"#DIV/0!"},null,3699,null,{"$f":"IF($A3700=\"\",\"\",COUNTIF($A$2:$A3700,$A3700))","v":""},{"$f":"IF($A3700=\"\",\"\",$O3700+thousand*VLOOKUP($A3700,$A$1:Q3700,17,FALSE))","v":""},{"$f":"IF(O3700=1,MAX(Q$1:Q3699)+1,\"\")","v":""},"","",3699]
[null,null,null,null,null,null,null,null,null,null,{"$error":"#DIV/0!"},null,3707,null,{"$f":"IF($A3708=\"\",\"\",COUNTIF($A$2:$A3708,$A3708))","v":""},{"$f":"IF($A3708=\"\",\"\",$O3708+thousand*VLOOKUP($A3708,$A$1:Q3708,17,FALSE))","v":""},{"$f":"IF(O3708=1,MAX(Q$1:Q3707)+1,\"\")","v":""},"","",3707]
[null,null,null,null,null,null,null,null,null,null,{"$error":"#DIV/0!"},null,3715,null,{"$f":"IF($A3716=\"\",\"\",COUNTIF($A$2:$A3716,$A3716))","v":""},{"$f":"IF($A3716=\"\",\"\",$O3716+thousand*VLOOKUP($A3716,$A$1:Q3716,17,FALSE))","v":""},{"$f":"IF(O3716=1,MAX(Q$1:Q3715)+1,\"\")","v":""},"","",3715]
[null,null,null,null,null,null,null,null,null,null,{"$error":"#DIV/0!"},null,3724,null,{"$f":"IF($A3725=\"\",\"\",COUNTIF($A$2:$A3725,$A3725))","v":""},{"$f":"IF($A3725=\"\",\"\",$O3725+thousand*VLOOKUP($A3725,$A$1:Q3725,17,FALSE))","v":""},{"$f":"IF(O3725=1,MAX(Q$1:Q3724)+1,\"\")","v":""},"","",3724]
[null,null,null,null,null,null,null,null,null,null,{"$error":"#DIV/0!"},null,3729,null,{"$f":"IF($A3730=\"\",\"\",COUNTIF($A$2:$A3730,$A3730))","v":""},{"$f":"IF($A3730=\"\",\"\",$O3730+thousand*VLOOKUP($A3730,$A$1:Q3730,17,FALSE))","v":""},{"$f":"IF(O3730=1,MAX(Q$1:Q3729)+1,\"\")","v":""},"","",3729]
[null,null,null,null,null,null,null,null,null,null,{"$error":"#DIV/0!"},null,3733,null,{"$f":"IF($A3734=\"\",\"\",COUNTIF($A$2:$A3734,$A3734))","v":""},{"$f":"IF($A3734=\"\",\"\",$O3734+thousand*VLOOKUP($A3734,$A$1:Q3734,17,FALSE))","v":""},{"$f":"IF(O3734=1,MAX(Q$1:Q3733)+1,\"\")","v":""},"","",3733]
[null,null,null,null,null,null,null,null,null,null,{"$error":"#DIV/0!"},null,3746,null,{"$f":"IF($A3747=\"\",\"\",COUNTIF($A$2:$A3747,$A3747))","v":""},{"$f":"IF($A3747=\"\",\"\",$O3747+thousand*VLOOKUP($A3747,$A$1:Q3747,17,FALSE))","v":""},{"$f":"IF(O3747=1,MAX(Q$1:Q3746)+1,\"\")","v":""},"","",3746]
[null,null,null,null,null,null,null,null,null,null,{"$error":"#DIV/0!"},null,3750,null,{"$f":"IF($A3751=\"\",\"\",COUNTIF($A$2:$A3751,$A3751))","v":""},{"$f":"IF($A3751=\"\",\"\",$O3751+thousand*VLOOKUP($A3751,$A$1:Q3751,17,FALSE))","v":""},{"$f":"IF(O3751=1,MAX(Q$1:Q3750)+1,\"\")","v":""},"","",3750]
[null,null,null,null,null,null,null,null,null,null,{"$error":"#DIV/0!"},null,3760,null,{"$f":"IF($A3761=\"\",\"\",COUNTIF($A$2:$A3761,$A3761))","v":""},{"$f":"IF($A3761=\"\",\"\",$O3761+thousand*VLOOKUP($A3761,$A$1:Q3761,17,FALSE))","v":""},{"$f":"IF(O3761=1,MAX(Q$1:Q3760)+1,\"\")","v":""},"","",3760]
[null,null,null,null,null,null,null,null,null,null,{"$error":"#DIV/0!"},null,3765,null,{"$f":"IF($A3766=\"\",\"\",COUNTIF($A$2:$A3766,$A3766))","v":""},{"$f":"IF($A3766=\"\",\"\",$O3766+thousand*VLOOKUP($A3766,$A$1:Q3766,17,FALSE))","v":""},{"$f":"IF(O3766=1,MAX(Q$1:Q3765)+1,\"\")","v":""},"","",3765]
[null,null,null,null,null,null,null,null,null,null,{"$error":"#DIV/0!"},null,3775,null,{"$f":"IF($A3776=\"\",\"\",COUNTIF($A$2:$A3776,$A3776))","v":""},{"$f":"IF($A3776=\"\",\"\",$O3776+thousand*VLOOKUP($A3776,$A$1:Q3776,17,FALSE))","v":""},{"$f":"IF(O3776=1,MAX(Q$1:Q3775)+1,\"\")","v":""},"","",3775]
[null,null,null,null,null,null,null,null,null,null,{"$error":"#DIV/0!"},null,3782,null,{"$f":"IF($A3783=\"\",\"\",COUNTIF($A$2:$A3783,$A3783))","v":""},{"$f":"IF($A3783=\"\",\"\",$O3783+thousand*VLOOKUP($A3783,$A$1:Q3783,17,FALSE))","v":""},{"$f":"IF(O3783=1,MAX(Q$1:Q3782)+1,\"\")","v":""},"","",3782]
[null,null,null,null,null,null,null,null,null,null,{"$error":"#DIV/0!"},null,3784,null,{"$f":"IF($A3785=\"\",\"\",COUNTIF($A$2:$A3785,$A3785))","v":""},{"$f":"IF($A3785=\"\",\"\",$O3785+thousand*VLOOKUP($A3785,$A$1:Q3785,17,FALSE))","v":""},{"$f":"IF(O3785=1,MAX(Q$1:Q3784)+1,\"\")","v":""},"","",3784]
[null,null,null,null,null,null,null,null,null,null,{"$error":"#DIV/0!"},null,3796,null,{"$f":"IF($A3797=\"\",\"\",COUNTIF($A$2:$A3797,$A3797))","v":""},{"$f":"IF($A3797=\"\",\"\",$O3797+thousand*VLOOKUP($A3797,$A$1:Q3797,17,FALSE))","v":""},{"$f":"IF(O3797=1,MAX(Q$1:Q3796)+1,\"\")","v":""},"","",3796]
[null,null,null,null,null,null,null,null,null,null,{"$error":"#DIV/0!"},null,3801,null,{"$f":"IF($A3802=\"\",\"\",COUNTIF($A$2:$A3802,$A3802))","v":""},{"$f":"IF($A3802=\"\",\"\",$O3802+thousand*VLOOKUP($A3802,$A$1:Q3802,17,FALSE))","v":""},{"$f":"IF(O3802=1,MAX(Q$1:Q3801)+1,\"\")","v":""},"","",3801]
[null,null,null,null,null,null,null,null,null,null,{"$error":"#DIV/0!"},null,3810,null,{"$f":"IF($A3811=\"\",\"\",COUNTIF($A$2:$A3811,$A3811))","v":""},{"$f":"IF($A3811=\"\",\"\",$O3811+thousand*VLOOKUP($A3811,$A$1:Q3811,17,FALSE))","v":""},{"$f":"IF(O3811=1,MAX(Q$1:Q3810)+1,\"\")","v":""},"","",3810]
[null,null,null,null,null,null,null,null,null,null,{"$error":"#DIV/0!"},null,3818,null,{"$f":"IF($A3819=\"\",\"\",COUNTIF($A$2:$A3819,$A3819))","v":""},{"$f":"IF($A3819=\"\",\"\",$O3819+thousand*VLOOKUP($A3819,$A$1:Q3819,17,FALSE))","v":""},{"$f":"IF(O3819=1,MAX(Q$1:Q3818)+1,\"\")","v":""},"","",3818]
[null,null,null,null,null,null,null,null,null,null,{"$error":"#DIV/0!"},null,3826,null,{"$f":"IF($A3827=\"\",\"\",COUNTIF($A$2:$A3827,$A3827))","v":""},{"$f":"IF($A3827=\"\",\"\",$O3827+thousand*VLOOKUP($A3827,$A$1:Q3827,17,FALSE))","v":""},{"$f":"IF(O3827=1,MAX(Q$1:Q3826)+1,\"\")","v":""},"","",3826]
[null,null,null,null,null,null,null,null,null,null,{"$f":"F3833/E3833*J3833","v":{"$error":"#DIV/0!"}},null,3832,null,{"$f":"IF($A3833=\"\",\"\",COUNTIF($A$2:$A3833,$A3833))","v":""},{"$f":"IF($A3833=\"\",\"\",$O3833+thousand*VLOOKUP($A3833,$A$1:Q3833,17,FALSE))","v":""},{"$f":"IF(O3833=1,MAX(Q$1:Q3832)+1,\"\")","v":""},"","",3832]
[null,null,null,null,null,null,null,null,null,null,{"$error":"#DIV/0!"},null,3843,null,{"$f":"IF($A3844=\"\",\"\",COUNTIF($A$2:$A3844,$A3844))","v":""},{"$f":"IF($A3844=\"\",\"\",$O3844+thousand*VLOOKUP($A3844,$A$1:Q3844,17,FALSE))","v":""},{"$f":"IF(O3844=1,MAX(Q$1:Q3843)+1,\"\")","v":""},"","",3843]
[null,null,null,null,null,null,null,null,null,null,{"$error":"#DIV/0!"},null,3846,null,{"$f":"IF($A3847=\"\",\"\",COUNTIF($A$2:$A3847,$A3847))","v":""},{"$f":"IF($A3847=\"\",\"\",$O3847+thousand*VLOOKUP($A3847,$A$1:Q3847,17,FALSE))","v":""},{"$f":"IF(O3847=1,MAX(Q$1:Q3846)+1,\"\")","v":""},"","",3846]
[null,null,null,null,null,null,null,null,null,null,{"$error":"#DIV/0!"},null,3852,null,{"$f":"IF($A3853=\"\",\"\",COUNTIF($A$2:$A3853,$A3853))","v":""},{"$f":"IF($A3853=\"\",\"\",$O3853+thousand*VLOOKUP($A3853,$A$1:Q3853,17,FALSE))","v":""},{"$f":"IF(O3853=1,MAX(Q$1:Q3852)+1,\"\")","v":""},"","",3852]
[null,null,null,null,null,null,null,null,null,null,{"$error":"#DIV/0!"},null,3860,null,{"$f":"IF($A3861=\"\",\"\",COUNTIF($A$2:$A3861,$A3861))","v":""},{"$f":"IF($A3861=\"\",\"\",$O3861+thousand*VLOOKUP($A3861,$A$1:Q3861,17,FALSE))","v":""},{"$f":"IF(O3861=1,MAX(Q$1:Q3860)+1,\"\")","v":""},"","",3860]
[null,null,null,null,null,null,null,null,null,null,{"$error":"#DIV/0!"},null,3868,null,{"$f":"IF($A3869=\"\",\"\",COUNTIF($A$2:$A3869,$A3869))","v":""},{"$f":"IF($A3869=\"\",\"\",$O3869+thousand*VLOOKUP($A3869,$A$1:Q3869,17,FALSE))","v":""},{"$f":"IF(O3869=1,MAX(Q$1:Q3868)+1,\"\")","v":""},"","",3868]
[null,null,null,null,null,null,null,null,null,null,{"$error":"#DIV/0!"},null,3877,null,{"$f":"IF($A3878=\"\",\"\",COUNTIF($A$2:$A3878,$A3878))","v":""},{"$f":"IF($A3878=\"\",\"\",$O3878+thousand*VLOOKUP($A3878,$A$1:Q3878,17,FALSE))","v":""},{"$f":"IF(O3878=1,MAX(Q$1:Q3877)+1,\"\")","v":""},"","",3877]
[null,null,null,null,null,null,null,null,null,null,{"$error":"#DIV/0!"},null,3882,null,{"$f":"IF($A3883=\"\",\"\",COUNTIF($A$2:$A3883,$A3883))","v":""},{"$f":"IF($A3883=\"\",\"\",$O3883+thousand*VLOOKUP($A3883,$A$1:Q3883,17,FALSE))","v":""},{"$f":"IF(O3883=1,MAX(Q$1:Q3882)+1,\"\")","v":""},"","",3882]
[null,null,null,null,null,null,null,null,null,null,{"$error":"#DIV/0!"},null,3894,null,{"$f":"IF($A3895=\"\",\"\",COUNTIF($A$2:$A3895,$A3895))","v":""},{"$f":"IF($A3895=\"\",\"\",$O3895+thousand*VLOOKUP($A3895,$A$1:Q3895,17,FALSE))","v":""},{"$f":"IF(O3895=1,MAX(Q$1:Q3894)+1,\"\")","v":""},"","",3894]
[null,null,null,null,null,null,null,null,null,null,{"$error":"#DIV/0!"},null,3899,null,{"$f":"IF($A3900=\"\",\"\",COUNTIF($A$2:$A3900,$A3900))","v":""},{"$f":"IF($A3900=\"\",\"\",$O3900+thousand*VLOOKUP($A3900,$A$1:Q3900,17,FALSE))","v":""},{"$f":"IF(O3900=1,MAX(Q$1:Q3899)+1,\"\")","v":""},"","",3899]
[null,null,null,null,null,null,null,null,null,null,{"$error":"#DIV/0!"},null,3904,null,{"$f":"IF($A3905=\"\",\"\",COUNTIF($A$2:$A3905,$A3905))","v":""},{"$f":"IF($A3905=\"\",\"\",$O3905+thousand*VLOOKUP($A3905,$A$1:Q3905,17,FALSE))","v":""},{"$f":"IF(O3905=1,MAX(Q$1:Q3904)+1,\"\")","v":""},"","",3904]
[null,null,null,null,null,null,null,null,null,null,{"$error":"#DIV/0!"},null,3911,null,{"$f":"IF($A3912=\"\",\"\",COUNTIF($A$2:$A3912,$A3912))","v":""},{"$f":"IF($A3912=\"\",\"\",$O3912+thousand*VLOOKUP($A3912,$A$1:Q3912,17,FALSE))","v":""},{"$f":"IF(O3912=1,MAX(Q$1:Q3911)+1,\"\")","v":""},"","",3911]
[null,null,null,null,null,null,null,null,null,null,{"$error":"#DIV/0!"},null,3918,null,{"$f":"IF($A3919=\"\",\"\",COUNTIF($A$2:$A3919,$A3919))","v":""},{"$f":"IF($A3919=\"\",\"\",$O3919+thousand*VLOOKUP($A3919,$A$1:Q3919,17,FALSE))","v":""},{"$f":"IF(O3919=1,MAX(Q$1:Q3918)+1,\"\")","v":""},"","",3918]
[null,null,null,null,null,null,null,null,null,null,{"$error":"#DIV/0!"},null,3928,null,{"$f":"IF($A3929=\"\",\"\",COUNTIF($A$2:$A3929,$A3929))","v":""},{"$f":"IF($A3929=\"\",\"\",$O3929+thousand*VLOOKUP($A3929,$A$1:Q3929,17,FALSE))","v":""},{"$f":"IF(O3929=1,MAX(Q$1:Q3928)+1,\"\")","v":""},"","",3928]
[null,null,null,null,null,null,null,null,null,null,{"$error":"#DIV/0!"},null,3935,null,{"$f":"IF($A3936=\"\",\"\",COUNTIF($A$2:$A3936,$A3936))","v":""},{"$f":"IF($A3936=\"\",\"\",$O3936+thousand*VLOOKUP($A3936,$A$1:Q3936,17,FALSE))","v":""},{"$f":"IF(O3936=1,MAX(Q$1:Q3935)+1,\"\")","v":""},"","",3935]
[null,null,null,null,null,null,null,null,null,null,{"$error":"#DIV/0!"},null,3945,null,{"$f":"IF($A3946=\"\",\"\",COUNTIF($A$2:$A3946,$A3946))","v":""},{"$f":"IF($A3946=\"\",\"\",$O3946+thousand*VLOOKUP($A3946,$A$1:Q3946,17,FALSE))","v":""},{"$f":"IF(O3946=1,MAX(Q$1:Q3945)+1,\"\")","v":""},"","",3945]
[null,null,null,null,null,null,null,null,null,null,{"$error":"#DIV/0!"},null,3949,null,{"$f":"IF($A3950=\"\",\"\",COUNTIF($A$2:$A3950,$A3950))","v":""},{"$f":"IF($A3950=\"\",\"\",$O3950+thousand*VLOOKUP($A3950,$A$1:Q3950,17,FALSE))","v":""},{"$f":"IF(O3950=1,MAX(Q$1:Q3949)+1,\"\")","v":""},"","",3949]
[null,null,null,null,null,null,null,null,null,null,{"$error":"#DIV/0!"},null,3961,null,{"$f":"IF($A3962=\"\",\"\",COUNTIF($A$2:$A3962,$A3962))","v":""},{"$f":"IF($A3962=\"\",\"\",$O3962+thousand*VLOOKUP($A3962,$A$1:Q3962,17,FALSE))","v":""},{"$f":"IF(O3962=1,MAX(Q$1:Q3961)+1,\"\")","v":""},"","",3961]
[null,null,null,null,null,null,null,null,null,null,{"$error":"#DIV/0!"},null,3962,null,{"$f":"IF($A3963=\"\",\"\",COUNTIF($A$2:$A3963,$A3963))","v":""},{"$f":"IF($A3963=\"\",\"\",$O3963+thousand*VLOOKUP($A3963,$A$1:Q3963,17,FALSE))","v":""},{"$f":"IF(O3963=1,MAX(Q$1:Q3962)+1,\"\")","v":""},"","",3962]
[null,null,null,null,null,null,null,null,null,null,{"$error":"#DIV/0!"},null,3971,null,{"$f":"IF($A3972=\"\",\"\",COUNTIF($A$2:$A3972,$A3972))","v":""},{"$f":"IF($A3972=\"\",\"\",$O3972+thousand*VLOOKUP($A3972,$A$1:Q3972,17,FALSE))","v":""},{"$f":"IF(O3972=1,MAX(Q$1:Q3971)+1,\"\")","v":""},"","",3971]
[null,null,null,null,null,null,null,null,null,null,{"$error":"#DIV/0!"},null,3979,null,{"$f":"IF($A3980=\"\",\"\",COUNTIF($A$2:$A3980,$A3980))","v":""},{"$f":"IF($A3980=\"\",\"\",$O3980+thousand*VLOOKUP($A3980,$A$1:Q3980,17,FALSE))","v":""},{"$f":"IF(O3980=1,MAX(Q$1:Q3979)+1,\"\")","v":""},"","",3979]
[null,null,null,null,null,null,null,null,null,null,{"$error":"#DIV/0!"},null,3985,null,{"$f":"IF($A3986=\"\",\"\",COUNTIF($A$2:$A3986,$A3986))","v":""},{"$f":"IF($A3986=\"\",\"\",$O3986+thousand*VLOOKUP($A3986,$A$1:Q3986,17,FALSE))","v":""},{"$f":"IF(O3986=1,MAX(Q$1:Q3985)+1,\"\")","v":""},"","",3985]
[null,null,null,null,null,null,null,null,null,null,{"$error":"#DIV/0!"},null,3996,null,{"$f":"IF($A3997=\"\",\"\",COUNTIF($A$2:$A3997,$A3997))","v":""},{"$f":"IF($A3997=\"\",\"\",$O3997+thousand*VLOOKUP($A3997,$A$1:Q3997,17,FALSE))","v":""},{"$f":"IF(O3997=1,MAX(Q$1:Q3996)+1,\"\")","v":""},"","",3996]
[null,null,null,null,null,null,null,null,null,null,{"$error":"#DIV/0!"},null,4006,null,{"$f":"IF($A4007=\"\",\"\",COUNTIF($A$2:$A4007,$A4007))","v":""},{"$f":"IF($A4007=\"\",\"\",$O4007+thousand*VLOOKUP($A4007,$A$1:Q4007,17,FALSE))","v":""},{"$f":"IF(O4007=1,MAX(Q$1:Q4006)+1,\"\")","v":""},"","",4006]
[null,null,null,null,null,null,null,null,null,null,{"$error":"#DIV/0!"},null,4007,null,{"$f":"IF($A4008=\"\",\"\",COUNTIF($A$2:$A4008,$A4008))","v":""},{"$f":"IF($A4008=\"\",\"\",$O4008+thousand*VLOOKUP($A4008,$A$1:Q4008,17,FALSE))","v":""},{"$f":"IF(O4008=1,MAX(Q$1:Q4007)+1,\"\")","v":""},"","",4007]
[null,null,null,null,null,null,null,null,null,null,{"$error":"#DIV/0!"},null,4021,null,{"$f":"IF($A4022=\"\",\"\",COUNTIF($A$2:$A4022,$A4022))","v":""},{"$f":"IF($A4022=\"\",\"\",$O4022+thousand*VLOOKUP($A4022,$A$1:Q4022,17,FALSE))","v":""},{"$f":"IF(O4022=1,MAX(Q$1:Q4021)+1,\"\")","v":""},"","",4021]
[null,null,null,null,null,null,null,null,null,null,{"$error":"#DIV/0!"},null,4028,null,{"$f":"IF($A4029=\"\",\"\",COUNTIF($A$2:$A4029,$A4029))","v":""},{"$f":"IF($A4029=\"\",\"\",$O4029+thousand*VLOOKUP($A4029,$A$1:Q4029,17,FALSE))","v":""},{"$f":"IF(O4029=1,MAX(Q$1:Q4028)+1,\"\")","v":""},"","",4028]
[null,null,null,null,null,null,null,null,null,null,{"$error":"#DIV/0!"},null,4030,null,{"$f":"IF($A4031=\"\",\"\",COUNTIF($A$2:$A4031,$A4031))","v":""},{"$f":"IF($A4031=\"\",\"\",$O4031+thousand*VLOOKUP($A4031,$A$1:Q4031,17,FALSE))","v":""},{"$f":"IF(O4031=1,MAX(Q$1:Q4030)+1,\"\")","v":""},"","",4030]
[null,null,null,null,null,null,null,null,null,null,{"$error":"#DIV/0!"},null,4042,null,{"$f":"IF($A4043=\"\",\"\",COUNTIF($A$2:$A4043,$A4043))","v":""},{"$f":"IF($A4043=\"\",\"\",$O4043+thousand*VLOOKUP($A4043,$A$1:Q4043,17,FALSE))","v":""},{"$f":"IF(O4043=1,MAX(Q$1:Q4042)+1,\"\")","v":""},"","",4042]
[null,null,null,null,null,null,null,null,null,null,{"$error":"#DIV/0!"},null,4047,null,{"$f":"IF($A4048=\"\",\"\",COUNTIF($A$2:$A4048,$A4048))","v":""},{"$f":"IF($A4048=\"\",\"\",$O4048+thousand*VLOOKUP($A4048,$A$1:Q4048,17,FALSE))","v":""},{"$f":"IF(O4048=1,MAX(Q$1:Q4047)+1,\"\")","v":""},"","",4047]
[null,null,null,null,null,null,null,null,null,null,{"$error":"#DIV/0!"},null,4052,null,{"$f":"IF($A4053=\"\",\"\",COUNTIF($A$2:$A4053,$A4053))","v":""},{"$f":"IF($A4053=\"\",\"\",$O4053+thousand*VLOOKUP($A4053,$A$1:Q4053,17,FALSE))","v":""},{"$f":"IF(O4053=1,MAX(Q$1:Q4052)+1,\"\")","v":""},"","",4052]
[null,null,null,null,null,null,null,null,null,null,{"$error":"#DIV/0!"},null,4064,null,{"$f":"IF($A4065=\"\",\"\",COUNTIF($A$2:$A4065,$A4065))","v":""},{"$f":"IF($A4065=\"\",\"\",$O4065+thousand*VLOOKUP($A4065,$A$1:Q4065,17,FALSE))","v":""},{"$f":"IF(O4065=1,MAX(Q$1:Q4064)+1,\"\")","v":""},"","",4064]
[null,null,null,null,null,null,null,null,null,null,{"$error":"#DIV/0!"},null,4072,null,{"$f":"IF($A4073=\"\",\"\",COUNTIF($A$2:$A4073,$A4073))","v":""},{"$f":"IF($A4073=\"\",\"\",$O4073+thousand*VLOOKUP($A4073,$A$1:Q4073,17,FALSE))","v":""},{"$f":"IF(O4073=1,MAX(Q$1:Q4072)+1,\"\")","v":""},"","",4072]
[null,null,null,null,null,null,null,null,null,null,{"$error":"#DIV/0!"},null,4078,null,{"$f":"IF($A4079=\"\",\"\",COUNTIF($A$2:$A4079,$A4079))","v":""},{"$f":"IF($A4079=\"\",\"\",$O4079+thousand*VLOOKUP($A4079,$A$1:Q4079,17,FALSE))","v":""},{"$f":"IF(O4079=1,MAX(Q$1:Q4078)+1,\"\")","v":""},"","",4078]
[null,null,null,null,null,null,null,null,null,null,{"$error":"#DIV/0!"},null,4081,null,{"$f":"IF($A4082=\"\",\"\",COUNTIF($A$2:$A4082,$A4082))","v":""},{"$f":"IF($A4082=\"\",\"\",$O4082+thousand*VLOOKUP($A4082,$A$1:Q4082,17,FALSE))","v":""},{"$f":"IF(O4082=1,MAX(Q$1:Q4081)+1,\"\")","v":""},"","",4081]
[null,null,null,null,null,null,null,null,null,null,{"$error":"#DIV/0!"},null,4095,null,{"$f":"IF($A4096=\"\",\"\",COUNTIF($A$2:$A4096,$A4096))","v":""},{"$f":"IF($A4096=\"\",\"\",$O4096+thousand*VLOOKUP($A4096,$A$1:Q4096,17,FALSE))","v":""},{"$f":"IF(O4096=1,MAX(Q$1:Q4095)+1,\"\")","v":""},"","",4095]
[null,null,null,null,null,null,null,null,null,null,{"$error":"#DIV/0!"},null,4098,null,{"$f":"IF($A4099=\"\",\"\",COUNTIF($A$2:$A4099,$A4099))","v":""},{"$f":"IF($A4099=\"\",\"\",$O4099+thousand*VLOOKUP($A4099,$A$1:Q4099,17,FALSE))","v":""},{"$f":"IF(O4099=1,MAX(Q$1:Q4098)+1,\"\")","v":""},"","",{"$f":"$M4099","v":4098}]
[null,null,null,null,null,null,null,null,null,null,{"$error":"#DIV/0!"},null,4109,null,{"$f":"IF($A4110=\"\",\"\",COUNTIF($A$2:$A4110,$A4110))","v":""},{"$f":"IF($A4110=\"\",\"\",$O4110+thousand*VLOOKUP($A4110,$A$1:Q4110,17,FALSE))","v":""},{"$f":"IF(O4110=1,MAX(Q$1:Q4109)+1,\"\")","v":""},"","",4109]
[null,null,null,null,null,null,null,null,null,null,{"$error":"#DIV/0!"},null,4114,null,{"$f":"IF($A4115=\"\",\"\",COUNTIF($A$2:$A4115,$A4115))","v":""},{"$f":"IF($A4115=\"\",\"\",$O4115+thousand*VLOOKUP($A4115,$A$1:Q4115,17,FALSE))","v":""},{"$f":"IF(O4115=1,MAX(Q$1:Q4114)+1,\"\")","v":""},"","",4114]
[null,null,null,null,null,null,null,null,null,null,{"$error":"#DIV/0!"},null,4123,null,{"$f":"IF($A4124=\"\",\"\",COUNTIF($A$2:$A4124,$A4124))","v":""},{"$f":"IF($A4124=\"\",\"\",$O4124+thousand*VLOOKUP($A4124,$A$1:Q4124,17,FALSE))","v":""},{"$f":"IF(O4124=1,MAX(Q$1:Q4123)+1,\"\")","v":""},{"$f":"IF(A4124=\"\",\"\",A4124)","v":""},{"$f":"IF(B4124=\"\",\"\",B4124)","v":""},4123]
[null,null,null,null,null,null,null,null,null,null,{"$error":"#DIV/0!"},null,4131,null,{"$f":"IF($A4132=\"\",\"\",COUNTIF($A$2:$A4132,$A4132))","v":""},{"$f":"IF($A4132=\"\",\"\",$O4132+thousand*VLOOKUP($A4132,$A$1:Q4132,17,FALSE))","v":""},{"$f":"IF(O4132=1,MAX(Q$1:Q4131)+1,\"\")","v":""},"","",4131]
[null,null,null,null,null,null,null,null,null,null,{"$error":"#DIV/0!"},null,4140,null,{"$f":"IF($A4141=\"\",\"\",COUNTIF($A$2:$A4141,$A4141))","v":""},{"$f":"IF($A4141=\"\",\"\",$O4141+thousand*VLOOKUP($A4141,$A$1:Q4141,17,FALSE))","v":""},{"$f":"IF(O4141=1,MAX(Q$1:Q4140)+1,\"\")","v":""},"","",4140]
[null,null,null,null,null,null,null,null,null,null,{"$error":"#DIV/0!"},null,4145,null,{"$f":"IF($A4146=\"\",\"\",COUNTIF($A$2:$A4146,$A4146))","v":""},{"$f":"IF($A4146=\"\",\"\",$O4146+thousand*VLOOKUP($A4146,$A$1:Q4146,17,FALSE))","v":""},{"$f":"IF(O4146=1,MAX(Q$1:Q4145)+1,\"\")","v":""},"","",4145]
[null,null,null,null,null,null,null,null,null,null,{"$error":"#DIV/0!"},null,4149,null,{"$f":"IF($A4150=\"\",\"\",COUNTIF($A$2:$A4150,$A4150))","v":""},{"$f":"IF($A4150=\"\",\"\",$O4150+thousand*VLOOKUP($A4150,$A$1:Q4150,17,FALSE))","v":""},{"$f":"IF(O4150=1,MAX(Q$1:Q4149)+1,\"\")","v":""},"","",4149]
[null,null,null,null,null,null,null,null,null,null,{"$error":"#DIV/0!"},null,4159,null,{"$f":"IF($A4160=\"\",\"\",COUNTIF($A$2:$A4160,$A4160))","v":""},{"$f":"IF($A4160=\"\",\"\",$O4160+thousand*VLOOKUP($A4160,$A$1:Q4160,17,FALSE))","v":""},{"$f":"IF(O4160=1,MAX(Q$1:Q4159)+1,\"\")","v":""},"","",4159]
[null,null,null,null,null,null,null,null,null,null,{"$error":"#DIV/0!"},null,4167,null,{"$f":"IF($A4168=\"\",\"\",COUNTIF($A$2:$A4168,$A4168))","v":""},{"$f":"IF($A4168=\"\",\"\",$O4168+thousand*VLOOKUP($A4168,$A$1:Q4168,17,FALSE))","v":""},{"$f":"IF(O4168=1,MAX(Q$1:Q4167)+1,\"\")","v":""},"","",4167]
[null,null,null,null,null,null,null,null,null,null,{"$error":"#DIV/0!"},null,4174,null,{"$f":"IF($A4175=\"\",\"\",COUNTIF($A$2:$A4175,$A4175))","v":""},{"$f":"IF($A4175=\"\",\"\",$O4175+thousand*VLOOKUP($A4175,$A$1:Q4175,17,FALSE))","v":""},{"$f":"IF(O4175=1,MAX(Q$1:Q4174)+1,\"\")","v":""},"","",4174]
[null,null,null,null,null,null,null,null,null,null,{"$error":"#DIV/0!"},null,4181,null,{"$f":"IF($A4182=\"\",\"\",COUNTIF($A$2:$A4182,$A4182))","v":""},{"$f":"IF($A4182=\"\",\"\",$O4182+thousand*VLOOKUP($A4182,$A$1:Q4182,17,FALSE))","v":""},{"$f":"IF(O4182=1,MAX(Q$1:Q4181)+1,\"\")","v":""},"","",4181]
[null,null,null,null,null,null,null,null,null,null,{"$error":"#DIV/0!"},null,4191,null,{"$f":"IF($A4192=\"\",\"\",COUNTIF($A$2:$A4192,$A4192))","v":""},{"$f":"IF($A4192=\"\",\"\",$O4192+thousand*VLOOKUP($A4192,$A$1:Q4192,17,FALSE))","v":""},{"$f":"IF(O4192=1,MAX(Q$1:Q4191)+1,\"\")","v":""},"","",4191]
[null,null,null,null,null,null,null,null,null,null,{"$error":"#DIV/0!"},null,4195,null,{"$f":"IF($A4196=\"\",\"\",COUNTIF($A$2:$A4196,$A4196))","v":""},{"$f":"IF($A4196=\"\",\"\",$O4196+thousand*VLOOKUP($A4196,$A$1:Q4196,17,FALSE))","v":""},{"$f":"IF(O4196=1,MAX(Q$1:Q4195)+1,\"\")","v":""},"","",4195]
[null,null,null,null,null,null,null,null,null,null,{"$error":"#DIV/0!"},null,4200,null,{"$f":"IF($A4201=\"\",\"\",COUNTIF($A$2:$A4201,$A4201))","v":""},{"$f":"IF($A4201=\"\",\"\",$O4201+thousand*VLOOKUP($A4201,$A$1:Q4201,17,FALSE))","v":""},{"$f":"IF(O4201=1,MAX(Q$1:Q4200)+1,\"\")","v":""},"","",4200]
[null,null,null,null,null,null,null,null,null,null,{"$error":"#DIV/0!"},null,4209,null,{"$f":"IF($A4210=\"\",\"\",COUNTIF($A$2:$A4210,$A4210))","v":""},{"$f":"IF($A4210=\"\",\"\",$O4210+thousand*VLOOKUP($A4210,$A$1:Q4210,17,FALSE))","v":""},{"$f":"IF(O4210=1,MAX(Q$1:Q4209)+1,\"\")","v":""},"","",4209]
[null,null,null,null,null,null,null,null,null,null,{"$error":"#DIV/0!"},null,4217,null,{"$f":"IF($A4218=\"\",\"\",COUNTIF($A$2:$A4218,$A4218))","v":""},{"$f":"IF($A4218=\"\",\"\",$O4218+thousand*VLOOKUP($A4218,$A$1:Q4218,17,FALSE))","v":""},{"$f":"IF(O4218=1,MAX(Q$1:Q4217)+1,\"\")","v":""},"","",4217]
[null,null,null,null,null,null,null,null,null,null,{"$error":"#DIV/0!"},null,4225,null,{"$f":"IF($A4226=\"\",\"\",COUNTIF($A$2:$A4226,$A4226))","v":""},{"$f":"IF($A4226=\"\",\"\",$O4226+thousand*VLOOKUP($A4226,$A$1:Q4226,17,FALSE))","v":""},{"$f":"IF(O4226=1,MAX(Q$1:Q4225)+1,\"\")","v":""},"","",4225]
[null,null,null,null,null,null,null,null,null,null,{"$error":"#DIV/0!"},null,4231,null,{"$f":"IF($A4232=\"\",\"\",COUNTIF($A$2:$A4232,$A4232))","v":""},{"$f":"IF($A4232=\"\",\"\",$O4232+thousand*VLOOKUP($A4232,$A$1:Q4232,17,FALSE))","v":""},{"$f":"IF(O4232=1,MAX(Q$1:Q4231)+1,\"\")","v":""},"","",4231]
[null,null,null,null,null,null,null,null,null,null,{"$error":"#DIV/0!"},null,4242,null,{"$f":"IF($A4243=\"\",\"\",COUNTIF($A$2:$A4243,$A4243))","v":""},{"$f":"IF($A4243=\"\",\"\",$O4243+thousand*VLOOKUP($A4243,$A$1:Q4243,17,FALSE))","v":""},{"$f":"IF(O4243=1,MAX(Q$1:Q4242)+1,\"\")","v":""},"","",4242]
[null,null,null,null,null,null,null,null,null,null,{"$error":"#DIV/0!"},null,4248,null,{"$f":"IF($A4249=\"\",\"\",COUNTIF($A$2:$A4249,$A4249))","v":""},{"$f":"IF($A4249=\"\",\"\",$O4249+thousand*VLOOKUP($A4249,$A$1:Q4249,17,FALSE))","v":""},{"$f":"IF(O4249=1,MAX(Q$1:Q4248)+1,\"\")","v":""},"","",4248]
[null,null,null,null,null,null,null,null,null,null,{"$error":"#DIV/0!"},null,4259,null,{"$f":"IF($A4260=\"\",\"\",COUNTIF($A$2:$A4260,$A4260))","v":""},{"$f":"IF($A4260=\"\",\"\",$O4260+thousand*VLOOKUP($A4260,$A$1:Q4260,17,FALSE))","v":""},{"$f":"IF(O4260=1,MAX(Q$1:Q4259)+1,\"\")","v":""},"","",4259]
[null,null,null,null,null,null,null,null,null,null,{"$error":"#DIV/0!"},null,4262,null,{"$f":"IF($A4263=\"\",\"\",COUNTIF($A$2:$A4263,$A4263))","v":""},{"$f":"IF($A4263=\"\",\"\",$O4263+thousand*VLOOKUP($A4263,$A$1:Q4263,17,FALSE))","v":""},{"$f":"IF(O4263=1,MAX(Q$1:Q4262)+1,\"\")","v":""},"","",4262]
[null,null,null,null,null,null,null,null,null,null,{"$error":"#DIV/0!"},null,4267,null,{"$f":"IF($A4268=\"\",\"\",COUNTIF($A$2:$A4268,$A4268))","v":""},{"$f":"IF($A4268=\"\",\"\",$O4268+thousand*VLOOKUP($A4268,$A$1:Q4268,17,FALSE))","v":""},{"$f":"IF(O4268=1,MAX(Q$1:Q4267)+1,\"\")","v":""},"","",4267]
[null,null,null,null,null,null,null,null,null,null,{"$error":"#DIV/0!"},null,4276,null,{"$f":"IF($A4277=\"\",\"\",COUNTIF($A$2:$A4277,$A4277))","v":""},{"$f":"IF($A4277=\"\",\"\",$O4277+thousand*VLOOKUP($A4277,$A$1:Q4277,17,FALSE))","v":""},{"$f":"IF(O4277=1,MAX(Q$1:Q4276)+1,\"\")","v":""},"","",4276]
[null,null,null,null,null,null,null,null,null,null,{"$error":"#DIV/0!"},null,4284,null,{"$f":"IF($A4285=\"\",\"\",COUNTIF($A$2:$A4285,$A4285))","v":""},{"$f":"IF($A4285=\"\",\"\",$O4285+thousand*VLOOKUP($A4285,$A$1:Q4285,17,FALSE))","v":""},{"$f":"IF(O4285=1,MAX(Q$1:Q4284)+1,\"\")","v":""},"","",4284]
[null,null,null,null,null,null,null,null,null,null,{"$error":"#DIV/0!"},null,4293,null,{"$f":"IF($A4294=\"\",\"\",COUNTIF($A$2:$A4294,$A4294))","v":""},{"$f":"IF($A4294=\"\",\"\",$O4294+thousand*VLOOKUP($A4294,$A$1:Q4294,17,FALSE))","v":""},{"$f":"IF(O4294=1,MAX(Q$1:Q4293)+1,\"\")","v":""},"","",4293]
[null,null,null,null,null,null,null,null,null,null,{"$error":"#DIV/0!"},null,4298,null,{"$f":"IF($A4299=\"\",\"\",COUNTIF($A$2:$A4299,$A4299))","v":""},{"$f":"IF($A4299=\"\",\"\",$O4299+thousand*VLOOKUP($A4299,$A$1:Q4299,17,FALSE))","v":""},{"$f":"IF(O4299=1,MAX(Q$1:Q4298)+1,\"\")","v":""},"","",4298]
[null,null,null,null,null,null,null,null,null,null,{"$error":"#DIV/0!"},null,4306,null,{"$f":"IF($A4307=\"\",\"\",COUNTIF($A$2:$A4307,$A4307))","v":""},{"$f":"IF($A4307=\"\",\"\",$O4307+thousand*VLOOKUP($A4307,$A$1:Q4307,17,FALSE))","v":""},{"$f":"IF(O4307=1,MAX(Q$1:Q4306)+1,\"\")","v":""},"","",4306]
[null,null,null,null,null,null,null,null,null,null,{"$error":"#DIV/0!"},null,4318,null,{"$f":"IF($A4319=\"\",\"\",COUNTIF($A$2:$A4319,$A4319))","v":""},{"$f":"IF($A4319=\"\",\"\",$O4319+thousand*VLOOKUP($A4319,$A$1:Q4319,17,FALSE))","v":""},{"$f":"IF(O4319=1,MAX(Q$1:Q4318)+1,\"\")","v":""},"","",4318]
[null,null,null,null,null,null,null,null,null,null,{"$error":"#DIV/0!"},null,4320,null,{"$f":"IF($A4321=\"\",\"\",COUNTIF($A$2:$A4321,$A4321))","v":""},{"$f":"IF($A4321=\"\",\"\",$O4321+thousand*VLOOKUP($A4321,$A$1:Q4321,17,FALSE))","v":""},{"$f":"IF(O4321=1,MAX(Q$1:Q4320)+1,\"\")","v":""},"","",4320]
[null,null,null,null,null,null,null,null,null,null,{"$error":"#DIV/0!"},null,4327,null,{"$f":"IF($A4328=\"\",\"\",COUNTIF($A$2:$A4328,$A4328))","v":""},{"$f":"IF($A4328=\"\",\"\",$O4328+thousand*VLOOKUP($A4328,$A$1:Q4328,17,FALSE))","v":""},{"$f":"IF(O4328=1,MAX(Q$1:Q4327)+1,\"\")","v":""},"","",4327]
[null,null,null,null,null,null,null,null,null,null,{"$error":"#DIV/0!"},null,4334,null,{"$f":"IF($A4335=\"\",\"\",COUNTIF($A$2:$A4335,$A4335))","v":""},{"$f":"IF($A4335=\"\",\"\",$O4335+thousand*VLOOKUP($A4335,$A$1:Q4335,17,FALSE))","v":""},{"$f":"IF(O4335=1,MAX(Q$1:Q4334)+1,\"\")","v":""},"","",4334]
[null,null,null,null,null,null,null,null,null,null,{"$f":"F4345/E4345*J4345","v":{"$error":"#DIV/0!"}},null,4344,null,{"$f":"IF($A4345=\"\",\"\",COUNTIF($A$2:$A4345,$A4345))","v":""},{"$f":"IF($A4345=\"\",\"\",$O4345+thousand*VLOOKUP($A4345,$A$1:Q4345,17,FALSE))","v":""},{"$f":"IF(O4345=1,MAX(Q$1:Q4344)+1,\"\")","v":""},"","",4344]
[null,null,null,null,null,null,null,null,null,null,{"$error":"#DIV/0!"},null,4355,null,{"$f":"IF($A4356=\"\",\"\",COUNTIF($A$2:$A4356,$A4356))","v":""},{"$f":"IF($A4356=\"\",\"\",$O4356+thousand*VLOOKUP($A4356,$A$1:Q4356,17,FALSE))","v":""},{"$f":"IF(O4356=1,MAX(Q$1:Q4355)+1,\"\")","v":""},"","",4355]
[null,null,null,null,null,null,null,null,null,null,{"$error":"#DIV/0!"},null,4356,null,{"$f":"IF($A4357=\"\",\"\",COUNTIF($A$2:$A4357,$A4357))","v":""},{"$f":"IF($A4357=\"\",\"\",$O4357+thousand*VLOOKUP($A4357,$A$1:Q4357,17,FALSE))","v":""},{"$f":"IF(O4357=1,MAX(Q$1:Q4356)+1,\"\")","v":""},"","",4356]
[null,null,null,null,null,null,null,null,null,null,{"$error":"#DIV/0!"},null,4369,null,{"$f":"IF($A4370=\"\",\"\",COUNTIF($A$2:$A4370,$A4370))","v":""},{"$f":"IF($A4370=\"\",\"\",$O4370+thousand*VLOOKUP($A4370,$A$1:Q4370,17,FALSE))","v":""},{"$f":"IF(O4370=1,MAX(Q$1:Q4369)+1,\"\")","v":""},"","",4369]
[null,null,null,null,null,null,null,null,null,null,{"$error":"#DIV/0!"},null,4377,null,{"$f":"IF($A4378=\"\",\"\",COUNTIF($A$2:$A4378,$A4378))","v":""},{"$f":"IF($A4378=\"\",\"\",$O4378+thousand*VLOOKUP($A4378,$A$1:Q4378,17,FALSE))","v":""},{"$f":"IF(O4378=1,MAX(Q$1:Q4377)+1,\"\")","v":""},"","",4377]
[null,null,null,null,null,null,null,null,null,null,{"$error":"#DIV/0!"},null,4378,null,{"$f":"IF($A4379=\"\",\"\",COUNTIF($A$2:$A4379,$A4379))","v":""},{"$f":"IF($A4379=\"\",\"\",$O4379+thousand*VLOOKUP($A4379,$A$1:Q4379,17,FALSE))","v":""},{"$f":"IF(O4379=1,MAX(Q$1:Q4378)+1,\"\")","v":""},"","",4378]
[null,null,null,null,null,null,null,null,null,null,{"$error":"#DIV/0!"},null,4391,null,{"$f":"IF($A4392=\"\",\"\",COUNTIF($A$2:$A4392,$A4392))","v":""},{"$f":"IF($A4392=\"\",\"\",$O4392+thousand*VLOOKUP($A4392,$A$1:Q4392,17,FALSE))","v":""},{"$f":"IF(O4392=1,MAX(Q$1:Q4391)+1,\"\")","v":""},"","",4391]
[null,null,null,null,null,null,null,null,null,null,{"$error":"#DIV/0!"},null,4395,null,{"$f":"IF($A4396=\"\",\"\",COUNTIF($A$2:$A4396,$A4396))","v":""},{"$f":"IF($A4396=\"\",\"\",$O4396+thousand*VLOOKUP($A4396,$A$1:Q4396,17,FALSE))","v":""},{"$f":"IF(O4396=1,MAX(Q$1:Q4395)+1,\"\")","v":""},"","",4395]
[null,null,null,null,null,null,null,null,null,null,{"$error":"#DIV/0!"},null,4401,null,{"$f":"IF($A4402=\"\",\"\",COUNTIF($A$2:$A4402,$A4402))","v":""},{"$f":"IF($A4402=\"\",\"\",$O4402+thousand*VLOOKUP($A4402,$A$1:Q4402,17,FALSE))","v":""},{"$f":"IF(O4402=1,MAX(Q$1:Q4401)+1,\"\")","v":""},"","",4401]
[null,null,null,null,null,null,null,null,null,null,{"$error":"#DIV/0!"},null,4413,null,{"$f":"IF($A4414=\"\",\"\",COUNTIF($A$2:$A4414,$A4414))","v":""},{"$f":"IF($A4414=\"\",\"\",$O4414+thousand*VLOOKUP($A4414,$A$1:Q4414,17,FALSE))","v":""},{"$f":"IF(O4414=1,MAX(Q$1:Q4413)+1,\"\")","v":""},"","",4413]
[null,null,null,null,null,null,null,null,null,null,{"$error":"#DIV/0!"},null,4420,null,{"$f":"IF($A4421=\"\",\"\",COUNTIF($A$2:$A4421,$A4421))","v":""},{"$f":"IF($A4421=\"\",\"\",$O4421+thousand*VLOOKUP($A4421,$A$1:Q4421,17,FALSE))","v":""},{"$f":"IF(O4421=1,MAX(Q$1:Q4420)+1,\"\")","v":""},"","",4420]
[null,null,null,null,null,null,null,null,null,null,{"$error":"#DIV/0!"},null,4427,null,{"$f":"IF($A4428=\"\",\"\",COUNTIF($A$2:$A4428,$A4428))","v":""},{"$f":"IF($A4428=\"\",\"\",$O4428+thousand*VLOOKUP($A4428,$A$1:Q4428,17,FALSE))","v":""},{"$f":"IF(O4428=1,MAX(Q$1:Q4427)+1,\"\")","v":""},"","",4427]
[null,null,null,null,null,null,null,null,null,null,{"$error":"#DIV/0!"},null,4437,null,{"$f":"IF($A4438=\"\",\"\",COUNTIF($A$2:$A4438,$A4438))","v":""},{"$f":"IF($A4438=\"\",\"\",$O4438+thousand*VLOOKUP($A4438,$A$1:Q4438,17,FALSE))","v":""},{"$f":"IF(O4438=1,MAX(Q$1:Q4437)+1,\"\")","v":""},"","",4437]
[null,null,null,null,null,null,null,null,null,null,{"$error":"#DIV/0!"},null,4444,null,{"$f":"IF($A4445=\"\",\"\",COUNTIF($A$2:$A4445,$A4445))","v":""},{"$f":"IF($A4445=\"\",\"\",$O4445+thousand*VLOOKUP($A4445,$A$1:Q4445,17,FALSE))","v":""},{"$f":"IF(O4445=1,MAX(Q$1:Q4444)+1,\"\")","v":""},"","",4444]
[null,null,null,null,null,null,null,null,null,null,{"$error":"#DIV/0!"},null,4446,null,{"$f":"IF($A4447=\"\",\"\",COUNTIF($A$2:$A4447,$A4447))","v":""},{"$f":"IF($A4447=\"\",\"\",$O4447+thousand*VLOOKUP($A4447,$A$1:Q4447,17,FALSE))","v":""},{"$f":"IF(O4447=1,MAX(Q$1:Q4446)+1,\"\")","v":""},"","",4446]
[null,null,null,null,null,null,null,null,null,null,{"$error":"#DIV/0!"},null,4458,null,{"$f":"IF($A4459=\"\",\"\",COUNTIF($A$2:$A4459,$A4459))","v":""},{"$f":"IF($A4459=\"\",\"\",$O4459+thousand*VLOOKUP($A4459,$A$1:Q4459,17,FALSE))","v":""},{"$f":"IF(O4459=1,MAX(Q$1:Q4458)+1,\"\")","v":""},"","",4458]
[null,null,null,null,null,null,null,null,null,null,{"$error":"#DIV/0!"},null,4466,null,{"$f":"IF($A4467=\"\",\"\",COUNTIF($A$2:$A4467,$A4467))","v":""},{"$f":"IF($A4467=\"\",\"\",$O4467+thousand*VLOOKUP($A4467,$A$1:Q4467,17,FALSE))","v":""},{"$f":"IF(O4467=1,MAX(Q$1:Q4466)+1,\"\")","v":""},"","",4466]
[null,null,null,null,null,null,null,null,null,null,{"$error":"#DIV/0!"},null,4471,null,{"$f":"IF($A4472=\"\",\"\",COUNTIF($A$2:$A4472,$A4472))","v":""},{"$f":"IF($A4472=\"\",\"\",$O4472+thousand*VLOOKUP($A4472,$A$1:Q4472,17,FALSE))","v":""},{"$f":"IF(O4472=1,MAX(Q$1:Q4471)+1,\"\")","v":""},"","",4471]
[null,null,null,null,null,null,null,null,null,null,{"$error":"#DIV/0!"},null,4480,null,{"$f":"IF($A4481=\"\",\"\",COUNTIF($A$2:$A4481,$A4481))","v":""},{"$f":"IF($A4481=\"\",\"\",$O4481+thousand*VLOOKUP($A4481,$A$1:Q4481,17,FALSE))","v":""},{"$f":"IF(O4481=1,MAX(Q$1:Q4480)+1,\"\")","v":""},"","",4480]
[null,null,null,null,null,null,null,null,null,null,{"$error":"#DIV/0!"},null,4488,null,{"$f":"IF($A4489=\"\",\"\",COUNTIF($A$2:$A4489,$A4489))","v":""},{"$f":"IF($A4489=\"\",\"\",$O4489+thousand*VLOOKUP($A4489,$A$1:Q4489,17,FALSE))","v":""},{"$f":"IF(O4489=1,MAX(Q$1:Q4488)+1,\"\")","v":""},"","",4488]
[null,null,null,null,null,null,null,null,null,null,{"$error":"#DIV/0!"},null,4494,null,{"$f":"IF($A4495=\"\",\"\",COUNTIF($A$2:$A4495,$A4495))","v":""},{"$f":"IF($A4495=\"\",\"\",$O4495+thousand*VLOOKUP($A4495,$A$1:Q4495,17,FALSE))","v":""},{"$f":"IF(O4495=1,MAX(Q$1:Q4494)+1,\"\")","v":""},"","",4494]
[null,null,null,null,null,null,null,null,null,null,{"$error":"#DIV/0!"},null,4497,null,{"$f":"IF($A4498=\"\",\"\",COUNTIF($A$2:$A4498,$A4498))","v":""},{"$f":"IF($A4498=\"\",\"\",$O4498+thousand*VLOOKUP($A4498,$A$1:Q4498,17,FALSE))","v":""},{"$f":"IF(O4498=1,MAX(Q$1:Q4497)+1,\"\")","v":""},"","",4497]
[null,null,null,null,null,null,null,null,null,null,{"$error":"#DIV/0!"},null,4508,null,{"$f":"IF($A4509=\"\",\"\",COUNTIF($A$2:$A4509,$A4509))","v":""},{"$f":"IF($A4509=\"\",\"\",$O4509+thousand*VLOOKUP($A4509,$A$1:Q4509,17,FALSE))","v":""},{"$f":"IF(O4509=1,MAX(Q$1:Q4508)+1,\"\")","v":""},"","",4508]
[null,null,null,null,null,null,null,null,null,null,{"$error":"#DIV/0!"},null,4516,null,{"$f":"IF($A4517=\"\",\"\",COUNTIF($A$2:$A4517,$A4517))","v":""},{"$f":"IF($A4517=\"\",\"\",$O4517+thousand*VLOOKUP($A4517,$A$1:Q4517,17,FALSE))","v":""},{"$f":"IF(O4517=1,MAX(Q$1:Q4516)+1,\"\")","v":""},"","",4516]
[null,null,null,null,null,null,null,null,null,null,{"$error":"#DIV/0!"},null,4522,null,{"$f":"IF($A4523=\"\",\"\",COUNTIF($A$2:$A4523,$A4523))","v":""},{"$f":"IF($A4523=\"\",\"\",$O4523+thousand*VLOOKUP($A4523,$A$1:Q4523,17,FALSE))","v":""},{"$f":"IF(O4523=1,MAX(Q$1:Q4522)+1,\"\")","v":""},"","",4522]
[null,null,null,null,null,null,null,null,null,null,{"$error":"#DIV/0!"},null,4530,null,{"$f":"IF($A4531=\"\",\"\",COUNTIF($A$2:$A4531,$A4531))","v":""},{"$f":"IF($A4531=\"\",\"\",$O4531+thousand*VLOOKUP($A4531,$A$1:Q4531,17,FALSE))","v":""},{"$f":"IF(O4531=1,MAX(Q$1:Q4530)+1,\"\")","v":""},"","",4530]
[null,null,null,null,null,null,null,null,null,null,{"$error":"#DIV/0!"},null,4539,null,{"$f":"IF($A4540=\"\",\"\",COUNTIF($A$2:$A4540,$A4540))","v":""},{"$f":"IF($A4540=\"\",\"\",$O4540+thousand*VLOOKUP($A4540,$A$1:Q4540,17,FALSE))","v":""},{"$f":"IF(O4540=1,MAX(Q$1:Q4539)+1,\"\")","v":""},"","",4539]
[null,null,null,null,null,null,null,null,null,null,{"$error":"#DIV/0!"},null,4544,null,{"$f":"IF($A4545=\"\",\"\",COUNTIF($A$2:$A4545,$A4545))","v":""},{"$f":"IF($A4545=\"\",\"\",$O4545+thousand*VLOOKUP($A4545,$A$1:Q4545,17,FALSE))","v":""},{"$f":"IF(O4545=1,MAX(Q$1:Q4544)+1,\"\")","v":""},"","",4544]
[null,null,null,null,null,null,null,null,null,null,{"$error":"#DIV/0!"},null,4556,null,{"$f":"IF($A4557=\"\",\"\",COUNTIF($A$2:$A4557,$A4557))","v":""},{"$f":"IF($A4557=\"\",\"\",$O4557+thousand*VLOOKUP($A4557,$A$1:Q4557,17,FALSE))","v":""},{"$f":"IF(O4557=1,MAX(Q$1:Q4556)+1,\"\")","v":""},"","",4556]
[null,null,null,null,null,null,null,null,null,null,{"$error":"#DIV/0!"},null,4561,null,{"$f":"IF($A4562=\"\",\"\",COUNTIF($A$2:$A4562,$A4562))","v":""},{"$f":"IF($A4562=\"\",\"\",$O4562+thousand*VLOOKUP($A4562,$A$1:Q4562,17,FALSE))","v":""},{"$f":"IF(O4562=1,MAX(Q$1:Q4561)+1,\"\")","v":""},"","",4561]
[null,null,null,null,null,null,null,null,null,null,{"$error":"#DIV/0!"},null,4566,null,{"$f":"IF($A4567=\"\",\"\",COUNTIF($A$2:$A4567,$A4567))","v":""},{"$f":"IF($A4567=\"\",\"\",$O4567+thousand*VLOOKUP($A4567,$A$1:Q4567,17,FALSE))","v":""},{"$f":"IF(O4567=1,MAX(Q$1:Q4566)+1,\"\")","v":""},"","",4566]
[null,null,null,null,null,null,null,null,null,null,{"$error":"#DIV/0!"},null,4573,null,{"$f":"IF($A4574=\"\",\"\",COUNTIF($A$2:$A4574,$A4574))","v":""},{"$f":"IF($A4574=\"\",\"\",$O4574+thousand*VLOOKUP($A4574,$A$1:Q4574,17,FALSE))","v":""},{"$f":"IF(O4574=1,MAX(Q$1:Q4573)+1,\"\")","v":""},"","",4573]
[null,null,null,null,null,null,null,null,null,null,{"$error":"#DIV/0!"},null,4580,null,{"$f":"IF($A4581=\"\",\"\",COUNTIF($A$2:$A4581,$A4581))","v":""},{"$f":"IF($A4581=\"\",\"\",$O4581+thousand*VLOOKUP($A4581,$A$1:Q4581,17,FALSE))","v":""},{"$f":"IF(O4581=1,MAX(Q$1:Q4580)+1,\"\")","v":""},"","",4580]
[null,null,null,null,null,null,null,null,null,null,{"$error":"#DIV/0!"},null,4590,null,{"$f":"IF($A4591=\"\",\"\",COUNTIF($A$2:$A4591,$A4591))","v":""},{"$f":"IF($A4591=\"\",\"\",$O4591+thousand*VLOOKUP($A4591,$A$1:Q4591,17,FALSE))","v":""},{"$f":"IF(O4591=1,MAX(Q$1:Q4590)+1,\"\")","v":""},"","",4590]
[null,null,null,null,null,null,null,null,null,null,{"$error":"#DIV/0!"},null,4597,null,{"$f":"IF($A4598=\"\",\"\",COUNTIF($A$2:$A4598,$A4598))","v":""},{"$f":"IF($A4598=\"\",\"\",$O4598+thousand*VLOOKUP($A4598,$A$1:Q4598,17,FALSE))","v":""},{"$f":"IF(O4598=1,MAX(Q$1:Q4597)+1,\"\")","v":""},"","",4597]
[null,null,null,null,null,null,null,null,null,null,{"$error":"#DIV/0!"},null,4607,null,{"$f":"IF($A4608=\"\",\"\",COUNTIF($A$2:$A4608,$A4608))","v":""},{"$f":"IF($A4608=\"\",\"\",$O4608+thousand*VLOOKUP($A4608,$A$1:Q4608,17,FALSE))","v":""},{"$f":"IF(O4608=1,MAX(Q$1:Q4607)+1,\"\")","v":""},"","",4607]
[null,null,null,null,null,null,null,null,null,null,{"$error":"#DIV/0!"},null,4611,null,{"$f":"IF($A4612=\"\",\"\",COUNTIF($A$2:$A4612,$A4612))","v":""},{"$f":"IF($A4612=\"\",\"\",$O4612+thousand*VLOOKUP($A4612,$A$1:Q4612,17,FALSE))","v":""},{"$f":"IF(O4612=1,MAX(Q$1:Q4611)+1,\"\")","v":""},"","",4611]
[null,null,null,null,null,null,null,null,null,null,{"$error":"#DIV/0!"},null,4616,null,{"$f":"IF($A4617=\"\",\"\",COUNTIF($A$2:$A4617,$A4617))","v":""},{"$f":"IF($A4617=\"\",\"\",$O4617+thousand*VLOOKUP($A4617,$A$1:Q4617,17,FALSE))","v":""},{"$f":"IF(O4617=1,MAX(Q$1:Q4616)+1,\"\")","v":""},"","",4616]
[null,null,null,null,null,null,null,null,null,null,{"$error":"#DIV/0!"},null,4624,null,{"$f":"IF($A4625=\"\",\"\",COUNTIF($A$2:$A4625,$A4625))","v":""},{"$f":"IF($A4625=\"\",\"\",$O4625+thousand*VLOOKUP($A4625,$A$1:Q4625,17,FALSE))","v":""},{"$f":"IF(O4625=1,MAX(Q$1:Q4624)+1,\"\")","v":""},"","",4624]
[null,null,null,null,null,null,null,null,null,null,{"$error":"#DIV/0!"},null,4633,null,{"$f":"IF($A4634=\"\",\"\",COUNTIF($A$2:$A4634,$A4634))","v":""},{"$f":"IF($A4634=\"\",\"\",$O4634+thousand*VLOOKUP($A4634,$A$1:Q4634,17,FALSE))","v":""},{"$f":"IF(O4634=1,MAX(Q$1:Q4633)+1,\"\")","v":""},"","",4633]
[null,null,null,null,null,null,null,null,null,null,{"$error":"#DIV/0!"},null,4641,null,{"$f":"IF($A4642=\"\",\"\",COUNTIF($A$2:$A4642,$A4642))","v":""},{"$f":"IF($A4642=\"\",\"\",$O4642+thousand*VLOOKUP($A4642,$A$1:Q4642,17,FALSE))","v":""},{"$f":"IF(O4642=1,MAX(Q$1:Q4641)+1,\"\")","v":""},"","",4641]
[null,null,null,null,null,null,null,null,null,null,{"$error":"#DIV/0!"},null,4647,null,{"$f":"IF($A4648=\"\",\"\",COUNTIF($A$2:$A4648,$A4648))","v":""},{"$f":"IF($A4648=\"\",\"\",$O4648+thousand*VLOOKUP($A4648,$A$1:Q4648,17,FALSE))","v":""},{"$f":"IF(O4648=1,MAX(Q$1:Q4647)+1,\"\")","v":""},"","",4647]
[null,null,null,null,null,null,null,null,null,null,{"$error":"#DIV/0!"},null,4658,null,{"$f":"IF($A4659=\"\",\"\",COUNTIF($A$2:$A4659,$A4659))","v":""},{"$f":"IF($A4659=\"\",\"\",$O4659+thousand*VLOOKUP($A4659,$A$1:Q4659,17,FALSE))","v":""},{"$f":"IF(O4659=1,MAX(Q$1:Q4658)+1,\"\")","v":""},"","",4658]
[null,null,null,null,null,null,null,null,null,null,{"$error":"#DIV/0!"},null,4661,null,{"$f":"IF($A4662=\"\",\"\",COUNTIF($A$2:$A4662,$A4662))","v":""},{"$f":"IF($A4662=\"\",\"\",$O4662+thousand*VLOOKUP($A4662,$A$1:Q4662,17,FALSE))","v":""},{"$f":"IF(O4662=1,MAX(Q$1:Q4661)+1,\"\")","v":""},"","",4661]
[null,null,null,null,null,null,null,null,null,null,{"$error":"#DIV/0!"},null,4669,null,{"$f":"IF($A4670=\"\",\"\",COUNTIF($A$2:$A4670,$A4670))","v":""},{"$f":"IF($A4670=\"\",\"\",$O4670+thousand*VLOOKUP($A4670,$A$1:Q4670,17,FALSE))","v":""},{"$f":"IF(O4670=1,MAX(Q$1:Q4669)+1,\"\")","v":""},"","",4669]
[null,null,null,null,null,null,null,null,null,null,{"$error":"#DIV/0!"},null,4675,null,{"$f":"IF($A4676=\"\",\"\",COUNTIF($A$2:$A4676,$A4676))","v":""},{"$f":"IF($A4676=\"\",\"\",$O4676+thousand*VLOOKUP($A4676,$A$1:Q4676,17,FALSE))","v":""},{"$f":"IF(O4676=1,MAX(Q$1:Q4675)+1,\"\")","v":""},"","",4675]
[null,null,null,null,null,null,null,null,null,null,{"$error":"#DIV/0!"},null,4683,null,{"$f":"IF($A4684=\"\",\"\",COUNTIF($A$2:$A4684,$A4684))","v":""},{"$f":"IF($A4684=\"\",\"\",$O4684+thousand*VLOOKUP($A4684,$A$1:Q4684,17,FALSE))","v":""},{"$f":"IF(O4684=1,MAX(Q$1:Q4683)+1,\"\")","v":""},"","",4683]
[null,null,null,null,null,null,null,null,null,null,{"$error":"#DIV/0!"},null,4692,null,{"$f":"IF($A4693=\"\",\"\",COUNTIF($A$2:$A4693,$A4693))","v":""},{"$f":"IF($A4693=\"\",\"\",$O4693+thousand*VLOOKUP($A4693,$A$1:Q4693,17,FALSE))","v":""},{"$f":"IF(O4693=1,MAX(Q$1:Q4692)+1,\"\")","v":""},"","",4692]
[null,null,null,null,null,null,null,null,null,null,{"$error":"#DIV/0!"},null,4704,null,{"$f":"IF($A4705=\"\",\"\",COUNTIF($A$2:$A4705,$A4705))","v":""},{"$f":"IF($A4705=\"\",\"\",$O4705+thousand*VLOOKUP($A4705,$A$1:Q4705,17,FALSE))","v":""},{"$f":"IF(O4705=1,MAX(Q$1:Q4704)+1,\"\")","v":""},"","",4704]
[null,null,null,null,null,null,null,null,null,null,{"$error":"#DIV/0!"},null,4709,null,{"$f":"IF($A4710=\"\",\"\",COUNTIF($A$2:$A4710,$A4710))","v":""},{"$f":"IF($A4710=\"\",\"\",$O4710+thousand*VLOOKUP($A4710,$A$1:Q4710,17,FALSE))","v":""},{"$f":"IF(O4710=1,MAX(Q$1:Q4709)+1,\"\")","v":""},"","",4709]
[null,null,null,null,null,null,null,null,null,null,{"$error":"#DIV/0!"},null,4714,null,{"$f":"IF($A4715=\"\",\"\",COUNTIF($A$2:$A4715,$A4715))","v":""},{"$f":"IF($A4715=\"\",\"\",$O4715+thousand*VLOOKUP($A4715,$A$1:Q4715,17,FALSE))","v":""},{"$f":"IF(O4715=1,MAX(Q$1:Q4714)+1,\"\")","v":""},"","",4714]
[null,null,null,null,null,null,null,null,null,null,{"$error":"#DIV/0!"},null,4726,null,{"$f":"IF($A4727=\"\",\"\",COUNTIF($A$2:$A4727,$A4727))","v":""},{"$f":"IF($A4727=\"\",\"\",$O4727+thousand*VLOOKUP($A4727,$A$1:Q4727,17,FALSE))","v":""},{"$f":"IF(O4727=1,MAX(Q$1:Q4726)+1,\"\")","v":""},"","",4726]
[null,null,null,null,null,null,null,null,null,null,{"$error":"#DIV/0!"},null,4734,null,{"$f":"IF($A4735=\"\",\"\",COUNTIF($A$2:$A4735,$A4735))","v":""},{"$f":"IF($A4735=\"\",\"\",$O4735+thousand*VLOOKUP($A4735,$A$1:Q4735,17,FALSE))","v":""},{"$f":"IF(O4735=1,MAX(Q$1:Q4734)+1,\"\")","v":""},"","",4734]
[null,null,null,null,null,null,null,null,null,null,{"$error":"#DIV/0!"},null,4740,null,{"$f":"IF($A4741=\"\",\"\",COUNTIF($A$2:$A4741,$A4741))","v":""},{"$f":"IF($A4741=\"\",\"\",$O4741+thousand*VLOOKUP($A4741,$A$1:Q4741,17,FALSE))","v":""},{"$f":"IF(O4741=1,MAX(Q$1:Q4740)+1,\"\")","v":""},"","",4740]
[null,null,null,null,null,null,null,null,null,null,{"$error":"#DIV/0!"},null,4743,null,{"$f":"IF($A4744=\"\",\"\",COUNTIF($A$2:$A4744,$A4744))","v":""},{"$f":"IF($A4744=\"\",\"\",$O4744+thousand*VLOOKUP($A4744,$A$1:Q4744,17,FALSE))","v":""},{"$f":"IF(O4744=1,MAX(Q$1:Q4743)+1,\"\")","v":""},"","",4743]
[null,null,null,null,null,null,null,null,null,null,{"$error":"#DIV/0!"},null,4750,null,{"$f":"IF($A4751=\"\",\"\",COUNTIF($A$2:$A4751,$A4751))","v":""},{"$f":"IF($A4751=\"\",\"\",$O4751+thousand*VLOOKUP($A4751,$A$1:Q4751,17,FALSE))","v":""},{"$f":"IF(O4751=1,MAX(Q$1:Q4750)+1,\"\")","v":""},"","",4750]
[null,null,null,null,null,null,null,null,null,null,{"$error":"#DIV/0!"},null,4762,null,{"$f":"IF($A4763=\"\",\"\",COUNTIF($A$2:$A4763,$A4763))","v":""},{"$f":"IF($A4763=\"\",\"\",$O4763+thousand*VLOOKUP($A4763,$A$1:Q4763,17,FALSE))","v":""},{"$f":"IF(O4763=1,MAX(Q$1:Q4762)+1,\"\")","v":""},"","",4762]
[null,null,null,null,null,null,null,null,null,null,{"$error":"#DIV/0!"},null,4768,null,{"$f":"IF($A4769=\"\",\"\",COUNTIF($A$2:$A4769,$A4769))","v":""},{"$f":"IF($A4769=\"\",\"\",$O4769+thousand*VLOOKUP($A4769,$A$1:Q4769,17,FALSE))","v":""},{"$f":"IF(O4769=1,MAX(Q$1:Q4768)+1,\"\")","v":""},"","",4768]
[null,null,null,null,null,null,null,null,null,null,{"$error":"#DIV/0!"},null,4776,null,{"$f":"IF($A4777=\"\",\"\",COUNTIF($A$2:$A4777,$A4777))","v":""},{"$f":"IF($A4777=\"\",\"\",$O4777+thousand*VLOOKUP($A4777,$A$1:Q4777,17,FALSE))","v":""},{"$f":"IF(O4777=1,MAX(Q$1:Q4776)+1,\"\")","v":""},"","",4776]
[null,null,null,null,null,null,null,null,null,null,{"$error":"#DIV/0!"},null,4785,null,{"$f":"IF($A4786=\"\",\"\",COUNTIF($A$2:$A4786,$A4786))","v":""},{"$f":"IF($A4786=\"\",\"\",$O4786+thousand*VLOOKUP($A4786,$A$1:Q4786,17,FALSE))","v":""},{"$f":"IF(O4786=1,MAX(Q$1:Q4785)+1,\"\")","v":""},"","",4785]
[null,null,null,null,null,null,null,null,null,null,{"$error":"#DIV/0!"},null,4793,null,{"$f":"IF($A4794=\"\",\"\",COUNTIF($A$2:$A4794,$A4794))","v":""},{"$f":"IF($A4794=\"\",\"\",$O4794+thousand*VLOOKUP($A4794,$A$1:Q4794,17,FALSE))","v":""},{"$f":"IF(O4794=1,MAX(Q$1:Q4793)+1,\"\")","v":""},"","",4793]
[null,null,null,null,null,null,null,null,null,null,{"$error":"#DIV/0!"},null,4794,null,{"$f":"IF($A4795=\"\",\"\",COUNTIF($A$2:$A4795,$A4795))","v":""},{"$f":"IF($A4795=\"\",\"\",$O4795+thousand*VLOOKUP($A4795,$A$1:Q4795,17,FALSE))","v":""},{"$f":"IF(O4795=1,MAX(Q$1:Q4794)+1,\"\")","v":""},"","",4794]
[null,null,null,null,null,null,null,null,null,null,{"$error":"#DIV/0!"},null,4807,null,{"$f":"IF($A4808=\"\",\"\",COUNTIF($A$2:$A4808,$A4808))","v":""},{"$f":"IF($A4808=\"\",\"\",$O4808+thousand*VLOOKUP($A4808,$A$1:Q4808,17,FALSE))","v":""},{"$f":"IF(O4808=1,MAX(Q$1:Q4807)+1,\"\")","v":""},"","",4807]
[null,null,null,null,null,null,null,null,null,null,{"$error":"#DIV/0!"},null,4815,null,{"$f":"IF($A4816=\"\",\"\",COUNTIF($A$2:$A4816,$A4816))","v":""},{"$f":"IF($A4816=\"\",\"\",$O4816+thousand*VLOOKUP($A4816,$A$1:Q4816,17,FALSE))","v":""},{"$f":"IF(O4816=1,MAX(Q$1:Q4815)+1,\"\")","v":""},"","",4815]
[null,null,null,null,null,null,null,null,null,null,{"$error":"#DIV/0!"},null,4819,null,{"$f":"IF($A4820=\"\",\"\",COUNTIF($A$2:$A4820,$A4820))","v":""},{"$f":"IF($A4820=\"\",\"\",$O4820+thousand*VLOOKUP($A4820,$A$1:Q4820,17,FALSE))","v":""},{"$f":"IF(O4820=1,MAX(Q$1:Q4819)+1,\"\")","v":""},"","",4819]
[null,null,null,null,null,null,null,null,null,null,{"$error":"#DIV/0!"},null,4829,null,{"$f":"IF($A4830=\"\",\"\",COUNTIF($A$2:$A4830,$A4830))","v":""},{"$f":"IF($A4830=\"\",\"\",$O4830+thousand*VLOOKUP($A4830,$A$1:Q4830,17,FALSE))","v":""},{"$f":"IF(O4830=1,MAX(Q$1:Q4829)+1,\"\")","v":""},"","",4829]
[null,null,null,null,null,null,null,null,null,null,{"$error":"#DIV/0!"},null,4836,null,{"$f":"IF($A4837=\"\",\"\",COUNTIF($A$2:$A4837,$A4837))","v":""},{"$f":"IF($A4837=\"\",\"\",$O4837+thousand*VLOOKUP($A4837,$A$1:Q4837,17,FALSE))","v":""},{"$f":"IF(O4837=1,MAX(Q$1:Q4836)+1,\"\")","v":""},"","",4836]
[null,null,null,null,null,null,null,null,null,null,{"$error":"#DIV/0!"},null,4843,null,{"$f":"IF($A4844=\"\",\"\",COUNTIF($A$2:$A4844,$A4844))","v":""},{"$f":"IF($A4844=\"\",\"\",$O4844+thousand*VLOOKUP($A4844,$A$1:Q4844,17,FALSE))","v":""},{"$f":"IF(O4844=1,MAX(Q$1:Q4843)+1,\"\")","v":""},"","",4843]
[null,null,null,null,null,null,null,null,null,null,{"$error":"#DIV/0!"},null,4853,null,{"$f":"IF($A4854=\"\",\"\",COUNTIF($A$2:$A4854,$A4854))","v":""},{"$f":"IF($A4854=\"\",\"\",$O4854+thousand*VLOOKUP($A4854,$A$1:Q4854,17,FALSE))","v":""},{"$f":"IF(O4854=1,MAX(Q$1:Q4853)+1,\"\")","v":""},"","",4853]
[null,null,null,null,null,null,null,null,null,null,{"$error":"#DIV/0!"},null,4857,null,{"$f":"IF($A4858=\"\",\"\",COUNTIF($A$2:$A4858,$A4858))","v":""},{"$f":"IF($A4858=\"\",\"\",$O4858+thousand*VLOOKUP($A4858,$A$1:Q4858,17,FALSE))","v":""},{"$f":"IF(O4858=1,MAX(Q$1:Q4857)+1,\"\")","v":""},"","",4857]
[null,null,null,null,null,null,null,null,null,null,{"$error":"#DIV/0!"},null,4865,null,{"$f":"IF($A4866=\"\",\"\",COUNTIF($A$2:$A4866,$A4866))","v":""},{"$f":"IF($A4866=\"\",\"\",$O4866+thousand*VLOOKUP($A4866,$A$1:Q4866,17,FALSE))","v":""},{"$f":"IF(O4866=1,MAX(Q$1:Q4865)+1,\"\")","v":""},"","",4865]
[null,null,null,null,null,null,null,null,null,null,{"$error":"#DIV/0!"},null,4870,null,{"$f":"IF($A4871=\"\",\"\",COUNTIF($A$2:$A4871,$A4871))","v":""},{"$f":"IF($A4871=\"\",\"\",$O4871+thousand*VLOOKUP($A4871,$A$1:Q4871,17,FALSE))","v":""},{"$f":"IF(O4871=1,MAX(Q$1:Q4870)+1,\"\")","v":""},"","",4870]
[null,null,null,null,null,null,null,null,null,null,{"$error":"#DIV/0!"},null,4879,null,{"$f":"IF($A4880=\"\",\"\",COUNTIF($A$2:$A4880,$A4880))","v":""},{"$f":"IF($A4880=\"\",\"\",$O4880+thousand*VLOOKUP($A4880,$A$1:Q4880,17,FALSE))","v":""},{"$f":"IF(O4880=1,MAX(Q$1:Q4879)+1,\"\")","v":""},"","",4879]
[null,null,null,null,null,null,null,null,null,null,{"$error":"#DIV/0!"},null,4887,null,{"$f":"IF($A4888=\"\",\"\",COUNTIF($A$2:$A4888,$A4888))","v":""},{"$f":"IF($A4888=\"\",\"\",$O4888+thousand*VLOOKUP($A4888,$A$1:Q4888,17,FALSE))","v":""},{"$f":"IF(O4888=1,MAX(Q$1:Q4887)+1,\"\")","v":""},"","",4887]
[null,null,null,null,null,null,null,null,null,null,{"$error":"#DIV/0!"},null,4893,null,{"$f":"IF($A4894=\"\",\"\",COUNTIF($A$2:$A4894,$A4894))","v":""},{"$f":"IF($A4894=\"\",\"\",$O4894+thousand*VLOOKUP($A4894,$A$1:Q4894,17,FALSE))","v":""},{"$f":"IF(O4894=1,MAX(Q$1:Q4893)+1,\"\")","v":""},"","",4893]
[null,null,null,null,null,null,null,null,null,null,{"$error":"#DIV/0!"},null,4904,null,{"$f":"IF($A4905=\"\",\"\",COUNTIF($A$2:$A4905,$A4905))","v":""},{"$f":"IF($A4905=\"\",\"\",$O4905+thousand*VLOOKUP($A4905,$A$1:Q4905,17,FALSE))","v":""},{"$f":"IF(O4905=1,MAX(Q$1:Q4904)+1,\"\")","v":""},"","",4904]
[null,null,null,null,null,null,null,null,null,null,{"$error":"#DIV/0!"},null,4910,null,{"$f":"IF($A4911=\"\",\"\",COUNTIF($A$2:$A4911,$A4911))","v":""},{"$f":"IF($A4911=\"\",\"\",$O4911+thousand*VLOOKUP($A4911,$A$1:Q4911,17,FALSE))","v":""},{"$f":"IF(O4911=1,MAX(Q$1:Q4910)+1,\"\")","v":""},"","",4910]
[null,null,null,null,null,null,null,null,null,null,{"$error":"#DIV/0!"},null,4915,null,{"$f":"IF($A4916=\"\",\"\",COUNTIF($A$2:$A4916,$A4916))","v":""},{"$f":"IF($A4916=\"\",\"\",$O4916+thousand*VLOOKUP($A4916,$A$1:Q4916,17,FALSE))","v":""},{"$f":"IF(O4916=1,MAX(Q$1:Q4915)+1,\"\")","v":""},"","",4915]
[null,null,null,null,null,null,null,null,null,null,{"$error":"#DIV/0!"},null,4921,null,{"$f":"IF($A4922=\"\",\"\",COUNTIF($A$2:$A4922,$A4922))","v":""},{"$f":"IF($A4922=\"\",\"\",$O4922+thousand*VLOOKUP($A4922,$A$1:Q4922,17,FALSE))","v":""},{"$f":"IF(O4922=1,MAX(Q$1:Q4921)+1,\"\")","v":""},"","",4921]
[null,null,null,null,null,null,null,null,null,null,{"$error":"#DIV/0!"},null,4929,null,{"$f":"IF($A4930=\"\",\"\",COUNTIF($A$2:$A4930,$A4930))","v":""},{"$f":"IF($A4930=\"\",\"\",$O4930+thousand*VLOOKUP($A4930,$A$1:Q4930,17,FALSE))","v":""},{"$f":"IF(O4930=1,MAX(Q$1:Q4929)+1,\"\")","v":""},"","",4929]
[null,null,null,null,null,null,null,null,null,null,{"$error":"#DIV/0!"},null,4938,null,{"$f":"IF($A4939=\"\",\"\",COUNTIF($A$2:$A4939,$A4939))","v":""},{"$f":"IF($A4939=\"\",\"\",$O4939+thousand*VLOOKUP($A4939,$A$1:Q4939,17,FALSE))","v":""},{"$f":"IF(O4939=1,MAX(Q$1:Q4938)+1,\"\")","v":""},"","",4938]
[null,null,null,null,null,null,null,null,null,null,{"$error":"#DIV/0!"},null,4946,null,{"$f":"IF($A4947=\"\",\"\",COUNTIF($A$2:$A4947,$A4947))","v":""},{"$f":"IF($A4947=\"\",\"\",$O4947+thousand*VLOOKUP($A4947,$A$1:Q4947,17,FALSE))","v":""},{"$f":"IF(O4947=1,MAX(Q$1:Q4946)+1,\"\")","v":""},"","",4946]
[null,null,null,null,null,null,null,null,null,null,{"$error":"#DIV/0!"},null,4955,null,{"$f":"IF($A4956=\"\",\"\",COUNTIF($A$2:$A4956,$A4956))","v":""},{"$f":"IF($A4956=\"\",\"\",$O4956+thousand*VLOOKUP($A4956,$A$1:Q4956,17,FALSE))","v":""},{"$f":"IF(O4956=1,MAX(Q$1:Q4955)+1,\"\")","v":""},{"$f":"IF(A4956=\"\",\"\",A4956)","v":""},{"$f":"IF(B4956=\"\",\"\",B4956)","v":""},4955]
[null,null,null,null,null,null,null,null,null,null,{"$error":"#DIV/0!"},null,4960,null,{"$f":"IF($A4961=\"\",\"\",COUNTIF($A$2:$A4961,$A4961))","v":""},{"$f":"IF($A4961=\"\",\"\",$O4961+thousand*VLOOKUP($A4961,$A$1:Q4961,17,FALSE))","v":""},{"$f":"IF(O4961=1,MAX(Q$1:Q4960)+1,\"\")","v":""},"","",4960]
[null,null,null,null,null,null,null,null,null,null,{"$error":"#DIV/0!"},null,4968,null,{"$f":"IF($A4969=\"\",\"\",COUNTIF($A$2:$A4969,$A4969))","v":""},{"$f":"IF($A4969=\"\",\"\",$O4969+thousand*VLOOKUP($A4969,$A$1:Q4969,17,FALSE))","v":""},{"$f":"IF(O4969=1,MAX(Q$1:Q4968)+1,\"\")","v":""},"","",4968]
[null,null,null,null,null,null,null,null,null,null,{"$error":"#DIV/0!"},null,4972,null,{"$f":"IF($A4973=\"\",\"\",COUNTIF($A$2:$A4973,$A4973))","v":""},{"$f":"IF($A4973=\"\",\"\",$O4973+thousand*VLOOKUP($A4973,$A$1:Q4973,17,FALSE))","v":""},{"$f":"IF(O4973=1,MAX(Q$1:Q4972)+1,\"\")","v":""},"","",4972]
[null,null,null,null,null,null,null,null,null,null,{"$error":"#DIV/0!"},null,4982,null,{"$f":"IF($A4983=\"\",\"\",COUNTIF($A$2:$A4983,$A4983))","v":""},{"$f":"IF($A4983=\"\",\"\",$O4983+thousand*VLOOKUP($A4983,$A$1:Q4983,17,FALSE))","v":""},{"$f":"IF(O4983=1,MAX(Q$1:Q4982)+1,\"\")","v":""},"","",4982]
[null,null,null,null,null,null,null,null,null,null,{"$error":"#DIV/0!"},null,4989,null,{"$f":"IF($A4990=\"\",\"\",COUNTIF($A$2:$A4990,$A4990))","v":""},{"$f":"IF($A4990=\"\",\"\",$O4990+thousand*VLOOKUP($A4990,$A$1:Q4990,17,FALSE))","v":""},{"$f":"IF(O4990=1,MAX(Q$1:Q4989)+1,\"\")","v":""},"","",4989]
[null,null,null,null,null,null,null,null,null,null,{"$error":"#DIV/0!"},null,4996,null,{"$f":"IF($A4997=\"\",\"\",COUNTIF($A$2:$A4997,$A4997))","v":""},{"$f":"IF($A4997=\"\",\"\",$O4997+thousand*VLOOKUP($A4997,$A$1:Q4997,17,FALSE))","v":""},{"$f":"IF(O4997=1,MAX(Q$1:Q4996)+1,\"\")","v":""},"","",4996]
[null,null,null,null,null,null,null,null,null,null,{"$error":"#DIV/0!"},null,5006,null,{"$f":"IF($A5007=\"\",\"\",COUNTIF($A$2:$A5007,$A5007))","v":""},{"$f":"IF($A5007=\"\",\"\",$O5007+thousand*VLOOKUP($A5007,$A$1:Q5007,17,FALSE))","v":""},{"$f":"IF(O5007=1,MAX(Q$1:Q5006)+1,\"\")","v":""},"","",5006]
[null,null,null,null,null,null,null,null,null,null,{"$error":"#DIV/0!"},null,5010,null,{"$f":"IF($A5011=\"\",\"\",COUNTIF($A$2:$A5011,$A5011))","v":""},{"$f":"IF($A5011=\"\",\"\",$O5011+thousand*VLOOKUP($A5011,$A$1:Q5011,17,FALSE))","v":""},{"$f":"IF(O5011=1,MAX(Q$1:Q5010)+1,\"\")","v":""},"","",5010]
[null,null,null,null,null,null,null,null,null,null,{"$error":"#DIV/0!"},null,5018,null,{"$f":"IF($A5019=\"\",\"\",COUNTIF($A$2:$A5019,$A5019))","v":""},{"$f":"IF($A5019=\"\",\"\",$O5019+thousand*VLOOKUP($A5019,$A$1:Q5019,17,FALSE))","v":""},{"$f":"IF(O5019=1,MAX(Q$1:Q5018)+1,\"\")","v":""},"","",5018]
[null,null,null,null,null,null,null,null,null,null,{"$error":"#DIV/0!"},null,5031,null,{"$f":"IF($A5032=\"\",\"\",COUNTIF($A$2:$A5032,$A5032))","v":""},{"$f":"IF($A5032=\"\",\"\",$O5032+thousand*VLOOKUP($A5032,$A$1:Q5032,17,FALSE))","v":""},{"$f":"IF(O5032=1,MAX(Q$1:Q5031)+1,\"\")","v":""},"","",5031]
[null,null,null,null,null,null,null,null,null,null,{"$error":"#DIV/0!"},null,5032,null,{"$f":"IF($A5033=\"\",\"\",COUNTIF($A$2:$A5033,$A5033))","v":""},{"$f":"IF($A5033=\"\",\"\",$O5033+thousand*VLOOKUP($A5033,$A$1:Q5033,17,FALSE))","v":""},{"$f":"IF(O5033=1,MAX(Q$1:Q5032)+1,\"\")","v":""},"","",5032]
[null,null,null,null,null,null,null,null,null,null,{"$error":"#DIV/0!"},null,5040,null,{"$f":"IF($A5041=\"\",\"\",COUNTIF($A$2:$A5041,$A5041))","v":""},{"$f":"IF($A5041=\"\",\"\",$O5041+thousand*VLOOKUP($A5041,$A$1:Q5041,17,FALSE))","v":""},{"$f":"IF(O5041=1,MAX(Q$1:Q5040)+1,\"\")","v":""},"","",5040]
[null,null,null,null,null,null,null,null,null,null,{"$error":"#DIV/0!"},null,5053,null,{"$f":"IF($A5054=\"\",\"\",COUNTIF($A$2:$A5054,$A5054))","v":""},{"$f":"IF($A5054=\"\",\"\",$O5054+thousand*VLOOKUP($A5054,$A$1:Q5054,17,FALSE))","v":""},{"$f":"IF(O5054=1,MAX(Q$1:Q5053)+1,\"\")","v":""},"","",5053]
[null,null,null,null,null,null,null,null,null,null,{"$error":"#DIV/0!"},null,5057,null,{"$f":"IF($A5058=\"\",\"\",COUNTIF($A$2:$A5058,$A5058))","v":""},{"$f":"IF($A5058=\"\",\"\",$O5058+thousand*VLOOKUP($A5058,$A$1:Q5058,17,FALSE))","v":""},{"$f":"IF(O5058=1,MAX(Q$1:Q5057)+1,\"\")","v":""},"","",5057]
[null,null,null,null,null,null,null,null,null,null,{"$error":"#DIV/0!"},null,5063,null,{"$f":"IF($A5064=\"\",\"\",COUNTIF($A$2:$A5064,$A5064))","v":""},{"$f":"IF($A5064=\"\",\"\",$O5064+thousand*VLOOKUP($A5064,$A$1:Q5064,17,FALSE))","v":""},{"$f":"IF(O5064=1,MAX(Q$1:Q5063)+1,\"\")","v":""},"","",5063]
[null,null,null,null,null,null,null,null,null,null,{"$error":"#DIV/0!"},null,5075,null,{"$f":"IF($A5076=\"\",\"\",COUNTIF($A$2:$A5076,$A5076))","v":""},{"$f":"IF($A5076=\"\",\"\",$O5076+thousand*VLOOKUP($A5076,$A$1:Q5076,17,FALSE))","v":""},{"$f":"IF(O5076=1,MAX(Q$1:Q5075)+1,\"\")","v":""},"","",5075]
[null,null,null,null,null,null,null,null,null,null,{"$error":"#DIV/0!"},null,5082,null,{"$f":"IF($A5083=\"\",\"\",COUNTIF($A$2:$A5083,$A5083))","v":""},{"$f":"IF($A5083=\"\",\"\",$O5083+thousand*VLOOKUP($A5083,$A$1:Q5083,17,FALSE))","v":""},{"$f":"IF(O5083=1,MAX(Q$1:Q5082)+1,\"\")","v":""},"","",5082]
[null,null,null,null,null,null,null,null,null,null,{"$error":"#DIV/0!"},null,5089,null,{"$f":"IF($A5090=\"\",\"\",COUNTIF($A$2:$A5090,$A5090))","v":""},{"$f":"IF($A5090=\"\",\"\",$O5090+thousand*VLOOKUP($A5090,$A$1:Q5090,17,FALSE))","v":""},{"$f":"IF(O5090=1,MAX(Q$1:Q5089)+1,\"\")","v":""},"","",5089]
[null,null,null,null,null,null,null,null,null,null,{"$error":"#DIV/0!"},null,5091,null,{"$f":"IF($A5092=\"\",\"\",COUNTIF($A$2:$A5092,$A5092))","v":""},{"$f":"IF($A5092=\"\",\"\",$O5092+thousand*VLOOKUP($A5092,$A$1:Q5092,17,FALSE))","v":""},{"$f":"IF(O5092=1,MAX(Q$1:Q5091)+1,\"\")","v":""},"","",5091]
[null,null,null,null,null,null,null,null,null,null,{"$error":"#DIV/0!"},null,5099,null,{"$f":"IF($A5100=\"\",\"\",COUNTIF($A$2:$A5100,$A5100))","v":""},{"$f":"IF($A5100=\"\",\"\",$O5100+thousand*VLOOKUP($A5100,$A$1:Q5100,17,FALSE))","v":""},{"$f":"IF(O5100=1,MAX(Q$1:Q5099)+1,\"\")","v":""},"","",5099]
[null,null,null,null,null,null,null,null,null,null,{"$error":"#DIV/0!"},null,5108,null,{"$f":"IF($A5109=\"\",\"\",COUNTIF($A$2:$A5109,$A5109))","v":""},{"$f":"IF($A5109=\"\",\"\",$O5109+thousand*VLOOKUP($A5109,$A$1:Q5109,17,FALSE))","v":""},{"$f":"IF(O5109=1,MAX(Q$1:Q5108)+1,\"\")","v":""},"","",5108]
[null,null,null,null,null,null,null,null,null,null,{"$error":"#DIV/0!"},null,5120,null,{"$f":"IF($A5121=\"\",\"\",COUNTIF($A$2:$A5121,$A5121))","v":""},{"$f":"IF($A5121=\"\",\"\",$O5121+thousand*VLOOKUP($A5121,$A$1:Q5121,17,FALSE))","v":""},{"$f":"IF(O5121=1,MAX(Q$1:Q5120)+1,\"\")","v":""},"","",5120]
[null,null,null,null,null,null,null,null,null,null,{"$error":"#DIV/0!"},null,5121,null,{"$f":"IF($A5122=\"\",\"\",COUNTIF($A$2:$A5122,$A5122))","v":""},{"$f":"IF($A5122=\"\",\"\",$O5122+thousand*VLOOKUP($A5122,$A$1:Q5122,17,FALSE))","v":""},{"$f":"IF(O5122=1,MAX(Q$1:Q5121)+1,\"\")","v":""},"","",5121]
[null,null,null,null,null,null,null,null,null,null,{"$error":"#DIV/0!"},null,5133,null,{"$f":"IF($A5134=\"\",\"\",COUNTIF($A$2:$A5134,$A5134))","v":""},{"$f":"IF($A5134=\"\",\"\",$O5134+thousand*VLOOKUP($A5134,$A$1:Q5134,17,FALSE))","v":""},{"$f":"IF(O5134=1,MAX(Q$1:Q5133)+1,\"\")","v":""},"","",5133]
[null,null,null,null,null,null,null,null,null,null,{"$error":"#DIV/0!"},null,5142,null,{"$f":"IF($A5143=\"\",\"\",COUNTIF($A$2:$A5143,$A5143))","v":""},{"$f":"IF($A5143=\"\",\"\",$O5143+thousand*VLOOKUP($A5143,$A$1:Q5143,17,FALSE))","v":""},{"$f":"IF(O5143=1,MAX(Q$1:Q5142)+1,\"\")","v":""},"","",5142]
[null,null,null,null,null,null,null,null,null,null,{"$error":"#DIV/0!"},null,5150,null,{"$f":"IF($A5151=\"\",\"\",COUNTIF($A$2:$A5151,$A5151))","v":""},{"$f":"IF($A5151=\"\",\"\",$O5151+thousand*VLOOKUP($A5151,$A$1:Q5151,17,FALSE))","v":""},{"$f":"IF(O5151=1,MAX(Q$1:Q5150)+1,\"\")","v":""},"","",5150]
[null,null,null,null,null,null,null,null,null,null,{"$error":"#DIV/0!"},null,5156,null,{"$f":"IF($A5157=\"\",\"\",COUNTIF($A$2:$A5157,$A5157))","v":""},{"$f":"IF($A5157=\"\",\"\",$O5157+thousand*VLOOKUP($A5157,$A$1:Q5157,17,FALSE))","v":""},{"$f":"IF(O5157=1,MAX(Q$1:Q5156)+1,\"\")","v":""},"","",5156]
[null,null,null,null,null,null,null,null,null,null,{"$error":"#DIV/0!"},null,5164,null,{"$f":"IF($A5165=\"\",\"\",COUNTIF($A$2:$A5165,$A5165))","v":""},{"$f":"IF($A5165=\"\",\"\",$O5165+thousand*VLOOKUP($A5165,$A$1:Q5165,17,FALSE))","v":""},{"$f":"IF(O5165=1,MAX(Q$1:Q5164)+1,\"\")","v":""},"","",5164]
[null,null,null,null,null,null,null,null,null,null,{"$error":"#DIV/0!"},null,5167,null,{"$f":"IF($A5168=\"\",\"\",COUNTIF($A$2:$A5168,$A5168))","v":""},{"$f":"IF($A5168=\"\",\"\",$O5168+thousand*VLOOKUP($A5168,$A$1:Q5168,17,FALSE))","v":""},{"$f":"IF(O5168=1,MAX(Q$1:Q5167)+1,\"\")","v":""},"","",5167]
[null,null,null,null,null,null,null,null,null,null,{"$error":"#DIV/0!"},null,5178,null,{"$f":"IF($A5179=\"\",\"\",COUNTIF($A$2:$A5179,$A5179))","v":""},{"$f":"IF($A5179=\"\",\"\",$O5179+thousand*VLOOKUP($A5179,$A$1:Q5179,17,FALSE))","v":""},{"$f":"IF(O5179=1,MAX(Q$1:Q5178)+1,\"\")","v":""},"","",5178]
[null,null,null,null,null,null,null,null,null,null,{"$error":"#DIV/0!"},null,5184,null,{"$f":"IF($A5185=\"\",\"\",COUNTIF($A$2:$A5185,$A5185))","v":""},{"$f":"IF($A5185=\"\",\"\",$O5185+thousand*VLOOKUP($A5185,$A$1:Q5185,17,FALSE))","v":""},{"$f":"IF(O5185=1,MAX(Q$1:Q5184)+1,\"\")","v":""},"","",5184]
[null,null,null,null,null,null,null,null,null,null,{"$f":"F5193/E5193*J5193","v":{"$error":"#DIV/0!"}},null,5192,null,{"$f":"IF($A5193=\"\",\"\",COUNTIF($A$2:$A5193,$A5193))","v":""},{"$f":"IF($A5193=\"\",\"\",$O5193+thousand*VLOOKUP($A5193,$A$1:Q5193,17,FALSE))","v":""},{"$f":"IF(O5193=1,MAX(Q$1:Q5192)+1,\"\")","v":""},"","",5192]
[null,null,null,null,null,null,null,null,null,null,{"$error":"#DIV/0!"},null,5201,null,{"$f":"IF($A5202=\"\",\"\",COUNTIF($A$2:$A5202,$A5202))","v":""},{"$f":"IF($A5202=\"\",\"\",$O5202+thousand*VLOOKUP($A5202,$A$1:Q5202,17,FALSE))","v":""},{"$f":"IF(O5202=1,MAX(Q$1:Q5201)+1,\"\")","v":""},"","",5201]
[null,null,null,null,null,null,null,null,null,null,{"$error":"#DIV/0!"},null,5206,null,{"$f":"IF($A5207=\"\",\"\",COUNTIF($A$2:$A5207,$A5207))","v":""},{"$f":"IF($A5207=\"\",\"\",$O5207+thousand*VLOOKUP($A5207,$A$1:Q5207,17,FALSE))","v":""},{"$f":"IF(O5207=1,MAX(Q$1:Q5206)+1,\"\")","v":""},"","",5206]
[null,null,null,null,null,null,null,null,null,null,{"$error":"#DIV/0!"},null,5214,null,{"$f":"IF($A5215=\"\",\"\",COUNTIF($A$2:$A5215,$A5215))","v":""},{"$f":"IF($A5215=\"\",\"\",$O5215+thousand*VLOOKUP($A5215,$A$1:Q5215,17,FALSE))","v":""},{"$f":"IF(O5215=1,MAX(Q$1:Q5214)+1,\"\")","v":""},"","",5214]
[null,null,null,null,null,null,null,null,null,null,{"$error":"#DIV/0!"},null,5218,null,{"$f":"IF($A5219=\"\",\"\",COUNTIF($A$2:$A5219,$A5219))","v":""},{"$f":"IF($A5219=\"\",\"\",$O5219+thousand*VLOOKUP($A5219,$A$1:Q5219,17,FALSE))","v":""},{"$f":"IF(O5219=1,MAX(Q$1:Q5218)+1,\"\")","v":""},"","",5218]
[null,null,null,null,null,null,null,null,null,null,{"$error":"#DIV/0!"},null,5228,null,{"$f":"IF($A5229=\"\",\"\",COUNTIF($A$2:$A5229,$A5229))","v":""},{"$f":"IF($A5229=\"\",\"\",$O5229+thousand*VLOOKUP($A5229,$A$1:Q5229,17,FALSE))","v":""},{"$f":"IF(O5229=1,MAX(Q$1:Q5228)+1,\"\")","v":""},"","",5228]
[null,null,null,null,null,null,null,null,null,null,{"$error":"#DIV/0!"},null,5235,null,{"$f":"IF($A5236=\"\",\"\",COUNTIF($A$2:$A5236,$A5236))","v":""},{"$f":"IF($A5236=\"\",\"\",$O5236+thousand*VLOOKUP($A5236,$A$1:Q5236,17,FALSE))","v":""},{"$f":"IF(O5236=1,MAX(Q$1:Q5235)+1,\"\")","v":""},"","",5235]
[null,null,null,null,null,null,null,null,null,null,{"$error":"#DIV/0!"},null,5242,null,{"$f":"IF($A5243=\"\",\"\",COUNTIF($A$2:$A5243,$A5243))","v":""},{"$f":"IF($A5243=\"\",\"\",$O5243+thousand*VLOOKUP($A5243,$A$1:Q5243,17,FALSE))","v":""},{"$f":"IF(O5243=1,MAX(Q$1:Q5242)+1,\"\")","v":""},"","",5242]
[null,null,null,null,null,null,null,null,null,null,{"$error":"#DIV/0!"},null,5252,null,{"$f":"IF($A5253=\"\",\"\",COUNTIF($A$2:$A5253,$A5253))","v":""},{"$f":"IF($A5253=\"\",\"\",$O5253+thousand*VLOOKUP($A5253,$A$1:Q5253,17,FALSE))","v":""},{"$f":"IF(O5253=1,MAX(Q$1:Q5252)+1,\"\")","v":""},"","",5252]
[null,null,null,null,null,null,null,null,null,null,{"$error":"#DIV/0!"},null,5259,null,{"$f":"IF($A5260=\"\",\"\",COUNTIF($A$2:$A5260,$A5260))","v":""},{"$f":"IF($A5260=\"\",\"\",$O5260+thousand*VLOOKUP($A5260,$A$1:Q5260,17,FALSE))","v":""},{"$f":"IF(O5260=1,MAX(Q$1:Q5259)+1,\"\")","v":""},"","",5259]
[null,null,null,null,null,null,null,null,null,null,{"$error":"#DIV/0!"},null,5264,null,{"$f":"IF($A5265=\"\",\"\",COUNTIF($A$2:$A5265,$A5265))","v":""},{"$f":"IF($A5265=\"\",\"\",$O5265+thousand*VLOOKUP($A5265,$A$1:Q5265,17,FALSE))","v":""},{"$f":"IF(O5265=1,MAX(Q$1:Q5264)+1,\"\")","v":""},"","",5264]
[null,null,null,null,null,null,null,null,null,null,{"$error":"#DIV/0!"},null,5269,null,{"$f":"IF($A5270=\"\",\"\",COUNTIF($A$2:$A5270,$A5270))","v":""},{"$f":"IF($A5270=\"\",\"\",$O5270+thousand*VLOOKUP($A5270,$A$1:Q5270,17,FALSE))","v":""},{"$f":"IF(O5270=1,MAX(Q$1:Q5269)+1,\"\")","v":""},"","",5269]
[null,null,null,null,null,null,null,null,null,null,{"$error":"#DIV/0!"},null,5278,null,{"$f":"IF($A5279=\"\",\"\",COUNTIF($A$2:$A5279,$A5279))","v":""},{"$f":"IF($A5279=\"\",\"\",$O5279+thousand*VLOOKUP($A5279,$A$1:Q5279,17,FALSE))","v":""},{"$f":"IF(O5279=1,MAX(Q$1:Q5278)+1,\"\")","v":""},"","",5278]
[null,null,null,null,null,null,null,null,null,null,{"$error":"#DIV/0!"},null,5286,null,{"$f":"IF($A5287=\"\",\"\",COUNTIF($A$2:$A5287,$A5287))","v":""},{"$f":"IF($A5287=\"\",\"\",$O5287+thousand*VLOOKUP($A5287,$A$1:Q5287,17,FALSE))","v":""},{"$f":"IF(O5287=1,MAX(Q$1:Q5286)+1,\"\")","v":""},"","",5286]
[null,null,null,null,null,null,null,null,null,null,{"$error":"#DIV/0!"},null,5295,null,{"$f":"IF($A5296=\"\",\"\",COUNTIF($A$2:$A5296,$A5296))","v":""},{"$f":"IF($A5296=\"\",\"\",$O5296+thousand*VLOOKUP($A5296,$A$1:Q5296,17,FALSE))","v":""},{"$f":"IF(O5296=1,MAX(Q$1:Q5295)+1,\"\")","v":""},"","",5295]
[null,null,null,null,null,null,null,null,null,null,{"$error":"#DIV/0!"},null,5303,null,{"$f":"IF($A5304=\"\",\"\",COUNTIF($A$2:$A5304,$A5304))","v":""},{"$f":"IF($A5304=\"\",\"\",$O5304+thousand*VLOOKUP($A5304,$A$1:Q5304,17,FALSE))","v":""},{"$f":"IF(O5304=1,MAX(Q$1:Q5303)+1,\"\")","v":""},"","",5303]
[null,null,null,null,null,null,null,null,null,null,{"$error":"#DIV/0!"},null,5309,null,{"$f":"IF($A5310=\"\",\"\",COUNTIF($A$2:$A5310,$A5310))","v":""},{"$f":"IF($A5310=\"\",\"\",$O5310+thousand*VLOOKUP($A5310,$A$1:Q5310,17,FALSE))","v":""},{"$f":"IF(O5310=1,MAX(Q$1:Q5309)+1,\"\")","v":""},"","",5309]
[null,null,null,null,null,null,null,null,null,null,{"$error":"#DIV/0!"},null,5317,null,{"$f":"IF($A5318=\"\",\"\",COUNTIF($A$2:$A5318,$A5318))","v":""},{"$f":"IF($A5318=\"\",\"\",$O5318+thousand*VLOOKUP($A5318,$A$1:Q5318,17,FALSE))","v":""},{"$f":"IF(O5318=1,MAX(Q$1:Q5317)+1,\"\")","v":""},"","",5317]
[null,null,null,null,null,null,null,null,null,null,{"$error":"#DIV/0!"},null,5328,null,{"$f":"IF($A5329=\"\",\"\",COUNTIF($A$2:$A5329,$A5329))","v":""},{"$f":"IF($A5329=\"\",\"\",$O5329+thousand*VLOOKUP($A5329,$A$1:Q5329,17,FALSE))","v":""},{"$f":"IF(O5329=1,MAX(Q$1:Q5328)+1,\"\")","v":""},"","",5328]
[null,null,null,null,null,null,null,null,null,null,{"$error":"#DIV/0!"},null,5331,null,{"$f":"IF($A5332=\"\",\"\",COUNTIF($A$2:$A5332,$A5332))","v":""},{"$f":"IF($A5332=\"\",\"\",$O5332+thousand*VLOOKUP($A5332,$A$1:Q5332,17,FALSE))","v":""},{"$f":"IF(O5332=1,MAX(Q$1:Q5331)+1,\"\")","v":""},"","",5331]
[null,null,null,null,null,null,null,null,null,null,{"$error":"#DIV/0!"},null,5337,null,{"$f":"IF($A5338=\"\",\"\",COUNTIF($A$2:$A5338,$A5338))","v":""},{"$f":"IF($A5338=\"\",\"\",$O5338+thousand*VLOOKUP($A5338,$A$1:Q5338,17,FALSE))","v":""},{"$f":"IF(O5338=1,MAX(Q$1:Q5337)+1,\"\")","v":""},"","",5337]
[null,null,null,null,null,null,null,null,null,null,{"$error":"#DIV/0!"},null,5345,null,{"$f":"IF($A5346=\"\",\"\",COUNTIF($A$2:$A5346,$A5346))","v":""},{"$f":"IF($A5346=\"\",\"\",$O5346+thousand*VLOOKUP($A5346,$A$1:Q5346,17,FALSE))","v":""},{"$f":"IF(O5346=1,MAX(Q$1:Q5345)+1,\"\")","v":""},"","",5345]
[null,null,null,null,null,null,null,null,null,null,{"$error":"#DIV/0!"},null,5354,null,{"$f":"IF($A5355=\"\",\"\",COUNTIF($A$2:$A5355,$A5355))","v":""},{"$f":"IF($A5355=\"\",\"\",$O5355+thousand*VLOOKUP($A5355,$A$1:Q5355,17,FALSE))","v":""},{"$f":"IF(O5355=1,MAX(Q$1:Q5354)+1,\"\")","v":""},"","",5354]
[null,null,null,null,null,null,null,null,null,null,{"$error":"#DIV/0!"},null,5359,null,{"$f":"IF($A5360=\"\",\"\",COUNTIF($A$2:$A5360,$A5360))","v":""},{"$f":"IF($A5360=\"\",\"\",$O5360+thousand*VLOOKUP($A5360,$A$1:Q5360,17,FALSE))","v":""},{"$f":"IF(O5360=1,MAX(Q$1:Q5359)+1,\"\")","v":""},"","",5359]
[null,null,null,null,null,null,null,null,null,null,{"$error":"#DIV/0!"},null,5367,null,{"$f":"IF($A5368=\"\",\"\",COUNTIF($A$2:$A5368,$A5368))","v":""},{"$f":"IF($A5368=\"\",\"\",$O5368+thousand*VLOOKUP($A5368,$A$1:Q5368,17,FALSE))","v":""},{"$f":"IF(O5368=1,MAX(Q$1:Q5367)+1,\"\")","v":""},"","",5367]
[null,null,null,null,null,null,null,null,null,null,{"$error":"#DIV/0!"},null,5379,null,{"$f":"IF($A5380=\"\",\"\",COUNTIF($A$2:$A5380,$A5380))","v":""},{"$f":"IF($A5380=\"\",\"\",$O5380+thousand*VLOOKUP($A5380,$A$1:Q5380,17,FALSE))","v":""},{"$f":"IF(O5380=1,MAX(Q$1:Q5379)+1,\"\")","v":""},"","",5379]
[null,null,null,null,null,null,null,null,null,null,{"$error":"#DIV/0!"},null,5381,null,{"$f":"IF($A5382=\"\",\"\",COUNTIF($A$2:$A5382,$A5382))","v":""},{"$f":"IF($A5382=\"\",\"\",$O5382+thousand*VLOOKUP($A5382,$A$1:Q5382,17,FALSE))","v":""},{"$f":"IF(O5382=1,MAX(Q$1:Q5381)+1,\"\")","v":""},"","",5381]
[null,null,null,null,null,null,null,null,null,null,{"$error":"#DIV/0!"},null,5388,null,{"$f":"IF($A5389=\"\",\"\",COUNTIF($A$2:$A5389,$A5389))","v":""},{"$f":"IF($A5389=\"\",\"\",$O5389+thousand*VLOOKUP($A5389,$A$1:Q5389,17,FALSE))","v":""},{"$f":"IF(O5389=1,MAX(Q$1:Q5388)+1,\"\")","v":""},"","",5388]
[null,null,null,null,null,null,null,null,null,null,{"$error":"#DIV/0!"},null,5402,null,{"$f":"IF($A5403=\"\",\"\",COUNTIF($A$2:$A5403,$A5403))","v":""},{"$f":"IF($A5403=\"\",\"\",$O5403+thousand*VLOOKUP($A5403,$A$1:Q5403,17,FALSE))","v":""},{"$f":"IF(O5403=1,MAX(Q$1:Q5402)+1,\"\")","v":""},"","",5402]
[null,null,null,null,null,null,null,null,null,null,{"$error":"#DIV/0!"},null,5405,null,{"$f":"IF($A5406=\"\",\"\",COUNTIF($A$2:$A5406,$A5406))","v":""},{"$f":"IF($A5406=\"\",\"\",$O5406+thousand*VLOOKUP($A5406,$A$1:Q5406,17,FALSE))","v":""},{"$f":"IF(O5406=1,MAX(Q$1:Q5405)+1,\"\")","v":""},"","",5405]
[null,null,null,null,null,null,null,null,null,null,{"$error":"#DIV/0!"},null,5412,null,{"$f":"IF($A5413=\"\",\"\",COUNTIF($A$2:$A5413,$A5413))","v":""},{"$f":"IF($A5413=\"\",\"\",$O5413+thousand*VLOOKUP($A5413,$A$1:Q5413,17,FALSE))","v":""},{"$f":"IF(O5413=1,MAX(Q$1:Q5412)+1,\"\")","v":""},"","",5412]
[null,null,null,null,null,null,null,null,null,null,{"$error":"#DIV/0!"},null,5424,null,{"$f":"IF($A5425=\"\",\"\",COUNTIF($A$2:$A5425,$A5425))","v":""},{"$f":"IF($A5425=\"\",\"\",$O5425+thousand*VLOOKUP($A5425,$A$1:Q5425,17,FALSE))","v":""},{"$f":"IF(O5425=1,MAX(Q$1:Q5424)+1,\"\")","v":""},"","",5424]
[null,null,null,null,null,null,null,null,null,null,{"$error":"#DIV/0!"},null,5430,null,{"$f":"IF($A5431=\"\",\"\",COUNTIF($A$2:$A5431,$A5431))","v":""},{"$f":"IF($A5431=\"\",\"\",$O5431+thousand*VLOOKUP($A5431,$A$1:Q5431,17,FALSE))","v":""},{"$f":"IF(O5431=1,MAX(Q$1:Q5430)+1,\"\")","v":""},"","",5430]
[null,null,null,null,null,null,null,null,null,null,{"$error":"#DIV/0!"},null,5438,null,{"$f":"IF($A5439=\"\",\"\",COUNTIF($A$2:$A5439,$A5439))","v":""},{"$f":"IF($A5439=\"\",\"\",$O5439+thousand*VLOOKUP($A5439,$A$1:Q5439,17,FALSE))","v":""},{"$f":"IF(O5439=1,MAX(Q$1:Q5438)+1,\"\")","v":""},"","",5438]
[null,null,null,null,null,null,null,null,null,null,{"$error":"#DIV/0!"},null,5447,null,{"$f":"IF($A5448=\"\",\"\",COUNTIF($A$2:$A5448,$A5448))","v":""},{"$f":"IF($A5448=\"\",\"\",$O5448+thousand*VLOOKUP($A5448,$A$1:Q5448,17,FALSE))","v":""},{"$f":"IF(O5448=1,MAX(Q$1:Q5447)+1,\"\")","v":""},"","",5447]
[null,null,null,null,null,null,null,null,null,null,{"$f":"F5449/E5449*J5449","v":{"$error":"#DIV/0!"}},null,5448,null,{"$f":"IF($A5449=\"\",\"\",COUNTIF($A$2:$A5449,$A5449))","v":""},{"$f":"IF($A5449=\"\",\"\",$O5449+thousand*VLOOKUP($A5449,$A$1:Q5449,17,FALSE))","v":""},{"$f":"IF(O5449=1,MAX(Q$1:Q5448)+1,\"\")","v":""},"","",5448]
[null,null,null,null,null,null,null,null,null,null,{"$error":"#DIV/0!"},null,5456,null,{"$f":"IF($A5457=\"\",\"\",COUNTIF($A$2:$A5457,$A5457))","v":""},{"$f":"IF($A5457=\"\",\"\",$O5457+thousand*VLOOKUP($A5457,$A$1:Q5457,17,FALSE))","v":""},{"$f":"IF(O5457=1,MAX(Q$1:Q5456)+1,\"\")","v":""},"","",5456]
[null,null,null,null,null,null,null,null,null,null,{"$error":"#DIV/0!"},null,5469,null,{"$f":"IF($A5470=\"\",\"\",COUNTIF($A$2:$A5470,$A5470))","v":""},{"$f":"IF($A5470=\"\",\"\",$O5470+thousand*VLOOKUP($A5470,$A$1:Q5470,17,FALSE))","v":""},{"$f":"IF(O5470=1,MAX(Q$1:Q5469)+1,\"\")","v":""},"","",5469]
[null,null,null,null,null,null,null,null,null,null,{"$error":"#DIV/0!"},null,5470,null,{"$f":"IF($A5471=\"\",\"\",COUNTIF($A$2:$A5471,$A5471))","v":""},{"$f":"IF($A5471=\"\",\"\",$O5471+thousand*VLOOKUP($A5471,$A$1:Q5471,17,FALSE))","v":""},{"$f":"IF(O5471=1,MAX(Q$1:Q5470)+1,\"\")","v":""},"","",5470]
[null,null,null,null,null,null,null,null,null,null,{"$error":"#DIV/0!"},null,5481,null,{"$f":"IF($A5482=\"\",\"\",COUNTIF($A$2:$A5482,$A5482))","v":""},{"$f":"IF($A5482=\"\",\"\",$O5482+thousand*VLOOKUP($A5482,$A$1:Q5482,17,FALSE))","v":""},{"$f":"IF(O5482=1,MAX(Q$1:Q5481)+1,\"\")","v":""},"","",5481]
[null,null,null,null,null,null,null,null,null,null,{"$error":"#DIV/0!"},null,5491,null,{"$f":"IF($A5492=\"\",\"\",COUNTIF($A$2:$A5492,$A5492))","v":""},{"$f":"IF($A5492=\"\",\"\",$O5492+thousand*VLOOKUP($A5492,$A$1:Q5492,17,FALSE))","v":""},{"$f":"IF(O5492=1,MAX(Q$1:Q5491)+1,\"\")","v":""},"","",5491]
[null,null,null,null,null,null,null,null,null,null,{"$error":"#DIV/0!"},null,5498,null,{"$f":"IF($A5499=\"\",\"\",COUNTIF($A$2:$A5499,$A5499))","v":""},{"$f":"IF($A5499=\"\",\"\",$O5499+thousand*VLOOKUP($A5499,$A$1:Q5499,17,FALSE))","v":""},{"$f":"IF(O5499=1,MAX(Q$1:Q5498)+1,\"\")","v":""},"","",5498]
[null,null,null,null,null,null,null,null,null,null,{"$error":"#DIV/0!"},null,5505,null,{"$f":"IF($A5506=\"\",\"\",COUNTIF($A$2:$A5506,$A5506))","v":""},{"$f":"IF($A5506=\"\",\"\",$O5506+thousand*VLOOKUP($A5506,$A$1:Q5506,17,FALSE))","v":""},{"$f":"IF(O5506=1,MAX(Q$1:Q5505)+1,\"\")","v":""},"","",5505]
[null,null,null,null,null,null,null,null,null,null,{"$error":"#DIV/0!"},null,5507,null,{"$f":"IF($A5508=\"\",\"\",COUNTIF($A$2:$A5508,$A5508))","v":""},{"$f":"IF($A5508=\"\",\"\",$O5508+thousand*VLOOKUP($A5508,$A$1:Q5508,17,FALSE))","v":""},{"$f":"IF(O5508=1,MAX(Q$1:Q5507)+1,\"\")","v":""},"","",5507]
[null,null,null,null,null,null,null,null,null,null,{"$error":"#DIV/0!"},null,5519,null,{"$f":"IF($A5520=\"\",\"\",COUNTIF($A$2:$A5520,$A5520))","v":""},{"$f":"IF($A5520=\"\",\"\",$O5520+thousand*VLOOKUP($A5520,$A$1:Q5520,17,FALSE))","v":""},{"$f":"IF(O5520=1,MAX(Q$1:Q5519)+1,\"\")","v":""},"","",5519]
[null,null,null,null,null,null,null,null,null,null,{"$error":"#DIV/0!"},null,5527,null,{"$f":"IF($A5528=\"\",\"\",COUNTIF($A$2:$A5528,$A5528))","v":""},{"$f":"IF($A5528=\"\",\"\",$O5528+thousand*VLOOKUP($A5528,$A$1:Q5528,17,FALSE))","v":""},{"$f":"IF(O5528=1,MAX(Q$1:Q5527)+1,\"\")","v":""},"","",5527]
[null,null,null,null,null,null,null,null,null,null,{"$error":"#DIV/0!"},null,5532,null,{"$f":"IF($A5533=\"\",\"\",COUNTIF($A$2:$A5533,$A5533))","v":""},{"$f":"IF($A5533=\"\",\"\",$O5533+thousand*VLOOKUP($A5533,$A$1:Q5533,17,FALSE))","v":""},{"$f":"IF(O5533=1,MAX(Q$1:Q5532)+1,\"\")","v":""},"","",5532]
[null,null,null,null,null,null,null,null,null,null,{"$error":"#DIV/0!"},null,5541,null,{"$f":"IF($A5542=\"\",\"\",COUNTIF($A$2:$A5542,$A5542))","v":""},{"$f":"IF($A5542=\"\",\"\",$O5542+thousand*VLOOKUP($A5542,$A$1:Q5542,17,FALSE))","v":""},{"$f":"IF(O5542=1,MAX(Q$1:Q5541)+1,\"\")","v":""},"","",5541]
[null,null,null,null,null,null,null,null,null,null,{"$error":"#DIV/0!"},null,5549,null,{"$f":"IF($A5550=\"\",\"\",COUNTIF($A$2:$A5550,$A5550))","v":""},{"$f":"IF($A5550=\"\",\"\",$O5550+thousand*VLOOKUP($A5550,$A$1:Q5550,17,FALSE))","v":""},{"$f":"IF(O5550=1,MAX(Q$1:Q5549)+1,\"\")","v":""},"","",5549]
[null,null,null,null,null,null,null,null,null,null,{"$error":"#DIV/0!"},null,5555,null,{"$f":"IF($A5556=\"\",\"\",COUNTIF($A$2:$A5556,$A5556))","v":""},{"$f":"IF($A5556=\"\",\"\",$O5556+thousand*VLOOKUP($A5556,$A$1:Q5556,17,FALSE))","v":""},{"$f":"IF(O5556=1,MAX(Q$1:Q5555)+1,\"\")","v":""},"","",5555]
[null,null,null,null,null,null,null,null,null,null,{"$error":"#DIV/0!"},null,5563,null,{"$f":"IF($A5564=\"\",\"\",COUNTIF($A$2:$A5564,$A5564))","v":""},{"$f":"IF($A5564=\"\",\"\",$O5564+thousand*VLOOKUP($A5564,$A$1:Q5564,17,FALSE))","v":""},{"$f":"IF(O5564=1,MAX(Q$1:Q5563)+1,\"\")","v":""},"","",5563]
[null,null,null,null,null,null,null,null,null,null,{"$error":"#DIV/0!"},null,5566,null,{"$f":"IF($A5567=\"\",\"\",COUNTIF($A$2:$A5567,$A5567))","v":""},{"$f":"IF($A5567=\"\",\"\",$O5567+thousand*VLOOKUP($A5567,$A$1:Q5567,17,FALSE))","v":""},{"$f":"IF(O5567=1,MAX(Q$1:Q5566)+1,\"\")","v":""},"","",5566]
[null,null,null,null,null,null,null,null,null,null,{"$error":"#DIV/0!"},null,5577,null,{"$f":"IF($A5578=\"\",\"\",COUNTIF($A$2:$A5578,$A5578))","v":""},{"$f":"IF($A5578=\"\",\"\",$O5578+thousand*VLOOKUP($A5578,$A$1:Q5578,17,FALSE))","v":""},{"$f":"IF(O5578=1,MAX(Q$1:Q5577)+1,\"\")","v":""},"","",5577]
[null,null,null,null,null,null,null,null,null,null,{"$error":"#DIV/0!"},null,5583,null,{"$f":"IF($A5584=\"\",\"\",COUNTIF($A$2:$A5584,$A5584))","v":""},{"$f":"IF($A5584=\"\",\"\",$O5584+thousand*VLOOKUP($A5584,$A$1:Q5584,17,FALSE))","v":""},{"$f":"IF(O5584=1,MAX(Q$1:Q5583)+1,\"\")","v":""},"","",5583]
[null,null,null,null,null,null,null,null,null,null,{"$error":"#DIV/0!"},null,5591,null,{"$f":"IF($A5592=\"\",\"\",COUNTIF($A$2:$A5592,$A5592))","v":""},{"$f":"IF($A5592=\"\",\"\",$O5592+thousand*VLOOKUP($A5592,$A$1:Q5592,17,FALSE))","v":""},{"$f":"IF(O5592=1,MAX(Q$1:Q5591)+1,\"\")","v":""},"","",5591]
[null,null,null,null,null,null,null,null,null,null,{"$error":"#DIV/0!"},null,5600,null,{"$f":"IF($A5601=\"\",\"\",COUNTIF($A$2:$A5601,$A5601))","v":""},{"$f":"IF($A5601=\"\",\"\",$O5601+thousand*VLOOKUP($A5601,$A$1:Q5601,17,FALSE))","v":""},{"$f":"IF(O5601=1,MAX(Q$1:Q5600)+1,\"\")","v":""},"","",5600]
[null,null,null,null,null,null,null,null,null,null,{"$error":"#DIV/0!"},null,5608,null,{"$f":"IF($A5609=\"\",\"\",COUNTIF($A$2:$A5609,$A5609))","v":""},{"$f":"IF($A5609=\"\",\"\",$O5609+thousand*VLOOKUP($A5609,$A$1:Q5609,17,FALSE))","v":""},{"$f":"IF(O5609=1,MAX(Q$1:Q5608)+1,\"\")","v":""},"","",5608]
[null,null,null,null,null,null,null,null,null,null,{"$error":"#DIV/0!"},null,5613,null,{"$f":"IF($A5614=\"\",\"\",COUNTIF($A$2:$A5614,$A5614))","v":""},{"$f":"IF($A5614=\"\",\"\",$O5614+thousand*VLOOKUP($A5614,$A$1:Q5614,17,FALSE))","v":""},{"$f":"IF(O5614=1,MAX(Q$1:Q5613)+1,\"\")","v":""},"","",5613]
[null,null,null,null,null,null,null,null,null,null,{"$error":"#DIV/0!"},null,5625,null,{"$f":"IF($A5626=\"\",\"\",COUNTIF($A$2:$A5626,$A5626))","v":""},{"$f":"IF($A5626=\"\",\"\",$O5626+thousand*VLOOKUP($A5626,$A$1:Q5626,17,FALSE))","v":""},{"$f":"IF(O5626=1,MAX(Q$1:Q5625)+1,\"\")","v":""},"","",5625]
[null,null,null,null,null,null,null,null,null,null,{"$error":"#DIV/0!"},null,5630,null,{"$f":"IF($A5631=\"\",\"\",COUNTIF($A$2:$A5631,$A5631))","v":""},{"$f":"IF($A5631=\"\",\"\",$O5631+thousand*VLOOKUP($A5631,$A$1:Q5631,17,FALSE))","v":""},{"$f":"IF(O5631=1,MAX(Q$1:Q5630)+1,\"\")","v":""},"","",5630]
[null,null,null,null,null,null,null,null,null,null,{"$error":"#DIV/0!"},null,5634,null,{"$f":"IF($A5635=\"\",\"\",COUNTIF($A$2:$A5635,$A5635))","v":""},{"$f":"IF($A5635=\"\",\"\",$O5635+thousand*VLOOKUP($A5635,$A$1:Q5635,17,FALSE))","v":""},{"$f":"IF(O5635=1,MAX(Q$1:Q5634)+1,\"\")","v":""},"","",{"$f":"$M5635","v":5634}]
[null,null,null,null,null,null,null,null,null,null,{"$error":"#DIV/0!"},null,5644,null,{"$f":"IF($A5645=\"\",\"\",COUNTIF($A$2:$A5645,$A5645))","v":""},{"$f":"IF($A5645=\"\",\"\",$O5645+thousand*VLOOKUP($A5645,$A$1:Q5645,17,FALSE))","v":""},{"$f":"IF(O5645=1,MAX(Q$1:Q5644)+1,\"\")","v":""},"","",5644]
[null,null,null,null,null,null,null,null,null,null,{"$error":"#DIV/0!"},null,5651,null,{"$f":"IF($A5652=\"\",\"\",COUNTIF($A$2:$A5652,$A5652))","v":""},{"$f":"IF($A5652=\"\",\"\",$O5652+thousand*VLOOKUP($A5652,$A$1:Q5652,17,FALSE))","v":""},{"$f":"IF(O5652=1,MAX(Q$1:Q5651)+1,\"\")","v":""},"","",5651]
[null,null,null,null,null,null,null,null,null,null,{"$error":"#DIV/0!"},null,5658,null,{"$f":"IF($A5659=\"\",\"\",COUNTIF($A$2:$A5659,$A5659))","v":""},{"$f":"IF($A5659=\"\",\"\",$O5659+thousand*VLOOKUP($A5659,$A$1:Q5659,17,FALSE))","v":""},{"$f":"IF(O5659=1,MAX(Q$1:Q5658)+1,\"\")","v":""},"","",5658]
[null,null,null,null,null,null,null,null,null,null,{"$error":"#DIV/0!"},null,5666,null,{"$f":"IF($A5667=\"\",\"\",COUNTIF($A$2:$A5667,$A5667))","v":""},{"$f":"IF($A5667=\"\",\"\",$O5667+thousand*VLOOKUP($A5667,$A$1:Q5667,17,FALSE))","v":""},{"$f":"IF(O5667=1,MAX(Q$1:Q5666)+1,\"\")","v":""},"","",5666]
[null,null,null,null,null,null,null,null,null,null,{"$error":"#DIV/0!"},null,5676,null,{"$f":"IF($A5677=\"\",\"\",COUNTIF($A$2:$A5677,$A5677))","v":""},{"$f":"IF($A5677=\"\",\"\",$O5677+thousand*VLOOKUP($A5677,$A$1:Q5677,17,FALSE))","v":""},{"$f":"IF(O5677=1,MAX(Q$1:Q5676)+1,\"\")","v":""},"","",5676]
[null,null,null,null,null,null,null,null,null,null,{"$error":"#DIV/0!"},null,5680,null,{"$f":"IF($A5681=\"\",\"\",COUNTIF($A$2:$A5681,$A5681))","v":""},{"$f":"IF($A5681=\"\",\"\",$O5681+thousand*VLOOKUP($A5681,$A$1:Q5681,17,FALSE))","v":""},{"$f":"IF(O5681=1,MAX(Q$1:Q5680)+1,\"\")","v":""},"","",5680]
[null,null,null,null,null,null,null,null,null,null,{"$error":"#DIV/0!"},null,5685,null,{"$f":"IF($A5686=\"\",\"\",COUNTIF($A$2:$A5686,$A5686))","v":""},{"$f":"IF($A5686=\"\",\"\",$O5686+thousand*VLOOKUP($A5686,$A$1:Q5686,17,FALSE))","v":""},{"$f":"IF(O5686=1,MAX(Q$1:Q5685)+1,\"\")","v":""},"","",5685]
[null,null,null,null,null,null,null,null,null,null,{"$error":"#DIV/0!"},null,5694,null,{"$f":"IF($A5695=\"\",\"\",COUNTIF($A$2:$A5695,$A5695))","v":""},{"$f":"IF($A5695=\"\",\"\",$O5695+thousand*VLOOKUP($A5695,$A$1:Q5695,17,FALSE))","v":""},{"$f":"IF(O5695=1,MAX(Q$1:Q5694)+1,\"\")","v":""},"","",5694]
[null,null,null,null,null,null,null,null,null,null,{"$error":"#DIV/0!"},null,5702,null,{"$f":"IF($A5703=\"\",\"\",COUNTIF($A$2:$A5703,$A5703))","v":""},{"$f":"IF($A5703=\"\",\"\",$O5703+thousand*VLOOKUP($A5703,$A$1:Q5703,17,FALSE))","v":""},{"$f":"IF(O5703=1,MAX(Q$1:Q5702)+1,\"\")","v":""},"","",5702]
[null,null,null,null,null,null,null,null,null,null,{"$error":"#DIV/0!"},null,5708,null,{"$f":"IF($A5709=\"\",\"\",COUNTIF($A$2:$A5709,$A5709))","v":""},{"$f":"IF($A5709=\"\",\"\",$O5709+thousand*VLOOKUP($A5709,$A$1:Q5709,17,FALSE))","v":""},{"$f":"IF(O5709=1,MAX(Q$1:Q5708)+1,\"\")","v":""},"","",5708]
[null,null,null,null,null,null,null,null,null,null,{"$error":"#DIV/0!"},null,5716,null,{"$f":"IF($A5717=\"\",\"\",COUNTIF($A$2:$A5717,$A5717))","v":""},{"$f":"IF($A5717=\"\",\"\",$O5717+thousand*VLOOKUP($A5717,$A$1:Q5717,17,FALSE))","v":""},{"$f":"IF(O5717=1,MAX(Q$1:Q5716)+1,\"\")","v":""},"","",5716]
[null,null,null,null,null,null,null,null,null,null,{"$error":"#DIV/0!"},null,5727,null,{"$f":"IF($A5728=\"\",\"\",COUNTIF($A$2:$A5728,$A5728))","v":""},{"$f":"IF($A5728=\"\",\"\",$O5728+thousand*VLOOKUP($A5728,$A$1:Q5728,17,FALSE))","v":""},{"$f":"IF(O5728=1,MAX(Q$1:Q5727)+1,\"\")","v":""},"","",5727]
[null,null,null,null,null,null,null,null,null,null,{"$error":"#DIV/0!"},null,5730,null,{"$f":"IF($A5731=\"\",\"\",COUNTIF($A$2:$A5731,$A5731))","v":""},{"$f":"IF($A5731=\"\",\"\",$O5731+thousand*VLOOKUP($A5731,$A$1:Q5731,17,FALSE))","v":""},{"$f":"IF(O5731=1,MAX(Q$1:Q5730)+1,\"\")","v":""},"","",5730]
[null,null,null,null,null,null,null,null,null,null,{"$error":"#DIV/0!"},null,5744,null,{"$f":"IF($A5745=\"\",\"\",COUNTIF($A$2:$A5745,$A5745))","v":""},{"$f":"IF($A5745=\"\",\"\",$O5745+thousand*VLOOKUP($A5745,$A$1:Q5745,17,FALSE))","v":""},{"$f":"IF(O5745=1,MAX(Q$1:Q5744)+1,\"\")","v":""},"","",5744]
[null,null,null,null,null,null,null,null,null,null,{"$error":"#DIV/0!"},null,5751,null,{"$f":"IF($A5752=\"\",\"\",COUNTIF($A$2:$A5752,$A5752))","v":""},{"$f":"IF($A5752=\"\",\"\",$O5752+thousand*VLOOKUP($A5752,$A$1:Q5752,17,FALSE))","v":""},{"$f":"IF(O5752=1,MAX(Q$1:Q5751)+1,\"\")","v":""},"","",5751]
[null,null,null,null,null,null,null,null,null,null,{"$error":"#DIV/0!"},null,5753,null,{"$f":"IF($A5754=\"\",\"\",COUNTIF($A$2:$A5754,$A5754))","v":""},{"$f":"IF($A5754=\"\",\"\",$O5754+thousand*VLOOKUP($A5754,$A$1:Q5754,17,FALSE))","v":""},{"$f":"IF(O5754=1,MAX(Q$1:Q5753)+1,\"\")","v":""},"","",5753]
[null,null,null,null,null,null,null,null,null,null,{"$error":"#DIV/0!"},null,5761,null,{"$f":"IF($A5762=\"\",\"\",COUNTIF($A$2:$A5762,$A5762))","v":""},{"$f":"IF($A5762=\"\",\"\",$O5762+thousand*VLOOKUP($A5762,$A$1:Q5762,17,FALSE))","v":""},{"$f":"IF(O5762=1,MAX(Q$1:Q5761)+1,\"\")","v":""},"","",5761]
[null,null,null,null,null,null,null,null,null,null,{"$error":"#DIV/0!"},null,5773,null,{"$f":"IF($A5774=\"\",\"\",COUNTIF($A$2:$A5774,$A5774))","v":""},{"$f":"IF($A5774=\"\",\"\",$O5774+thousand*VLOOKUP($A5774,$A$1:Q5774,17,FALSE))","v":""},{"$f":"IF(O5774=1,MAX(Q$1:Q5773)+1,\"\")","v":""},"","",5773]
[null,null,null,null,null,null,null,null,null,null,{"$error":"#DIV/0!"},null,5778,null,{"$f":"IF($A5779=\"\",\"\",COUNTIF($A$2:$A5779,$A5779))","v":""},{"$f":"IF($A5779=\"\",\"\",$O5779+thousand*VLOOKUP($A5779,$A$1:Q5779,17,FALSE))","v":""},{"$f":"IF(O5779=1,MAX(Q$1:Q5778)+1,\"\")","v":""},"","",5778]
[null,null,null,null,null,null,null,null,null,null,{"$error":"#DIV/0!"},null,5783,null,{"$f":"IF($A5784=\"\",\"\",COUNTIF($A$2:$A5784,$A5784))","v":""},{"$f":"IF($A5784=\"\",\"\",$O5784+thousand*VLOOKUP($A5784,$A$1:Q5784,17,FALSE))","v":""},{"$f":"IF(O5784=1,MAX(Q$1:Q5783)+1,\"\")","v":""},"","",5783]
[null,null,null,null,null,null,null,null,null,null,{"$error":"#DIV/0!"},null,5795,null,{"$f":"IF($A5796=\"\",\"\",COUNTIF($A$2:$A5796,$A5796))","v":""},{"$f":"IF($A5796=\"\",\"\",$O5796+thousand*VLOOKUP($A5796,$A$1:Q5796,17,FALSE))","v":""},{"$f":"IF(O5796=1,MAX(Q$1:Q5795)+1,\"\")","v":""},"","",5795]
[null,null,null,null,null,null,null,null,null,null,{"$error":"#DIV/0!"},null,5797,null,{"$f":"IF($A5798=\"\",\"\",COUNTIF($A$2:$A5798,$A5798))","v":""},{"$f":"IF($A5798=\"\",\"\",$O5798+thousand*VLOOKUP($A5798,$A$1:Q5798,17,FALSE))","v":""},{"$f":"IF(O5798=1,MAX(Q$1:Q5797)+1,\"\")","v":""},"","",5797]
[null,null,null,null,null,null,null,null,null,null,{"$error":"#DIV/0!"},null,5804,null,{"$f":"IF($A5805=\"\",\"\",COUNTIF($A$2:$A5805,$A5805))","v":""},{"$f":"IF($A5805=\"\",\"\",$O5805+thousand*VLOOKUP($A5805,$A$1:Q5805,17,FALSE))","v":""},{"$f":"IF(O5805=1,MAX(Q$1:Q5804)+1,\"\")","v":""},"","",5804]
[null,null,null,null,null,null,null,null,null,null,{"$error":"#DIV/0!"},null,5818,null,{"$f":"IF($A5819=\"\",\"\",COUNTIF($A$2:$A5819,$A5819))","v":""},{"$f":"IF($A5819=\"\",\"\",$O5819+thousand*VLOOKUP($A5819,$A$1:Q5819,17,FALSE))","v":""},{"$f":"IF(O5819=1,MAX(Q$1:Q5818)+1,\"\")","v":""},"","",5818]
[null,null,null,null,null,null,null,null,null,null,{"$error":"#DIV/0!"},null,5819,null,{"$f":"IF($A5820=\"\",\"\",COUNTIF($A$2:$A5820,$A5820))","v":""},{"$f":"IF($A5820=\"\",\"\",$O5820+thousand*VLOOKUP($A5820,$A$1:Q5820,17,FALSE))","v":""},{"$f":"IF(O5820=1,MAX(Q$1:Q5819)+1,\"\")","v":""},"","",5819]
[null,null,null,null,null,null,null,null,null,null,{"$error":"#DIV/0!"},null,5829,null,{"$f":"IF($A5830=\"\",\"\",COUNTIF($A$2:$A5830,$A5830))","v":""},{"$f":"IF($A5830=\"\",\"\",$O5830+thousand*VLOOKUP($A5830,$A$1:Q5830,17,FALSE))","v":""},{"$f":"IF(O5830=1,MAX(Q$1:Q5829)+1,\"\")","v":""},"","",5829]
[null,null,null,null,null,null,null,null,null,null,{"$error":"#DIV/0!"},null,5840,null,{"$f":"IF($A5841=\"\",\"\",COUNTIF($A$2:$A5841,$A5841))","v":""},{"$f":"IF($A5841=\"\",\"\",$O5841+thousand*VLOOKUP($A5841,$A$1:Q5841,17,FALSE))","v":""},{"$f":"IF(O5841=1,MAX(Q$1:Q5840)+1,\"\")","v":""},"","",5840]
[null,null,null,null,null,null,null,null,null,null,{"$error":"#DIV/0!"},null,5846,null,{"$f":"IF($A5847=\"\",\"\",COUNTIF($A$2:$A5847,$A5847))","v":""},{"$f":"IF($A5847=\"\",\"\",$O5847+thousand*VLOOKUP($A5847,$A$1:Q5847,17,FALSE))","v":""},{"$f":"IF(O5847=1,MAX(Q$1:Q5846)+1,\"\")","v":""},"","",5846]
[null,null,null,null,null,null,null,null,null,null,{"$error":"#DIV/0!"},null,5854,null,{"$f":"IF($A5855=\"\",\"\",COUNTIF($A$2:$A5855,$A5855))","v":""},{"$f":"IF($A5855=\"\",\"\",$O5855+thousand*VLOOKUP($A5855,$A$1:Q5855,17,FALSE))","v":""},{"$f":"IF(O5855=1,MAX(Q$1:Q5854)+1,\"\")","v":""},"","",5854]
[null,null,null,null,null,null,null,null,null,null,{"$error":"#DIV/0!"},null,5863,null,{"$f":"IF($A5864=\"\",\"\",COUNTIF($A$2:$A5864,$A5864))","v":""},{"$f":"IF($A5864=\"\",\"\",$O5864+thousand*VLOOKUP($A5864,$A$1:Q5864,17,FALSE))","v":""},{"$f":"IF(O5864=1,MAX(Q$1:Q5863)+1,\"\")","v":""},"","",5863]
[null,null,null,null,null,null,null,null,null,null,{"$error":"#DIV/0!"},null,5868,null,{"$f":"IF($A5869=\"\",\"\",COUNTIF($A$2:$A5869,$A5869))","v":""},{"$f":"IF($A5869=\"\",\"\",$O5869+thousand*VLOOKUP($A5869,$A$1:Q5869,17,FALSE))","v":""},{"$f":"IF(O5869=1,MAX(Q$1:Q5868)+1,\"\")","v":""},"","",5868]
[null,null,null,null,null,null,null,null,null,null,{"$error":"#DIV/0!"},null,5876,null,{"$f":"IF($A5877=\"\",\"\",COUNTIF($A$2:$A5877,$A5877))","v":""},{"$f":"IF($A5877=\"\",\"\",$O5877+thousand*VLOOKUP($A5877,$A$1:Q5877,17,FALSE))","v":""},{"$f":"IF(O5877=1,MAX(Q$1:Q5876)+1,\"\")","v":""},"","",5876]
[null,null,null,null,null,null,null,null,null,null,{"$error":"#DIV/0!"},null,5880,null,{"$f":"IF($A5881=\"\",\"\",COUNTIF($A$2:$A5881,$A5881))","v":""},{"$f":"IF($A5881=\"\",\"\",$O5881+thousand*VLOOKUP($A5881,$A$1:Q5881,17,FALSE))","v":""},{"$f":"IF(O5881=1,MAX(Q$1:Q5880)+1,\"\")","v":""},"","",5880]
[null,null,null,null,null,null,null,null,null,null,{"$error":"#DIV/0!"},null,5890,null,{"$f":"IF($A5891=\"\",\"\",COUNTIF($A$2:$A5891,$A5891))","v":""},{"$f":"IF($A5891=\"\",\"\",$O5891+thousand*VLOOKUP($A5891,$A$1:Q5891,17,FALSE))","v":""},{"$f":"IF(O5891=1,MAX(Q$1:Q5890)+1,\"\")","v":""},"","",{"$f":"$M5891","v":5890}]
[null,null,null,null,null,null,null,null,null,null,{"$error":"#DIV/0!"},null,5897,null,{"$f":"IF($A5898=\"\",\"\",COUNTIF($A$2:$A5898,$A5898))","v":""},{"$f":"IF($A5898=\"\",\"\",$O5898+thousand*VLOOKUP($A5898,$A$1:Q5898,17,FALSE))","v":""},{"$f":"IF(O5898=1,MAX(Q$1:Q5897)+1,\"\")","v":""},"","",5897]
[null,null,null,null,null,null,null,null,null,null,{"$error":"#DIV/0!"},null,5904,null,{"$f":"IF($A5905=\"\",\"\",COUNTIF($A$2:$A5905,$A5905))","v":""},{"$f":"IF($A5905=\"\",\"\",$O5905+thousand*VLOOKUP($A5905,$A$1:Q5905,17,FALSE))","v":""},{"$f":"IF(O5905=1,MAX(Q$1:Q5904)+1,\"\")","v":""},"","",5904]
[null,null,null,null,null,null,null,null,null,null,{"$error":"#DIV/0!"},null,5914,null,{"$f":"IF($A5915=\"\",\"\",COUNTIF($A$2:$A5915,$A5915))","v":""},{"$f":"IF($A5915=\"\",\"\",$O5915+thousand*VLOOKUP($A5915,$A$1:Q5915,17,FALSE))","v":""},{"$f":"IF(O5915=1,MAX(Q$1:Q5914)+1,\"\")","v":""},"","",5914]
[null,null,null,null,null,null,null,null,null,null,{"$error":"#DIV/0!"},null,5921,null,{"$f":"IF($A5922=\"\",\"\",COUNTIF($A$2:$A5922,$A5922))","v":""},{"$f":"IF($A5922=\"\",\"\",$O5922+thousand*VLOOKUP($A5922,$A$1:Q5922,17,FALSE))","v":""},{"$f":"IF(O5922=1,MAX(Q$1:Q5921)+1,\"\")","v":""},"","",5921]
[null,null,null,null,null,null,null,null,null,null,{"$error":"#DIV/0!"},null,5926,null,{"$f":"IF($A5927=\"\",\"\",COUNTIF($A$2:$A5927,$A5927))","v":""},{"$f":"IF($A5927=\"\",\"\",$O5927+thousand*VLOOKUP($A5927,$A$1:Q5927,17,FALSE))","v":""},{"$f":"IF(O5927=1,MAX(Q$1:Q5926)+1,\"\")","v":""},"","",5926]
[null,null,null,null,null,null,null,null,null,null,{"$error":"#DIV/0!"},null,5931,null,{"$f":"IF($A5932=\"\",\"\",COUNTIF($A$2:$A5932,$A5932))","v":""},{"$f":"IF($A5932=\"\",\"\",$O5932+thousand*VLOOKUP($A5932,$A$1:Q5932,17,FALSE))","v":""},{"$f":"IF(O5932=1,MAX(Q$1:Q5931)+1,\"\")","v":""},"","",5931]
[null,null,null,null,null,null,null,null,null,null,{"$error":"#DIV/0!"},null,5940,null,{"$f":"IF($A5941=\"\",\"\",COUNTIF($A$2:$A5941,$A5941))","v":""},{"$f":"IF($A5941=\"\",\"\",$O5941+thousand*VLOOKUP($A5941,$A$1:Q5941,17,FALSE))","v":""},{"$f":"IF(O5941=1,MAX(Q$1:Q5940)+1,\"\")","v":""},"","",5940]
[null,null,null,null,null,null,null,null,null,null,{"$f":"F5949/E5949*J5949","v":{"$error":"#DIV/0!"}},null,5948,null,{"$f":"IF($A5949=\"\",\"\",COUNTIF($A$2:$A5949,$A5949))","v":""},{"$f":"IF($A5949=\"\",\"\",$O5949+thousand*VLOOKUP($A5949,$A$1:Q5949,17,FALSE))","v":""},{"$f":"IF(O5949=1,MAX(Q$1:Q5948)+1,\"\")","v":""},"","",5948]
[null,null,null,null,null,null,null,null,null,null,{"$error":"#DIV/0!"},null,5957,null,{"$f":"IF($A5958=\"\",\"\",COUNTIF($A$2:$A5958,$A5958))","v":""},{"$f":"IF($A5958=\"\",\"\",$O5958+thousand*VLOOKUP($A5958,$A$1:Q5958,17,FALSE))","v":""},{"$f":"IF(O5958=1,MAX(Q$1:Q5957)+1,\"\")","v":""},"","",5957]
[null,null,null,null,null,null,null,null,null,null,{"$error":"#DIV/0!"},null,5962,null,{"$f":"IF($A5963=\"\",\"\",COUNTIF($A$2:$A5963,$A5963))","v":""},{"$f":"IF($A5963=\"\",\"\",$O5963+thousand*VLOOKUP($A5963,$A$1:Q5963,17,FALSE))","v":""},{"$f":"IF(O5963=1,MAX(Q$1:Q5962)+1,\"\")","v":""},"","",5962]
[null,null,null,null,null,null,null,null,null,null,{"$error":"#DIV/0!"},null,5973,null,{"$f":"IF($A5974=\"\",\"\",COUNTIF($A$2:$A5974,$A5974))","v":""},{"$f":"IF($A5974=\"\",\"\",$O5974+thousand*VLOOKUP($A5974,$A$1:Q5974,17,FALSE))","v":""},{"$f":"IF(O5974=1,MAX(Q$1:Q5973)+1,\"\")","v":""},"","",5973]
[null,null,null,null,null,null,null,null,null,null,{"$error":"#DIV/0!"},null,5979,null,{"$f":"IF($A5980=\"\",\"\",COUNTIF($A$2:$A5980,$A5980))","v":""},{"$f":"IF($A5980=\"\",\"\",$O5980+thousand*VLOOKUP($A5980,$A$1:Q5980,17,FALSE))","v":""},{"$f":"IF(O5980=1,MAX(Q$1:Q5979)+1,\"\")","v":""},{"$f":"IF(A5980=\"\",\"\",A5980)","v":""},{"$f":"IF(B5980=\"\",\"\",B5980)","v":""},5979]
[null,null,null,null,null,null,null,null,null,null,{"$error":"#DIV/0!"},null,5982,null,{"$f":"IF($A5983=\"\",\"\",COUNTIF($A$2:$A5983,$A5983))","v":""},{"$f":"IF($A5983=\"\",\"\",$O5983+thousand*VLOOKUP($A5983,$A$1:Q5983,17,FALSE))","v":""},{"$f":"IF(O5983=1,MAX(Q$1:Q5982)+1,\"\")","v":""},"","",5982]
[null,null,null,null,null,null,null,null,null,null,{"$error":"#DIV/0!"},null,5993,null,{"$f":"IF($A5994=\"\",\"\",COUNTIF($A$2:$A5994,$A5994))","v":""},{"$f":"IF($A5994=\"\",\"\",$O5994+thousand*VLOOKUP($A5994,$A$1:Q5994,17,FALSE))","v":""},{"$f":"IF(O5994=1,MAX(Q$1:Q5993)+1,\"\")","v":""},"","",5993]
[null,null,null,null,null,null,null,null,null,null,{"$error":"#DIV/0!"},null,5999,null,{"$f":"IF($A6000=\"\",\"\",COUNTIF($A$2:$A6000,$A6000))","v":""},{"$f":"IF($A6000=\"\",\"\",$O6000+thousand*VLOOKUP($A6000,$A$1:Q6000,17,FALSE))","v":""},{"$f":"IF(O6000=1,MAX(Q$1:Q5999)+1,\"\")","v":""},"","",5999]
[null,null,null,null,null,null,null,null,null,null,{"$error":"#DIV/0!"},null,6007,null,{"$f":"IF($A6008=\"\",\"\",COUNTIF($A$2:$A6008,$A6008))","v":""},{"$f":"IF($A6008=\"\",\"\",$O6008+thousand*VLOOKUP($A6008,$A$1:Q6008,17,FALSE))","v":""},{"$f":"IF(O6008=1,MAX(Q$1:Q6007)+1,\"\")","v":""},"","",6007]
[null,null,null,null,null,null,null,null,null,null,{"$error":"#DIV/0!"},null,6015,null,{"$f":"IF($A6016=\"\",\"\",COUNTIF($A$2:$A6016,$A6016))","v":""},{"$f":"IF($A6016=\"\",\"\",$O6016+thousand*VLOOKUP($A6016,$A$1:Q6016,17,FALSE))","v":""},{"$f":"IF(O6016=1,MAX(Q$1:Q6015)+1,\"\")","v":""},"","",6015]
[null,null,null,null,null,null,null,null,null,null,{"$error":"#DIV/0!"},null,6024,null,{"$f":"IF($A6025=\"\",\"\",COUNTIF($A$2:$A6025,$A6025))","v":""},{"$f":"IF($A6025=\"\",\"\",$O6025+thousand*VLOOKUP($A6025,$A$1:Q6025,17,FALSE))","v":""},{"$f":"IF(O6025=1,MAX(Q$1:Q6024)+1,\"\")","v":""},"","",6024]
[null,null,null,null,null,null,null,null,null,null,{"$error":"#DIV/0!"},null,6029,null,{"$f":"IF($A6030=\"\",\"\",COUNTIF($A$2:$A6030,$A6030))","v":""},{"$f":"IF($A6030=\"\",\"\",$O6030+thousand*VLOOKUP($A6030,$A$1:Q6030,17,FALSE))","v":""},{"$f":"IF(O6030=1,MAX(Q$1:Q6029)+1,\"\")","v":""},"","",6029]
[null,null,null,null,null,null,null,null,null,null,{"$error":"#DIV/0!"},null,6041,null,{"$f":"IF($A6042=\"\",\"\",COUNTIF($A$2:$A6042,$A6042))","v":""},{"$f":"IF($A6042=\"\",\"\",$O6042+thousand*VLOOKUP($A6042,$A$1:Q6042,17,FALSE))","v":""},{"$f":"IF(O6042=1,MAX(Q$1:Q6041)+1,\"\")","v":""},"","",6041]
[null,null,null,null,null,null,null,null,null,null,{"$error":"#DIV/0!"},null,6043,null,{"$f":"IF($A6044=\"\",\"\",COUNTIF($A$2:$A6044,$A6044))","v":""},{"$f":"IF($A6044=\"\",\"\",$O6044+thousand*VLOOKUP($A6044,$A$1:Q6044,17,FALSE))","v":""},{"$f":"IF(O6044=1,MAX(Q$1:Q6043)+1,\"\")","v":""},{"$f":"IF(A6044=\"\",\"\",A6044)","v":""},{"$f":"IF(B6044=\"\",\"\",B6044)","v":""},6043]
[null,null,null,null,null,null,null,null,null,null,{"$error":"#DIV/0!"},null,6050,null,{"$f":"IF($A6051=\"\",\"\",COUNTIF($A$2:$A6051,$A6051))","v":""},{"$f":"IF($A6051=\"\",\"\",$O6051+thousand*VLOOKUP($A6051,$A$1:Q6051,17,FALSE))","v":""},{"$f":"IF(O6051=1,MAX(Q$1:Q6050)+1,\"\")","v":""},"","",6050]
[null,null,null,null,null,null,null,null,null,null,{"$error":"#DIV/0!"},null,6057,null,{"$f":"IF($A6058=\"\",\"\",COUNTIF($A$2:$A6058,$A6058))","v":""},{"$f":"IF($A6058=\"\",\"\",$O6058+thousand*VLOOKUP($A6058,$A$1:Q6058,17,FALSE))","v":""},{"$f":"IF(O6058=1,MAX(Q$1:Q6057)+1,\"\")","v":""},"","",6057]
[null,null,null,null,null,null,null,null,null,null,{"$error":"#DIV/0!"},null,6065,null,{"$f":"IF($A6066=\"\",\"\",COUNTIF($A$2:$A6066,$A6066))","v":""},{"$f":"IF($A6066=\"\",\"\",$O6066+thousand*VLOOKUP($A6066,$A$1:Q6066,17,FALSE))","v":""},{"$f":"IF(O6066=1,MAX(Q$1:Q6065)+1,\"\")","v":""},"","",6065]
[null,null,null,null,null,null,null,null,null,null,{"$error":"#DIV/0!"},null,6075,null,{"$f":"IF($A6076=\"\",\"\",COUNTIF($A$2:$A6076,$A6076))","v":""},{"$f":"IF($A6076=\"\",\"\",$O6076+thousand*VLOOKUP($A6076,$A$1:Q6076,17,FALSE))","v":""},{"$f":"IF(O6076=1,MAX(Q$1:Q6075)+1,\"\")","v":""},"","",6075]
[null,null,null,null,null,null,null,null,null,null,{"$error":"#DIV/0!"},null,6079,null,{"$f":"IF($A6080=\"\",\"\",COUNTIF($A$2:$A6080,$A6080))","v":""},{"$f":"IF($A6080=\"\",\"\",$O6080+thousand*VLOOKUP($A6080,$A$1:Q6080,17,FALSE))","v":""},{"$f":"IF(O6080=1,MAX(Q$1:Q6079)+1,\"\")","v":""},"","",6079]
[null,null,null,null,null,null,null,null,null,null,{"$error":"#DIV/0!"},null,6092,null,{"$f":"IF($A6093=\"\",\"\",COUNTIF($A$2:$A6093,$A6093))","v":""},{"$f":"IF($A6093=\"\",\"\",$O6093+thousand*VLOOKUP($A6093,$A$1:Q6093,17,FALSE))","v":""},{"$f":"IF(O6093=1,MAX(Q$1:Q6092)+1,\"\")","v":""},"","",6092]
[null,null,null,null,null,null,null,null,null,null,{"$error":"#DIV/0!"},null,6100,null,{"$f":"IF($A6101=\"\",\"\",COUNTIF($A$2:$A6101,$A6101))","v":""},{"$f":"IF($A6101=\"\",\"\",$O6101+thousand*VLOOKUP($A6101,$A$1:Q6101,17,FALSE))","v":""},{"$f":"IF(O6101=1,MAX(Q$1:Q6100)+1,\"\")","v":""},"","",6100]
[null,null,null,null,null,null,null,null,null,null,{"$error":"#DIV/0!"},null,6101,null,{"$f":"IF($A6102=\"\",\"\",COUNTIF($A$2:$A6102,$A6102))","v":""},{"$f":"IF($A6102=\"\",\"\",$O6102+thousand*VLOOKUP($A6102,$A$1:Q6102,17,FALSE))","v":""},{"$f":"IF(O6102=1,MAX(Q$1:Q6101)+1,\"\")","v":""},"","",6101]
[null,null,null,null,null,null,null,null,null,null,{"$error":"#DIV/0!"},null,6110,null,{"$f":"IF($A6111=\"\",\"\",COUNTIF($A$2:$A6111,$A6111))","v":""},{"$f":"IF($A6111=\"\",\"\",$O6111+thousand*VLOOKUP($A6111,$A$1:Q6111,17,FALSE))","v":""},{"$f":"IF(O6111=1,MAX(Q$1:Q6110)+1,\"\")","v":""},"","",6110]
[null,null,null,null,null,null,null,null,null,null,{"$error":"#DIV/0!"},null,6122,null,{"$f":"IF($A6123=\"\",\"\",COUNTIF($A$2:$A6123,$A6123))","v":""},{"$f":"IF($A6123=\"\",\"\",$O6123+thousand*VLOOKUP($A6123,$A$1:Q6123,17,FALSE))","v":""},{"$f":"IF(O6123=1,MAX(Q$1:Q6122)+1,\"\")","v":""},"","",6122]
[null,null,null,null,null,null,null,null,null,null,{"$error":"#DIV/0!"},null,6126,null,{"$f":"IF($A6127=\"\",\"\",COUNTIF($A$2:$A6127,$A6127))","v":""},{"$f":"IF($A6127=\"\",\"\",$O6127+thousand*VLOOKUP($A6127,$A$1:Q6127,17,FALSE))","v":""},{"$f":"IF(O6127=1,MAX(Q$1:Q6126)+1,\"\")","v":""},"","",6126]
[null,null,null,null,null,null,null,null,null,null,{"$error":"#DIV/0!"},null,6132,null,{"$f":"IF($A6133=\"\",\"\",COUNTIF($A$2:$A6133,$A6133))","v":""},{"$f":"IF($A6133=\"\",\"\",$O6133+thousand*VLOOKUP($A6133,$A$1:Q6133,17,FALSE))","v":""},{"$f":"IF(O6133=1,MAX(Q$1:Q6132)+1,\"\")","v":""},"","",6132]
[null,null,null,null,null,null,null,null,null,null,{"$error":"#DIV/0!"},null,6143,null,{"$f":"IF($A6144=\"\",\"\",COUNTIF($A$2:$A6144,$A6144))","v":""},{"$f":"IF($A6144=\"\",\"\",$O6144+thousand*VLOOKUP($A6144,$A$1:Q6144,17,FALSE))","v":""},{"$f":"IF(O6144=1,MAX(Q$1:Q6143)+1,\"\")","v":""},"","",6143]
[null,null,null,null,null,null,null,null,null,null,{"$error":"#DIV/0!"},null,6146,null,{"$f":"IF($A6147=\"\",\"\",COUNTIF($A$2:$A6147,$A6147))","v":""},{"$f":"IF($A6147=\"\",\"\",$O6147+thousand*VLOOKUP($A6147,$A$1:Q6147,17,FALSE))","v":""},{"$f":"IF(O6147=1,MAX(Q$1:Q6146)+1,\"\")","v":""},"","",{"$f":"$M6147","v":6146}]
[null,null,null,null,null,null,null,null,null,null,{"$error":"#DIV/0!"},null,6160,null,{"$f":"IF($A6161=\"\",\"\",COUNTIF($A$2:$A6161,$A6161))","v":""},{"$f":"IF($A6161=\"\",\"\",$O6161+thousand*VLOOKUP($A6161,$A$1:Q6161,17,FALSE))","v":""},{"$f":"IF(O6161=1,MAX(Q$1:Q6160)+1,\"\")","v":""},"","",6160]
[null,null,null,null,null,null,null,null,null,null,{"$error":"#DIV/0!"},null,6167,null,{"$f":"IF($A6168=\"\",\"\",COUNTIF($A$2:$A6168,$A6168))","v":""},{"$f":"IF($A6168=\"\",\"\",$O6168+thousand*VLOOKUP($A6168,$A$1:Q6168,17,FALSE))","v":""},{"$f":"IF(O6168=1,MAX(Q$1:Q6167)+1,\"\")","v":""},"","",6167]
[null,null,null,null,null,null,null,null,null,null,{"$error":"#DIV/0!"},null,6168,null,{"$f":"IF($A6169=\"\",\"\",COUNTIF($A$2:$A6169,$A6169))","v":""},{"$f":"IF($A6169=\"\",\"\",$O6169+thousand*VLOOKUP($A6169,$A$1:Q6169,17,FALSE))","v":""},{"$f":"IF(O6169=1,MAX(Q$1:Q6168)+1,\"\")","v":""},"","",6168]
[null,null,null,null,null,null,null,null,null,null,{"$error":"#DIV/0!"},null,6177,null,{"$f":"IF($A6178=\"\",\"\",COUNTIF($A$2:$A6178,$A6178))","v":""},{"$f":"IF($A6178=\"\",\"\",$O6178+thousand*VLOOKUP($A6178,$A$1:Q6178,17,FALSE))","v":""},{"$f":"IF(O6178=1,MAX(Q$1:Q6177)+1,\"\")","v":""},"","",6177]
[null,null,null,null,null,null,null,null,null,null,{"$error":"#DIV/0!"},null,6189,null,{"$f":"IF($A6190=\"\",\"\",COUNTIF($A$2:$A6190,$A6190))","v":""},{"$f":"IF($A6190=\"\",\"\",$O6190+thousand*VLOOKUP($A6190,$A$1:Q6190,17,FALSE))","v":""},{"$f":"IF(O6190=1,MAX(Q$1:Q6189)+1,\"\")","v":""},"","",6189]
[null,null,null,null,null,null,null,null,null,null,{"$error":"#DIV/0!"},null,6194,null,{"$f":"IF($A6195=\"\",\"\",COUNTIF($A$2:$A6195,$A6195))","v":""},{"$f":"IF($A6195=\"\",\"\",$O6195+thousand*VLOOKUP($A6195,$A$1:Q6195,17,FALSE))","v":""},{"$f":"IF(O6195=1,MAX(Q$1:Q6194)+1,\"\")","v":""},"","",6194]
["Sunpreme","Maxima-GxB300 SL",0.182,300,44.9,34.5,9.3000000000000007,8.6999999999999993,1.395,-94.289999999999992,-72.449999999999989,null,6203,null,{"$f":"IF($A6204=\"\",\"\",COUNTIF($A$2:$A6204,$A6204))","v":5},{"$f":"IF($A6204=\"\",\"\",$O6204+thousand*VLOOKUP($A6204,$A$1:Q6204,17,FALSE))","v":80005},{"$f":"IF(O6204=1,MAX(Q$1:Q6203)+1,\"\")","v":""},"Sunpreme","Maxima-GxB300 SL",6203]
[null,null,null,null,null,null,null,null,null,null,{"$error":"#DIV/0!"},null,6211,null,{"$f":"IF($A6212=\"\",\"\",COUNTIF($A$2:$A6212,$A6212))","v":""},{"$f":"IF($A6212=\"\",\"\",$O6212+thousand*VLOOKUP($A6212,$A$1:Q6212,17,FALSE))","v":""},{"$f":"IF(O6212=1,MAX(Q$1:Q6211)+1,\"\")","v":""},"","",6211]
[null,null,null,null,null,null,null,null,null,null,{"$error":"#DIV/0!"},null,6217,null,{"$f":"IF($A6218=\"\",\"\",COUNTIF($A$2:$A6218,$A6218))","v":""},{"$f":"IF($A6218=\"\",\"\",$O6218+thousand*VLOOKUP($A6218,$A$1:Q6218,17,FALSE))","v":""},{"$f":"IF(O6218=1,MAX(Q$1:Q6217)+1,\"\")","v":""},"","",6217]
[null,null,null,null,null,null,null,null,null,null,{"$error":"#DIV/0!"},null,6225,null,{"$f":"IF($A6226=\"\",\"\",COUNTIF($A$2:$A6226,$A6226))","v":""},{"$f":"IF($A6226=\"\",\"\",$O6226+thousand*VLOOKUP($A6226,$A$1:Q6226,17,FALSE))","v":""},{"$f":"IF(O6226=1,MAX(Q$1:Q6225)+1,\"\")","v":""},"","",6225]
[null,null,null,null,null,null,null,null,null,null,{"$error":"#DIV/0!"},null,6228,null,{"$f":"IF($A6229=\"\",\"\",COUNTIF($A$2:$A6229,$A6229))","v":""},{"$f":"IF($A6229=\"\",\"\",$O6229+thousand*VLOOKUP($A6229,$A$1:Q6229,17,FALSE))","v":""},{"$f":"IF(O6229=1,MAX(Q$1:Q6228)+1,\"\")","v":""},"","",6228]
[null,null,null,null,null,null,null,null,null,null,{"$error":"#DIV/0!"},null,6239,null,{"$f":"IF($A6240=\"\",\"\",COUNTIF($A$2:$A6240,$A6240))","v":""},{"$f":"IF($A6240=\"\",\"\",$O6240+thousand*VLOOKUP($A6240,$A$1:Q6240,17,FALSE))","v":""},{"$f":"IF(O6240=1,MAX(Q$1:Q6239)+1,\"\")","v":""},"","",6239]
[null,null,null,null,null,null,null,null,null,null,{"$error":"#DIV/0!"},null,6245,null,{"$f":"IF($A6246=\"\",\"\",COUNTIF($A$2:$A6246,$A6246))","v":""},{"$f":"IF($A6246=\"\",\"\",$O6246+thousand*VLOOKUP($A6246,$A$1:Q6246,17,FALSE))","v":""},{"$f":"IF(O6246=1,MAX(Q$1:Q6245)+1,\"\")","v":""},"","",6245]
[null,null,null,null,null,null,null,null,null,null,{"$error":"#DIV/0!"},null,6253,null,{"$f":"IF($A6254=\"\",\"\",COUNTIF($A$2:$A6254,$A6254))","v":""},{"$f":"IF($A6254=\"\",\"\",$O6254+thousand*VLOOKUP($A6254,$A$1:Q6254,17,FALSE))","v":""},{"$f":"IF(O6254=1,MAX(Q$1:Q6253)+1,\"\")","v":""},"","",6253]
[null,null,null,null,null,null,null,null,null,null,{"$error":"#DIV/0!"},null,6262,null,{"$f":"IF($A6263=\"\",\"\",COUNTIF($A$2:$A6263,$A6263))","v":""},{"$f":"IF($A6263=\"\",\"\",$O6263+thousand*VLOOKUP($A6263,$A$1:Q6263,17,FALSE))","v":""},{"$f":"IF(O6263=1,MAX(Q$1:Q6262)+1,\"\")","v":""},"","",6262]
[null,null,null,null,null,null,null,null,null,null,{"$error":"#DIV/0!"},null,6270,null,{"$f":"IF($A6271=\"\",\"\",COUNTIF($A$2:$A6271,$A6271))","v":""},{"$f":"IF($A6271=\"\",\"\",$O6271+thousand*VLOOKUP($A6271,$A$1:Q6271,17,FALSE))","v":""},{"$f":"IF(O6271=1,MAX(Q$1:Q6270)+1,\"\")","v":""},"","",6270]
[null,null,null,null,null,null,null,null,null,null,{"$error":"#DIV/0!"},null,6275,null,{"$f":"IF($A6276=\"\",\"\",COUNTIF($A$2:$A6276,$A6276))","v":""},{"$f":"IF($A6276=\"\",\"\",$O6276+thousand*VLOOKUP($A6276,$A$1:Q6276,17,FALSE))","v":""},{"$f":"IF(O6276=1,MAX(Q$1:Q6275)+1,\"\")","v":""},"","",6275]
[null,null,null,null,null,null,null,null,null,null,{"$error":"#DIV/0!"},null,6279,null,{"$f":"IF($A6280=\"\",\"\",COUNTIF($A$2:$A6280,$A6280))","v":""},{"$f":"IF($A6280=\"\",\"\",$O6280+thousand*VLOOKUP($A6280,$A$1:Q6280,17,FALSE))","v":""},{"$f":"IF(O6280=1,MAX(Q$1:Q6279)+1,\"\")","v":""},"","",6279]
[null,null,null,null,null,null,null,null,null,null,{"$error":"#DIV/0!"},null,6292,null,{"$f":"IF($A6293=\"\",\"\",COUNTIF($A$2:$A6293,$A6293))","v":""},{"$f":"IF($A6293=\"\",\"\",$O6293+thousand*VLOOKUP($A6293,$A$1:Q6293,17,FALSE))","v":""},{"$f":"IF(O6293=1,MAX(Q$1:Q6292)+1,\"\")","v":""},"","",6292]
[null,null,null,null,null,null,null,null,null,null,{"$error":"#DIV/0!"},null,6296,null,{"$f":"IF($A6297=\"\",\"\",COUNTIF($A$2:$A6297,$A6297))","v":""},{"$f":"IF($A6297=\"\",\"\",$O6297+thousand*VLOOKUP($A6297,$A$1:Q6297,17,FALSE))","v":""},{"$f":"IF(O6297=1,MAX(Q$1:Q6296)+1,\"\")","v":""},"","",6296]
[null,null,null,null,null,null,null,null,null,null,{"$error":"#DIV/0!"},null,6306,null,{"$f":"IF($A6307=\"\",\"\",COUNTIF($A$2:$A6307,$A6307))","v":""},{"$f":"IF($A6307=\"\",\"\",$O6307+thousand*VLOOKUP($A6307,$A$1:Q6307,17,FALSE))","v":""},{"$f":"IF(O6307=1,MAX(Q$1:Q6306)+1,\"\")","v":""},"","",6306]
[null,null,null,null,null,null,null,null,null,null,{"$error":"#DIV/0!"},null,6313,null,{"$f":"IF($A6314=\"\",\"\",COUNTIF($A$2:$A6314,$A6314))","v":""},{"$f":"IF($A6314=\"\",\"\",$O6314+thousand*VLOOKUP($A6314,$A$1:Q6314,17,FALSE))","v":""},{"$f":"IF(O6314=1,MAX(Q$1:Q6313)+1,\"\")","v":""},"","",{"$f":"$M6314","v":6313}]
[null,null,null,null,null,null,null,null,null,null,{"$error":"#DIV/0!"},null,6320,null,{"$f":"IF($A6321=\"\",\"\",COUNTIF($A$2:$A6321,$A6321))","v":""},{"$f":"IF($A6321=\"\",\"\",$O6321+thousand*VLOOKUP($A6321,$A$1:Q6321,17,FALSE))","v":""},{"$f":"IF(O6321=1,MAX(Q$1:Q6320)+1,\"\")","v":""},"","",6320]
[null,null,null,null,null,null,null,null,null,null,{"$error":"#DIV/0!"},null,6328,null,{"$f":"IF($A6329=\"\",\"\",COUNTIF($A$2:$A6329,$A6329))","v":""},{"$f":"IF($A6329=\"\",\"\",$O6329+thousand*VLOOKUP($A6329,$A$1:Q6329,17,FALSE))","v":""},{"$f":"IF(O6329=1,MAX(Q$1:Q6328)+1,\"\")","v":""},"","",6328]
[null,null,null,null,null,null,null,null,null,null,{"$error":"#DIV/0!"},null,6338,null,{"$f":"IF($A6339=\"\",\"\",COUNTIF($A$2:$A6339,$A6339))","v":""},{"$f":"IF($A6339=\"\",\"\",$O6339+thousand*VLOOKUP($A6339,$A$1:Q6339,17,FALSE))","v":""},{"$f":"IF(O6339=1,MAX(Q$1:Q6338)+1,\"\")","v":""},{"$f":"IF(A6339=\"\",\"\",A6339)","v":""},{"$f":"IF(B6339=\"\",\"\",B6339)","v":""},6338]
[null,null,null,null,null,null,null,null,null,null,{"$error":"#DIV/0!"},null,6342,null,{"$f":"IF($A6343=\"\",\"\",COUNTIF($A$2:$A6343,$A6343))","v":""},{"$f":"IF($A6343=\"\",\"\",$O6343+thousand*VLOOKUP($A6343,$A$1:Q6343,17,FALSE))","v":""},{"$f":"IF(O6343=1,MAX(Q$1:Q6342)+1,\"\")","v":""},"","",6342]
[null,null,null,null,null,null,null,null,null,null,{"$error":"#DIV/0!"},null,6347,null,{"$f":"IF($A6348=\"\",\"\",COUNTIF($A$2:$A6348,$A6348))","v":""},{"$f":"IF($A6348=\"\",\"\",$O6348+thousand*VLOOKUP($A6348,$A$1:Q6348,17,FALSE))","v":""},{"$f":"IF(O6348=1,MAX(Q$1:Q6347)+1,\"\")","v":""},"","",6347]
[null,null,null,null,null,null,null,null,null,null,{"$error":"#DIV/0!"},null,6356,null,{"$f":"IF($A6357=\"\",\"\",COUNTIF($A$2:$A6357,$A6357))","v":""},{"$f":"IF($A6357=\"\",\"\",$O6357+thousand*VLOOKUP($A6357,$A$1:Q6357,17,FALSE))","v":""},{"$f":"IF(O6357=1,MAX(Q$1:Q6356)+1,\"\")","v":""},"","",6356]
[null,null,null,null,null,null,null,null,null,null,{"$error":"#DIV/0!"},null,6364,null,{"$f":"IF($A6365=\"\",\"\",COUNTIF($A$2:$A6365,$A6365))","v":""},{"$f":"IF($A6365=\"\",\"\",$O6365+thousand*VLOOKUP($A6365,$A$1:Q6365,17,FALSE))","v":""},{"$f":"IF(O6365=1,MAX(Q$1:Q6364)+1,\"\")","v":""},"","",6364]
[null,null,null,null,null,null,null,null,null,null,{"$error":"#DIV/0!"},null,6372,null,{"$f":"IF($A6373=\"\",\"\",COUNTIF($A$2:$A6373,$A6373))","v":""},{"$f":"IF($A6373=\"\",\"\",$O6373+thousand*VLOOKUP($A6373,$A$1:Q6373,17,FALSE))","v":""},{"$f":"IF(O6373=1,MAX(Q$1:Q6372)+1,\"\")","v":""},"","",6372]
[null,null,null,null,null,null,null,null,null,null,{"$error":"#DIV/0!"},null,6378,null,{"$f":"IF($A6379=\"\",\"\",COUNTIF($A$2:$A6379,$A6379))","v":""},{"$f":"IF($A6379=\"\",\"\",$O6379+thousand*VLOOKUP($A6379,$A$1:Q6379,17,FALSE))","v":""},{"$f":"IF(O6379=1,MAX(Q$1:Q6378)+1,\"\")","v":""},"","",6378]
[null,null,null,null,null,null,null,null,null,null,{"$error":"#DIV/0!"},null,6389,null,{"$f":"IF($A6390=\"\",\"\",COUNTIF($A$2:$A6390,$A6390))","v":""},{"$f":"IF($A6390=\"\",\"\",$O6390+thousand*VLOOKUP($A6390,$A$1:Q6390,17,FALSE))","v":""},{"$f":"IF(O6390=1,MAX(Q$1:Q6389)+1,\"\")","v":""},"","",6389]
[null,null,null,null,null,null,null,null,null,null,{"$error":"#DIV/0!"},null,6392,null,{"$f":"IF($A6393=\"\",\"\",COUNTIF($A$2:$A6393,$A6393))","v":""},{"$f":"IF($A6393=\"\",\"\",$O6393+thousand*VLOOKUP($A6393,$A$1:Q6393,17,FALSE))","v":""},{"$f":"IF(O6393=1,MAX(Q$1:Q6392)+1,\"\")","v":""},"","",6392]
[null,null,null,null,null,null,null,null,null,null,{"$error":"#DIV/0!"},null,6398,null,{"$f":"IF($A6399=\"\",\"\",COUNTIF($A$2:$A6399,$A6399))","v":""},{"$f":"IF($A6399=\"\",\"\",$O6399+thousand*VLOOKUP($A6399,$A$1:Q6399,17,FALSE))","v":""},{"$f":"IF(O6399=1,MAX(Q$1:Q6398)+1,\"\")","v":""},"","",6398]
[null,null,null,null,null,null,null,null,null,null,{"$error":"#DIV/0!"},null,6406,null,{"$f":"IF($A6407=\"\",\"\",COUNTIF($A$2:$A6407,$A6407))","v":""},{"$f":"IF($A6407=\"\",\"\",$O6407+thousand*VLOOKUP($A6407,$A$1:Q6407,17,FALSE))","v":""},{"$f":"IF(O6407=1,MAX(Q$1:Q6406)+1,\"\")","v":""},"","",6406]
[null,null,null,null,null,null,null,null,null,null,{"$error":"#DIV/0!"},null,6414,null,{"$f":"IF($A6415=\"\",\"\",COUNTIF($A$2:$A6415,$A6415))","v":""},{"$f":"IF($A6415=\"\",\"\",$O6415+thousand*VLOOKUP($A6415,$A$1:Q6415,17,FALSE))","v":""},{"$f":"IF(O6415=1,MAX(Q$1:Q6414)+1,\"\")","v":""},"","",6414]
[null,null,null,null,null,null,null,null,null,null,{"$error":"#DIV/0!"},null,6423,null,{"$f":"IF($A6424=\"\",\"\",COUNTIF($A$2:$A6424,$A6424))","v":""},{"$f":"IF($A6424=\"\",\"\",$O6424+thousand*VLOOKUP($A6424,$A$1:Q6424,17,FALSE))","v":""},{"$f":"IF(O6424=1,MAX(Q$1:Q6423)+1,\"\")","v":""},"","",6423]
[null,null,null,null,null,null,null,null,null,null,{"$error":"#DIV/0!"},null,6428,null,{"$f":"IF($A6429=\"\",\"\",COUNTIF($A$2:$A6429,$A6429))","v":""},{"$f":"IF($A6429=\"\",\"\",$O6429+thousand*VLOOKUP($A6429,$A$1:Q6429,17,FALSE))","v":""},{"$f":"IF(O6429=1,MAX(Q$1:Q6428)+1,\"\")","v":""},"","",6428]
[null,null,null,null,null,null,null,null,null,null,{"$error":"#DIV/0!"},null,6440,null,{"$f":"IF($A6441=\"\",\"\",COUNTIF($A$2:$A6441,$A6441))","v":""},{"$f":"IF($A6441=\"\",\"\",$O6441+thousand*VLOOKUP($A6441,$A$1:Q6441,17,FALSE))","v":""},{"$f":"IF(O6441=1,MAX(Q$1:Q6440)+1,\"\")","v":""},"","",6440]
[null,null,null,null,null,null,null,null,null,null,{"$error":"#DIV/0!"},null,6445,null,{"$f":"IF($A6446=\"\",\"\",COUNTIF($A$2:$A6446,$A6446))","v":""},{"$f":"IF($A6446=\"\",\"\",$O6446+thousand*VLOOKUP($A6446,$A$1:Q6446,17,FALSE))","v":""},{"$f":"IF(O6446=1,MAX(Q$1:Q6445)+1,\"\")","v":""},"","",6445]
[null,null,null,null,null,null,null,null,null,null,{"$error":"#DIV/0!"},null,6457,null,{"$f":"IF($A6458=\"\",\"\",COUNTIF($A$2:$A6458,$A6458))","v":""},{"$f":"IF($A6458=\"\",\"\",$O6458+thousand*VLOOKUP($A6458,$A$1:Q6458,17,FALSE))","v":""},{"$f":"IF(O6458=1,MAX(Q$1:Q6457)+1,\"\")","v":""},"","",6457]
[null,null,null,null,null,null,null,null,null,null,{"$error":"#DIV/0!"},null,6459,null,{"$f":"IF($A6460=\"\",\"\",COUNTIF($A$2:$A6460,$A6460))","v":""},{"$f":"IF($A6460=\"\",\"\",$O6460+thousand*VLOOKUP($A6460,$A$1:Q6460,17,FALSE))","v":""},{"$f":"IF(O6460=1,MAX(Q$1:Q6459)+1,\"\")","v":""},"","",6459]
[null,null,null,null,null,null,null,null,null,null,{"$error":"#DIV/0!"},null,6471,null,{"$f":"IF($A6472=\"\",\"\",COUNTIF($A$2:$A6472,$A6472))","v":""},{"$f":"IF($A6472=\"\",\"\",$O6472+thousand*VLOOKUP($A6472,$A$1:Q6472,17,FALSE))","v":""},{"$f":"IF(O6472=1,MAX(Q$1:Q6471)+1,\"\")","v":""},"","",6471]
[null,null,null,null,null,null,null,null,null,null,{"$error":"#DIV/0!"},null,6474,null,{"$f":"IF($A6475=\"\",\"\",COUNTIF($A$2:$A6475,$A6475))","v":""},{"$f":"IF($A6475=\"\",\"\",$O6475+thousand*VLOOKUP($A6475,$A$1:Q6475,17,FALSE))","v":""},{"$f":"IF(O6475=1,MAX(Q$1:Q6474)+1,\"\")","v":""},"","",6474]
[null,null,null,null,null,null,null,null,null,null,{"$error":"#DIV/0!"},null,6481,null,{"$f":"IF($A6482=\"\",\"\",COUNTIF($A$2:$A6482,$A6482))","v":""},{"$f":"IF($A6482=\"\",\"\",$O6482+thousand*VLOOKUP($A6482,$A$1:Q6482,17,FALSE))","v":""},{"$f":"IF(O6482=1,MAX(Q$1:Q6481)+1,\"\")","v":""},"","",6481]
[null,null,null,null,null,null,null,null,null,null,{"$error":"#DIV/0!"},null,6491,null,{"$f":"IF($A6492=\"\",\"\",COUNTIF($A$2:$A6492,$A6492))","v":""},{"$f":"IF($A6492=\"\",\"\",$O6492+thousand*VLOOKUP($A6492,$A$1:Q6492,17,FALSE))","v":""},{"$f":"IF(O6492=1,MAX(Q$1:Q6491)+1,\"\")","v":""},"","",6491]
[null,null,null,null,null,null,null,null,null,null,{"$error":"#DIV/0!"},null,6495,null,{"$f":"IF($A6496=\"\",\"\",COUNTIF($A$2:$A6496,$A6496))","v":""},{"$f":"IF($A6496=\"\",\"\",$O6496+thousand*VLOOKUP($A6496,$A$1:Q6496,17,FALSE))","v":""},{"$f":"IF(O6496=1,MAX(Q$1:Q6495)+1,\"\")","v":""},"","",6495]
[null,null,null,null,null,null,null,null,null,null,{"$error":"#DIV/0!"},null,6508,null,{"$f":"IF($A6509=\"\",\"\",COUNTIF($A$2:$A6509,$A6509))","v":""},{"$f":"IF($A6509=\"\",\"\",$O6509+thousand*VLOOKUP($A6509,$A$1:Q6509,17,FALSE))","v":""},{"$f":"IF(O6509=1,MAX(Q$1:Q6508)+1,\"\")","v":""},"","",6508]
[null,null,null,null,null,null,null,null,null,null,{"$error":"#DIV/0!"},null,6516,null,{"$f":"IF($A6517=\"\",\"\",COUNTIF($A$2:$A6517,$A6517))","v":""},{"$f":"IF($A6517=\"\",\"\",$O6517+thousand*VLOOKUP($A6517,$A$1:Q6517,17,FALSE))","v":""},{"$f":"IF(O6517=1,MAX(Q$1:Q6516)+1,\"\")","v":""},"","",6516]
[null,null,null,null,null,null,null,null,null,null,{"$error":"#DIV/0!"},null,6517,null,{"$f":"IF($A6518=\"\",\"\",COUNTIF($A$2:$A6518,$A6518))","v":""},{"$f":"IF($A6518=\"\",\"\",$O6518+thousand*VLOOKUP($A6518,$A$1:Q6518,17,FALSE))","v":""},{"$f":"IF(O6518=1,MAX(Q$1:Q6517)+1,\"\")","v":""},"","",6517]
[null,null,null,null,null,null,null,null,null,null,{"$error":"#DIV/0!"},null,6525,null,{"$f":"IF($A6526=\"\",\"\",COUNTIF($A$2:$A6526,$A6526))","v":""},{"$f":"IF($A6526=\"\",\"\",$O6526+thousand*VLOOKUP($A6526,$A$1:Q6526,17,FALSE))","v":""},{"$f":"IF(O6526=1,MAX(Q$1:Q6525)+1,\"\")","v":""},"","",6525]
[null,null,null,null,null,null,null,null,null,null,{"$error":"#DIV/0!"},null,6538,null,{"$f":"IF($A6539=\"\",\"\",COUNTIF($A$2:$A6539,$A6539))","v":""},{"$f":"IF($A6539=\"\",\"\",$O6539+thousand*VLOOKUP($A6539,$A$1:Q6539,17,FALSE))","v":""},{"$f":"IF(O6539=1,MAX(Q$1:Q6538)+1,\"\")","v":""},"","",6538]
[null,null,null,null,null,null,null,null,null,null,{"$error":"#DIV/0!"},null,6542,null,{"$f":"IF($A6543=\"\",\"\",COUNTIF($A$2:$A6543,$A6543))","v":""},{"$f":"IF($A6543=\"\",\"\",$O6543+thousand*VLOOKUP($A6543,$A$1:Q6543,17,FALSE))","v":""},{"$f":"IF(O6543=1,MAX(Q$1:Q6542)+1,\"\")","v":""},"","",6542]
[null,null,null,null,null,null,null,null,null,null,{"$error":"#DIV/0!"},null,6552,null,{"$f":"IF($A6553=\"\",\"\",COUNTIF($A$2:$A6553,$A6553))","v":""},{"$f":"IF($A6553=\"\",\"\",$O6553+thousand*VLOOKUP($A6553,$A$1:Q6553,17,FALSE))","v":""},{"$f":"IF(O6553=1,MAX(Q$1:Q6552)+1,\"\")","v":""},"","",6552]
[null,null,null,null,null,null,null,null,null,null,{"$error":"#DIV/0!"},null,6559,null,{"$f":"IF($A6560=\"\",\"\",COUNTIF($A$2:$A6560,$A6560))","v":""},{"$f":"IF($A6560=\"\",\"\",$O6560+thousand*VLOOKUP($A6560,$A$1:Q6560,17,FALSE))","v":""},{"$f":"IF(O6560=1,MAX(Q$1:Q6559)+1,\"\")","v":""},"","",6559]
[null,null,null,null,null,null,null,null,null,null,{"$error":"#DIV/0!"},null,6566,null,{"$f":"IF($A6567=\"\",\"\",COUNTIF($A$2:$A6567,$A6567))","v":""},{"$f":"IF($A6567=\"\",\"\",$O6567+thousand*VLOOKUP($A6567,$A$1:Q6567,17,FALSE))","v":""},{"$f":"IF(O6567=1,MAX(Q$1:Q6566)+1,\"\")","v":""},"","",6566]
[null,null,null,null,null,null,null,null,null,null,{"$error":"#DIV/0!"},null,6574,null,{"$f":"IF($A6575=\"\",\"\",COUNTIF($A$2:$A6575,$A6575))","v":""},{"$f":"IF($A6575=\"\",\"\",$O6575+thousand*VLOOKUP($A6575,$A$1:Q6575,17,FALSE))","v":""},{"$f":"IF(O6575=1,MAX(Q$1:Q6574)+1,\"\")","v":""},"","",6574]
[null,null,null,null,null,null,null,null,null,null,{"$error":"#DIV/0!"},null,6576,null,{"$f":"IF($A6577=\"\",\"\",COUNTIF($A$2:$A6577,$A6577))","v":""},{"$f":"IF($A6577=\"\",\"\",$O6577+thousand*VLOOKUP($A6577,$A$1:Q6577,17,FALSE))","v":""},{"$f":"IF(O6577=1,MAX(Q$1:Q6576)+1,\"\")","v":""},"","",6576]
[null,null,null,null,null,null,null,null,null,null,{"$error":"#DIV/0!"},null,6588,null,{"$f":"IF($A6589=\"\",\"\",COUNTIF($A$2:$A6589,$A6589))","v":""},{"$f":"IF($A6589=\"\",\"\",$O6589+thousand*VLOOKUP($A6589,$A$1:Q6589,17,FALSE))","v":""},{"$f":"IF(O6589=1,MAX(Q$1:Q6588)+1,\"\")","v":""},"","",6588]
[null,null,null,null,null,null,null,null,null,null,{"$error":"#DIV/0!"},null,6593,null,{"$f":"IF($A6594=\"\",\"\",COUNTIF($A$2:$A6594,$A6594))","v":""},{"$f":"IF($A6594=\"\",\"\",$O6594+thousand*VLOOKUP($A6594,$A$1:Q6594,17,FALSE))","v":""},{"$f":"IF(O6594=1,MAX(Q$1:Q6593)+1,\"\")","v":""},"","",6593]
[null,null,null,null,null,null,null,null,null,null,{"$error":"#DIV/0!"},null,6602,null,{"$f":"IF($A6603=\"\",\"\",COUNTIF($A$2:$A6603,$A6603))","v":""},{"$f":"IF($A6603=\"\",\"\",$O6603+thousand*VLOOKUP($A6603,$A$1:Q6603,17,FALSE))","v":""},{"$f":"IF(O6603=1,MAX(Q$1:Q6602)+1,\"\")","v":""},"","",6602]
[null,null,null,null,null,null,null,null,null,null,{"$error":"#DIV/0!"},null,6610,null,{"$f":"IF($A6611=\"\",\"\",COUNTIF($A$2:$A6611,$A6611))","v":""},{"$f":"IF($A6611=\"\",\"\",$O6611+thousand*VLOOKUP($A6611,$A$1:Q6611,17,FALSE))","v":""},{"$f":"IF(O6611=1,MAX(Q$1:Q6610)+1,\"\")","v":""},"","",6610]
[null,null,null,null,null,null,null,null,null,null,{"$error":"#DIV/0!"},null,6619,null,{"$f":"IF($A6620=\"\",\"\",COUNTIF($A$2:$A6620,$A6620))","v":""},{"$f":"IF($A6620=\"\",\"\",$O6620+thousand*VLOOKUP($A6620,$A$1:Q6620,17,FALSE))","v":""},{"$f":"IF(O6620=1,MAX(Q$1:Q6619)+1,\"\")","v":""},"","",6619]
[null,null,null,null,null,null,null,null,null,null,{"$error":"#DIV/0!"},null,6624,null,{"$f":"IF($A6625=\"\",\"\",COUNTIF($A$2:$A6625,$A6625))","v":""},{"$f":"IF($A6625=\"\",\"\",$O6625+thousand*VLOOKUP($A6625,$A$1:Q6625,17,FALSE))","v":""},{"$f":"IF(O6625=1,MAX(Q$1:Q6624)+1,\"\")","v":""},"","",6624]
[null,null,null,null,null,null,null,null,null,null,{"$error":"#DIV/0!"},null,6635,null,{"$f":"IF($A6636=\"\",\"\",COUNTIF($A$2:$A6636,$A6636))","v":""},{"$f":"IF($A6636=\"\",\"\",$O6636+thousand*VLOOKUP($A6636,$A$1:Q6636,17,FALSE))","v":""},{"$f":"IF(O6636=1,MAX(Q$1:Q6635)+1,\"\")","v":""},"","",6635]
[null,null,null,null,null,null,null,null,null,null,{"$error":"#DIV/0!"},null,6641,null,{"$f":"IF($A6642=\"\",\"\",COUNTIF($A$2:$A6642,$A6642))","v":""},{"$f":"IF($A6642=\"\",\"\",$O6642+thousand*VLOOKUP($A6642,$A$1:Q6642,17,FALSE))","v":""},{"$f":"IF(O6642=1,MAX(Q$1:Q6641)+1,\"\")","v":""},"","",6641]
[null,null,null,null,null,null,null,null,null,null,{"$error":"#DIV/0!"},null,6644,null,{"$f":"IF($A6645=\"\",\"\",COUNTIF($A$2:$A6645,$A6645))","v":""},{"$f":"IF($A6645=\"\",\"\",$O6645+thousand*VLOOKUP($A6645,$A$1:Q6645,17,FALSE))","v":""},{"$f":"IF(O6645=1,MAX(Q$1:Q6644)+1,\"\")","v":""},"","",6644]
[null,null,null,null,null,null,null,null,null,null,{"$error":"#DIV/0!"},null,6655,null,{"$f":"IF($A6656=\"\",\"\",COUNTIF($A$2:$A6656,$A6656))","v":""},{"$f":"IF($A6656=\"\",\"\",$O6656+thousand*VLOOKUP($A6656,$A$1:Q6656,17,FALSE))","v":""},{"$f":"IF(O6656=1,MAX(Q$1:Q6655)+1,\"\")","v":""},"","",6655]
[null,null,null,null,null,null,null,null,null,null,{"$f":"F6662/E6662*J6662","v":{"$error":"#DIV/0!"}},null,6661,null,{"$f":"IF($A6662=\"\",\"\",COUNTIF($A$2:$A6662,$A6662))","v":""},{"$f":"IF($A6662=\"\",\"\",$O6662+thousand*VLOOKUP($A6662,$A$1:Q6662,17,FALSE))","v":""},{"$f":"IF(O6662=1,MAX(Q$1:Q6661)+1,\"\")","v":""},"","",6661]
[null,null,null,null,null,null,null,null,null,null,{"$error":"#DIV/0!"},null,6669,null,{"$f":"IF($A6670=\"\",\"\",COUNTIF($A$2:$A6670,$A6670))","v":""},{"$f":"IF($A6670=\"\",\"\",$O6670+thousand*VLOOKUP($A6670,$A$1:Q6670,17,FALSE))","v":""},{"$f":"IF(O6670=1,MAX(Q$1:Q6669)+1,\"\")","v":""},"","",6669]
[null,null,null,null,null,null,null,null,null,null,{"$error":"#DIV/0!"},null,6677,null,{"$f":"IF($A6678=\"\",\"\",COUNTIF($A$2:$A6678,$A6678))","v":""},{"$f":"IF($A6678=\"\",\"\",$O6678+thousand*VLOOKUP($A6678,$A$1:Q6678,17,FALSE))","v":""},{"$f":"IF(O6678=1,MAX(Q$1:Q6677)+1,\"\")","v":""},"","",6677]
[null,null,null,null,null,null,null,null,null,null,{"$error":"#DIV/0!"},null,6686,null,{"$f":"IF($A6687=\"\",\"\",COUNTIF($A$2:$A6687,$A6687))","v":""},{"$f":"IF($A6687=\"\",\"\",$O6687+thousand*VLOOKUP($A6687,$A$1:Q6687,17,FALSE))","v":""},{"$f":"IF(O6687=1,MAX(Q$1:Q6686)+1,\"\")","v":""},"","",6686]
[null,null,null,null,null,null,null,null,null,null,{"$error":"#DIV/0!"},null,6691,null,{"$f":"IF($A6692=\"\",\"\",COUNTIF($A$2:$A6692,$A6692))","v":""},{"$f":"IF($A6692=\"\",\"\",$O6692+thousand*VLOOKUP($A6692,$A$1:Q6692,17,FALSE))","v":""},{"$f":"IF(O6692=1,MAX(Q$1:Q6691)+1,\"\")","v":""},"","",6691]
[null,null,null,null,null,null,null,null,null,null,{"$error":"#DIV/0!"},null,6695,null,{"$f":"IF($A6696=\"\",\"\",COUNTIF($A$2:$A6696,$A6696))","v":""},{"$f":"IF($A6696=\"\",\"\",$O6696+thousand*VLOOKUP($A6696,$A$1:Q6696,17,FALSE))","v":""},{"$f":"IF(O6696=1,MAX(Q$1:Q6695)+1,\"\")","v":""},"","",6695]
[null,null,null,null,null,null,null,null,null,null,{"$error":"#DIV/0!"},null,6705,null,{"$f":"IF($A6706=\"\",\"\",COUNTIF($A$2:$A6706,$A6706))","v":""},{"$f":"IF($A6706=\"\",\"\",$O6706+thousand*VLOOKUP($A6706,$A$1:Q6706,17,FALSE))","v":""},{"$f":"IF(O6706=1,MAX(Q$1:Q6705)+1,\"\")","v":""},"","",6705]
[null,null,null,null,null,null,null,null,null,null,{"$error":"#DIV/0!"},null,6712,null,{"$f":"IF($A6713=\"\",\"\",COUNTIF($A$2:$A6713,$A6713))","v":""},{"$f":"IF($A6713=\"\",\"\",$O6713+thousand*VLOOKUP($A6713,$A$1:Q6713,17,FALSE))","v":""},{"$f":"IF(O6713=1,MAX(Q$1:Q6712)+1,\"\")","v":""},"","",6712]
[null,null,null,null,null,null,null,null,null,null,{"$error":"#DIV/0!"},null,6719,null,{"$f":"IF($A6720=\"\",\"\",COUNTIF($A$2:$A6720,$A6720))","v":""},{"$f":"IF($A6720=\"\",\"\",$O6720+thousand*VLOOKUP($A6720,$A$1:Q6720,17,FALSE))","v":""},{"$f":"IF(O6720=1,MAX(Q$1:Q6719)+1,\"\")","v":""},"","",6719]
[null,null,null,null,null,null,null,null,null,null,{"$error":"#DIV/0!"},null,6727,null,{"$f":"IF($A6728=\"\",\"\",COUNTIF($A$2:$A6728,$A6728))","v":""},{"$f":"IF($A6728=\"\",\"\",$O6728+thousand*VLOOKUP($A6728,$A$1:Q6728,17,FALSE))","v":""},{"$f":"IF(O6728=1,MAX(Q$1:Q6727)+1,\"\")","v":""},"","",6727]
[null,null,null,null,null,null,null,null,null,null,{"$error":"#DIV/0!"},null,6737,null,{"$f":"IF($A6738=\"\",\"\",COUNTIF($A$2:$A6738,$A6738))","v":""},{"$f":"IF($A6738=\"\",\"\",$O6738+thousand*VLOOKUP($A6738,$A$1:Q6738,17,FALSE))","v":""},{"$f":"IF(O6738=1,MAX(Q$1:Q6737)+1,\"\")","v":""},"","",6737]
[null,null,null,null,null,null,null,null,null,null,{"$error":"#DIV/0!"},null,6741,null,{"$f":"IF($A6742=\"\",\"\",COUNTIF($A$2:$A6742,$A6742))","v":""},{"$f":"IF($A6742=\"\",\"\",$O6742+thousand*VLOOKUP($A6742,$A$1:Q6742,17,FALSE))","v":""},{"$f":"IF(O6742=1,MAX(Q$1:Q6741)+1,\"\")","v":""},"","",6741]
[null,null,null,null,null,null,null,null,null,null,{"$error":"#DIV/0!"},null,6754,null,{"$f":"IF($A6755=\"\",\"\",COUNTIF($A$2:$A6755,$A6755))","v":""},{"$f":"IF($A6755=\"\",\"\",$O6755+thousand*VLOOKUP($A6755,$A$1:Q6755,17,FALSE))","v":""},{"$f":"IF(O6755=1,MAX(Q$1:Q6754)+1,\"\")","v":""},"","",6754]
[null,null,null,null,null,null,null,null,null,null,{"$error":"#DIV/0!"},null,6755,null,{"$f":"IF($A6756=\"\",\"\",COUNTIF($A$2:$A6756,$A6756))","v":""},{"$f":"IF($A6756=\"\",\"\",$O6756+thousand*VLOOKUP($A6756,$A$1:Q6756,17,FALSE))","v":""},{"$f":"IF(O6756=1,MAX(Q$1:Q6755)+1,\"\")","v":""},"","",6755]
[null,null,null,null,null,null,null,null,null,null,{"$error":"#DIV/0!"},null,6763,null,{"$f":"IF($A6764=\"\",\"\",COUNTIF($A$2:$A6764,$A6764))","v":""},{"$f":"IF($A6764=\"\",\"\",$O6764+thousand*VLOOKUP($A6764,$A$1:Q6764,17,FALSE))","v":""},{"$f":"IF(O6764=1,MAX(Q$1:Q6763)+1,\"\")","v":""},"","",6763]
[null,null,null,null,null,null,null,null,null,null,{"$error":"#DIV/0!"},null,6772,null,{"$f":"IF($A6773=\"\",\"\",COUNTIF($A$2:$A6773,$A6773))","v":""},{"$f":"IF($A6773=\"\",\"\",$O6773+thousand*VLOOKUP($A6773,$A$1:Q6773,17,FALSE))","v":""},{"$f":"IF(O6773=1,MAX(Q$1:Q6772)+1,\"\")","v":""},"","",6772]
[null,null,null,null,null,null,null,null,null,null,{"$error":"#DIV/0!"},null,6777,null,{"$f":"IF($A6778=\"\",\"\",COUNTIF($A$2:$A6778,$A6778))","v":""},{"$f":"IF($A6778=\"\",\"\",$O6778+thousand*VLOOKUP($A6778,$A$1:Q6778,17,FALSE))","v":""},{"$f":"IF(O6778=1,MAX(Q$1:Q6777)+1,\"\")","v":""},"","",6777]
[null,null,null,null,null,null,null,null,null,null,{"$error":"#DIV/0!"},null,6788,null,{"$f":"IF($A6789=\"\",\"\",COUNTIF($A$2:$A6789,$A6789))","v":""},{"$f":"IF($A6789=\"\",\"\",$O6789+thousand*VLOOKUP($A6789,$A$1:Q6789,17,FALSE))","v":""},{"$f":"IF(O6789=1,MAX(Q$1:Q6788)+1,\"\")","v":""},"","",6788]
[null,null,null,null,null,null,null,null,null,null,{"$error":"#DIV/0!"},null,6794,null,{"$f":"IF($A6795=\"\",\"\",COUNTIF($A$2:$A6795,$A6795))","v":""},{"$f":"IF($A6795=\"\",\"\",$O6795+thousand*VLOOKUP($A6795,$A$1:Q6795,17,FALSE))","v":""},{"$f":"IF(O6795=1,MAX(Q$1:Q6794)+1,\"\")","v":""},"","",6794]
[null,null,null,null,null,null,null,null,null,null,{"$error":"#DIV/0!"},null,6805,null,{"$f":"IF($A6806=\"\",\"\",COUNTIF($A$2:$A6806,$A6806))","v":""},{"$f":"IF($A6806=\"\",\"\",$O6806+thousand*VLOOKUP($A6806,$A$1:Q6806,17,FALSE))","v":""},{"$f":"IF(O6806=1,MAX(Q$1:Q6805)+1,\"\")","v":""},"","",6805]
[null,null,null,null,null,null,null,null,null,null,{"$error":"#DIV/0!"},null,6808,null,{"$f":"IF($A6809=\"\",\"\",COUNTIF($A$2:$A6809,$A6809))","v":""},{"$f":"IF($A6809=\"\",\"\",$O6809+thousand*VLOOKUP($A6809,$A$1:Q6809,17,FALSE))","v":""},{"$f":"IF(O6809=1,MAX(Q$1:Q6808)+1,\"\")","v":""},"","",6808]
[null,null,null,null,null,null,null,null,null,null,{"$error":"#DIV/0!"},null,6820,null,{"$f":"IF($A6821=\"\",\"\",COUNTIF($A$2:$A6821,$A6821))","v":""},{"$f":"IF($A6821=\"\",\"\",$O6821+thousand*VLOOKUP($A6821,$A$1:Q6821,17,FALSE))","v":""},{"$f":"IF(O6821=1,MAX(Q$1:Q6820)+1,\"\")","v":""},"","",6820]
[null,null,null,null,null,null,null,null,null,null,{"$error":"#DIV/0!"},null,6822,null,{"$f":"IF($A6823=\"\",\"\",COUNTIF($A$2:$A6823,$A6823))","v":""},{"$f":"IF($A6823=\"\",\"\",$O6823+thousand*VLOOKUP($A6823,$A$1:Q6823,17,FALSE))","v":""},{"$f":"IF(O6823=1,MAX(Q$1:Q6822)+1,\"\")","v":""},"","",6822]
[null,null,null,null,null,null,null,null,null,null,{"$error":"#DIV/0!"},null,6830,null,{"$f":"IF($A6831=\"\",\"\",COUNTIF($A$2:$A6831,$A6831))","v":""},{"$f":"IF($A6831=\"\",\"\",$O6831+thousand*VLOOKUP($A6831,$A$1:Q6831,17,FALSE))","v":""},{"$f":"IF(O6831=1,MAX(Q$1:Q6830)+1,\"\")","v":""},"","",6830]
[null,null,null,null,null,null,null,null,null,null,{"$error":"#DIV/0!"},null,6839,null,{"$f":"IF($A6840=\"\",\"\",COUNTIF($A$2:$A6840,$A6840))","v":""},{"$f":"IF($A6840=\"\",\"\",$O6840+thousand*VLOOKUP($A6840,$A$1:Q6840,17,FALSE))","v":""},{"$f":"IF(O6840=1,MAX(Q$1:Q6839)+1,\"\")","v":""},"","",6839]
[null,null,null,null,null,null,null,null,null,null,{"$error":"#DIV/0!"},null,6844,null,{"$f":"IF($A6845=\"\",\"\",COUNTIF($A$2:$A6845,$A6845))","v":""},{"$f":"IF($A6845=\"\",\"\",$O6845+thousand*VLOOKUP($A6845,$A$1:Q6845,17,FALSE))","v":""},{"$f":"IF(O6845=1,MAX(Q$1:Q6844)+1,\"\")","v":""},"","",6844]
[null,null,null,null,null,null,null,null,null,null,{"$error":"#DIV/0!"},null,6856,null,{"$f":"IF($A6857=\"\",\"\",COUNTIF($A$2:$A6857,$A6857))","v":""},{"$f":"IF($A6857=\"\",\"\",$O6857+thousand*VLOOKUP($A6857,$A$1:Q6857,17,FALSE))","v":""},{"$f":"IF(O6857=1,MAX(Q$1:Q6856)+1,\"\")","v":""},"","",6856]
[null,null,null,null,null,null,null,null,null,null,{"$error":"#DIV/0!"},null,6865,null,{"$f":"IF($A6866=\"\",\"\",COUNTIF($A$2:$A6866,$A6866))","v":""},{"$f":"IF($A6866=\"\",\"\",$O6866+thousand*VLOOKUP($A6866,$A$1:Q6866,17,FALSE))","v":""},{"$f":"IF(O6866=1,MAX(Q$1:Q6865)+1,\"\")","v":""},"","",6865]
[null,null,null,null,null,null,null,null,null,null,{"$error":"#DIV/0!"},null,6866,null,{"$f":"IF($A6867=\"\",\"\",COUNTIF($A$2:$A6867,$A6867))","v":""},{"$f":"IF($A6867=\"\",\"\",$O6867+thousand*VLOOKUP($A6867,$A$1:Q6867,17,FALSE))","v":""},{"$f":"IF(O6867=1,MAX(Q$1:Q6866)+1,\"\")","v":""},"","",6866]
[null,null,null,null,null,null,null,null,null,null,{"$error":"#DIV/0!"},null,6873,null,{"$f":"IF($A6874=\"\",\"\",COUNTIF($A$2:$A6874,$A6874))","v":""},{"$f":"IF($A6874=\"\",\"\",$O6874+thousand*VLOOKUP($A6874,$A$1:Q6874,17,FALSE))","v":""},{"$f":"IF(O6874=1,MAX(Q$1:Q6873)+1,\"\")","v":""},"","",6873]
[null,null,null,null,null,null,null,null,null,null,{"$error":"#DIV/0!"},null,6887,null,{"$f":"IF($A6888=\"\",\"\",COUNTIF($A$2:$A6888,$A6888))","v":""},{"$f":"IF($A6888=\"\",\"\",$O6888+thousand*VLOOKUP($A6888,$A$1:Q6888,17,FALSE))","v":""},{"$f":"IF(O6888=1,MAX(Q$1:Q6887)+1,\"\")","v":""},"","",6887]
[null,null,null,null,null,null,null,null,null,null,{"$error":"#DIV/0!"},null,6890,null,{"$f":"IF($A6891=\"\",\"\",COUNTIF($A$2:$A6891,$A6891))","v":""},{"$f":"IF($A6891=\"\",\"\",$O6891+thousand*VLOOKUP($A6891,$A$1:Q6891,17,FALSE))","v":""},{"$f":"IF(O6891=1,MAX(Q$1:Q6890)+1,\"\")","v":""},"","",6890]
[null,null,null,null,null,null,null,null,null,null,{"$error":"#DIV/0!"},null,6901,null,{"$f":"IF($A6902=\"\",\"\",COUNTIF($A$2:$A6902,$A6902))","v":""},{"$f":"IF($A6902=\"\",\"\",$O6902+thousand*VLOOKUP($A6902,$A$1:Q6902,17,FALSE))","v":""},{"$f":"IF(O6902=1,MAX(Q$1:Q6901)+1,\"\")","v":""},"","",6901]
[null,null,null,null,null,null,null,null,null,null,{"$error":"#DIV/0!"},null,6907,null,{"$f":"IF($A6908=\"\",\"\",COUNTIF($A$2:$A6908,$A6908))","v":""},{"$f":"IF($A6908=\"\",\"\",$O6908+thousand*VLOOKUP($A6908,$A$1:Q6908,17,FALSE))","v":""},{"$f":"IF(O6908=1,MAX(Q$1:Q6907)+1,\"\")","v":""},"","",6907]
[null,null,null,null,null,null,null,null,null,null,{"$error":"#DIV/0!"},null,6915,null,{"$f":"IF($A6916=\"\",\"\",COUNTIF($A$2:$A6916,$A6916))","v":""},{"$f":"IF($A6916=\"\",\"\",$O6916+thousand*VLOOKUP($A6916,$A$1:Q6916,17,FALSE))","v":""},{"$f":"IF(O6916=1,MAX(Q$1:Q6915)+1,\"\")","v":""},"","",6915]
[null,null,null,null,null,null,null,null,null,null,{"$error":"#DIV/0!"},null,6923,null,{"$f":"IF($A6924=\"\",\"\",COUNTIF($A$2:$A6924,$A6924))","v":""},{"$f":"IF($A6924=\"\",\"\",$O6924+thousand*VLOOKUP($A6924,$A$1:Q6924,17,FALSE))","v":""},{"$f":"IF(O6924=1,MAX(Q$1:Q6923)+1,\"\")","v":""},"","",6923]
[null,null,null,null,null,null,null,null,null,null,{"$error":"#DIV/0!"},null,6932,null,{"$f":"IF($A6933=\"\",\"\",COUNTIF($A$2:$A6933,$A6933))","v":""},{"$f":"IF($A6933=\"\",\"\",$O6933+thousand*VLOOKUP($A6933,$A$1:Q6933,17,FALSE))","v":""},{"$f":"IF(O6933=1,MAX(Q$1:Q6932)+1,\"\")","v":""},"","",6932]
[null,null,null,null,null,null,null,null,null,null,{"$error":"#DIV/0!"},null,6937,null,{"$f":"IF($A6938=\"\",\"\",COUNTIF($A$2:$A6938,$A6938))","v":""},{"$f":"IF($A6938=\"\",\"\",$O6938+thousand*VLOOKUP($A6938,$A$1:Q6938,17,FALSE))","v":""},{"$f":"IF(O6938=1,MAX(Q$1:Q6937)+1,\"\")","v":""},"","",6937]
[null,null,null,null,null,null,null,null,null,null,{"$error":"#DIV/0!"},null,6941,null,{"$f":"IF($A6942=\"\",\"\",COUNTIF($A$2:$A6942,$A6942))","v":""},{"$f":"IF($A6942=\"\",\"\",$O6942+thousand*VLOOKUP($A6942,$A$1:Q6942,17,FALSE))","v":""},{"$f":"IF(O6942=1,MAX(Q$1:Q6941)+1,\"\")","v":""},"","",6941]
[null,null,null,null,null,null,null,null,null,null,{"$error":"#DIV/0!"},null,6954,null,{"$f":"IF($A6955=\"\",\"\",COUNTIF($A$2:$A6955,$A6955))","v":""},{"$f":"IF($A6955=\"\",\"\",$O6955+thousand*VLOOKUP($A6955,$A$1:Q6955,17,FALSE))","v":""},{"$f":"IF(O6955=1,MAX(Q$1:Q6954)+1,\"\")","v":""},"","",6954]
[null,null,null,null,null,null,null,null,null,null,{"$error":"#DIV/0!"},null,6958,null,{"$f":"IF($A6959=\"\",\"\",COUNTIF($A$2:$A6959,$A6959))","v":""},{"$f":"IF($A6959=\"\",\"\",$O6959+thousand*VLOOKUP($A6959,$A$1:Q6959,17,FALSE))","v":""},{"$f":"IF(O6959=1,MAX(Q$1:Q6958)+1,\"\")","v":""},"","",6958]
[null,null,null,null,null,null,null,null,null,null,{"$error":"#DIV/0!"},null,6968,null,{"$f":"IF($A6969=\"\",\"\",COUNTIF($A$2:$A6969,$A6969))","v":""},{"$f":"IF($A6969=\"\",\"\",$O6969+thousand*VLOOKUP($A6969,$A$1:Q6969,17,FALSE))","v":""},{"$f":"IF(O6969=1,MAX(Q$1:Q6968)+1,\"\")","v":""},"","",6968]
[null,null,null,null,null,null,null,null,null,null,{"$error":"#DIV/0!"},null,6973,null,{"$f":"IF($A6974=\"\",\"\",COUNTIF($A$2:$A6974,$A6974))","v":""},{"$f":"IF($A6974=\"\",\"\",$O6974+thousand*VLOOKUP($A6974,$A$1:Q6974,17,FALSE))","v":""},{"$f":"IF(O6974=1,MAX(Q$1:Q6973)+1,\"\")","v":""},"","",6973]
[null,null,null,null,null,null,null,null,null,null,{"$error":"#DIV/0!"},null,6983,null,{"$f":"IF($A6984=\"\",\"\",COUNTIF($A$2:$A6984,$A6984))","v":""},{"$f":"IF($A6984=\"\",\"\",$O6984+thousand*VLOOKUP($A6984,$A$1:Q6984,17,FALSE))","v":""},{"$f":"IF(O6984=1,MAX(Q$1:Q6983)+1,\"\")","v":""},"","",6983]
[null,null,null,null,null,null,null,null,null,null,{"$error":"#DIV/0!"},null,6990,null,{"$f":"IF($A6991=\"\",\"\",COUNTIF($A$2:$A6991,$A6991))","v":""},{"$f":"IF($A6991=\"\",\"\",$O6991+thousand*VLOOKUP($A6991,$A$1:Q6991,17,FALSE))","v":""},{"$f":"IF(O6991=1,MAX(Q$1:Q6990)+1,\"\")","v":""},"","",6990]
[null,null,null,null,null,null,null,null,null,null,{"$error":"#DIV/0!"},null,6992,null,{"$f":"IF($A6993=\"\",\"\",COUNTIF($A$2:$A6993,$A6993))","v":""},{"$f":"IF($A6993=\"\",\"\",$O6993+thousand*VLOOKUP($A6993,$A$1:Q6993,17,FALSE))","v":""},{"$f":"IF(O6993=1,MAX(Q$1:Q6992)+1,\"\")","v":""},"","",6992]
[null,null,null,null,null,null,null,null,null,null,{"$error":"#DIV/0!"},null,7004,null,{"$f":"IF($A7005=\"\",\"\",COUNTIF($A$2:$A7005,$A7005))","v":""},{"$f":"IF($A7005=\"\",\"\",$O7005+thousand*VLOOKUP($A7005,$A$1:Q7005,17,FALSE))","v":""},{"$f":"IF(O7005=1,MAX(Q$1:Q7004)+1,\"\")","v":""},"","",7004]
[null,null,null,null,null,null,null,null,null,null,{"$error":"#DIV/0!"},null,7009,null,{"$f":"IF($A7010=\"\",\"\",COUNTIF($A$2:$A7010,$A7010))","v":""},{"$f":"IF($A7010=\"\",\"\",$O7010+thousand*VLOOKUP($A7010,$A$1:Q7010,17,FALSE))","v":""},{"$f":"IF(O7010=1,MAX(Q$1:Q7009)+1,\"\")","v":""},"","",7009]
[null,null,null,null,null,null,null,null,null,null,{"$error":"#DIV/0!"},null,7018,null,{"$f":"IF($A7019=\"\",\"\",COUNTIF($A$2:$A7019,$A7019))","v":""},{"$f":"IF($A7019=\"\",\"\",$O7019+thousand*VLOOKUP($A7019,$A$1:Q7019,17,FALSE))","v":""},{"$f":"IF(O7019=1,MAX(Q$1:Q7018)+1,\"\")","v":""},"","",7018]
[null,null,null,null,null,null,null,null,null,null,{"$error":"#DIV/0!"},null,7026,null,{"$f":"IF($A7027=\"\",\"\",COUNTIF($A$2:$A7027,$A7027))","v":""},{"$f":"IF($A7027=\"\",\"\",$O7027+thousand*VLOOKUP($A7027,$A$1:Q7027,17,FALSE))","v":""},{"$f":"IF(O7027=1,MAX(Q$1:Q7026)+1,\"\")","v":""},"","",7026]
[null,null,null,null,null,null,null,null,null,null,{"$error":"#DIV/0!"},null,7034,null,{"$f":"IF($A7035=\"\",\"\",COUNTIF($A$2:$A7035,$A7035))","v":""},{"$f":"IF($A7035=\"\",\"\",$O7035+thousand*VLOOKUP($A7035,$A$1:Q7035,17,FALSE))","v":""},{"$f":"IF(O7035=1,MAX(Q$1:Q7034)+1,\"\")","v":""},"","",7034]
[null,null,null,null,null,null,null,null,null,null,{"$error":"#DIV/0!"},null,7040,null,{"$f":"IF($A7041=\"\",\"\",COUNTIF($A$2:$A7041,$A7041))","v":""},{"$f":"IF($A7041=\"\",\"\",$O7041+thousand*VLOOKUP($A7041,$A$1:Q7041,17,FALSE))","v":""},{"$f":"IF(O7041=1,MAX(Q$1:Q7040)+1,\"\")","v":""},"","",7040]
[null,null,null,null,null,null,null,null,null,null,{"$error":"#DIV/0!"},null,7051,null,{"$f":"IF($A7052=\"\",\"\",COUNTIF($A$2:$A7052,$A7052))","v":""},{"$f":"IF($A7052=\"\",\"\",$O7052+thousand*VLOOKUP($A7052,$A$1:Q7052,17,FALSE))","v":""},{"$f":"IF(O7052=1,MAX(Q$1:Q7051)+1,\"\")","v":""},"","",7051]
[null,null,null,null,null,null,null,null,null,null,{"$error":"#DIV/0!"},null,7054,null,{"$f":"IF($A7055=\"\",\"\",COUNTIF($A$2:$A7055,$A7055))","v":""},{"$f":"IF($A7055=\"\",\"\",$O7055+thousand*VLOOKUP($A7055,$A$1:Q7055,17,FALSE))","v":""},{"$f":"IF(O7055=1,MAX(Q$1:Q7054)+1,\"\")","v":""},"","",7054]
[null,null,null,null,null,null,null,null,null,null,{"$error":"#DIV/0!"},null,7060,null,{"$f":"IF($A7061=\"\",\"\",COUNTIF($A$2:$A7061,$A7061))","v":""},{"$f":"IF($A7061=\"\",\"\",$O7061+thousand*VLOOKUP($A7061,$A$1:Q7061,17,FALSE))","v":""},{"$f":"IF(O7061=1,MAX(Q$1:Q7060)+1,\"\")","v":""},"","",7060]
[null,null,null,null,null,null,null,null,null,null,{"$error":"#DIV/0!"},null,7068,null,{"$f":"IF($A7069=\"\",\"\",COUNTIF($A$2:$A7069,$A7069))","v":""},{"$f":"IF($A7069=\"\",\"\",$O7069+thousand*VLOOKUP($A7069,$A$1:Q7069,17,FALSE))","v":""},{"$f":"IF(O7069=1,MAX(Q$1:Q7068)+1,\"\")","v":""},"","",7068]
[null,null,null,null,null,null,null,null,null,null,{"$error":"#DIV/0!"},null,7076,null,{"$f":"IF($A7077=\"\",\"\",COUNTIF($A$2:$A7077,$A7077))","v":""},{"$f":"IF($A7077=\"\",\"\",$O7077+thousand*VLOOKUP($A7077,$A$1:Q7077,17,FALSE))","v":""},{"$f":"IF(O7077=1,MAX(Q$1:Q7076)+1,\"\")","v":""},"","",7076]
[null,null,null,null,null,null,null,null,null,null,{"$error":"#DIV/0!"},null,7085,null,{"$f":"IF($A7086=\"\",\"\",COUNTIF($A$2:$A7086,$A7086))","v":""},{"$f":"IF($A7086=\"\",\"\",$O7086+thousand*VLOOKUP($A7086,$A$1:Q7086,17,FALSE))","v":""},{"$f":"IF(O7086=1,MAX(Q$1:Q7085)+1,\"\")","v":""},"","",7085]
[null,null,null,null,null,null,null,null,null,null,{"$error":"#DIV/0!"},null,7090,null,{"$f":"IF($A7091=\"\",\"\",COUNTIF($A$2:$A7091,$A7091))","v":""},{"$f":"IF($A7091=\"\",\"\",$O7091+thousand*VLOOKUP($A7091,$A$1:Q7091,17,FALSE))","v":""},{"$f":"IF(O7091=1,MAX(Q$1:Q7090)+1,\"\")","v":""},"","",7090]
[null,null,null,null,null,null,null,null,null,null,{"$error":"#DIV/0!"},null,7102,null,{"$f":"IF($A7103=\"\",\"\",COUNTIF($A$2:$A7103,$A7103))","v":""},{"$f":"IF($A7103=\"\",\"\",$O7103+thousand*VLOOKUP($A7103,$A$1:Q7103,17,FALSE))","v":""},{"$f":"IF(O7103=1,MAX(Q$1:Q7102)+1,\"\")","v":""},"","",7102]
[null,null,null,null,null,null,null,null,null,null,{"$error":"#DIV/0!"},null,7107,null,{"$f":"IF($A7108=\"\",\"\",COUNTIF($A$2:$A7108,$A7108))","v":""},{"$f":"IF($A7108=\"\",\"\",$O7108+thousand*VLOOKUP($A7108,$A$1:Q7108,17,FALSE))","v":""},{"$f":"IF(O7108=1,MAX(Q$1:Q7107)+1,\"\")","v":""},"","",7107]
[null,null,null,null,null,null,null,null,null,null,{"$error":"#DIV/0!"},null,7111,null,{"$f":"IF($A7112=\"\",\"\",COUNTIF($A$2:$A7112,$A7112))","v":""},{"$f":"IF($A7112=\"\",\"\",$O7112+thousand*VLOOKUP($A7112,$A$1:Q7112,17,FALSE))","v":""},{"$f":"IF(O7112=1,MAX(Q$1:Q7111)+1,\"\")","v":""},"","",7111]
[null,null,null,null,null,null,null,null,null,null,{"$error":"#DIV/0!"},null,7121,null,{"$f":"IF($A7122=\"\",\"\",COUNTIF($A$2:$A7122,$A7122))","v":""},{"$f":"IF($A7122=\"\",\"\",$O7122+thousand*VLOOKUP($A7122,$A$1:Q7122,17,FALSE))","v":""},{"$f":"IF(O7122=1,MAX(Q$1:Q7121)+1,\"\")","v":""},"","",7121]
[null,null,null,null,null,null,null,null,null,null,{"$error":"#DIV/0!"},null,7126,null,{"$f":"IF($A7127=\"\",\"\",COUNTIF($A$2:$A7127,$A7127))","v":""},{"$f":"IF($A7127=\"\",\"\",$O7127+thousand*VLOOKUP($A7127,$A$1:Q7127,17,FALSE))","v":""},{"$f":"IF(O7127=1,MAX(Q$1:Q7126)+1,\"\")","v":""},"","",7126]
[null,null,null,null,null,null,null,null,null,null,{"$error":"#DIV/0!"},null,7136,null,{"$f":"IF($A7137=\"\",\"\",COUNTIF($A$2:$A7137,$A7137))","v":""},{"$f":"IF($A7137=\"\",\"\",$O7137+thousand*VLOOKUP($A7137,$A$1:Q7137,17,FALSE))","v":""},{"$f":"IF(O7137=1,MAX(Q$1:Q7136)+1,\"\")","v":""},"","",7136]
[null,null,null,null,null,null,null,null,null,null,{"$error":"#DIV/0!"},null,7143,null,{"$f":"IF($A7144=\"\",\"\",COUNTIF($A$2:$A7144,$A7144))","v":""},{"$f":"IF($A7144=\"\",\"\",$O7144+thousand*VLOOKUP($A7144,$A$1:Q7144,17,FALSE))","v":""},{"$f":"IF(O7144=1,MAX(Q$1:Q7143)+1,\"\")","v":""},"","",7143]
[null,null,null,null,null,null,null,null,null,null,{"$error":"#DIV/0!"},null,7153,null,{"$f":"IF($A7154=\"\",\"\",COUNTIF($A$2:$A7154,$A7154))","v":""},{"$f":"IF($A7154=\"\",\"\",$O7154+thousand*VLOOKUP($A7154,$A$1:Q7154,17,FALSE))","v":""},{"$f":"IF(O7154=1,MAX(Q$1:Q7153)+1,\"\")","v":""},"","",7153]
[null,null,null,null,null,null,null,null,null,null,{"$error":"#DIV/0!"},null,7157,null,{"$f":"IF($A7158=\"\",\"\",COUNTIF($A$2:$A7158,$A7158))","v":""},{"$f":"IF($A7158=\"\",\"\",$O7158+thousand*VLOOKUP($A7158,$A$1:Q7158,17,FALSE))","v":""},{"$f":"IF(O7158=1,MAX(Q$1:Q7157)+1,\"\")","v":""},"","",7157]
[null,null,null,null,null,null,null,null,null,null,{"$error":"#DIV/0!"},null,7170,null,{"$f":"IF($A7171=\"\",\"\",COUNTIF($A$2:$A7171,$A7171))","v":""},{"$f":"IF($A7171=\"\",\"\",$O7171+thousand*VLOOKUP($A7171,$A$1:Q7171,17,FALSE))","v":""},{"$f":"IF(O7171=1,MAX(Q$1:Q7170)+1,\"\")","v":""},{"$f":"IF(A7171=\"\",\"\",A7171)","v":""},{"$f":"IF(B7171=\"\",\"\",B7171)","v":""},7170]
[null,null,null,null,null,null,null,null,null,null,{"$error":"#DIV/0!"},null,7171,null,{"$f":"IF($A7172=\"\",\"\",COUNTIF($A$2:$A7172,$A7172))","v":""},{"$f":"IF($A7172=\"\",\"\",$O7172+thousand*VLOOKUP($A7172,$A$1:Q7172,17,FALSE))","v":""},{"$f":"IF(O7172=1,MAX(Q$1:Q7171)+1,\"\")","v":""},"","",7171]
[null,null,null,null,null,null,null,null,null,null,{"$error":"#DIV/0!"},null,7179,null,{"$f":"IF($A7180=\"\",\"\",COUNTIF($A$2:$A7180,$A7180))","v":""},{"$f":"IF($A7180=\"\",\"\",$O7180+thousand*VLOOKUP($A7180,$A$1:Q7180,17,FALSE))","v":""},{"$f":"IF(O7180=1,MAX(Q$1:Q7179)+1,\"\")","v":""},"","",7179]
[null,null,null,null,null,null,null,null,null,null,{"$error":"#DIV/0!"},null,7187,null,{"$f":"IF($A7188=\"\",\"\",COUNTIF($A$2:$A7188,$A7188))","v":""},{"$f":"IF($A7188=\"\",\"\",$O7188+thousand*VLOOKUP($A7188,$A$1:Q7188,17,FALSE))","v":""},{"$f":"IF(O7188=1,MAX(Q$1:Q7187)+1,\"\")","v":""},"","",7187]
[null,null,null,null,null,null,null,null,null,null,{"$error":"#DIV/0!"},null,7193,null,{"$f":"IF($A7194=\"\",\"\",COUNTIF($A$2:$A7194,$A7194))","v":""},{"$f":"IF($A7194=\"\",\"\",$O7194+thousand*VLOOKUP($A7194,$A$1:Q7194,17,FALSE))","v":""},{"$f":"IF(O7194=1,MAX(Q$1:Q7193)+1,\"\")","v":""},"","",7193]
[null,null,null,null,null,null,null,null,null,null,{"$error":"#DIV/0!"},null,7204,null,{"$f":"IF($A7205=\"\",\"\",COUNTIF($A$2:$A7205,$A7205))","v":""},{"$f":"IF($A7205=\"\",\"\",$O7205+thousand*VLOOKUP($A7205,$A$1:Q7205,17,FALSE))","v":""},{"$f":"IF(O7205=1,MAX(Q$1:Q7204)+1,\"\")","v":""},"","",7204]
[null,null,null,null,null,null,null,null,null,null,{"$error":"#DIV/0!"},null,7214,null,{"$f":"IF($A7215=\"\",\"\",COUNTIF($A$2:$A7215,$A7215))","v":""},{"$f":"IF($A7215=\"\",\"\",$O7215+thousand*VLOOKUP($A7215,$A$1:Q7215,17,FALSE))","v":""},{"$f":"IF(O7215=1,MAX(Q$1:Q7214)+1,\"\")","v":""},"","",7214]
[null,null,null,null,null,null,null,null,null,null,{"$error":"#DIV/0!"},null,7215,null,{"$f":"IF($A7216=\"\",\"\",COUNTIF($A$2:$A7216,$A7216))","v":""},{"$f":"IF($A7216=\"\",\"\",$O7216+thousand*VLOOKUP($A7216,$A$1:Q7216,17,FALSE))","v":""},{"$f":"IF(O7216=1,MAX(Q$1:Q7215)+1,\"\")","v":""},"","",7215]
[null,null,null,null,null,null,null,null,null,null,{"$error":"#DIV/0!"},null,7229,null,{"$f":"IF($A7230=\"\",\"\",COUNTIF($A$2:$A7230,$A7230))","v":""},{"$f":"IF($A7230=\"\",\"\",$O7230+thousand*VLOOKUP($A7230,$A$1:Q7230,17,FALSE))","v":""},{"$f":"IF(O7230=1,MAX(Q$1:Q7229)+1,\"\")","v":""},"","",7229]
[null,null,null,null,null,null,null,null,null,null,{"$error":"#DIV/0!"},null,7236,null,{"$f":"IF($A7237=\"\",\"\",COUNTIF($A$2:$A7237,$A7237))","v":""},{"$f":"IF($A7237=\"\",\"\",$O7237+thousand*VLOOKUP($A7237,$A$1:Q7237,17,FALSE))","v":""},{"$f":"IF(O7237=1,MAX(Q$1:Q7236)+1,\"\")","v":""},"","",7236]
[null,null,null,null,null,null,null,null,null,null,{"$error":"#DIV/0!"},null,7238,null,{"$f":"IF($A7239=\"\",\"\",COUNTIF($A$2:$A7239,$A7239))","v":""},{"$f":"IF($A7239=\"\",\"\",$O7239+thousand*VLOOKUP($A7239,$A$1:Q7239,17,FALSE))","v":""},{"$f":"IF(O7239=1,MAX(Q$1:Q7238)+1,\"\")","v":""},"","",7238]
[null,null,null,null,null,null,null,null,null,null,{"$error":"#DIV/0!"},null,7250,null,{"$f":"IF($A7251=\"\",\"\",COUNTIF($A$2:$A7251,$A7251))","v":""},{"$f":"IF($A7251=\"\",\"\",$O7251+thousand*VLOOKUP($A7251,$A$1:Q7251,17,FALSE))","v":""},{"$f":"IF(O7251=1,MAX(Q$1:Q7250)+1,\"\")","v":""},"","",7250]
[null,null,null,null,null,null,null,null,null,null,{"$error":"#DIV/0!"},null,7255,null,{"$f":"IF($A7256=\"\",\"\",COUNTIF($A$2:$A7256,$A7256))","v":""},{"$f":"IF($A7256=\"\",\"\",$O7256+thousand*VLOOKUP($A7256,$A$1:Q7256,17,FALSE))","v":""},{"$f":"IF(O7256=1,MAX(Q$1:Q7255)+1,\"\")","v":""},"","",7255]
[null,null,null,null,null,null,null,null,null,null,{"$error":"#DIV/0!"},null,7260,null,{"$f":"IF($A7261=\"\",\"\",COUNTIF($A$2:$A7261,$A7261))","v":""},{"$f":"IF($A7261=\"\",\"\",$O7261+thousand*VLOOKUP($A7261,$A$1:Q7261,17,FALSE))","v":""},{"$f":"IF(O7261=1,MAX(Q$1:Q7260)+1,\"\")","v":""},"","",7260]
[null,null,null,null,null,null,null,null,null,null,{"$error":"#DIV/0!"},null,7272,null,{"$f":"IF($A7273=\"\",\"\",COUNTIF($A$2:$A7273,$A7273))","v":""},{"$f":"IF($A7273=\"\",\"\",$O7273+thousand*VLOOKUP($A7273,$A$1:Q7273,17,FALSE))","v":""},{"$f":"IF(O7273=1,MAX(Q$1:Q7272)+1,\"\")","v":""},"","",7272]
[null,null,null,null,null,null,null,null,null,null,{"$error":"#DIV/0!"},null,7280,null,{"$f":"IF($A7281=\"\",\"\",COUNTIF($A$2:$A7281,$A7281))","v":""},{"$f":"IF($A7281=\"\",\"\",$O7281+thousand*VLOOKUP($A7281,$A$1:Q7281,17,FALSE))","v":""},{"$f":"IF(O7281=1,MAX(Q$1:Q7280)+1,\"\")","v":""},"","",7280]
[null,null,null,null,null,null,null,null,null,null,{"$error":"#DIV/0!"},null,7286,null,{"$f":"IF($A7287=\"\",\"\",COUNTIF($A$2:$A7287,$A7287))","v":""},{"$f":"IF($A7287=\"\",\"\",$O7287+thousand*VLOOKUP($A7287,$A$1:Q7287,17,FALSE))","v":""},{"$f":"IF(O7287=1,MAX(Q$1:Q7286)+1,\"\")","v":""},"","",7286]
[null,null,null,null,null,null,null,null,null,null,{"$error":"#DIV/0!"},null,7289,null,{"$f":"IF($A7290=\"\",\"\",COUNTIF($A$2:$A7290,$A7290))","v":""},{"$f":"IF($A7290=\"\",\"\",$O7290+thousand*VLOOKUP($A7290,$A$1:Q7290,17,FALSE))","v":""},{"$f":"IF(O7290=1,MAX(Q$1:Q7289)+1,\"\")","v":""},"","",7289]
[null,null,null,null,null,null,null,null,null,null,{"$error":"#DIV/0!"},null,7303,null,{"$f":"IF($A7304=\"\",\"\",COUNTIF($A$2:$A7304,$A7304))","v":""},{"$f":"IF($A7304=\"\",\"\",$O7304+thousand*VLOOKUP($A7304,$A$1:Q7304,17,FALSE))","v":""},{"$f":"IF(O7304=1,MAX(Q$1:Q7303)+1,\"\")","v":""},"","",7303]
[null,null,null,null,null,null,null,null,null,null,{"$error":"#DIV/0!"},null,7306,null,{"$f":"IF($A7307=\"\",\"\",COUNTIF($A$2:$A7307,$A7307))","v":""},{"$f":"IF($A7307=\"\",\"\",$O7307+thousand*VLOOKUP($A7307,$A$1:Q7307,17,FALSE))","v":""},{"$f":"IF(O7307=1,MAX(Q$1:Q7306)+1,\"\")","v":""},"","",7306]
[null,null,null,null,null,null,null,null,null,null,{"$error":"#DIV/0!"},null,7317,null,{"$f":"IF($A7318=\"\",\"\",COUNTIF($A$2:$A7318,$A7318))","v":""},{"$f":"IF($A7318=\"\",\"\",$O7318+thousand*VLOOKUP($A7318,$A$1:Q7318,17,FALSE))","v":""},{"$f":"IF(O7318=1,MAX(Q$1:Q7317)+1,\"\")","v":""},"","",7317]
[null,null,null,null,null,null,null,null,null,null,{"$error":"#DIV/0!"},null,7322,null,{"$f":"IF($A7323=\"\",\"\",COUNTIF($A$2:$A7323,$A7323))","v":""},{"$f":"IF($A7323=\"\",\"\",$O7323+thousand*VLOOKUP($A7323,$A$1:Q7323,17,FALSE))","v":""},{"$f":"IF(O7323=1,MAX(Q$1:Q7322)+1,\"\")","v":""},"","",7322]
[null,null,null,null,null,null,null,null,null,null,{"$error":"#DIV/0!"},null,7331,null,{"$f":"IF($A7332=\"\",\"\",COUNTIF($A$2:$A7332,$A7332))","v":""},{"$f":"IF($A7332=\"\",\"\",$O7332+thousand*VLOOKUP($A7332,$A$1:Q7332,17,FALSE))","v":""},{"$f":"IF(O7332=1,MAX(Q$1:Q7331)+1,\"\")","v":""},"","",7331]
[null,null,null,null,null,null,null,null,null,null,{"$error":"#DIV/0!"},null,7339,null,{"$f":"IF($A7340=\"\",\"\",COUNTIF($A$2:$A7340,$A7340))","v":""},{"$f":"IF($A7340=\"\",\"\",$O7340+thousand*VLOOKUP($A7340,$A$1:Q7340,17,FALSE))","v":""},{"$f":"IF(O7340=1,MAX(Q$1:Q7339)+1,\"\")","v":""},"","",7339]
[null,null,null,null,null,null,null,null,null,null,{"$error":"#DIV/0!"},null,7348,null,{"$f":"IF($A7349=\"\",\"\",COUNTIF($A$2:$A7349,$A7349))","v":""},{"$f":"IF($A7349=\"\",\"\",$O7349+thousand*VLOOKUP($A7349,$A$1:Q7349,17,FALSE))","v":""},{"$f":"IF(O7349=1,MAX(Q$1:Q7348)+1,\"\")","v":""},"","",7348]
[null,null,null,null,null,null,null,null,null,null,{"$error":"#DIV/0!"},null,7353,null,{"$f":"IF($A7354=\"\",\"\",COUNTIF($A$2:$A7354,$A7354))","v":""},{"$f":"IF($A7354=\"\",\"\",$O7354+thousand*VLOOKUP($A7354,$A$1:Q7354,17,FALSE))","v":""},{"$f":"IF(O7354=1,MAX(Q$1:Q7353)+1,\"\")","v":""},"","",7353]
[null,null,null,null,null,null,null,null,null,null,{"$error":"#DIV/0!"},null,7357,null,{"$f":"IF($A7358=\"\",\"\",COUNTIF($A$2:$A7358,$A7358))","v":""},{"$f":"IF($A7358=\"\",\"\",$O7358+thousand*VLOOKUP($A7358,$A$1:Q7358,17,FALSE))","v":""},{"$f":"IF(O7358=1,MAX(Q$1:Q7357)+1,\"\")","v":""},"","",7357]
[null,null,null,null,null,null,null,null,null,null,{"$error":"#DIV/0!"},null,7367,null,{"$f":"IF($A7368=\"\",\"\",COUNTIF($A$2:$A7368,$A7368))","v":""},{"$f":"IF($A7368=\"\",\"\",$O7368+thousand*VLOOKUP($A7368,$A$1:Q7368,17,FALSE))","v":""},{"$f":"IF(O7368=1,MAX(Q$1:Q7367)+1,\"\")","v":""},"","",7367]
[null,null,null,null,null,null,null,null,null,null,{"$error":"#DIV/0!"},null,7375,null,{"$f":"IF($A7376=\"\",\"\",COUNTIF($A$2:$A7376,$A7376))","v":""},{"$f":"IF($A7376=\"\",\"\",$O7376+thousand*VLOOKUP($A7376,$A$1:Q7376,17,FALSE))","v":""},{"$f":"IF(O7376=1,MAX(Q$1:Q7375)+1,\"\")","v":""},"","",7375]
[null,null,null,null,null,null,null,null,null,null,{"$error":"#DIV/0!"},null,7382,null,{"$f":"IF($A7383=\"\",\"\",COUNTIF($A$2:$A7383,$A7383))","v":""},{"$f":"IF($A7383=\"\",\"\",$O7383+thousand*VLOOKUP($A7383,$A$1:Q7383,17,FALSE))","v":""},{"$f":"IF(O7383=1,MAX(Q$1:Q7382)+1,\"\")","v":""},"","",7382]
[null,null,null,null,null,null,null,null,null,null,{"$error":"#DIV/0!"},null,7389,null,{"$f":"IF($A7390=\"\",\"\",COUNTIF($A$2:$A7390,$A7390))","v":""},{"$f":"IF($A7390=\"\",\"\",$O7390+thousand*VLOOKUP($A7390,$A$1:Q7390,17,FALSE))","v":""},{"$f":"IF(O7390=1,MAX(Q$1:Q7389)+1,\"\")","v":""},"","",7389]
[null,null,null,null,null,null,null,null,null,null,{"$error":"#DIV/0!"},null,7399,null,{"$f":"IF($A7400=\"\",\"\",COUNTIF($A$2:$A7400,$A7400))","v":""},{"$f":"IF($A7400=\"\",\"\",$O7400+thousand*VLOOKUP($A7400,$A$1:Q7400,17,FALSE))","v":""},{"$f":"IF(O7400=1,MAX(Q$1:Q7399)+1,\"\")","v":""},"","",7399]
[null,null,null,null,null,null,null,null,null,null,{"$error":"#DIV/0!"},null,7403,null,{"$f":"IF($A7404=\"\",\"\",COUNTIF($A$2:$A7404,$A7404))","v":""},{"$f":"IF($A7404=\"\",\"\",$O7404+thousand*VLOOKUP($A7404,$A$1:Q7404,17,FALSE))","v":""},{"$f":"IF(O7404=1,MAX(Q$1:Q7403)+1,\"\")","v":""},"","",7403]
[null,null,null,null,null,null,null,null,null,null,{"$error":"#DIV/0!"},null,7408,null,{"$f":"IF($A7409=\"\",\"\",COUNTIF($A$2:$A7409,$A7409))","v":""},{"$f":"IF($A7409=\"\",\"\",$O7409+thousand*VLOOKUP($A7409,$A$1:Q7409,17,FALSE))","v":""},{"$f":"IF(O7409=1,MAX(Q$1:Q7408)+1,\"\")","v":""},"","",7408]
[null,null,null,null,null,null,null,null,null,null,{"$error":"#DIV/0!"},null,7417,null,{"$f":"IF($A7418=\"\",\"\",COUNTIF($A$2:$A7418,$A7418))","v":""},{"$f":"IF($A7418=\"\",\"\",$O7418+thousand*VLOOKUP($A7418,$A$1:Q7418,17,FALSE))","v":""},{"$f":"IF(O7418=1,MAX(Q$1:Q7417)+1,\"\")","v":""},"","",7417]
[null,null,null,null,null,null,null,null,null,null,{"$error":"#DIV/0!"},null,7425,null,{"$f":"IF($A7426=\"\",\"\",COUNTIF($A$2:$A7426,$A7426))","v":""},{"$f":"IF($A7426=\"\",\"\",$O7426+thousand*VLOOKUP($A7426,$A$1:Q7426,17,FALSE))","v":""},{"$f":"IF(O7426=1,MAX(Q$1:Q7425)+1,\"\")","v":""},"","",7425]
[null,null,null,null,null,null,null,null,null,null,{"$error":"#DIV/0!"},null,7433,null,{"$f":"IF($A7434=\"\",\"\",COUNTIF($A$2:$A7434,$A7434))","v":""},{"$f":"IF($A7434=\"\",\"\",$O7434+thousand*VLOOKUP($A7434,$A$1:Q7434,17,FALSE))","v":""},{"$f":"IF(O7434=1,MAX(Q$1:Q7433)+1,\"\")","v":""},"","",7433]
[null,null,null,null,null,null,null,null,null,null,{"$error":"#DIV/0!"},null,7439,null,{"$f":"IF($A7440=\"\",\"\",COUNTIF($A$2:$A7440,$A7440))","v":""},{"$f":"IF($A7440=\"\",\"\",$O7440+thousand*VLOOKUP($A7440,$A$1:Q7440,17,FALSE))","v":""},{"$f":"IF(O7440=1,MAX(Q$1:Q7439)+1,\"\")","v":""},"","",7439]
[null,null,null,null,null,null,null,null,null,null,{"$error":"#DIV/0!"},null,7450,null,{"$f":"IF($A7451=\"\",\"\",COUNTIF($A$2:$A7451,$A7451))","v":""},{"$f":"IF($A7451=\"\",\"\",$O7451+thousand*VLOOKUP($A7451,$A$1:Q7451,17,FALSE))","v":""},{"$f":"IF(O7451=1,MAX(Q$1:Q7450)+1,\"\")","v":""},"","",7450]
[null,null,null,null,null,null,null,null,null,null,{"$error":"#DIV/0!"},null,7456,null,{"$f":"IF($A7457=\"\",\"\",COUNTIF($A$2:$A7457,$A7457))","v":""},{"$f":"IF($A7457=\"\",\"\",$O7457+thousand*VLOOKUP($A7457,$A$1:Q7457,17,FALSE))","v":""},{"$f":"IF(O7457=1,MAX(Q$1:Q7456)+1,\"\")","v":""},"","",7456]
[null,null,null,null,null,null,null,null,null,null,{"$error":"#DIV/0!"},null,7467,null,{"$f":"IF($A7468=\"\",\"\",COUNTIF($A$2:$A7468,$A7468))","v":""},{"$f":"IF($A7468=\"\",\"\",$O7468+thousand*VLOOKUP($A7468,$A$1:Q7468,17,FALSE))","v":""},{"$f":"IF(O7468=1,MAX(Q$1:Q7467)+1,\"\")","v":""},"","",7467]
[null,null,null,null,null,null,null,null,null,null,{"$error":"#DIV/0!"},null,7470,null,{"$f":"IF($A7471=\"\",\"\",COUNTIF($A$2:$A7471,$A7471))","v":""},{"$f":"IF($A7471=\"\",\"\",$O7471+thousand*VLOOKUP($A7471,$A$1:Q7471,17,FALSE))","v":""},{"$f":"IF(O7471=1,MAX(Q$1:Q7470)+1,\"\")","v":""},"","",7470]
[null,null,null,null,null,null,null,null,null,null,{"$error":"#DIV/0!"},null,7475,null,{"$f":"IF($A7476=\"\",\"\",COUNTIF($A$2:$A7476,$A7476))","v":""},{"$f":"IF($A7476=\"\",\"\",$O7476+thousand*VLOOKUP($A7476,$A$1:Q7476,17,FALSE))","v":""},{"$f":"IF(O7476=1,MAX(Q$1:Q7475)+1,\"\")","v":""},"","",7475]
[null,null,null,null,null,null,null,null,null,null,{"$error":"#DIV/0!"},null,7484,null,{"$f":"IF($A7485=\"\",\"\",COUNTIF($A$2:$A7485,$A7485))","v":""},{"$f":"IF($A7485=\"\",\"\",$O7485+thousand*VLOOKUP($A7485,$A$1:Q7485,17,FALSE))","v":""},{"$f":"IF(O7485=1,MAX(Q$1:Q7484)+1,\"\")","v":""},"","",7484]
[null,null,null,null,null,null,null,null,null,null,{"$error":"#DIV/0!"},null,7492,null,{"$f":"IF($A7493=\"\",\"\",COUNTIF($A$2:$A7493,$A7493))","v":""},{"$f":"IF($A7493=\"\",\"\",$O7493+thousand*VLOOKUP($A7493,$A$1:Q7493,17,FALSE))","v":""},{"$f":"IF(O7493=1,MAX(Q$1:Q7492)+1,\"\")","v":""},"","",7492]
[null,null,null,null,null,null,null,null,null,null,{"$error":"#DIV/0!"},null,7501,null,{"$f":"IF($A7502=\"\",\"\",COUNTIF($A$2:$A7502,$A7502))","v":""},{"$f":"IF($A7502=\"\",\"\",$O7502+thousand*VLOOKUP($A7502,$A$1:Q7502,17,FALSE))","v":""},{"$f":"IF(O7502=1,MAX(Q$1:Q7501)+1,\"\")","v":""},"","",7501]
[null,null,null,null,null,null,null,null,null,null,{"$error":"#DIV/0!"},null,7506,null,{"$f":"IF($A7507=\"\",\"\",COUNTIF($A$2:$A7507,$A7507))","v":""},{"$f":"IF($A7507=\"\",\"\",$O7507+thousand*VLOOKUP($A7507,$A$1:Q7507,17,FALSE))","v":""},{"$f":"IF(O7507=1,MAX(Q$1:Q7506)+1,\"\")","v":""},"","",7506]
[null,null,null,null,null,null,null,null,null,null,{"$error":"#DIV/0!"},null,7518,null,{"$f":"IF($A7519=\"\",\"\",COUNTIF($A$2:$A7519,$A7519))","v":""},{"$f":"IF($A7519=\"\",\"\",$O7519+thousand*VLOOKUP($A7519,$A$1:Q7519,17,FALSE))","v":""},{"$f":"IF(O7519=1,MAX(Q$1:Q7518)+1,\"\")","v":""},"","",7518]
[null,null,null,null,null,null,null,null,null,null,{"$error":"#DIV/0!"},null,7520,null,{"$f":"IF($A7521=\"\",\"\",COUNTIF($A$2:$A7521,$A7521))","v":""},{"$f":"IF($A7521=\"\",\"\",$O7521+thousand*VLOOKUP($A7521,$A$1:Q7521,17,FALSE))","v":""},{"$f":"IF(O7521=1,MAX(Q$1:Q7520)+1,\"\")","v":""},"","",7520]
[null,null,null,null,null,null,null,null,null,null,{"$error":"#DIV/0!"},null,7528,null,{"$f":"IF($A7529=\"\",\"\",COUNTIF($A$2:$A7529,$A7529))","v":""},{"$f":"IF($A7529=\"\",\"\",$O7529+thousand*VLOOKUP($A7529,$A$1:Q7529,17,FALSE))","v":""},{"$f":"IF(O7529=1,MAX(Q$1:Q7528)+1,\"\")","v":""},"","",7528]
[null,null,null,null,null,null,null,null,null,null,{"$error":"#DIV/0!"},null,7535,null,{"$f":"IF($A7536=\"\",\"\",COUNTIF($A$2:$A7536,$A7536))","v":""},{"$f":"IF($A7536=\"\",\"\",$O7536+thousand*VLOOKUP($A7536,$A$1:Q7536,17,FALSE))","v":""},{"$f":"IF(O7536=1,MAX(Q$1:Q7535)+1,\"\")","v":""},"","",7535]
[null,null,null,null,null,null,null,null,null,null,{"$error":"#DIV/0!"},null,7542,null,{"$f":"IF($A7543=\"\",\"\",COUNTIF($A$2:$A7543,$A7543))","v":""},{"$f":"IF($A7543=\"\",\"\",$O7543+thousand*VLOOKUP($A7543,$A$1:Q7543,17,FALSE))","v":""},{"$f":"IF(O7543=1,MAX(Q$1:Q7542)+1,\"\")","v":""},"","",7542]
[null,null,null,null,null,null,null,null,null,null,{"$error":"#DIV/0!"},null,7552,null,{"$f":"IF($A7553=\"\",\"\",COUNTIF($A$2:$A7553,$A7553))","v":""},{"$f":"IF($A7553=\"\",\"\",$O7553+thousand*VLOOKUP($A7553,$A$1:Q7553,17,FALSE))","v":""},{"$f":"IF(O7553=1,MAX(Q$1:Q7552)+1,\"\")","v":""},"","",7552]
[null,null,null,null,null,null,null,null,null,null,{"$error":"#DIV/0!"},null,7563,null,{"$f":"IF($A7564=\"\",\"\",COUNTIF($A$2:$A7564,$A7564))","v":""},{"$f":"IF($A7564=\"\",\"\",$O7564+thousand*VLOOKUP($A7564,$A$1:Q7564,17,FALSE))","v":""},{"$f":"IF(O7564=1,MAX(Q$1:Q7563)+1,\"\")","v":""},"","",7563]
[null,null,null,null,null,null,null,null,null,null,{"$error":"#DIV/0!"},null,7569,null,{"$f":"IF($A7570=\"\",\"\",COUNTIF($A$2:$A7570,$A7570))","v":""},{"$f":"IF($A7570=\"\",\"\",$O7570+thousand*VLOOKUP($A7570,$A$1:Q7570,17,FALSE))","v":""},{"$f":"IF(O7570=1,MAX(Q$1:Q7569)+1,\"\")","v":""},"","",7569]
[null,null,null,null,null,null,null,null,null,null,{"$error":"#DIV/0!"},null,7577,null,{"$f":"IF($A7578=\"\",\"\",COUNTIF($A$2:$A7578,$A7578))","v":""},{"$f":"IF($A7578=\"\",\"\",$O7578+thousand*VLOOKUP($A7578,$A$1:Q7578,17,FALSE))","v":""},{"$f":"IF(O7578=1,MAX(Q$1:Q7577)+1,\"\")","v":""},"","",7577]
[null,null,null,null,null,null,null,null,null,null,{"$error":"#DIV/0!"},null,7585,null,{"$f":"IF($A7586=\"\",\"\",COUNTIF($A$2:$A7586,$A7586))","v":""},{"$f":"IF($A7586=\"\",\"\",$O7586+thousand*VLOOKUP($A7586,$A$1:Q7586,17,FALSE))","v":""},{"$f":"IF(O7586=1,MAX(Q$1:Q7585)+1,\"\")","v":""},"","",7585]
[null,null,null,null,null,null,null,null,null,null,{"$error":"#DIV/0!"},null,7586,null,{"$f":"IF($A7587=\"\",\"\",COUNTIF($A$2:$A7587,$A7587))","v":""},{"$f":"IF($A7587=\"\",\"\",$O7587+thousand*VLOOKUP($A7587,$A$1:Q7587,17,FALSE))","v":""},{"$f":"IF(O7587=1,MAX(Q$1:Q7586)+1,\"\")","v":""},"","",7586]
[null,null,null,null,null,null,null,null,null,null,{"$error":"#DIV/0!"},null,7599,null,{"$f":"IF($A7600=\"\",\"\",COUNTIF($A$2:$A7600,$A7600))","v":""},{"$f":"IF($A7600=\"\",\"\",$O7600+thousand*VLOOKUP($A7600,$A$1:Q7600,17,FALSE))","v":""},{"$f":"IF(O7600=1,MAX(Q$1:Q7599)+1,\"\")","v":""},"","",7599]
[null,null,null,null,null,null,null,null,null,null,{"$error":"#DIV/0!"},null,7603,null,{"$f":"IF($A7604=\"\",\"\",COUNTIF($A$2:$A7604,$A7604))","v":""},{"$f":"IF($A7604=\"\",\"\",$O7604+thousand*VLOOKUP($A7604,$A$1:Q7604,17,FALSE))","v":""},{"$f":"IF(O7604=1,MAX(Q$1:Q7603)+1,\"\")","v":""},"","",7603]
[null,null,null,null,null,null,null,null,null,null,{"$error":"#DIV/0!"},null,7609,null,{"$f":"IF($A7610=\"\",\"\",COUNTIF($A$2:$A7610,$A7610))","v":""},{"$f":"IF($A7610=\"\",\"\",$O7610+thousand*VLOOKUP($A7610,$A$1:Q7610,17,FALSE))","v":""},{"$f":"IF(O7610=1,MAX(Q$1:Q7609)+1,\"\")","v":""},"","",7609]
[null,null,null,null,null,null,null,null,null,null,{"$error":"#DIV/0!"},null,7621,null,{"$f":"IF($A7622=\"\",\"\",COUNTIF($A$2:$A7622,$A7622))","v":""},{"$f":"IF($A7622=\"\",\"\",$O7622+thousand*VLOOKUP($A7622,$A$1:Q7622,17,FALSE))","v":""},{"$f":"IF(O7622=1,MAX(Q$1:Q7621)+1,\"\")","v":""},"","",7621]
[null,null,null,null,null,null,null,null,null,null,{"$error":"#DIV/0!"},null,7628,null,{"$f":"IF($A7629=\"\",\"\",COUNTIF($A$2:$A7629,$A7629))","v":""},{"$f":"IF($A7629=\"\",\"\",$O7629+thousand*VLOOKUP($A7629,$A$1:Q7629,17,FALSE))","v":""},{"$f":"IF(O7629=1,MAX(Q$1:Q7628)+1,\"\")","v":""},"","",7628]
[null,null,null,null,null,null,null,null,null,null,{"$error":"#DIV/0!"},null,7635,null,{"$f":"IF($A7636=\"\",\"\",COUNTIF($A$2:$A7636,$A7636))","v":""},{"$f":"IF($A7636=\"\",\"\",$O7636+thousand*VLOOKUP($A7636,$A$1:Q7636,17,FALSE))","v":""},{"$f":"IF(O7636=1,MAX(Q$1:Q7635)+1,\"\")","v":""},"","",7635]
[null,null,null,null,null,null,null,null,null,null,{"$error":"#DIV/0!"},null,7645,null,{"$f":"IF($A7646=\"\",\"\",COUNTIF($A$2:$A7646,$A7646))","v":""},{"$f":"IF($A7646=\"\",\"\",$O7646+thousand*VLOOKUP($A7646,$A$1:Q7646,17,FALSE))","v":""},{"$f":"IF(O7646=1,MAX(Q$1:Q7645)+1,\"\")","v":""},"","",7645]
[null,null,null,null,null,null,null,null,null,null,{"$error":"#DIV/0!"},null,7652,null,{"$f":"IF($A7653=\"\",\"\",COUNTIF($A$2:$A7653,$A7653))","v":""},{"$f":"IF($A7653=\"\",\"\",$O7653+thousand*VLOOKUP($A7653,$A$1:Q7653,17,FALSE))","v":""},{"$f":"IF(O7653=1,MAX(Q$1:Q7652)+1,\"\")","v":""},"","",7652]
[null,null,null,null,null,null,null,null,null,null,{"$error":"#DIV/0!"},null,7654,null,{"$f":"IF($A7655=\"\",\"\",COUNTIF($A$2:$A7655,$A7655))","v":""},{"$f":"IF($A7655=\"\",\"\",$O7655+thousand*VLOOKUP($A7655,$A$1:Q7655,17,FALSE))","v":""},{"$f":"IF(O7655=1,MAX(Q$1:Q7654)+1,\"\")","v":""},"","",7654]
[null,null,null,null,null,null,null,null,null,null,{"$error":"#DIV/0!"},null,7666,null,{"$f":"IF($A7667=\"\",\"\",COUNTIF($A$2:$A7667,$A7667))","v":""},{"$f":"IF($A7667=\"\",\"\",$O7667+thousand*VLOOKUP($A7667,$A$1:Q7667,17,FALSE))","v":""},{"$f":"IF(O7667=1,MAX(Q$1:Q7666)+1,\"\")","v":""},"","",7666]
[null,null,null,null,null,null,null,null,null,null,{"$error":"#DIV/0!"},null,7671,null,{"$f":"IF($A7672=\"\",\"\",COUNTIF($A$2:$A7672,$A7672))","v":""},{"$f":"IF($A7672=\"\",\"\",$O7672+thousand*VLOOKUP($A7672,$A$1:Q7672,17,FALSE))","v":""},{"$f":"IF(O7672=1,MAX(Q$1:Q7671)+1,\"\")","v":""},"","",7671]
[null,null,null,null,null,null,null,null,null,null,{"$error":"#DIV/0!"},null,7679,null,{"$f":"IF($A7680=\"\",\"\",COUNTIF($A$2:$A7680,$A7680))","v":""},{"$f":"IF($A7680=\"\",\"\",$O7680+thousand*VLOOKUP($A7680,$A$1:Q7680,17,FALSE))","v":""},{"$f":"IF(O7680=1,MAX(Q$1:Q7679)+1,\"\")","v":""},"","",7679]
[null,null,null,null,null,null,null,null,null,null,{"$error":"#DIV/0!"},null,7688,null,{"$f":"IF($A7689=\"\",\"\",COUNTIF($A$2:$A7689,$A7689))","v":""},{"$f":"IF($A7689=\"\",\"\",$O7689+thousand*VLOOKUP($A7689,$A$1:Q7689,17,FALSE))","v":""},{"$f":"IF(O7689=1,MAX(Q$1:Q7688)+1,\"\")","v":""},"","",7688]
[null,null,null,null,null,null,null,null,null,null,{"$error":"#DIV/0!"},null,7696,null,{"$f":"IF($A7697=\"\",\"\",COUNTIF($A$2:$A7697,$A7697))","v":""},{"$f":"IF($A7697=\"\",\"\",$O7697+thousand*VLOOKUP($A7697,$A$1:Q7697,17,FALSE))","v":""},{"$f":"IF(O7697=1,MAX(Q$1:Q7696)+1,\"\")","v":""},"","",7696]
[null,null,null,null,null,null,null,null,null,null,{"$error":"#DIV/0!"},null,7702,null,{"$f":"IF($A7703=\"\",\"\",COUNTIF($A$2:$A7703,$A7703))","v":""},{"$f":"IF($A7703=\"\",\"\",$O7703+thousand*VLOOKUP($A7703,$A$1:Q7703,17,FALSE))","v":""},{"$f":"IF(O7703=1,MAX(Q$1:Q7702)+1,\"\")","v":""},"","",7702]
[null,null,null,null,null,null,null,null,null,null,{"$error":"#DIV/0!"},null,7705,null,{"$f":"IF($A7706=\"\",\"\",COUNTIF($A$2:$A7706,$A7706))","v":""},{"$f":"IF($A7706=\"\",\"\",$O7706+thousand*VLOOKUP($A7706,$A$1:Q7706,17,FALSE))","v":""},{"$f":"IF(O7706=1,MAX(Q$1:Q7705)+1,\"\")","v":""},"","",7705]
[null,null,null,null,null,null,null,null,null,null,{"$error":"#DIV/0!"},null,7716,null,{"$f":"IF($A7717=\"\",\"\",COUNTIF($A$2:$A7717,$A7717))","v":""},{"$f":"IF($A7717=\"\",\"\",$O7717+thousand*VLOOKUP($A7717,$A$1:Q7717,17,FALSE))","v":""},{"$f":"IF(O7717=1,MAX(Q$1:Q7716)+1,\"\")","v":""},"","",7716]
[null,null,null,null,null,null,null,null,null,null,{"$error":"#DIV/0!"},null,7724,null,{"$f":"IF($A7725=\"\",\"\",COUNTIF($A$2:$A7725,$A7725))","v":""},{"$f":"IF($A7725=\"\",\"\",$O7725+thousand*VLOOKUP($A7725,$A$1:Q7725,17,FALSE))","v":""},{"$f":"IF(O7725=1,MAX(Q$1:Q7724)+1,\"\")","v":""},"","",7724]
[null,null,null,null,null,null,null,null,null,null,{"$error":"#DIV/0!"},null,7730,null,{"$f":"IF($A7731=\"\",\"\",COUNTIF($A$2:$A7731,$A7731))","v":""},{"$f":"IF($A7731=\"\",\"\",$O7731+thousand*VLOOKUP($A7731,$A$1:Q7731,17,FALSE))","v":""},{"$f":"IF(O7731=1,MAX(Q$1:Q7730)+1,\"\")","v":""},"","",7730]
[null,null,null,null,null,null,null,null,null,null,{"$error":"#DIV/0!"},null,7738,null,{"$f":"IF($A7739=\"\",\"\",COUNTIF($A$2:$A7739,$A7739))","v":""},{"$f":"IF($A7739=\"\",\"\",$O7739+thousand*VLOOKUP($A7739,$A$1:Q7739,17,FALSE))","v":""},{"$f":"IF(O7739=1,MAX(Q$1:Q7738)+1,\"\")","v":""},"","",7738]
[null,null,null,null,null,null,null,null,null,null,{"$error":"#DIV/0!"},null,7747,null,{"$f":"IF($A7748=\"\",\"\",COUNTIF($A$2:$A7748,$A7748))","v":""},{"$f":"IF($A7748=\"\",\"\",$O7748+thousand*VLOOKUP($A7748,$A$1:Q7748,17,FALSE))","v":""},{"$f":"IF(O7748=1,MAX(Q$1:Q7747)+1,\"\")","v":""},"","",7747]
[null,null,null,null,null,null,null,null,null,null,{"$error":"#DIV/0!"},null,7752,null,{"$f":"IF($A7753=\"\",\"\",COUNTIF($A$2:$A7753,$A7753))","v":""},{"$f":"IF($A7753=\"\",\"\",$O7753+thousand*VLOOKUP($A7753,$A$1:Q7753,17,FALSE))","v":""},{"$f":"IF(O7753=1,MAX(Q$1:Q7752)+1,\"\")","v":""},"","",7752]
[null,null,null,null,null,null,null,null,null,null,{"$error":"#DIV/0!"},null,7764,null,{"$f":"IF($A7765=\"\",\"\",COUNTIF($A$2:$A7765,$A7765))","v":""},{"$f":"IF($A7765=\"\",\"\",$O7765+thousand*VLOOKUP($A7765,$A$1:Q7765,17,FALSE))","v":""},{"$f":"IF(O7765=1,MAX(Q$1:Q7764)+1,\"\")","v":""},"","",7764]
[null,null,null,null,null,null,null,null,null,null,{"$error":"#DIV/0!"},null,7769,null,{"$f":"IF($A7770=\"\",\"\",COUNTIF($A$2:$A7770,$A7770))","v":""},{"$f":"IF($A7770=\"\",\"\",$O7770+thousand*VLOOKUP($A7770,$A$1:Q7770,17,FALSE))","v":""},{"$f":"IF(O7770=1,MAX(Q$1:Q7769)+1,\"\")","v":""},"","",7769]
[null,null,null,null,null,null,null,null,null,null,{"$error":"#DIV/0!"},null,7774,null,{"$f":"IF($A7775=\"\",\"\",COUNTIF($A$2:$A7775,$A7775))","v":""},{"$f":"IF($A7775=\"\",\"\",$O7775+thousand*VLOOKUP($A7775,$A$1:Q7775,17,FALSE))","v":""},{"$f":"IF(O7775=1,MAX(Q$1:Q7774)+1,\"\")","v":""},"","",7774]
[null,null,null,null,null,null,null,null,null,null,{"$error":"#DIV/0!"},null,7781,null,{"$f":"IF($A7782=\"\",\"\",COUNTIF($A$2:$A7782,$A7782))","v":""},{"$f":"IF($A7782=\"\",\"\",$O7782+thousand*VLOOKUP($A7782,$A$1:Q7782,17,FALSE))","v":""},{"$f":"IF(O7782=1,MAX(Q$1:Q7781)+1,\"\")","v":""},"","",7781]
[null,null,null,null,null,null,null,null,null,null,{"$error":"#DIV/0!"},null,7788,null,{"$f":"IF($A7789=\"\",\"\",COUNTIF($A$2:$A7789,$A7789))","v":""},{"$f":"IF($A7789=\"\",\"\",$O7789+thousand*VLOOKUP($A7789,$A$1:Q7789,17,FALSE))","v":""},{"$f":"IF(O7789=1,MAX(Q$1:Q7788)+1,\"\")","v":""},"","",7788]
[null,null,null,null,null,null,null,null,null,null,{"$error":"#DIV/0!"},null,7798,null,{"$f":"IF($A7799=\"\",\"\",COUNTIF($A$2:$A7799,$A7799))","v":""},{"$f":"IF($A7799=\"\",\"\",$O7799+thousand*VLOOKUP($A7799,$A$1:Q7799,17,FALSE))","v":""},{"$f":"IF(O7799=1,MAX(Q$1:Q7798)+1,\"\")","v":""},"","",7798]
[null,null,null,null,null,null,null,null,null,null,{"$error":"#DIV/0!"},null,7805,null,{"$f":"IF($A7806=\"\",\"\",COUNTIF($A$2:$A7806,$A7806))","v":""},{"$f":"IF($A7806=\"\",\"\",$O7806+thousand*VLOOKUP($A7806,$A$1:Q7806,17,FALSE))","v":""},{"$f":"IF(O7806=1,MAX(Q$1:Q7805)+1,\"\")","v":""},"","",7805]
[null,null,null,null,null,null,null,null,null,null,{"$error":"#DIV/0!"},null,7815,null,{"$f":"IF($A7816=\"\",\"\",COUNTIF($A$2:$A7816,$A7816))","v":""},{"$f":"IF($A7816=\"\",\"\",$O7816+thousand*VLOOKUP($A7816,$A$1:Q7816,17,FALSE))","v":""},{"$f":"IF(O7816=1,MAX(Q$1:Q7815)+1,\"\")","v":""},"","",7815]
[null,null,null,null,null,null,null,null,null,null,{"$error":"#DIV/0!"},null,7819,null,{"$f":"IF($A7820=\"\",\"\",COUNTIF($A$2:$A7820,$A7820))","v":""},{"$f":"IF($A7820=\"\",\"\",$O7820+thousand*VLOOKUP($A7820,$A$1:Q7820,17,FALSE))","v":""},{"$f":"IF(O7820=1,MAX(Q$1:Q7819)+1,\"\")","v":""},"","",7819]
[null,null,null,null,null,null,null,null,null,null,{"$error":"#DIV/0!"},null,7824,null,{"$f":"IF($A7825=\"\",\"\",COUNTIF($A$2:$A7825,$A7825))","v":""},{"$f":"IF($A7825=\"\",\"\",$O7825+thousand*VLOOKUP($A7825,$A$1:Q7825,17,FALSE))","v":""},{"$f":"IF(O7825=1,MAX(Q$1:Q7824)+1,\"\")","v":""},"","",7824]
[null,null,null,null,null,null,null,null,null,null,{"$error":"#DIV/0!"},null,7832,null,{"$f":"IF($A7833=\"\",\"\",COUNTIF($A$2:$A7833,$A7833))","v":""},{"$f":"IF($A7833=\"\",\"\",$O7833+thousand*VLOOKUP($A7833,$A$1:Q7833,17,FALSE))","v":""},{"$f":"IF(O7833=1,MAX(Q$1:Q7832)+1,\"\")","v":""},"","",7832]
[null,null,null,null,null,null,null,null,null,null,{"$error":"#DIV/0!"},null,7841,null,{"$f":"IF($A7842=\"\",\"\",COUNTIF($A$2:$A7842,$A7842))","v":""},{"$f":"IF($A7842=\"\",\"\",$O7842+thousand*VLOOKUP($A7842,$A$1:Q7842,17,FALSE))","v":""},{"$f":"IF(O7842=1,MAX(Q$1:Q7841)+1,\"\")","v":""},"","",7841]
[null,null,null,null,null,null,null,null,null,null,{"$error":"#DIV/0!"},null,7849,null,{"$f":"IF($A7850=\"\",\"\",COUNTIF($A$2:$A7850,$A7850))","v":""},{"$f":"IF($A7850=\"\",\"\",$O7850+thousand*VLOOKUP($A7850,$A$1:Q7850,17,FALSE))","v":""},{"$f":"IF(O7850=1,MAX(Q$1:Q7849)+1,\"\")","v":""},"","",{"$f":"$M7850","v":7849}]
[null,null,null,null,null,null,null,null,null,null,{"$error":"#DIV/0!"},null,7855,null,{"$f":"IF($A7856=\"\",\"\",COUNTIF($A$2:$A7856,$A7856))","v":""},{"$f":"IF($A7856=\"\",\"\",$O7856+thousand*VLOOKUP($A7856,$A$1:Q7856,17,FALSE))","v":""},{"$f":"IF(O7856=1,MAX(Q$1:Q7855)+1,\"\")","v":""},"","",7855]
[null,null,null,null,null,null,null,null,null,null,{"$error":"#DIV/0!"},null,7866,null,{"$f":"IF($A7867=\"\",\"\",COUNTIF($A$2:$A7867,$A7867))","v":""},{"$f":"IF($A7867=\"\",\"\",$O7867+thousand*VLOOKUP($A7867,$A$1:Q7867,17,FALSE))","v":""},{"$f":"IF(O7867=1,MAX(Q$1:Q7866)+1,\"\")","v":""},"","",7866]
[null,null,null,null,null,null,null,null,null,null,{"$error":"#DIV/0!"},null,7869,null,{"$f":"IF($A7870=\"\",\"\",COUNTIF($A$2:$A7870,$A7870))","v":""},{"$f":"IF($A7870=\"\",\"\",$O7870+thousand*VLOOKUP($A7870,$A$1:Q7870,17,FALSE))","v":""},{"$f":"IF(O7870=1,MAX(Q$1:Q7869)+1,\"\")","v":""},"","",7869]
[null,null,null,null,null,null,null,null,null,null,{"$error":"#DIV/0!"},null,7877,null,{"$f":"IF($A7878=\"\",\"\",COUNTIF($A$2:$A7878,$A7878))","v":""},{"$f":"IF($A7878=\"\",\"\",$O7878+thousand*VLOOKUP($A7878,$A$1:Q7878,17,FALSE))","v":""},{"$f":"IF(O7878=1,MAX(Q$1:Q7877)+1,\"\")","v":""},"","",7877]
[null,null,null,null,null,null,null,null,null,null,{"$error":"#DIV/0!"},null,7883,null,{"$f":"IF($A7884=\"\",\"\",COUNTIF($A$2:$A7884,$A7884))","v":""},{"$f":"IF($A7884=\"\",\"\",$O7884+thousand*VLOOKUP($A7884,$A$1:Q7884,17,FALSE))","v":""},{"$f":"IF(O7884=1,MAX(Q$1:Q7883)+1,\"\")","v":""},"","",7883]
[null,null,null,null,null,null,null,null,null,null,{"$error":"#DIV/0!"},null,7891,null,{"$f":"IF($A7892=\"\",\"\",COUNTIF($A$2:$A7892,$A7892))","v":""},{"$f":"IF($A7892=\"\",\"\",$O7892+thousand*VLOOKUP($A7892,$A$1:Q7892,17,FALSE))","v":""},{"$f":"IF(O7892=1,MAX(Q$1:Q7891)+1,\"\")","v":""},"","",7891]
[null,null,null,null,null,null,null,null,null,null,{"$error":"#DIV/0!"},null,7900,null,{"$f":"IF($A7901=\"\",\"\",COUNTIF($A$2:$A7901,$A7901))","v":""},{"$f":"IF($A7901=\"\",\"\",$O7901+thousand*VLOOKUP($A7901,$A$1:Q7901,17,FALSE))","v":""},{"$f":"IF(O7901=1,MAX(Q$1:Q7900)+1,\"\")","v":""},"","",7900]
[null,null,null,null,null,null,null,null,null,null,{"$error":"#DIV/0!"},null,7912,null,{"$f":"IF($A7913=\"\",\"\",COUNTIF($A$2:$A7913,$A7913))","v":""},{"$f":"IF($A7913=\"\",\"\",$O7913+thousand*VLOOKUP($A7913,$A$1:Q7913,17,FALSE))","v":""},{"$f":"IF(O7913=1,MAX(Q$1:Q7912)+1,\"\")","v":""},"","",7912]
[null,null,null,null,null,null,null,null,null,null,{"$f":"F7918/E7918*J7918","v":{"$error":"#DIV/0!"}},null,7917,null,{"$f":"IF($A7918=\"\",\"\",COUNTIF($A$2:$A7918,$A7918))","v":""},{"$f":"IF($A7918=\"\",\"\",$O7918+thousand*VLOOKUP($A7918,$A$1:Q7918,17,FALSE))","v":""},{"$f":"IF(O7918=1,MAX(Q$1:Q7917)+1,\"\")","v":""},"","",7917]
[null,null,null,null,null,null,null,null,null,null,{"$error":"#DIV/0!"},null,7922,null,{"$f":"IF($A7923=\"\",\"\",COUNTIF($A$2:$A7923,$A7923))","v":""},{"$f":"IF($A7923=\"\",\"\",$O7923+thousand*VLOOKUP($A7923,$A$1:Q7923,17,FALSE))","v":""},{"$f":"IF(O7923=1,MAX(Q$1:Q7922)+1,\"\")","v":""},"","",7922]
[null,null,null,null,null,null,null,null,null,null,{"$error":"#DIV/0!"},null,7934,null,{"$f":"IF($A7935=\"\",\"\",COUNTIF($A$2:$A7935,$A7935))","v":""},{"$f":"IF($A7935=\"\",\"\",$O7935+thousand*VLOOKUP($A7935,$A$1:Q7935,17,FALSE))","v":""},{"$f":"IF(O7935=1,MAX(Q$1:Q7934)+1,\"\")","v":""},"","",7934]
[null,null,null,null,null,null,null,null,null,null,{"$error":"#DIV/0!"},null,7942,null,{"$f":"IF($A7943=\"\",\"\",COUNTIF($A$2:$A7943,$A7943))","v":""},{"$f":"IF($A7943=\"\",\"\",$O7943+thousand*VLOOKUP($A7943,$A$1:Q7943,17,FALSE))","v":""},{"$f":"IF(O7943=1,MAX(Q$1:Q7942)+1,\"\")","v":""},"","",7942]
[null,null,null,null,null,null,null,null,null,null,{"$error":"#DIV/0!"},null,7948,null,{"$f":"IF($A7949=\"\",\"\",COUNTIF($A$2:$A7949,$A7949))","v":""},{"$f":"IF($A7949=\"\",\"\",$O7949+thousand*VLOOKUP($A7949,$A$1:Q7949,17,FALSE))","v":""},{"$f":"IF(O7949=1,MAX(Q$1:Q7948)+1,\"\")","v":""},"","",7948]
[null,null,null,null,null,null,null,null,null,null,{"$error":"#DIV/0!"},null,7951,null,{"$f":"IF($A7952=\"\",\"\",COUNTIF($A$2:$A7952,$A7952))","v":""},{"$f":"IF($A7952=\"\",\"\",$O7952+thousand*VLOOKUP($A7952,$A$1:Q7952,17,FALSE))","v":""},{"$f":"IF(O7952=1,MAX(Q$1:Q7951)+1,\"\")","v":""},"","",7951]
[null,null,null,null,null,null,null,null,null,null,{"$error":"#DIV/0!"},null,7958,null,{"$f":"IF($A7959=\"\",\"\",COUNTIF($A$2:$A7959,$A7959))","v":""},{"$f":"IF($A7959=\"\",\"\",$O7959+thousand*VLOOKUP($A7959,$A$1:Q7959,17,FALSE))","v":""},{"$f":"IF(O7959=1,MAX(Q$1:Q7958)+1,\"\")","v":""},"","",7958]
[null,null,null,null,null,null,null,null,null,null,{"$error":"#DIV/0!"},null,7968,null,{"$f":"IF($A7969=\"\",\"\",COUNTIF($A$2:$A7969,$A7969))","v":""},{"$f":"IF($A7969=\"\",\"\",$O7969+thousand*VLOOKUP($A7969,$A$1:Q7969,17,FALSE))","v":""},{"$f":"IF(O7969=1,MAX(Q$1:Q7968)+1,\"\")","v":""},"","",7968]
[null,null,null,null,null,null,null,null,null,null,{"$error":"#DIV/0!"},null,7979,null,{"$f":"IF($A7980=\"\",\"\",COUNTIF($A$2:$A7980,$A7980))","v":""},{"$f":"IF($A7980=\"\",\"\",$O7980+thousand*VLOOKUP($A7980,$A$1:Q7980,17,FALSE))","v":""},{"$f":"IF(O7980=1,MAX(Q$1:Q7979)+1,\"\")","v":""},"","",7979]
[null,null,null,null,null,null,null,null,null,null,null,null,7984]
[null,null,null,null,null,null,null,null,null,null,null,null,7993]
[]
[]
[]
[]
[]
[]
[]
[]
[]
[]
[]
[]
[]
[]
[]
[]
[]
[]
[]
[]
[]
[]
[]
[]
[]
[]
[null,null,null,null,null,null,null,null,null,null,{"$error":"#DIV/0!"},null,8219,"",{"$f":"IF($A8191=\"\",\"\",COUNTIF($A$2:$A8191,$A8191))","v":""},{"$f":"IF($A8191=\"\",\"\",$O8191+thousand*VLOOKUP($A8191,$A$1:Q8191,17,FALSE))","v":""},{"$f":"IF(O8191=1,MAX(Q$1:Q8190)+1,\"\")","v":""},"",""]
[null,null,null,null,null,null,null,null,null,null,{"$f":"F8198/E8198*J8198","v":{"$error":"#DIV/0!"}},null,8226,"",{"$f":"IF($A8198=\"\",\"\",COUNTIF($A$2:$A8198,$A8198))","v":""},{"$f":"IF($A8198=\"\",\"\",$O8198+thousand*VLOOKUP($A8198,$A$1:Q8198,17,FALSE))","v":""},{"$f":"IF(O8198=1,MAX(Q$1:Q8197)+1,\"\")","v":""},{"$f":"IF(A8198=\"\",\"\",A8198)","v":""},{"$f":"IF(B8198=\"\",\"\",B8198)","v":""}]
[null,null,null,null,null,null,null,null,null,null,{"$error":"#DIV/0!"},null,8233,"",{"$f":"IF($A8205=\"\",\"\",COUNTIF($A$2:$A8205,$A8205))","v":""},{"$f":"IF($A8205=\"\",\"\",$O8205+thousand*VLOOKUP($A8205,$A$1:Q8205,17,FALSE))","v":""},{"$f":"IF(O8205=1,MAX(Q$1:Q8204)+1,\"\")","v":""},"",""]
[null,null,null,null,null,null,null,null,null,null,{"$error":"#DIV/0!"},null,8243,"",{"$f":"IF($A8215=\"\",\"\",COUNTIF($A$2:$A8215,$A8215))","v":""},{"$f":"IF($A8215=\"\",\"\",$O8215+thousand*VLOOKUP($A8215,$A$1:Q8215,17,FALSE))","v":""},{"$f":"IF(O8215=1,MAX(Q$1:Q8214)+1,\"\")","v":""},"",""]
[null,null,null,null,null,null,null,null,null,null,{"$error":"#DIV/0!"},null,8247,"",{"$f":"IF($A8219=\"\",\"\",COUNTIF($A$2:$A8219,$A8219))","v":""},{"$f":"IF($A8219=\"\",\"\",$O8219+thousand*VLOOKUP($A8219,$A$1:Q8219,17,FALSE))","v":""},{"$f":"IF(O8219=1,MAX(Q$1:Q8218)+1,\"\")","v":""},"",""]
[null,null,null,null,null,null,null,null,null,null,{"$error":"#DIV/0!"},null,8255,"",{"$f":"IF($A8227=\"\",\"\",COUNTIF($A$2:$A8227,$A8227))","v":""},{"$f":"IF($A8227=\"\",\"\",$O8227+thousand*VLOOKUP($A8227,$A$1:Q8227,17,FALSE))","v":""},{"$f":"IF(O8227=1,MAX(Q$1:Q8226)+1,\"\")","v":""},"",""]
[null,null,null,null,null,null,null,null,null,null,{"$error":"#DIV/0!"},null,8268,"",{"$f":"IF($A8240=\"\",\"\",COUNTIF($A$2:$A8240,$A8240))","v":""},{"$f":"IF($A8240=\"\",\"\",$O8240+thousand*VLOOKUP($A8240,$A$1:Q8240,17,FALSE))","v":""},{"$f":"IF(O8240=1,MAX(Q$1:Q8239)+1,\"\")","v":""},"",""]
[null,null,null,null,null,null,null,null,null,null,{"$error":"#DIV/0!"},null,8269,"",{"$f":"IF($A8241=\"\",\"\",COUNTIF($A$2:$A8241,$A8241))","v":""},{"$f":"IF($A8241=\"\",\"\",$O8241+thousand*VLOOKUP($A8241,$A$1:Q8241,17,FALSE))","v":""},{"$f":"IF(O8241=1,MAX(Q$1:Q8240)+1,\"\")","v":""},"",""]
[null,null,null,null,null,null,null,null,null,null,{"$error":"#DIV/0!"},null,8277,"",{"$f":"IF($A8249=\"\",\"\",COUNTIF($A$2:$A8249,$A8249))","v":""},{"$f":"IF($A8249=\"\",\"\",$O8249+thousand*VLOOKUP($A8249,$A$1:Q8249,17,FALSE))","v":""},{"$f":"IF(O8249=1,MAX(Q$1:Q8248)+1,\"\")","v":""},"",""]
[null,null,null,null,null,null,null,null,null,null,{"$f":"F8262/E8262*J8262","v":{"$error":"#DIV/0!"}},null,8290,"",{"$f":"IF($A8262=\"\",\"\",COUNTIF($A$2:$A8262,$A8262))","v":""},{"$f":"IF($A8262=\"\",\"\",$O8262+thousand*VLOOKUP($A8262,$A$1:Q8262,17,FALSE))","v":""},{"$f":"IF(O8262=1,MAX(Q$1:Q8261)+1,\"\")","v":""},{"$f":"IF(A8262=\"\",\"\",A8262)","v":""},{"$f":"IF(B8262=\"\",\"\",B8262)","v":""}]
[null,null,null,null,null,null,null,null,null,null,{"$error":"#DIV/0!"},null,8294,"",{"$f":"IF($A8266=\"\",\"\",COUNTIF($A$2:$A8266,$A8266))","v":""},{"$f":"IF($A8266=\"\",\"\",$O8266+thousand*VLOOKUP($A8266,$A$1:Q8266,17,FALSE))","v":""},{"$f":"IF(O8266=1,MAX(Q$1:Q8265)+1,\"\")","v":""},"",""]
[null,null,null,null,null,null,null,null,null,null,{"$error":"#DIV/0!"},null,8300,"",{"$f":"IF($A8272=\"\",\"\",COUNTIF($A$2:$A8272,$A8272))","v":""},{"$f":"IF($A8272=\"\",\"\",$O8272+thousand*VLOOKUP($A8272,$A$1:Q8272,17,FALSE))","v":""},{"$f":"IF(O8272=1,MAX(Q$1:Q8271)+1,\"\")","v":""},"",""]
[null,null,null,null,null,null,null,null,null,null,{"$error":"#DIV/0!"},null,8312,"",{"$f":"IF($A8284=\"\",\"\",COUNTIF($A$2:$A8284,$A8284))","v":""},{"$f":"IF($A8284=\"\",\"\",$O8284+thousand*VLOOKUP($A8284,$A$1:Q8284,17,FALSE))","v":""},{"$f":"IF(O8284=1,MAX(Q$1:Q8283)+1,\"\")","v":""},"",""]
[null,null,null,null,null,null,null,null,null,null,{"$error":"#DIV/0!"},null,8319,"",{"$f":"IF($A8291=\"\",\"\",COUNTIF($A$2:$A8291,$A8291))","v":""},{"$f":"IF($A8291=\"\",\"\",$O8291+thousand*VLOOKUP($A8291,$A$1:Q8291,17,FALSE))","v":""},{"$f":"IF(O8291=1,MAX(Q$1:Q8290)+1,\"\")","v":""},"",""]
[null,null,null,null,null,null,null,null,null,null,{"$error":"#DIV/0!"},null,8326,"",{"$f":"IF($A8298=\"\",\"\",COUNTIF($A$2:$A8298,$A8298))","v":""},{"$f":"IF($A8298=\"\",\"\",$O8298+thousand*VLOOKUP($A8298,$A$1:Q8298,17,FALSE))","v":""},{"$f":"IF(O8298=1,MAX(Q$1:Q8297)+1,\"\")","v":""},"",""]
[null,null,null,null,null,null,null,null,null,null,{"$error":"#DIV/0!"},null,8328,"",{"$f":"IF($A8300=\"\",\"\",COUNTIF($A$2:$A8300,$A8300))","v":""},{"$f":"IF($A8300=\"\",\"\",$O8300+thousand*VLOOKUP($A8300,$A$1:Q8300,17,FALSE))","v":""},{"$f":"IF(O8300=1,MAX(Q$1:Q8299)+1,\"\")","v":""},"",""]
[null,null,null,null,null,null,null,null,null,null,{"$error":"#DIV/0!"},null,8336,"",{"$f":"IF($A8308=\"\",\"\",COUNTIF($A$2:$A8308,$A8308))","v":""},{"$f":"IF($A8308=\"\",\"\",$O8308+thousand*VLOOKUP($A8308,$A$1:Q8308,17,FALSE))","v":""},{"$f":"IF(O8308=1,MAX(Q$1:Q8307)+1,\"\")","v":""},"",""]
[null,null,null,null,null,null,null,null,null,null,{"$error":"#DIV/0!"},null,8345,"",{"$f":"IF($A8317=\"\",\"\",COUNTIF($A$2:$A8317,$A8317))","v":""},{"$f":"IF($A8317=\"\",\"\",$O8317+thousand*VLOOKUP($A8317,$A$1:Q8317,17,FALSE))","v":""},{"$f":"IF(O8317=1,MAX(Q$1:Q8316)+1,\"\")","v":""},"",""]
[null,null,null,null,null,null,null,null,null,null,{"$error":"#DIV/0!"},null,8357,"",{"$f":"IF($A8329=\"\",\"\",COUNTIF($A$2:$A8329,$A8329))","v":""},{"$f":"IF($A8329=\"\",\"\",$O8329+thousand*VLOOKUP($A8329,$A$1:Q8329,17,FALSE))","v":""},{"$f":"IF(O8329=1,MAX(Q$1:Q8328)+1,\"\")","v":""},"",""]
[null,null,null,null,null,null,null,null,null,null,{"$error":"#DIV/0!"},null,8362,"",{"$f":"IF($A8334=\"\",\"\",COUNTIF($A$2:$A8334,$A8334))","v":""},{"$f":"IF($A8334=\"\",\"\",$O8334+thousand*VLOOKUP($A8334,$A$1:Q8334,17,FALSE))","v":""},{"$f":"IF(O8334=1,MAX(Q$1:Q8333)+1,\"\")","v":""},"",""]
[null,null,null,null,null,null,null,null,null,null,{"$error":"#DIV/0!"},null,8370,"",{"$f":"IF($A8342=\"\",\"\",COUNTIF($A$2:$A8342,$A8342))","v":""},{"$f":"IF($A8342=\"\",\"\",$O8342+thousand*VLOOKUP($A8342,$A$1:Q8342,17,FALSE))","v":""},{"$f":"IF(O8342=1,MAX(Q$1:Q8341)+1,\"\")","v":""},"",""]
[null,null,null,null,null,null,null,null,null,null,{"$error":"#DIV/0!"},null,8379,"",{"$f":"IF($A8351=\"\",\"\",COUNTIF($A$2:$A8351,$A8351))","v":""},{"$f":"IF($A8351=\"\",\"\",$O8351+thousand*VLOOKUP($A8351,$A$1:Q8351,17,FALSE))","v":""},{"$f":"IF(O8351=1,MAX(Q$1:Q8350)+1,\"\")","v":""},"",""]
[null,null,null,null,null,null,null,null,null,null,{"$error":"#DIV/0!"},null,8387,"",{"$f":"IF($A8359=\"\",\"\",COUNTIF($A$2:$A8359,$A8359))","v":""},{"$f":"IF($A8359=\"\",\"\",$O8359+thousand*VLOOKUP($A8359,$A$1:Q8359,17,FALSE))","v":""},{"$f":"IF(O8359=1,MAX(Q$1:Q8358)+1,\"\")","v":""},"",""]
[null,null,null,null,null,null,null,null,null,null,{"$error":"#DIV/0!"},null,8393,"",{"$f":"IF($A8365=\"\",\"\",COUNTIF($A$2:$A8365,$A8365))","v":""},{"$f":"IF($A8365=\"\",\"\",$O8365+thousand*VLOOKUP($A8365,$A$1:Q8365,17,FALSE))","v":""},{"$f":"IF(O8365=1,MAX(Q$1:Q8364)+1,\"\")","v":""},"",""]
[null,null,null,null,null,null,null,null,null,null,{"$error":"#DIV/0!"},null,8396,"",{"$f":"IF($A8368=\"\",\"\",COUNTIF($A$2:$A8368,$A8368))","v":""},{"$f":"IF($A8368=\"\",\"\",$O8368+thousand*VLOOKUP($A8368,$A$1:Q8368,17,FALSE))","v":""},{"$f":"IF(O8368=1,MAX(Q$1:Q8367)+1,\"\")","v":""},"",""]
[null,null,null,null,null,null,null,null,null,null,{"$error":"#DIV/0!"},null,8407,"",{"$f":"IF($A8379=\"\",\"\",COUNTIF($A$2:$A8379,$A8379))","v":""},{"$f":"IF($A8379=\"\",\"\",$O8379+thousand*VLOOKUP($A8379,$A$1:Q8379,17,FALSE))","v":""},{"$f":"IF(O8379=1,MAX(Q$1:Q8378)+1,\"\")","v":""},"",""]
[null,null,null,null,null,null,null,null,null,null,{"$error":"#DIV/0!"},null,8415,"",{"$f":"IF($A8387=\"\",\"\",COUNTIF($A$2:$A8387,$A8387))","v":""},{"$f":"IF($A8387=\"\",\"\",$O8387+thousand*VLOOKUP($A8387,$A$1:Q8387,17,FALSE))","v":""},{"$f":"IF(O8387=1,MAX(Q$1:Q8386)+1,\"\")","v":""},"",""]
[null,null,null,null,null,null,null,null,null,null,{"$error":"#DIV/0!"},null,8421,"",{"$f":"IF($A8393=\"\",\"\",COUNTIF($A$2:$A8393,$A8393))","v":""},{"$f":"IF($A8393=\"\",\"\",$O8393+thousand*VLOOKUP($A8393,$A$1:Q8393,17,FALSE))","v":""},{"$f":"IF(O8393=1,MAX(Q$1:Q8392)+1,\"\")","v":""},"",""]
[null,null,null,null,null,null,null,null,null,null,{"$error":"#DIV/0!"},null,8429,"",{"$f":"IF($A8401=\"\",\"\",COUNTIF($A$2:$A8401,$A8401))","v":""},{"$f":"IF($A8401=\"\",\"\",$O8401+thousand*VLOOKUP($A8401,$A$1:Q8401,17,FALSE))","v":""},{"$f":"IF(O8401=1,MAX(Q$1:Q8400)+1,\"\")","v":""},"",""]
[null,null,null,null,null,null,null,null,null,null,{"$error":"#DIV/0!"},null,8438,"",{"$f":"IF($A8410=\"\",\"\",COUNTIF($A$2:$A8410,$A8410))","v":""},{"$f":"IF($A8410=\"\",\"\",$O8410+thousand*VLOOKUP($A8410,$A$1:Q8410,17,FALSE))","v":""},{"$f":"IF(O8410=1,MAX(Q$1:Q8409)+1,\"\")","v":""},"",""]
[null,null,null,null,null,null,null,null,null,null,{"$error":"#DIV/0!"},null,8443,"",{"$f":"IF($A8415=\"\",\"\",COUNTIF($A$2:$A8415,$A8415))","v":""},{"$f":"IF($A8415=\"\",\"\",$O8415+thousand*VLOOKUP($A8415,$A$1:Q8415,17,FALSE))","v":""},{"$f":"IF(O8415=1,MAX(Q$1:Q8414)+1,\"\")","v":""},"",""]
[null,null,null,null,null,null,null,null,null,null,{"$error":"#DIV/0!"},null,8447,"",{"$f":"IF($A8419=\"\",\"\",COUNTIF($A$2:$A8419,$A8419))","v":""},{"$f":"IF($A8419=\"\",\"\",$O8419+thousand*VLOOKUP($A8419,$A$1:Q8419,17,FALSE))","v":""},{"$f":"IF(O8419=1,MAX(Q$1:Q8418)+1,\"\")","v":""},"",""]
[null,null,null,null,null,null,null,null,null,null,{"$error":"#DIV/0!"},null,8455,"",{"$f":"IF($A8427=\"\",\"\",COUNTIF($A$2:$A8427,$A8427))","v":""},{"$f":"IF($A8427=\"\",\"\",$O8427+thousand*VLOOKUP($A8427,$A$1:Q8427,17,FALSE))","v":""},{"$f":"IF(O8427=1,MAX(Q$1:Q8426)+1,\"\")","v":""},"",""]
[null,null,null,null,null,null,null,null,null,null,{"$error":"#DIV/0!"},null,8456,"",{"$f":"IF($A8428=\"\",\"\",COUNTIF($A$2:$A8428,$A8428))","v":""},{"$f":"IF($A8428=\"\",\"\",$O8428+thousand*VLOOKUP($A8428,$A$1:Q8428,17,FALSE))","v":""},{"$f":"IF(O8428=1,MAX(Q$1:Q8427)+1,\"\")","v":""},"",""]
[null,null,null,null,null,null,null,null,null,null,{"$error":"#DIV/0!"},null,8457,"",{"$f":"IF($A8429=\"\",\"\",COUNTIF($A$2:$A8429,$A8429))","v":""},{"$f":"IF($A8429=\"\",\"\",$O8429+thousand*VLOOKUP($A8429,$A$1:Q8429,17,FALSE))","v":""},{"$f":"IF(O8429=1,MAX(Q$1:Q8428)+1,\"\")","v":""},"",""]
[null,null,null,null,null,null,null,null,null,null,{"$error":"#DIV/0!"},null,8458,"",{"$f":"IF($A8430=\"\",\"\",COUNTIF($A$2:$A8430,$A8430))","v":""},{"$f":"IF($A8430=\"\",\"\",$O8430+thousand*VLOOKUP($A8430,$A$1:Q8430,17,FALSE))","v":""},{"$f":"IF(O8430=1,MAX(Q$1:Q8429)+1,\"\")","v":""},"",""]
[null,null,null,null,null,null,null,null,null,null,{"$error":"#DIV/0!"},null,8459,"",{"$f":"IF($A8431=\"\",\"\",COUNTIF($A$2:$A8431,$A8431))","v":""},{"$f":"IF($A8431=\"\",\"\",$O8431+thousand*VLOOKUP($A8431,$A$1:Q8431,17,FALSE))","v":""},{"$f":"IF(O8431=1,MAX(Q$1:Q8430)+1,\"\")","v":""},"",""]
[null,null,null,null,null,null,null,null,null,null,{"$error":"#DIV/0!"},null,8460,"",{"$f":"IF($A8432=\"\",\"\",COUNTIF($A$2:$A8432,$A8432))","v":""},{"$f":"IF($A8432=\"\",\"\",$O8432+thousand*VLOOKUP($A8432,$A$1:Q8432,17,FALSE))","v":""},{"$f":"IF(O8432=1,MAX(Q$1:Q8431)+1,\"\")","v":""},"",""]
[null,null,null,null,null,null,null,null,null,null,{"$error":"#DIV/0!"},null,8461,"",{"$f":"IF($A8433=\"\",\"\",COUNTIF($A$2:$A8433,$A8433))","v":""},{"$f":"IF($A8433=\"\",\"\",$O8433+thousand*VLOOKUP($A8433,$A$1:Q8433,17,FALSE))","v":""},{"$f":"IF(O8433=1,MAX(Q$1:Q8432)+1,\"\")","v":""},"",""]
[null,null,null,null,null,null,null,null,null,null,{"$error":"#DIV/0!"},null,8462,"",{"$f":"IF($A8434=\"\",\"\",COUNTIF($A$2:$A8434,$A8434))","v":""},{"$f":"IF($A8434=\"\",\"\",$O8434+thousand*VLOOKUP($A8434,$A$1:Q8434,17,FALSE))","v":""},{"$f":"IF(O8434=1,MAX(Q$1:Q8433)+1,\"\")","v":""},"",""]
[null,null,null,null,null,null,null,null,null,null,{"$error":"#DIV/0!"},null,8463,"",{"$f":"IF($A8435=\"\",\"\",COUNTIF($A$2:$A8435,$A8435))","v":""},{"$f":"IF($A8435=\"\",\"\",$O8435+thousand*VLOOKUP($A8435,$A$1:Q8435,17,FALSE))","v":""},{"$f":"IF(O8435=1,MAX(Q$1:Q8434)+1,\"\")","v":""},"",""]
[null,null,null,null,null,null,null,null,null,null,{"$error":"#DIV/0!"},null,8464,"",{"$f":"IF($A8436=\"\",\"\",COUNTIF($A$2:$A8436,$A8436))","v":""},{"$f":"IF($A8436=\"\",\"\",$O8436+thousand*VLOOKUP($A8436,$A$1:Q8436,17,FALSE))","v":""},{"$f":"IF(O8436=1,MAX(Q$1:Q8435)+1,\"\")","v":""},"",""]
[null,null,null,null,null,null,null,null,null,null,{"$error":"#DIV/0!"},null,8465,"",{"$f":"IF($A8437=\"\",\"\",COUNTIF($A$2:$A8437,$A8437))","v":""},{"$f":"IF($A8437=\"\",\"\",$O8437+thousand*VLOOKUP($A8437,$A$1:Q8437,17,FALSE))","v":""},{"$f":"IF(O8437=1,MAX(Q$1:Q8436)+1,\"\")","v":""},"",""]
[null,null,null,null,null,null,null,null,null,null,{"$error":"#DIV/0!"},null,8466,"",{"$f":"IF($A8438=\"\",\"\",COUNTIF($A$2:$A8438,$A8438))","v":""},{"$f":"IF($A8438=\"\",\"\",$O8438+thousand*VLOOKUP($A8438,$A$1:Q8438,17,FALSE))","v":""},{"$f":"IF(O8438=1,MAX(Q$1:Q8437)+1,\"\")","v":""},"",""]
[null,null,null,null,null,null,null,null,null,null,{"$error":"#DIV/0!"},null,8467,{"$f":"IF(M8439>MAX(Q$2:Q$8669),\"\",VLOOKUP(M8439,Q$2:R$8669,2,FALSE))","v":""},{"$f":"IF($A8439=\"\",\"\",COUNTIF($A$2:$A8439,$A8439))","v":""},{"$f":"IF($A8439=\"\",\"\",$O8439+thousand*VLOOKUP($A8439,$A$1:Q8439,17,FALSE))","v":""},{"$f":"IF(O8439=1,MAX(Q$1:Q8438)+1,\"\")","v":""},"",""]
[null,null,null,null,null,null,null,null,null,null,{"$error":"#DIV/0!"},null,8468,"",{"$f":"IF($A8440=\"\",\"\",COUNTIF($A$2:$A8440,$A8440))","v":""},{"$f":"IF($A8440=\"\",\"\",$O8440+thousand*VLOOKUP($A8440,$A$1:Q8440,17,FALSE))","v":""},{"$f":"IF(O8440=1,MAX(Q$1:Q8439)+1,\"\")","v":""},"",""]
[null,null,null,null,null,null,null,null,null,null,{"$error":"#DIV/0!"},null,8469,"",{"$f":"IF($A8441=\"\",\"\",COUNTIF($A$2:$A8441,$A8441))","v":""},{"$f":"IF($A8441=\"\",\"\",$O8441+thousand*VLOOKUP($A8441,$A$1:Q8441,17,FALSE))","v":""},{"$f":"IF(O8441=1,MAX(Q$1:Q8440)+1,\"\")","v":""},"",""]
[null,null,null,null,null,null,null,null,null,null,{"$error":"#DIV/0!"},null,8470,"",{"$f":"IF($A8442=\"\",\"\",COUNTIF($A$2:$A8442,$A8442))","v":""},{"$f":"IF($A8442=\"\",\"\",$O8442+thousand*VLOOKUP($A8442,$A$1:Q8442,17,FALSE))","v":""},{"$f":"IF(O8442=1,MAX(Q$1:Q8441)+1,\"\")","v":""},"",""]
[null,null,null,null,null,null,null,null,null,null,{"$error":"#DIV/0!"},null,8471,"",{"$f":"IF($A8443=\"\",\"\",COUNTIF($A$2:$A8443,$A8443))","v":""},{"$f":"IF($A8443=\"\",\"\",$O8443+thousand*VLOOKUP($A8443,$A$1:Q8443,17,FALSE))","v":""},{"$f":"IF(O8443=1,MAX(Q$1:Q8442)+1,\"\")","v":""},"",""]
[null,null,null,null,null,null,null,null,null,null,{"$error":"#DIV/0!"},null,8472,"",{"$f":"IF($A8444=\"\",\"\",COUNTIF($A$2:$A8444,$A8444))","v":""},{"$f":"IF($A8444=\"\",\"\",$O8444+thousand*VLOOKUP($A8444,$A$1:Q8444,17,FALSE))","v":""},{"$f":"IF(O8444=1,MAX(Q$1:Q8443)+1,\"\")","v":""},"",""]
[null,null,null,null,null,null,null,null,null,null,{"$error":"#DIV/0!"},null,8473,"",{"$f":"IF($A8445=\"\",\"\",COUNTIF($A$2:$A8445,$A8445))","v":""},{"$f":"IF($A8445=\"\",\"\",$O8445+thousand*VLOOKUP($A8445,$A$1:Q8445,17,FALSE))","v":""},{"$f":"IF(O8445=1,MAX(Q$1:Q8444)+1,\"\")","v":""},"",""]
[null,null,null,null,null,null,null,null,null,null,{"$error":"#DIV/0!"},null,8474,"",{"$f":"IF($A8446=\"\",\"\",COUNTIF($A$2:$A8446,$A8446))","v":""},{"$f":"IF($A8446=\"\",\"\",$O8446+thousand*VLOOKUP($A8446,$A$1:Q8446,17,FALSE))","v":""},{"$f":"IF(O8446=1,MAX(Q$1:Q8445)+1,\"\")","v":""},"",""]
[null,null,null,null,null,null,null,null,null,null,{"$error":"#DIV/0!"},null,8475,"",{"$f":"IF($A8447=\"\",\"\",COUNTIF($A$2:$A8447,$A8447))","v":""},{"$f":"IF($A8447=\"\",\"\",$O8447+thousand*VLOOKUP($A8447,$A$1:Q8447,17,FALSE))","v":""},{"$f":"IF(O8447=1,MAX(Q$1:Q8446)+1,\"\")","v":""},"",""]
[null,null,null,null,null,null,null,null,null,null,{"$error":"#DIV/0!"},null,8476,"",{"$f":"IF($A8448=\"\",\"\",COUNTIF($A$2:$A8448,$A8448))","v":""},{"$f":"IF($A8448=\"\",\"\",$O8448+thousand*VLOOKUP($A8448,$A$1:Q8448,17,FALSE))","v":""},{"$f":"IF(O8448=1,MAX(Q$1:Q8447)+1,\"\")","v":""},"",""]
[null,null,null,null,null,null,null,null,null,null,{"$error":"#DIV/0!"},null,8477,"",{"$f":"IF($A8449=\"\",\"\",COUNTIF($A$2:$A8449,$A8449))","v":""},{"$f":"IF($A8449=\"\",\"\",$O8449+thousand*VLOOKUP($A8449,$A$1:Q8449,17,FALSE))","v":""},{"$f":"IF(O8449=1,MAX(Q$1:Q8448)+1,\"\")","v":""},"",""]
[null,null,null,null,null,null,null,null,null,null,{"$error":"#DIV/0!"},null,8478,"",{"$f":"IF($A8450=\"\",\"\",COUNTIF($A$2:$A8450,$A8450))","v":""},{"$f":"IF($A8450=\"\",\"\",$O8450+thousand*VLOOKUP($A8450,$A$1:Q8450,17,FALSE))","v":""},{"$f":"IF(O8450=1,MAX(Q$1:Q8449)+1,\"\")","v":""},"",""]
[null,null,null,null,null,null,null,null,null,null,{"$error":"#DIV/0!"},null,8479,"",{"$f":"IF($A8451=\"\",\"\",COUNTIF($A$2:$A8451,$A8451))","v":""},{"$f":"IF($A8451=\"\",\"\",$O8451+thousand*VLOOKUP($A8451,$A$1:Q8451,17,FALSE))","v":""},{"$f":"IF(O8451=1,MAX(Q$1:Q8450)+1,\"\")","v":""},"",""]
[null,null,null,null,null,null,null,null,null,null,{"$error":"#DIV/0!"},null,8480,"",{"$f":"IF($A8452=\"\",\"\",COUNTIF($A$2:$A8452,$A8452))","v":""},{"$f":"IF($A8452=\"\",\"\",$O8452+thousand*VLOOKUP($A8452,$A$1:Q8452,17,FALSE))","v":""},{"$f":"IF(O8452=1,MAX(Q$1:Q8451)+1,\"\")","v":""},"",""]
[null,null,null,null,null,null,null,null,null,null,{"$error":"#DIV/0!"},null,8481,"",{"$f":"IF($A8453=\"\",\"\",COUNTIF($A$2:$A8453,$A8453))","v":""},{"$f":"IF($A8453=\"\",\"\",$O8453+thousand*VLOOKUP($A8453,$A$1:Q8453,17,FALSE))","v":""},{"$f":"IF(O8453=1,MAX(Q$1:Q8452)+1,\"\")","v":""},"",""]
[null,null,null,null,null,null,null,null,null,null,{"$f":"F8454/E8454*J8454","v":{"$error":"#DIV/0!"}},null,8482,"",{"$f":"IF($A8454=\"\",\"\",COUNTIF($A$2:$A8454,$A8454))","v":""},{"$f":"IF($A8454=\"\",\"\",$O8454+thousand*VLOOKUP($A8454,$A$1:Q8454,17,FALSE))","v":""},{"$f":"IF(O8454=1,MAX(Q$1:Q8453)+1,\"\")","v":""},{"$f":"IF(A8454=\"\",\"\",A8454)","v":""},{"$f":"IF(B8454=\"\",\"\",B8454)","v":""}]
[null,null,null,null,null,null,null,null,null,null,{"$error":"#DIV/0!"},null,8483,"",{"$f":"IF($A8455=\"\",\"\",COUNTIF($A$2:$A8455,$A8455))","v":""},{"$f":"IF($A8455=\"\",\"\",$O8455+thousand*VLOOKUP($A8455,$A$1:Q8455,17,FALSE))","v":""},{"$f":"IF(O8455=1,MAX(Q$1:Q8454)+1,\"\")","v":""},"",""]
[null,null,null,null,null,null,null,null,null,null,{"$error":"#DIV/0!"},null,8484,"",{"$f":"IF($A8456=\"\",\"\",COUNTIF($A$2:$A8456,$A8456))","v":""},{"$f":"IF($A8456=\"\",\"\",$O8456+thousand*VLOOKUP($A8456,$A$1:Q8456,17,FALSE))","v":""},{"$f":"IF(O8456=1,MAX(Q$1:Q8455)+1,\"\")","v":""},"",""]
[null,null,null,null,null,null,null,null,null,null,{"$error":"#DIV/0!"},null,8485,"",{"$f":"IF($A8457=\"\",\"\",COUNTIF($A$2:$A8457,$A8457))","v":""},{"$f":"IF($A8457=\"\",\"\",$O8457+thousand*VLOOKUP($A8457,$A$1:Q8457,17,FALSE))","v":""},{"$f":"IF(O8457=1,MAX(Q$1:Q8456)+1,\"\")","v":""},"",""]
[null,null,null,null,null,null,null,null,null,null,{"$error":"#DIV/0!"},null,8486,"",{"$f":"IF($A8458=\"\",\"\",COUNTIF($A$2:$A8458,$A8458))","v":""},{"$f":"IF($A8458=\"\",\"\",$O8458+thousand*VLOOKUP($A8458,$A$1:Q8458,17,FALSE))","v":""},{"$f":"IF(O8458=1,MAX(Q$1:Q8457)+1,\"\")","v":""},"",""]
[null,null,null,null,null,null,null,null,null,null,{"$error":"#DIV/0!"},null,8487,"",{"$f":"IF($A8459=\"\",\"\",COUNTIF($A$2:$A8459,$A8459))","v":""},{"$f":"IF($A8459=\"\",\"\",$O8459+thousand*VLOOKUP($A8459,$A$1:Q8459,17,FALSE))","v":""},{"$f":"IF(O8459=1,MAX(Q$1:Q8458)+1,\"\")","v":""},"",""]
[null,null,null,null,null,null,null,null,null,null,{"$error":"#DIV/0!"},null,8488,"",{"$f":"IF($A8460=\"\",\"\",COUNTIF($A$2:$A8460,$A8460))","v":""},{"$f":"IF($A8460=\"\",\"\",$O8460+thousand*VLOOKUP($A8460,$A$1:Q8460,17,FALSE))","v":""},{"$f":"IF(O8460=1,MAX(Q$1:Q8459)+1,\"\")","v":""},"",""]
[null,null,null,null,null,null,null,null,null,null,{"$error":"#DIV/0!"},null,8489,"",{"$f":"IF($A8461=\"\",\"\",COUNTIF($A$2:$A8461,$A8461))","v":""},{"$f":"IF($A8461=\"\",\"\",$O8461+thousand*VLOOKUP($A8461,$A$1:Q8461,17,FALSE))","v":""},{"$f":"IF(O8461=1,MAX(Q$1:Q8460)+1,\"\")","v":""},"",""]
[null,null,null,null,null,null,null,null,null,null,{"$error":"#DIV/0!"},null,8490,"",{"$f":"IF($A8462=\"\",\"\",COUNTIF($A$2:$A8462,$A8462))","v":""},{"$f":"IF($A8462=\"\",\"\",$O8462+thousand*VLOOKUP($A8462,$A$1:Q8462,17,FALSE))","v":""},{"$f":"IF(O8462=1,MAX(Q$1:Q8461)+1,\"\")","v":""},"",""]
[null,null,null,null,null,null,null,null,null,null,{"$error":"#DIV/0!"},null,8491,"",{"$f":"IF($A8463=\"\",\"\",COUNTIF($A$2:$A8463,$A8463))","v":""},{"$f":"IF($A8463=\"\",\"\",$O8463+thousand*VLOOKUP($A8463,$A$1:Q8463,17,FALSE))","v":""},{"$f":"IF(O8463=1,MAX(Q$1:Q8462)+1,\"\")","v":""},"",""]
[null,null,null,null,null,null,null,null,null,null,{"$error":"#DIV/0!"},null,8492,"",{"$f":"IF($A8464=\"\",\"\",COUNTIF($A$2:$A8464,$A8464))","v":""},{"$f":"IF($A8464=\"\",\"\",$O8464+thousand*VLOOKUP($A8464,$A$1:Q8464,17,FALSE))","v":""},{"$f":"IF(O8464=1,MAX(Q$1:Q8463)+1,\"\")","v":""},"",""]
[null,null,null,null,null,null,null,null,null,null,{"$error":"#DIV/0!"},null,8493,"",{"$f":"IF($A8465=\"\",\"\",COUNTIF($A$2:$A8465,$A8465))","v":""},{"$f":"IF($A8465=\"\",\"\",$O8465+thousand*VLOOKUP($A8465,$A$1:Q8465,17,FALSE))","v":""},{"$f":"IF(O8465=1,MAX(Q$1:Q8464)+1,\"\")","v":""},"",""]
[null,null,null,null,null,null,null,null,null,null,{"$error":"#DIV/0!"},null,8494,"",{"$f":"IF($A8466=\"\",\"\",COUNTIF($A$2:$A8466,$A8466))","v":""},{"$f":"IF($A8466=\"\",\"\",$O8466+thousand*VLOOKUP($A8466,$A$1:Q8466,17,FALSE))","v":""},{"$f":"IF(O8466=1,MAX(Q$1:Q8465)+1,\"\")","v":""},"",""]
[null,null,null,null,null,null,null,null,null,null,{"$error":"#DIV/0!"},null,8495,"",{"$f":"IF($A8467=\"\",\"\",COUNTIF($A$2:$A8467,$A8467))","v":""},{"$f":"IF($A8467=\"\",\"\",$O8467+thousand*VLOOKUP($A8467,$A$1:Q8467,17,FALSE))","v":""},{"$f":"IF(O8467=1,MAX(Q$1:Q8466)+1,\"\")","v":""},"",""]
[null,null,null,null,null,null,null,null,null,null,{"$error":"#DIV/0!"},null,8496,"",{"$f":"IF($A8468=\"\",\"\",COUNTIF($A$2:$A8468,$A8468))","v":""},{"$f":"IF($A8468=\"\",\"\",$O8468+thousand*VLOOKUP($A8468,$A$1:Q8468,17,FALSE))","v":""},{"$f":"IF(O8468=1,MAX(Q$1:Q8467)+1,\"\")","v":""},"",""]
[null,null,null,null,null,null,null,null,null,null,{"$error":"#DIV/0!"},null,8497,"",{"$f":"IF($A8469=\"\",\"\",COUNTIF($A$2:$A8469,$A8469))","v":""},{"$f":"IF($A8469=\"\",\"\",$O8469+thousand*VLOOKUP($A8469,$A$1:Q8469,17,FALSE))","v":""},{"$f":"IF(O8469=1,MAX(Q$1:Q8468)+1,\"\")","v":""},"",""]
[null,null,null,null,null,null,null,null,null,null,{"$error":"#DIV/0!"},null,8498,"",{"$f":"IF($A8470=\"\",\"\",COUNTIF($A$2:$A8470,$A8470))","v":""},{"$f":"IF($A8470=\"\",\"\",$O8470+thousand*VLOOKUP($A8470,$A$1:Q8470,17,FALSE))","v":""},{"$f":"IF(O8470=1,MAX(Q$1:Q8469)+1,\"\")","v":""},"",""]
[null,null,null,null,null,null,null,null,null,null,{"$error":"#DIV/0!"},null,8499,"",{"$f":"IF($A8471=\"\",\"\",COUNTIF($A$2:$A8471,$A8471))","v":""},{"$f":"IF($A8471=\"\",\"\",$O8471+thousand*VLOOKUP($A8471,$A$1:Q8471,17,FALSE))","v":""},{"$f":"IF(O8471=1,MAX(Q$1:Q8470)+1,\"\")","v":""},"",""]
[null,null,null,null,null,null,null,null,null,null,{"$error":"#DIV/0!"},null,8500,"",{"$f":"IF($A8472=\"\",\"\",COUNTIF($A$2:$A8472,$A8472))","v":""},{"$f":"IF($A8472=\"\",\"\",$O8472+thousand*VLOOKUP($A8472,$A$1:Q8472,17,FALSE))","v":""},{"$f":"IF(O8472=1,MAX(Q$1:Q8471)+1,\"\")","v":""},"",""]
[null,null,null,null,null,null,null,null,null,null,{"$error":"#DIV/0!"},null,8501,"",{"$f":"IF($A8473=\"\",\"\",COUNTIF($A$2:$A8473,$A8473))","v":""},{"$f":"IF($A8473=\"\",\"\",$O8473+thousand*VLOOKUP($A8473,$A$1:Q8473,17,FALSE))","v":""},{"$f":"IF(O8473=1,MAX(Q$1:Q8472)+1,\"\")","v":""},"",""]
[null,null,null,null,null,null,null,null,null,null,{"$error":"#DIV/0!"},null,8502,"",{"$f":"IF($A8474=\"\",\"\",COUNTIF($A$2:$A8474,$A8474))","v":""},{"$f":"IF($A8474=\"\",\"\",$O8474+thousand*VLOOKUP($A8474,$A$1:Q8474,17,FALSE))","v":""},{"$f":"IF(O8474=1,MAX(Q$1:Q8473)+1,\"\")","v":""},"",""]
[null,null,null,null,null,null,null,null,null,null,{"$error":"#DIV/0!"},null,8503,"",{"$f":"IF($A8475=\"\",\"\",COUNTIF($A$2:$A8475,$A8475))","v":""},{"$f":"IF($A8475=\"\",\"\",$O8475+thousand*VLOOKUP($A8475,$A$1:Q8475,17,FALSE))","v":""},{"$f":"IF(O8475=1,MAX(Q$1:Q8474)+1,\"\")","v":""},"",""]
[null,null,null,null,null,null,null,null,null,null,{"$error":"#DIV/0!"},null,8504,"",{"$f":"IF($A8476=\"\",\"\",COUNTIF($A$2:$A8476,$A8476))","v":""},{"$f":"IF($A8476=\"\",\"\",$O8476+thousand*VLOOKUP($A8476,$A$1:Q8476,17,FALSE))","v":""},{"$f":"IF(O8476=1,MAX(Q$1:Q8475)+1,\"\")","v":""},"",""]
[null,null,null,null,null,null,null,null,null,null,{"$error":"#DIV/0!"},null,8505,"",{"$f":"IF($A8477=\"\",\"\",COUNTIF($A$2:$A8477,$A8477))","v":""},{"$f":"IF($A8477=\"\",\"\",$O8477+thousand*VLOOKUP($A8477,$A$1:Q8477,17,FALSE))","v":""},{"$f":"IF(O8477=1,MAX(Q$1:Q8476)+1,\"\")","v":""},"",""]
[null,null,null,null,null,null,null,null,null,null,{"$error":"#DIV/0!"},null,8506,"",{"$f":"IF($A8478=\"\",\"\",COUNTIF($A$2:$A8478,$A8478))","v":""},{"$f":"IF($A8478=\"\",\"\",$O8478+thousand*VLOOKUP($A8478,$A$1:Q8478,17,FALSE))","v":""},{"$f":"IF(O8478=1,MAX(Q$1:Q8477)+1,\"\")","v":""},"",""]
[null,null,null,null,null,null,null,null,null,null,{"$error":"#DIV/0!"},null,8507,"",{"$f":"IF($A8479=\"\",\"\",COUNTIF($A$2:$A8479,$A8479))","v":""},{"$f":"IF($A8479=\"\",\"\",$O8479+thousand*VLOOKUP($A8479,$A$1:Q8479,17,FALSE))","v":""},{"$f":"IF(O8479=1,MAX(Q$1:Q8478)+1,\"\")","v":""},"",""]
[null,null,null,null,null,null,null,null,null,null,{"$error":"#DIV/0!"},null,8508,"",{"$f":"IF($A8480=\"\",\"\",COUNTIF($A$2:$A8480,$A8480))","v":""},{"$f":"IF($A8480=\"\",\"\",$O8480+thousand*VLOOKUP($A8480,$A$1:Q8480,17,FALSE))","v":""},{"$f":"IF(O8480=1,MAX(Q$1:Q8479)+1,\"\")","v":""},"",""]
[null,null,null,null,null,null,null,null,null,null,{"$error":"#DIV/0!"},null,8509,"",{"$f":"IF($A8481=\"\",\"\",COUNTIF($A$2:$A8481,$A8481))","v":""},{"$f":"IF($A8481=\"\",\"\",$O8481+thousand*VLOOKUP($A8481,$A$1:Q8481,17,FALSE))","v":""},{"$f":"IF(O8481=1,MAX(Q$1:Q8480)+1,\"\")","v":""},"",""]
[null,null,null,null,null,null,null,null,null,null,{"$error":"#DIV/0!"},null,8510,"",{"$f":"IF($A8482=\"\",\"\",COUNTIF($A$2:$A8482,$A8482))","v":""},{"$f":"IF($A8482=\"\",\"\",$O8482+thousand*VLOOKUP($A8482,$A$1:Q8482,17,FALSE))","v":""},{"$f":"IF(O8482=1,MAX(Q$1:Q8481)+1,\"\")","v":""},"",""]
[null,null,null,null,null,null,null,null,null,null,{"$error":"#DIV/0!"},null,8511,"",{"$f":"IF($A8483=\"\",\"\",COUNTIF($A$2:$A8483,$A8483))","v":""},{"$f":"IF($A8483=\"\",\"\",$O8483+thousand*VLOOKUP($A8483,$A$1:Q8483,17,FALSE))","v":""},{"$f":"IF(O8483=1,MAX(Q$1:Q8482)+1,\"\")","v":""},"",""]
[null,null,null,null,null,null,null,null,null,null,{"$error":"#DIV/0!"},null,8512,"",{"$f":"IF($A8484=\"\",\"\",COUNTIF($A$2:$A8484,$A8484))","v":""},{"$f":"IF($A8484=\"\",\"\",$O8484+thousand*VLOOKUP($A8484,$A$1:Q8484,17,FALSE))","v":""},{"$f":"IF(O8484=1,MAX(Q$1:Q8483)+1,\"\")","v":""},"",""]
[null,null,null,null,null,null,null,null,null,null,{"$error":"#DIV/0!"},null,8513,"",{"$f":"IF($A8485=\"\",\"\",COUNTIF($A$2:$A8485,$A8485))","v":""},{"$f":"IF($A8485=\"\",\"\",$O8485+thousand*VLOOKUP($A8485,$A$1:Q8485,17,FALSE))","v":""},{"$f":"IF(O8485=1,MAX(Q$1:Q8484)+1,\"\")","v":""},"",""]
[null,null,null,null,null,null,null,null,null,null,{"$error":"#DIV/0!"},null,8514,"",{"$f":"IF($A8486=\"\",\"\",COUNTIF($A$2:$A8486,$A8486))","v":""},{"$f":"IF($A8486=\"\",\"\",$O8486+thousand*VLOOKUP($A8486,$A$1:Q8486,17,FALSE))","v":""},{"$f":"IF(O8486=1,MAX(Q$1:Q8485)+1,\"\")","v":""},"",""]
[null,null,null,null,null,null,null,null,null,null,{"$error":"#DIV/0!"},null,8515,"",{"$f":"IF($A8487=\"\",\"\",COUNTIF($A$2:$A8487,$A8487))","v":""},{"$f":"IF($A8487=\"\",\"\",$O8487+thousand*VLOOKUP($A8487,$A$1:Q8487,17,FALSE))","v":""},{"$f":"IF(O8487=1,MAX(Q$1:Q8486)+1,\"\")","v":""},"",""]
[null,null,null,null,null,null,null,null,null,null,{"$error":"#DIV/0!"},null,8516,"",{"$f":"IF($A8488=\"\",\"\",COUNTIF($A$2:$A8488,$A8488))","v":""},{"$f":"IF($A8488=\"\",\"\",$O8488+thousand*VLOOKUP($A8488,$A$1:Q8488,17,FALSE))","v":""},{"$f":"IF(O8488=1,MAX(Q$1:Q8487)+1,\"\")","v":""},"",""]
[null,null,null,null,null,null,null,null,null,null,{"$error":"#DIV/0!"},null,8517,"",{"$f":"IF($A8489=\"\",\"\",COUNTIF($A$2:$A8489,$A8489))","v":""},{"$f":"IF($A8489=\"\",\"\",$O8489+thousand*VLOOKUP($A8489,$A$1:Q8489,17,FALSE))","v":""},{"$f":"IF(O8489=1,MAX(Q$1:Q8488)+1,\"\")","v":""},"",""]
[null,null,null,null,null,null,null,null,null,null,{"$error":"#DIV/0!"},null,8518,"",{"$f":"IF($A8490=\"\",\"\",COUNTIF($A$2:$A8490,$A8490))","v":""},{"$f":"IF($A8490=\"\",\"\",$O8490+thousand*VLOOKUP($A8490,$A$1:Q8490,17,FALSE))","v":""},{"$f":"IF(O8490=1,MAX(Q$1:Q8489)+1,\"\")","v":""},"",""]
[null,null,null,null,null,null,null,null,null,null,{"$error":"#DIV/0!"},null,8519,"",{"$f":"IF($A8491=\"\",\"\",COUNTIF($A$2:$A8491,$A8491))","v":""},{"$f":"IF($A8491=\"\",\"\",$O8491+thousand*VLOOKUP($A8491,$A$1:Q8491,17,FALSE))","v":""},{"$f":"IF(O8491=1,MAX(Q$1:Q8490)+1,\"\")","v":""},"",""]
[null,null,null,null,null,null,null,null,null,null,{"$error":"#DIV/0!"},null,8520,"",{"$f":"IF($A8492=\"\",\"\",COUNTIF($A$2:$A8492,$A8492))","v":""},{"$f":"IF($A8492=\"\",\"\",$O8492+thousand*VLOOKUP($A8492,$A$1:Q8492,17,FALSE))","v":""},{"$f":"IF(O8492=1,MAX(Q$1:Q8491)+1,\"\")","v":""},"",""]
[null,null,null,null,null,null,null,null,null,null,{"$error":"#DIV/0!"},null,8521,"",{"$f":"IF($A8493=\"\",\"\",COUNTIF($A$2:$A8493,$A8493))","v":""},{"$f":"IF($A8493=\"\",\"\",$O8493+thousand*VLOOKUP($A8493,$A$1:Q8493,17,FALSE))","v":""},{"$f":"IF(O8493=1,MAX(Q$1:Q8492)+1,\"\")","v":""},"",""]
[null,null,null,null,null,null,null,null,null,null,{"$error":"#DIV/0!"},null,8522,"",{"$f":"IF($A8494=\"\",\"\",COUNTIF($A$2:$A8494,$A8494))","v":""},{"$f":"IF($A8494=\"\",\"\",$O8494+thousand*VLOOKUP($A8494,$A$1:Q8494,17,FALSE))","v":""},{"$f":"IF(O8494=1,MAX(Q$1:Q8493)+1,\"\")","v":""},"",""]
[null,null,null,null,null,null,null,null,null,null,{"$error":"#DIV/0!"},null,8523,"",{"$f":"IF($A8495=\"\",\"\",COUNTIF($A$2:$A8495,$A8495))","v":""},{"$f":"IF($A8495=\"\",\"\",$O8495+thousand*VLOOKUP($A8495,$A$1:Q8495,17,FALSE))","v":""},{"$f":"IF(O8495=1,MAX(Q$1:Q8494)+1,\"\")","v":""},"",""]
[null,null,null,null,null,null,null,null,null,null,{"$error":"#DIV/0!"},null,8524,"",{"$f":"IF($A8496=\"\",\"\",COUNTIF($A$2:$A8496,$A8496))","v":""},{"$f":"IF($A8496=\"\",\"\",$O8496+thousand*VLOOKUP($A8496,$A$1:Q8496,17,FALSE))","v":""},{"$f":"IF(O8496=1,MAX(Q$1:Q8495)+1,\"\")","v":""},"",""]
[null,null,null,null,null,null,null,null,null,null,{"$error":"#DIV/0!"},null,8525,"",{"$f":"IF($A8497=\"\",\"\",COUNTIF($A$2:$A8497,$A8497))","v":""},{"$f":"IF($A8497=\"\",\"\",$O8497+thousand*VLOOKUP($A8497,$A$1:Q8497,17,FALSE))","v":""},{"$f":"IF(O8497=1,MAX(Q$1:Q8496)+1,\"\")","v":""},"",""]
[null,null,null,null,null,null,null,null,null,null,{"$error":"#DIV/0!"},null,8526,"",{"$f":"IF($A8498=\"\",\"\",COUNTIF($A$2:$A8498,$A8498))","v":""},{"$f":"IF($A8498=\"\",\"\",$O8498+thousand*VLOOKUP($A8498,$A$1:Q8498,17,FALSE))","v":""},{"$f":"IF(O8498=1,MAX(Q$1:Q8497)+1,\"\")","v":""},"",""]
[null,null,null,null,null,null,null,null,null,null,{"$error":"#DIV/0!"},null,8527,"",{"$f":"IF($A8499=\"\",\"\",COUNTIF($A$2:$A8499,$A8499))","v":""},{"$f":"IF($A8499=\"\",\"\",$O8499+thousand*VLOOKUP($A8499,$A$1:Q8499,17,FALSE))","v":""},{"$f":"IF(O8499=1,MAX(Q$1:Q8498)+1,\"\")","v":""},"",""]
[null,null,null,null,null,null,null,null,null,null,{"$error":"#DIV/0!"},null,8528,"",{"$f":"IF($A8500=\"\",\"\",COUNTIF($A$2:$A8500,$A8500))","v":""},{"$f":"IF($A8500=\"\",\"\",$O8500+thousand*VLOOKUP($A8500,$A$1:Q8500,17,FALSE))","v":""},{"$f":"IF(O8500=1,MAX(Q$1:Q8499)+1,\"\")","v":""},"",""]
[null,null,null,null,null,null,null,null,null,null,{"$error":"#DIV/0!"},null,8529,"",{"$f":"IF($A8501=\"\",\"\",COUNTIF($A$2:$A8501,$A8501))","v":""},{"$f":"IF($A8501=\"\",\"\",$O8501+thousand*VLOOKUP($A8501,$A$1:Q8501,17,FALSE))","v":""},{"$f":"IF(O8501=1,MAX(Q$1:Q8500)+1,\"\")","v":""},"",""]
[null,null,null,null,null,null,null,null,null,null,{"$error":"#DIV/0!"},null,8530,"",{"$f":"IF($A8502=\"\",\"\",COUNTIF($A$2:$A8502,$A8502))","v":""},{"$f":"IF($A8502=\"\",\"\",$O8502+thousand*VLOOKUP($A8502,$A$1:Q8502,17,FALSE))","v":""},{"$f":"IF(O8502=1,MAX(Q$1:Q8501)+1,\"\")","v":""},"",""]
[null,null,null,null,null,null,null,null,null,null,{"$error":"#DIV/0!"},null,8531,{"$f":"IF(M8503>MAX(Q$2:Q$8669),\"\",VLOOKUP(M8503,Q$2:R$8669,2,FALSE))","v":""},{"$f":"IF($A8503=\"\",\"\",COUNTIF($A$2:$A8503,$A8503))","v":""},{"$f":"IF($A8503=\"\",\"\",$O8503+thousand*VLOOKUP($A8503,$A$1:Q8503,17,FALSE))","v":""},{"$f":"IF(O8503=1,MAX(Q$1:Q8502)+1,\"\")","v":""},"",""]
[null,null,null,null,null,null,null,null,null,null,{"$error":"#DIV/0!"},null,8532,"",{"$f":"IF($A8504=\"\",\"\",COUNTIF($A$2:$A8504,$A8504))","v":""},{"$f":"IF($A8504=\"\",\"\",$O8504+thousand*VLOOKUP($A8504,$A$1:Q8504,17,FALSE))","v":""},{"$f":"IF(O8504=1,MAX(Q$1:Q8503)+1,\"\")","v":""},"",""]
[null,null,null,null,null,null,null,null,null,null,{"$error":"#DIV/0!"},null,8533,"",{"$f":"IF($A8505=\"\",\"\",COUNTIF($A$2:$A8505,$A8505))","v":""},{"$f":"IF($A8505=\"\",\"\",$O8505+thousand*VLOOKUP($A8505,$A$1:Q8505,17,FALSE))","v":""},{"$f":"IF(O8505=1,MAX(Q$1:Q8504)+1,\"\")","v":""},"",""]
[null,null,null,null,null,null,null,null,null,null,{"$error":"#DIV/0!"},null,8534,"",{"$f":"IF($A8506=\"\",\"\",COUNTIF($A$2:$A8506,$A8506))","v":""},{"$f":"IF($A8506=\"\",\"\",$O8506+thousand*VLOOKUP($A8506,$A$1:Q8506,17,FALSE))","v":""},{"$f":"IF(O8506=1,MAX(Q$1:Q8505)+1,\"\")","v":""},"",""]
[null,null,null,null,null,null,null,null,null,null,{"$error":"#DIV/0!"},null,8535,"",{"$f":"IF($A8507=\"\",\"\",COUNTIF($A$2:$A8507,$A8507))","v":""},{"$f":"IF($A8507=\"\",\"\",$O8507+thousand*VLOOKUP($A8507,$A$1:Q8507,17,FALSE))","v":""},{"$f":"IF(O8507=1,MAX(Q$1:Q8506)+1,\"\")","v":""},"",""]
[null,null,null,null,null,null,null,null,null,null,{"$error":"#DIV/0!"},null,8536,"",{"$f":"IF($A8508=\"\",\"\",COUNTIF($A$2:$A8508,$A8508))","v":""},{"$f":"IF($A8508=\"\",\"\",$O8508+thousand*VLOOKUP($A8508,$A$1:Q8508,17,FALSE))","v":""},{"$f":"IF(O8508=1,MAX(Q$1:Q8507)+1,\"\")","v":""},"",""]
[null,null,null,null,null,null,null,null,null,null,{"$error":"#DIV/0!"},null,8537,"",{"$f":"IF($A8509=\"\",\"\",COUNTIF($A$2:$A8509,$A8509))","v":""},{"$f":"IF($A8509=\"\",\"\",$O8509+thousand*VLOOKUP($A8509,$A$1:Q8509,17,FALSE))","v":""},{"$f":"IF(O8509=1,MAX(Q$1:Q8508)+1,\"\")","v":""},"",""]
[null,null,null,null,null,null,null,null,null,null,{"$error":"#DIV/0!"},null,8538,"",{"$f":"IF($A8510=\"\",\"\",COUNTIF($A$2:$A8510,$A8510))","v":""},{"$f":"IF($A8510=\"\",\"\",$O8510+thousand*VLOOKUP($A8510,$A$1:Q8510,17,FALSE))","v":""},{"$f":"IF(O8510=1,MAX(Q$1:Q8509)+1,\"\")","v":""},"",""]
[null,null,null,null,null,null,null,null,null,null,{"$error":"#DIV/0!"},null,8539,"",{"$f":"IF($A8511=\"\",\"\",COUNTIF($A$2:$A8511,$A8511))","v":""},{"$f":"IF($A8511=\"\",\"\",$O8511+thousand*VLOOKUP($A8511,$A$1:Q8511,17,FALSE))","v":""},{"$f":"IF(O8511=1,MAX(Q$1:Q8510)+1,\"\")","v":""},"",""]
[null,null,null,null,null,null,null,null,null,null,{"$error":"#DIV/0!"},null,8540,"",{"$f":"IF($A8512=\"\",\"\",COUNTIF($A$2:$A8512,$A8512))","v":""},{"$f":"IF($A8512=\"\",\"\",$O8512+thousand*VLOOKUP($A8512,$A$1:Q8512,17,FALSE))","v":""},{"$f":"IF(O8512=1,MAX(Q$1:Q8511)+1,\"\")","v":""},"",""]
[null,null,null,null,null,null,null,null,null,null,{"$error":"#DIV/0!"},null,8541,"",{"$f":"IF($A8513=\"\",\"\",COUNTIF($A$2:$A8513,$A8513))","v":""},{"$f":"IF($A8513=\"\",\"\",$O8513+thousand*VLOOKUP($A8513,$A$1:Q8513,17,FALSE))","v":""},{"$f":"IF(O8513=1,MAX(Q$1:Q8512)+1,\"\")","v":""},"",""]
[null,null,null,null,null,null,null,null,null,null,{"$error":"#DIV/0!"},null,8542,"",{"$f":"IF($A8514=\"\",\"\",COUNTIF($A$2:$A8514,$A8514))","v":""},{"$f":"IF($A8514=\"\",\"\",$O8514+thousand*VLOOKUP($A8514,$A$1:Q8514,17,FALSE))","v":""},{"$f":"IF(O8514=1,MAX(Q$1:Q8513)+1,\"\")","v":""},"",""]
[null,null,null,null,null,null,null,null,null,null,{"$error":"#DIV/0!"},null,8543,"",{"$f":"IF($A8515=\"\",\"\",COUNTIF($A$2:$A8515,$A8515))","v":""},{"$f":"IF($A8515=\"\",\"\",$O8515+thousand*VLOOKUP($A8515,$A$1:Q8515,17,FALSE))","v":""},{"$f":"IF(O8515=1,MAX(Q$1:Q8514)+1,\"\")","v":""},"",""]
[null,null,null,null,null,null,null,null,null,null,{"$error":"#DIV/0!"},null,8544,"",{"$f":"IF($A8516=\"\",\"\",COUNTIF($A$2:$A8516,$A8516))","v":""},{"$f":"IF($A8516=\"\",\"\",$O8516+thousand*VLOOKUP($A8516,$A$1:Q8516,17,FALSE))","v":""},{"$f":"IF(O8516=1,MAX(Q$1:Q8515)+1,\"\")","v":""},"",""]
[null,null,null,null,null,null,null,null,null,null,{"$error":"#DIV/0!"},null,8545,"",{"$f":"IF($A8517=\"\",\"\",COUNTIF($A$2:$A8517,$A8517))","v":""},{"$f":"IF($A8517=\"\",\"\",$O8517+thousand*VLOOKUP($A8517,$A$1:Q8517,17,FALSE))","v":""},{"$f":"IF(O8517=1,MAX(Q$1:Q8516)+1,\"\")","v":""},"",""]
[null,null,null,null,null,null,null,null,null,null,{"$f":"F8518/E8518*J8518","v":{"$error":"#DIV/0!"}},null,8546,"",{"$f":"IF($A8518=\"\",\"\",COUNTIF($A$2:$A8518,$A8518))","v":""},{"$f":"IF($A8518=\"\",\"\",$O8518+thousand*VLOOKUP($A8518,$A$1:Q8518,17,FALSE))","v":""},{"$f":"IF(O8518=1,MAX(Q$1:Q8517)+1,\"\")","v":""},{"$f":"IF(A8518=\"\",\"\",A8518)","v":""},{"$f":"IF(B8518=\"\",\"\",B8518)","v":""}]
[null,null,null,null,null,null,null,null,null,null,{"$error":"#DIV/0!"},null,8547,"",{"$f":"IF($A8519=\"\",\"\",COUNTIF($A$2:$A8519,$A8519))","v":""},{"$f":"IF($A8519=\"\",\"\",$O8519+thousand*VLOOKUP($A8519,$A$1:Q8519,17,FALSE))","v":""},{"$f":"IF(O8519=1,MAX(Q$1:Q8518)+1,\"\")","v":""},"",""]
[null,null,null,null,null,null,null,null,null,null,{"$error":"#DIV/0!"},null,8548,"",{"$f":"IF($A8520=\"\",\"\",COUNTIF($A$2:$A8520,$A8520))","v":""},{"$f":"IF($A8520=\"\",\"\",$O8520+thousand*VLOOKUP($A8520,$A$1:Q8520,17,FALSE))","v":""},{"$f":"IF(O8520=1,MAX(Q$1:Q8519)+1,\"\")","v":""},"",""]
[null,null,null,null,null,null,null,null,null,null,{"$error":"#DIV/0!"},null,8549,"",{"$f":"IF($A8521=\"\",\"\",COUNTIF($A$2:$A8521,$A8521))","v":""},{"$f":"IF($A8521=\"\",\"\",$O8521+thousand*VLOOKUP($A8521,$A$1:Q8521,17,FALSE))","v":""},{"$f":"IF(O8521=1,MAX(Q$1:Q8520)+1,\"\")","v":""},"",""]
[null,null,null,null,null,null,null,null,null,null,{"$error":"#DIV/0!"},null,8550,"",{"$f":"IF($A8522=\"\",\"\",COUNTIF($A$2:$A8522,$A8522))","v":""},{"$f":"IF($A8522=\"\",\"\",$O8522+thousand*VLOOKUP($A8522,$A$1:Q8522,17,FALSE))","v":""},{"$f":"IF(O8522=1,MAX(Q$1:Q8521)+1,\"\")","v":""},"",""]
[null,null,null,null,null,null,null,null,null,null,{"$error":"#DIV/0!"},null,8551,"",{"$f":"IF($A8523=\"\",\"\",COUNTIF($A$2:$A8523,$A8523))","v":""},{"$f":"IF($A8523=\"\",\"\",$O8523+thousand*VLOOKUP($A8523,$A$1:Q8523,17,FALSE))","v":""},{"$f":"IF(O8523=1,MAX(Q$1:Q8522)+1,\"\")","v":""},"",""]
[null,null,null,null,null,null,null,null,null,null,{"$error":"#DIV/0!"},null,8552,"",{"$f":"IF($A8524=\"\",\"\",COUNTIF($A$2:$A8524,$A8524))","v":""},{"$f":"IF($A8524=\"\",\"\",$O8524+thousand*VLOOKUP($A8524,$A$1:Q8524,17,FALSE))","v":""},{"$f":"IF(O8524=1,MAX(Q$1:Q8523)+1,\"\")","v":""},"",""]
[null,null,null,null,null,null,null,null,null,null,{"$error":"#DIV/0!"},null,8553,"",{"$f":"IF($A8525=\"\",\"\",COUNTIF($A$2:$A8525,$A8525))","v":""},{"$f":"IF($A8525=\"\",\"\",$O8525+thousand*VLOOKUP($A8525,$A$1:Q8525,17,FALSE))","v":""},{"$f":"IF(O8525=1,MAX(Q$1:Q8524)+1,\"\")","v":""},"",""]
[null,null,null,null,null,null,null,null,null,null,{"$error":"#DIV/0!"},null,8554,"",{"$f":"IF($A8526=\"\",\"\",COUNTIF($A$2:$A8526,$A8526))","v":""},{"$f":"IF($A8526=\"\",\"\",$O8526+thousand*VLOOKUP($A8526,$A$1:Q8526,17,FALSE))","v":""},{"$f":"IF(O8526=1,MAX(Q$1:Q8525)+1,\"\")","v":""},"",""]
[null,null,null,null,null,null,null,null,null,null,{"$error":"#DIV/0!"},null,8555,"",{"$f":"IF($A8527=\"\",\"\",COUNTIF($A$2:$A8527,$A8527))","v":""},{"$f":"IF($A8527=\"\",\"\",$O8527+thousand*VLOOKUP($A8527,$A$1:Q8527,17,FALSE))","v":""},{"$f":"IF(O8527=1,MAX(Q$1:Q8526)+1,\"\")","v":""},"",""]
[null,null,null,null,null,null,null,null,null,null,{"$error":"#DIV/0!"},null,8556,"",{"$f":"IF($A8528=\"\",\"\",COUNTIF($A$2:$A8528,$A8528))","v":""},{"$f":"IF($A8528=\"\",\"\",$O8528+thousand*VLOOKUP($A8528,$A$1:Q8528,17,FALSE))","v":""},{"$f":"IF(O8528=1,MAX(Q$1:Q8527)+1,\"\")","v":""},"",""]
[null,null,null,null,null,null,null,null,null,null,{"$error":"#DIV/0!"},null,8557,"",{"$f":"IF($A8529=\"\",\"\",COUNTIF($A$2:$A8529,$A8529))","v":""},{"$f":"IF($A8529=\"\",\"\",$O8529+thousand*VLOOKUP($A8529,$A$1:Q8529,17,FALSE))","v":""},{"$f":"IF(O8529=1,MAX(Q$1:Q8528)+1,\"\")","v":""},"",""]
[null,null,null,null,null,null,null,null,null,null,{"$error":"#DIV/0!"},null,8558,"",{"$f":"IF($A8530=\"\",\"\",COUNTIF($A$2:$A8530,$A8530))","v":""},{"$f":"IF($A8530=\"\",\"\",$O8530+thousand*VLOOKUP($A8530,$A$1:Q8530,17,FALSE))","v":""},{"$f":"IF(O8530=1,MAX(Q$1:Q8529)+1,\"\")","v":""},"",""]
[null,null,null,null,null,null,null,null,null,null,{"$error":"#DIV/0!"},null,8559,"",{"$f":"IF($A8531=\"\",\"\",COUNTIF($A$2:$A8531,$A8531))","v":""},{"$f":"IF($A8531=\"\",\"\",$O8531+thousand*VLOOKUP($A8531,$A$1:Q8531,17,FALSE))","v":""},{"$f":"IF(O8531=1,MAX(Q$1:Q8530)+1,\"\")","v":""},"",""]
[null,null,null,null,null,null,null,null,null,null,{"$error":"#DIV/0!"},null,8560,"",{"$f":"IF($A8532=\"\",\"\",COUNTIF($A$2:$A8532,$A8532))","v":""},{"$f":"IF($A8532=\"\",\"\",$O8532+thousand*VLOOKUP($A8532,$A$1:Q8532,17,FALSE))","v":""},{"$f":"IF(O8532=1,MAX(Q$1:Q8531)+1,\"\")","v":""},"",""]
[null,null,null,null,null,null,null,null,null,null,{"$error":"#DIV/0!"},null,8561,"",{"$f":"IF($A8533=\"\",\"\",COUNTIF($A$2:$A8533,$A8533))","v":""},{"$f":"IF($A8533=\"\",\"\",$O8533+thousand*VLOOKUP($A8533,$A$1:Q8533,17,FALSE))","v":""},{"$f":"IF(O8533=1,MAX(Q$1:Q8532)+1,\"\")","v":""},"",""]
[null,null,null,null,null,null,null,null,null,null,{"$error":"#DIV/0!"},null,8562,"",{"$f":"IF($A8534=\"\",\"\",COUNTIF($A$2:$A8534,$A8534))","v":""},{"$f":"IF($A8534=\"\",\"\",$O8534+thousand*VLOOKUP($A8534,$A$1:Q8534,17,FALSE))","v":""},{"$f":"IF(O8534=1,MAX(Q$1:Q8533)+1,\"\")","v":""},"",""]
[null,null,null,null,null,null,null,null,null,null,{"$error":"#DIV/0!"},null,8563,"",{"$f":"IF($A8535=\"\",\"\",COUNTIF($A$2:$A8535,$A8535))","v":""},{"$f":"IF($A8535=\"\",\"\",$O8535+thousand*VLOOKUP($A8535,$A$1:Q8535,17,FALSE))","v":""},{"$f":"IF(O8535=1,MAX(Q$1:Q8534)+1,\"\")","v":""},"",""]
[null,null,null,null,null,null,null,null,null,null,{"$error":"#DIV/0!"},null,8564,"",{"$f":"IF($A8536=\"\",\"\",COUNTIF($A$2:$A8536,$A8536))","v":""},{"$f":"IF($A8536=\"\",\"\",$O8536+thousand*VLOOKUP($A8536,$A$1:Q8536,17,FALSE))","v":""},{"$f":"IF(O8536=1,MAX(Q$1:Q8535)+1,\"\")","v":""},"",""]
[null,null,null,null,null,null,null,null,null,null,{"$error":"#DIV/0!"},null,8565,"",{"$f":"IF($A8537=\"\",\"\",COUNTIF($A$2:$A8537,$A8537))","v":""},{"$f":"IF($A8537=\"\",\"\",$O8537+thousand*VLOOKUP($A8537,$A$1:Q8537,17,FALSE))","v":""},{"$f":"IF(O8537=1,MAX(Q$1:Q8536)+1,\"\")","v":""},"",""]
[null,null,null,null,null,null,null,null,null,null,{"$error":"#DIV/0!"},null,8566,"",{"$f":"IF($A8538=\"\",\"\",COUNTIF($A$2:$A8538,$A8538))","v":""},{"$f":"IF($A8538=\"\",\"\",$O8538+thousand*VLOOKUP($A8538,$A$1:Q8538,17,FALSE))","v":""},{"$f":"IF(O8538=1,MAX(Q$1:Q8537)+1,\"\")","v":""},"",""]
[null,null,null,null,null,null,null,null,null,null,{"$error":"#DIV/0!"},null,8567,"",{"$f":"IF($A8539=\"\",\"\",COUNTIF($A$2:$A8539,$A8539))","v":""},{"$f":"IF($A8539=\"\",\"\",$O8539+thousand*VLOOKUP($A8539,$A$1:Q8539,17,FALSE))","v":""},{"$f":"IF(O8539=1,MAX(Q$1:Q8538)+1,\"\")","v":""},"",""]
[null,null,null,null,null,null,null,null,null,null,{"$error":"#DIV/0!"},null,8568,"",{"$f":"IF($A8540=\"\",\"\",COUNTIF($A$2:$A8540,$A8540))","v":""},{"$f":"IF($A8540=\"\",\"\",$O8540+thousand*VLOOKUP($A8540,$A$1:Q8540,17,FALSE))","v":""},{"$f":"IF(O8540=1,MAX(Q$1:Q8539)+1,\"\")","v":""},"",""]
[null,null,null,null,null,null,null,null,null,null,{"$error":"#DIV/0!"},null,8569,"",{"$f":"IF($A8541=\"\",\"\",COUNTIF($A$2:$A8541,$A8541))","v":""},{"$f":"IF($A8541=\"\",\"\",$O8541+thousand*VLOOKUP($A8541,$A$1:Q8541,17,FALSE))","v":""},{"$f":"IF(O8541=1,MAX(Q$1:Q8540)+1,\"\")","v":""},"",""]
[null,null,null,null,null,null,null,null,null,null,{"$error":"#DIV/0!"},null,8570,"",{"$f":"IF($A8542=\"\",\"\",COUNTIF($A$2:$A8542,$A8542))","v":""},{"$f":"IF($A8542=\"\",\"\",$O8542+thousand*VLOOKUP($A8542,$A$1:Q8542,17,FALSE))","v":""},{"$f":"IF(O8542=1,MAX(Q$1:Q8541)+1,\"\")","v":""},"",""]
[null,null,null,null,null,null,null,null,null,null,{"$error":"#DIV/0!"},null,8571,"",{"$f":"IF($A8543=\"\",\"\",COUNTIF($A$2:$A8543,$A8543))","v":""},{"$f":"IF($A8543=\"\",\"\",$O8543+thousand*VLOOKUP($A8543,$A$1:Q8543,17,FALSE))","v":""},{"$f":"IF(O8543=1,MAX(Q$1:Q8542)+1,\"\")","v":""},"",""]
[null,null,null,null,null,null,null,null,null,null,{"$error":"#DIV/0!"},null,8572,"",{"$f":"IF($A8544=\"\",\"\",COUNTIF($A$2:$A8544,$A8544))","v":""},{"$f":"IF($A8544=\"\",\"\",$O8544+thousand*VLOOKUP($A8544,$A$1:Q8544,17,FALSE))","v":""},{"$f":"IF(O8544=1,MAX(Q$1:Q8543)+1,\"\")","v":""},"",""]
[null,null,null,null,null,null,null,null,null,null,{"$error":"#DIV/0!"},null,8573,"",{"$f":"IF($A8545=\"\",\"\",COUNTIF($A$2:$A8545,$A8545))","v":""},{"$f":"IF($A8545=\"\",\"\",$O8545+thousand*VLOOKUP($A8545,$A$1:Q8545,17,FALSE))","v":""},{"$f":"IF(O8545=1,MAX(Q$1:Q8544)+1,\"\")","v":""},"",""]
[null,null,null,null,null,null,null,null,null,null,{"$error":"#DIV/0!"},null,8574,"",{"$f":"IF($A8546=\"\",\"\",COUNTIF($A$2:$A8546,$A8546))","v":""},{"$f":"IF($A8546=\"\",\"\",$O8546+thousand*VLOOKUP($A8546,$A$1:Q8546,17,FALSE))","v":""},{"$f":"IF(O8546=1,MAX(Q$1:Q8545)+1,\"\")","v":""},"",""]
[null,null,null,null,null,null,null,null,null,null,{"$error":"#DIV/0!"},null,8575,"",{"$f":"IF($A8547=\"\",\"\",COUNTIF($A$2:$A8547,$A8547))","v":""},{"$f":"IF($A8547=\"\",\"\",$O8547+thousand*VLOOKUP($A8547,$A$1:Q8547,17,FALSE))","v":""},{"$f":"IF(O8547=1,MAX(Q$1:Q8546)+1,\"\")","v":""},"",""]
[null,null,null,null,null,null,null,null,null,null,{"$error":"#DIV/0!"},null,8576,"",{"$f":"IF($A8548=\"\",\"\",COUNTIF($A$2:$A8548,$A8548))","v":""},{"$f":"IF($A8548=\"\",\"\",$O8548+thousand*VLOOKUP($A8548,$A$1:Q8548,17,FALSE))","v":""},{"$f":"IF(O8548=1,MAX(Q$1:Q8547)+1,\"\")","v":""},"",""]
[null,null,null,null,null,null,null,null,null,null,{"$error":"#DIV/0!"},null,8577,"",{"$f":"IF($A8549=\"\",\"\",COUNTIF($A$2:$A8549,$A8549))","v":""},{"$f":"IF($A8549=\"\",\"\",$O8549+thousand*VLOOKUP($A8549,$A$1:Q8549,17,FALSE))","v":""},{"$f":"IF(O8549=1,MAX(Q$1:Q8548)+1,\"\")","v":""},"",""]
[null,null,null,null,null,null,null,null,null,null,{"$error":"#DIV/0!"},null,8578,"",{"$f":"IF($A8550=\"\",\"\",COUNTIF($A$2:$A8550,$A8550))","v":""},{"$f":"IF($A8550=\"\",\"\",$O8550+thousand*VLOOKUP($A8550,$A$1:Q8550,17,FALSE))","v":""},{"$f":"IF(O8550=1,MAX(Q$1:Q8549)+1,\"\")","v":""},"",""]
[null,null,null,null,null,null,null,null,null,null,{"$error":"#DIV/0!"},null,8579,"",{"$f":"IF($A8551=\"\",\"\",COUNTIF($A$2:$A8551,$A8551))","v":""},{"$f":"IF($A8551=\"\",\"\",$O8551+thousand*VLOOKUP($A8551,$A$1:Q8551,17,FALSE))","v":""},{"$f":"IF(O8551=1,MAX(Q$1:Q8550)+1,\"\")","v":""},"",""]
[null,null,null,null,null,null,null,null,null,null,{"$error":"#DIV/0!"},null,8580,"",{"$f":"IF($A8552=\"\",\"\",COUNTIF($A$2:$A8552,$A8552))","v":""},{"$f":"IF($A8552=\"\",\"\",$O8552+thousand*VLOOKUP($A8552,$A$1:Q8552,17,FALSE))","v":""},{"$f":"IF(O8552=1,MAX(Q$1:Q8551)+1,\"\")","v":""},"",""]
[null,null,null,null,null,null,null,null,null,null,{"$error":"#DIV/0!"},null,8581,"",{"$f":"IF($A8553=\"\",\"\",COUNTIF($A$2:$A8553,$A8553))","v":""},{"$f":"IF($A8553=\"\",\"\",$O8553+thousand*VLOOKUP($A8553,$A$1:Q8553,17,FALSE))","v":""},{"$f":"IF(O8553=1,MAX(Q$1:Q8552)+1,\"\")","v":""},"",""]
[null,null,null,null,null,null,null,null,null,null,{"$error":"#DIV/0!"},null,8582,"",{"$f":"IF($A8554=\"\",\"\",COUNTIF($A$2:$A8554,$A8554))","v":""},{"$f":"IF($A8554=\"\",\"\",$O8554+thousand*VLOOKUP($A8554,$A$1:Q8554,17,FALSE))","v":""},{"$f":"IF(O8554=1,MAX(Q$1:Q8553)+1,\"\")","v":""},"",""]
[null,null,null,null,null,null,null,null,null,null,{"$error":"#DIV/0!"},null,8583,"",{"$f":"IF($A8555=\"\",\"\",COUNTIF($A$2:$A8555,$A8555))","v":""},{"$f":"IF($A8555=\"\",\"\",$O8555+thousand*VLOOKUP($A8555,$A$1:Q8555,17,FALSE))","v":""},{"$f":"IF(O8555=1,MAX(Q$1:Q8554)+1,\"\")","v":""},"",""]
[null,null,null,null,null,null,null,null,null,null,{"$error":"#DIV/0!"},null,8584,"",{"$f":"IF($A8556=\"\",\"\",COUNTIF($A$2:$A8556,$A8556))","v":""},{"$f":"IF($A8556=\"\",\"\",$O8556+thousand*VLOOKUP($A8556,$A$1:Q8556,17,FALSE))","v":""},{"$f":"IF(O8556=1,MAX(Q$1:Q8555)+1,\"\")","v":""},"",""]
[null,null,null,null,null,null,null,null,null,null,{"$error":"#DIV/0!"},null,8585,"",{"$f":"IF($A8557=\"\",\"\",COUNTIF($A$2:$A8557,$A8557))","v":""},{"$f":"IF($A8557=\"\",\"\",$O8557+thousand*VLOOKUP($A8557,$A$1:Q8557,17,FALSE))","v":""},{"$f":"IF(O8557=1,MAX(Q$1:Q8556)+1,\"\")","v":""},"",""]
[null,null,null,null,null,null,null,null,null,null,{"$error":"#DIV/0!"},null,8586,"",{"$f":"IF($A8558=\"\",\"\",COUNTIF($A$2:$A8558,$A8558))","v":""},{"$f":"IF($A8558=\"\",\"\",$O8558+thousand*VLOOKUP($A8558,$A$1:Q8558,17,FALSE))","v":""},{"$f":"IF(O8558=1,MAX(Q$1:Q8557)+1,\"\")","v":""},"",""]
[null,null,null,null,null,null,null,null,null,null,{"$error":"#DIV/0!"},null,8587,"",{"$f":"IF($A8559=\"\",\"\",COUNTIF($A$2:$A8559,$A8559))","v":""},{"$f":"IF($A8559=\"\",\"\",$O8559+thousand*VLOOKUP($A8559,$A$1:Q8559,17,FALSE))","v":""},{"$f":"IF(O8559=1,MAX(Q$1:Q8558)+1,\"\")","v":""},"",""]
[null,null,null,null,null,null,null,null,null,null,{"$error":"#DIV/0!"},null,8588,"",{"$f":"IF($A8560=\"\",\"\",COUNTIF($A$2:$A8560,$A8560))","v":""},{"$f":"IF($A8560=\"\",\"\",$O8560+thousand*VLOOKUP($A8560,$A$1:Q8560,17,FALSE))","v":""},{"$f":"IF(O8560=1,MAX(Q$1:Q8559)+1,\"\")","v":""},"",""]
[null,null,null,null,null,null,null,null,null,null,{"$error":"#DIV/0!"},null,8589,"",{"$f":"IF($A8561=\"\",\"\",COUNTIF($A$2:$A8561,$A8561))","v":""},{"$f":"IF($A8561=\"\",\"\",$O8561+thousand*VLOOKUP($A8561,$A$1:Q8561,17,FALSE))","v":""},{"$f":"IF(O8561=1,MAX(Q$1:Q8560)+1,\"\")","v":""},"",""]
[null,null,null,null,null,null,null,null,null,null,{"$error":"#DIV/0!"},null,8590,"",{"$f":"IF($A8562=\"\",\"\",COUNTIF($A$2:$A8562,$A8562))","v":""},{"$f":"IF($A8562=\"\",\"\",$O8562+thousand*VLOOKUP($A8562,$A$1:Q8562,17,FALSE))","v":""},{"$f":"IF(O8562=1,MAX(Q$1:Q8561)+1,\"\")","v":""},"",""]
[null,null,null,null,null,null,null,null,null,null,{"$error":"#DIV/0!"},null,8591,"",{"$f":"IF($A8563=\"\",\"\",COUNTIF($A$2:$A8563,$A8563))","v":""},{"$f":"IF($A8563=\"\",\"\",$O8563+thousand*VLOOKUP($A8563,$A$1:Q8563,17,FALSE))","v":""},{"$f":"IF(O8563=1,MAX(Q$1:Q8562)+1,\"\")","v":""},"",""]
[null,null,null,null,null,null,null,null,null,null,{"$error":"#DIV/0!"},null,8592,"",{"$f":"IF($A8564=\"\",\"\",COUNTIF($A$2:$A8564,$A8564))","v":""},{"$f":"IF($A8564=\"\",\"\",$O8564+thousand*VLOOKUP($A8564,$A$1:Q8564,17,FALSE))","v":""},{"$f":"IF(O8564=1,MAX(Q$1:Q8563)+1,\"\")","v":""},"",""]
[null,null,null,null,null,null,null,null,null,null,{"$error":"#DIV/0!"},null,8593,"",{"$f":"IF($A8565=\"\",\"\",COUNTIF($A$2:$A8565,$A8565))","v":""},{"$f":"IF($A8565=\"\",\"\",$O8565+thousand*VLOOKUP($A8565,$A$1:Q8565,17,FALSE))","v":""},{"$f":"IF(O8565=1,MAX(Q$1:Q8564)+1,\"\")","v":""},"",""]
[null,null,null,null,null,null,null,null,null,null,{"$error":"#DIV/0!"},null,8594,"",{"$f":"IF($A8566=\"\",\"\",COUNTIF($A$2:$A8566,$A8566))","v":""},{"$f":"IF($A8566=\"\",\"\",$O8566+thousand*VLOOKUP($A8566,$A$1:Q8566,17,FALSE))","v":""},{"$f":"IF(O8566=1,MAX(Q$1:Q8565)+1,\"\")","v":""},"",""]
[null,null,null,null,null,null,null,null,null,null,{"$error":"#DIV/0!"},null,8595,{"$f":"IF(M8567>MAX(Q$2:Q$8669),\"\",VLOOKUP(M8567,Q$2:R$8669,2,FALSE))","v":""},{"$f":"IF($A8567=\"\",\"\",COUNTIF($A$2:$A8567,$A8567))","v":""},{"$f":"IF($A8567=\"\",\"\",$O8567+thousand*VLOOKUP($A8567,$A$1:Q8567,17,FALSE))","v":""},{"$f":"IF(O8567=1,MAX(Q$1:Q8566)+1,\"\")","v":""},"",""]
[null,null,null,null,null,null,null,null,null,null,{"$error":"#DIV/0!"},null,8596,"",{"$f":"IF($A8568=\"\",\"\",COUNTIF($A$2:$A8568,$A8568))","v":""},{"$f":"IF($A8568=\"\",\"\",$O8568+thousand*VLOOKUP($A8568,$A$1:Q8568,17,FALSE))","v":""},{"$f":"IF(O8568=1,MAX(Q$1:Q8567)+1,\"\")","v":""},"",""]
[null,null,null,null,null,null,null,null,null,null,{"$error":"#DIV/0!"},null,8597,"",{"$f":"IF($A8569=\"\",\"\",COUNTIF($A$2:$A8569,$A8569))","v":""},{"$f":"IF($A8569=\"\",\"\",$O8569+thousand*VLOOKUP($A8569,$A$1:Q8569,17,FALSE))","v":""},{"$f":"IF(O8569=1,MAX(Q$1:Q8568)+1,\"\")","v":""},"",""]
[null,null,null,null,null,null,null,null,null,null,{"$error":"#DIV/0!"},null,8598,"",{"$f":"IF($A8570=\"\",\"\",COUNTIF($A$2:$A8570,$A8570))","v":""},{"$f":"IF($A8570=\"\",\"\",$O8570+thousand*VLOOKUP($A8570,$A$1:Q8570,17,FALSE))","v":""},{"$f":"IF(O8570=1,MAX(Q$1:Q8569)+1,\"\")","v":""},"",""]
[null,null,null,null,null,null,null,null,null,null,{"$error":"#DIV/0!"},null,8599,"",{"$f":"IF($A8571=\"\",\"\",COUNTIF($A$2:$A8571,$A8571))","v":""},{"$f":"IF($A8571=\"\",\"\",$O8571+thousand*VLOOKUP($A8571,$A$1:Q8571,17,FALSE))","v":""},{"$f":"IF(O8571=1,MAX(Q$1:Q8570)+1,\"\")","v":""},"",""]
[null,null,null,null,null,null,null,null,null,null,{"$error":"#DIV/0!"},null,8600,"",{"$f":"IF($A8572=\"\",\"\",COUNTIF($A$2:$A8572,$A8572))","v":""},{"$f":"IF($A8572=\"\",\"\",$O8572+thousand*VLOOKUP($A8572,$A$1:Q8572,17,FALSE))","v":""},{"$f":"IF(O8572=1,MAX(Q$1:Q8571)+1,\"\")","v":""},"",""]
[null,null,null,null,null,null,null,null,null,null,{"$error":"#DIV/0!"},null,8601,"",{"$f":"IF($A8573=\"\",\"\",COUNTIF($A$2:$A8573,$A8573))","v":""},{"$f":"IF($A8573=\"\",\"\",$O8573+thousand*VLOOKUP($A8573,$A$1:Q8573,17,FALSE))","v":""},{"$f":"IF(O8573=1,MAX(Q$1:Q8572)+1,\"\")","v":""},"",""]
[null,null,null,null,null,null,null,null,null,null,{"$error":"#DIV/0!"},null,8602,"",{"$f":"IF($A8574=\"\",\"\",COUNTIF($A$2:$A8574,$A8574))","v":""},{"$f":"IF($A8574=\"\",\"\",$O8574+thousand*VLOOKUP($A8574,$A$1:Q8574,17,FALSE))","v":""},{"$f":"IF(O8574=1,MAX(Q$1:Q8573)+1,\"\")","v":""},"",""]
[null,null,null,null,null,null,null,null,null,null,{"$error":"#DIV/0!"},null,8603,"",{"$f":"IF($A8575=\"\",\"\",COUNTIF($A$2:$A8575,$A8575))","v":""},{"$f":"IF($A8575=\"\",\"\",$O8575+thousand*VLOOKUP($A8575,$A$1:Q8575,17,FALSE))","v":""},{"$f":"IF(O8575=1,MAX(Q$1:Q8574)+1,\"\")","v":""},"",""]
[null,null,null,null,null,null,null,null,null,null,{"$error":"#DIV/0!"},null,8604,"",{"$f":"IF($A8576=\"\",\"\",COUNTIF($A$2:$A8576,$A8576))","v":""},{"$f":"IF($A8576=\"\",\"\",$O8576+thousand*VLOOKUP($A8576,$A$1:Q8576,17,FALSE))","v":""},{"$f":"IF(O8576=1,MAX(Q$1:Q8575)+1,\"\")","v":""},"",""]
[null,null,null,null,null,null,null,null,null,null,{"$error":"#DIV/0!"},null,8605,"",{"$f":"IF($A8577=\"\",\"\",COUNTIF($A$2:$A8577,$A8577))","v":""},{"$f":"IF($A8577=\"\",\"\",$O8577+thousand*VLOOKUP($A8577,$A$1:Q8577,17,FALSE))","v":""},{"$f":"IF(O8577=1,MAX(Q$1:Q8576)+1,\"\")","v":""},"",""]
[null,null,null,null,null,null,null,null,null,null,{"$error":"#DIV/0!"},null,8606,"",{"$f":"IF($A8578=\"\",\"\",COUNTIF($A$2:$A8578,$A8578))","v":""},{"$f":"IF($A8578=\"\",\"\",$O8578+thousand*VLOOKUP($A8578,$A$1:Q8578,17,FALSE))","v":""},{"$f":"IF(O8578=1,MAX(Q$1:Q8577)+1,\"\")","v":""},"",""]
[null,null,null,null,null,null,null,null,null,null,{"$error":"#DIV/0!"},null,8607,"",{"$f":"IF($A8579=\"\",\"\",COUNTIF($A$2:$A8579,$A8579))","v":""},{"$f":"IF($A8579=\"\",\"\",$O8579+thousand*VLOOKUP($A8579,$A$1:Q8579,17,FALSE))","v":""},{"$f":"IF(O8579=1,MAX(Q$1:Q8578)+1,\"\")","v":""},"",""]
[null,null,null,null,null,null,null,null,null,null,{"$error":"#DIV/0!"},null,8608,"",{"$f":"IF($A8580=\"\",\"\",COUNTIF($A$2:$A8580,$A8580))","v":""},{"$f":"IF($A8580=\"\",\"\",$O8580+thousand*VLOOKUP($A8580,$A$1:Q8580,17,FALSE))","v":""},{"$f":"IF(O8580=1,MAX(Q$1:Q8579)+1,\"\")","v":""},"",""]
[null,null,null,null,null,null,null,null,null,null,{"$error":"#DIV/0!"},null,8609,"",{"$f":"IF($A8581=\"\",\"\",COUNTIF($A$2:$A8581,$A8581))","v":""},{"$f":"IF($A8581=\"\",\"\",$O8581+thousand*VLOOKUP($A8581,$A$1:Q8581,17,FALSE))","v":""},{"$f":"IF(O8581=1,MAX(Q$1:Q8580)+1,\"\")","v":""},"",""]
[null,null,null,null,null,null,null,null,null,null,{"$f":"F8582/E8582*J8582","v":{"$error":"#DIV/0!"}},null,8610,"",{"$f":"IF($A8582=\"\",\"\",COUNTIF($A$2:$A8582,$A8582))","v":""},{"$f":"IF($A8582=\"\",\"\",$O8582+thousand*VLOOKUP($A8582,$A$1:Q8582,17,FALSE))","v":""},{"$f":"IF(O8582=1,MAX(Q$1:Q8581)+1,\"\")","v":""},{"$f":"IF(A8582=\"\",\"\",A8582)","v":""},{"$f":"IF(B8582=\"\",\"\",B8582)","v":""}]
[null,null,null,null,null,null,null,null,null,null,{"$error":"#DIV/0!"},null,8611,"",{"$f":"IF($A8583=\"\",\"\",COUNTIF($A$2:$A8583,$A8583))","v":""},{"$f":"IF($A8583=\"\",\"\",$O8583+thousand*VLOOKUP($A8583,$A$1:Q8583,17,FALSE))","v":""},{"$f":"IF(O8583=1,MAX(Q$1:Q8582)+1,\"\")","v":""},"",""]
[null,null,null,null,null,null,null,null,null,null,{"$error":"#DIV/0!"},null,8612,"",{"$f":"IF($A8584=\"\",\"\",COUNTIF($A$2:$A8584,$A8584))","v":""},{"$f":"IF($A8584=\"\",\"\",$O8584+thousand*VLOOKUP($A8584,$A$1:Q8584,17,FALSE))","v":""},{"$f":"IF(O8584=1,MAX(Q$1:Q8583)+1,\"\")","v":""},"",""]
[null,null,null,null,null,null,null,null,null,null,{"$error":"#DIV/0!"},null,8613,"",{"$f":"IF($A8585=\"\",\"\",COUNTIF($A$2:$A8585,$A8585))","v":""},{"$f":"IF($A8585=\"\",\"\",$O8585+thousand*VLOOKUP($A8585,$A$1:Q8585,17,FALSE))","v":""},{"$f":"IF(O8585=1,MAX(Q$1:Q8584)+1,\"\")","v":""},"",""]
[null,null,null,null,null,null,null,null,null,null,{"$error":"#DIV/0!"},null,8614,"",{"$f":"IF($A8586=\"\",\"\",COUNTIF($A$2:$A8586,$A8586))","v":""},{"$f":"IF($A8586=\"\",\"\",$O8586+thousand*VLOOKUP($A8586,$A$1:Q8586,17,FALSE))","v":""},{"$f":"IF(O8586=1,MAX(Q$1:Q8585)+1,\"\")","v":""},"",""]
[null,null,null,null,null,null,null,null,null,null,{"$error":"#DIV/0!"},null,8615,"",{"$f":"IF($A8587=\"\",\"\",COUNTIF($A$2:$A8587,$A8587))","v":""},{"$f":"IF($A8587=\"\",\"\",$O8587+thousand*VLOOKUP($A8587,$A$1:Q8587,17,FALSE))","v":""},{"$f":"IF(O8587=1,MAX(Q$1:Q8586)+1,\"\")","v":""},"",""]
[null,null,null,null,null,null,null,null,null,null,{"$error":"#DIV/0!"},null,8616,"",{"$f":"IF($A8588=\"\",\"\",COUNTIF($A$2:$A8588,$A8588))","v":""},{"$f":"IF($A8588=\"\",\"\",$O8588+thousand*VLOOKUP($A8588,$A$1:Q8588,17,FALSE))","v":""},{"$f":"IF(O8588=1,MAX(Q$1:Q8587)+1,\"\")","v":""},"",""]
[null,null,null,null,null,null,null,null,null,null,{"$error":"#DIV/0!"},null,8617,"",{"$f":"IF($A8589=\"\",\"\",COUNTIF($A$2:$A8589,$A8589))","v":""},{"$f":"IF($A8589=\"\",\"\",$O8589+thousand*VLOOKUP($A8589,$A$1:Q8589,17,FALSE))","v":""},{"$f":"IF(O8589=1,MAX(Q$1:Q8588)+1,\"\")","v":""},"",""]
[null,null,null,null,null,null,null,null,null,null,{"$error":"#DIV/0!"},null,8618,"",{"$f":"IF($A8590=\"\",\"\",COUNTIF($A$2:$A8590,$A8590))","v":""},{"$f":"IF($A8590=\"\",\"\",$O8590+thousand*VLOOKUP($A8590,$A$1:Q8590,17,FALSE))","v":""},{"$f":"IF(O8590=1,MAX(Q$1:Q8589)+1,\"\")","v":""},"",""]
[null,null,null,null,null,null,null,null,null,null,{"$error":"#DIV/0!"},null,8619,"",{"$f":"IF($A8591=\"\",\"\",COUNTIF($A$2:$A8591,$A8591))","v":""},{"$f":"IF($A8591=\"\",\"\",$O8591+thousand*VLOOKUP($A8591,$A$1:Q8591,17,FALSE))","v":""},{"$f":"IF(O8591=1,MAX(Q$1:Q8590)+1,\"\")","v":""},"",""]
[null,null,null,null,null,null,null,null,null,null,{"$error":"#DIV/0!"},null,8620,"",{"$f":"IF($A8592=\"\",\"\",COUNTIF($A$2:$A8592,$A8592))","v":""},{"$f":"IF($A8592=\"\",\"\",$O8592+thousand*VLOOKUP($A8592,$A$1:Q8592,17,FALSE))","v":""},{"$f":"IF(O8592=1,MAX(Q$1:Q8591)+1,\"\")","v":""},"",""]
[null,null,null,null,null,null,null,null,null,null,{"$error":"#DIV/0!"},null,8621,"",{"$f":"IF($A8593=\"\",\"\",COUNTIF($A$2:$A8593,$A8593))","v":""},{"$f":"IF($A8593=\"\",\"\",$O8593+thousand*VLOOKUP($A8593,$A$1:Q8593,17,FALSE))","v":""},{"$f":"IF(O8593=1,MAX(Q$1:Q8592)+1,\"\")","v":""},"",""]
[null,null,null,null,null,null,null,null,null,null,{"$error":"#DIV/0!"},null,8622,"",{"$f":"IF($A8594=\"\",\"\",COUNTIF($A$2:$A8594,$A8594))","v":""},{"$f":"IF($A8594=\"\",\"\",$O8594+thousand*VLOOKUP($A8594,$A$1:Q8594,17,FALSE))","v":""},{"$f":"IF(O8594=1,MAX(Q$1:Q8593)+1,\"\")","v":""},"",""]
[null,null,null,null,null,null,null,null,null,null,{"$error":"#DIV/0!"},null,8623,"",{"$f":"IF($A8595=\"\",\"\",COUNTIF($A$2:$A8595,$A8595))","v":""},{"$f":"IF($A8595=\"\",\"\",$O8595+thousand*VLOOKUP($A8595,$A$1:Q8595,17,FALSE))","v":""},{"$f":"IF(O8595=1,MAX(Q$1:Q8594)+1,\"\")","v":""},"",""]
[null,null,null,null,null,null,null,null,null,null,{"$error":"#DIV/0!"},null,8624,"",{"$f":"IF($A8596=\"\",\"\",COUNTIF($A$2:$A8596,$A8596))","v":""},{"$f":"IF($A8596=\"\",\"\",$O8596+thousand*VLOOKUP($A8596,$A$1:Q8596,17,FALSE))","v":""},{"$f":"IF(O8596=1,MAX(Q$1:Q8595)+1,\"\")","v":""},"",""]
[null,null,null,null,null,null,null,null,null,null,{"$error":"#DIV/0!"},null,8625,"",{"$f":"IF($A8597=\"\",\"\",COUNTIF($A$2:$A8597,$A8597))","v":""},{"$f":"IF($A8597=\"\",\"\",$O8597+thousand*VLOOKUP($A8597,$A$1:Q8597,17,FALSE))","v":""},{"$f":"IF(O8597=1,MAX(Q$1:Q8596)+1,\"\")","v":""},"",""]
[null,null,null,null,null,null,null,null,null,null,{"$error":"#DIV/0!"},null,8626,"",{"$f":"IF($A8598=\"\",\"\",COUNTIF($A$2:$A8598,$A8598))","v":""},{"$f":"IF($A8598=\"\",\"\",$O8598+thousand*VLOOKUP($A8598,$A$1:Q8598,17,FALSE))","v":""},{"$f":"IF(O8598=1,MAX(Q$1:Q8597)+1,\"\")","v":""},"",""]
[null,null,null,null,null,null,null,null,null,null,{"$error":"#DIV/0!"},null,8627,"",{"$f":"IF($A8599=\"\",\"\",COUNTIF($A$2:$A8599,$A8599))","v":""},{"$f":"IF($A8599=\"\",\"\",$O8599+thousand*VLOOKUP($A8599,$A$1:Q8599,17,FALSE))","v":""},{"$f":"IF(O8599=1,MAX(Q$1:Q8598)+1,\"\")","v":""},"",""]
[null,null,null,null,null,null,null,null,null,null,{"$error":"#DIV/0!"},null,8628,"",{"$f":"IF($A8600=\"\",\"\",COUNTIF($A$2:$A8600,$A8600))","v":""},{"$f":"IF($A8600=\"\",\"\",$O8600+thousand*VLOOKUP($A8600,$A$1:Q8600,17,FALSE))","v":""},{"$f":"IF(O8600=1,MAX(Q$1:Q8599)+1,\"\")","v":""},"",""]
[null,null,null,null,null,null,null,null,null,null,{"$error":"#DIV/0!"},null,8629,"",{"$f":"IF($A8601=\"\",\"\",COUNTIF($A$2:$A8601,$A8601))","v":""},{"$f":"IF($A8601=\"\",\"\",$O8601+thousand*VLOOKUP($A8601,$A$1:Q8601,17,FALSE))","v":""},{"$f":"IF(O8601=1,MAX(Q$1:Q8600)+1,\"\")","v":""},"",""]
[null,null,null,null,null,null,null,null,null,null,{"$error":"#DIV/0!"},null,8630,"",{"$f":"IF($A8602=\"\",\"\",COUNTIF($A$2:$A8602,$A8602))","v":""},{"$f":"IF($A8602=\"\",\"\",$O8602+thousand*VLOOKUP($A8602,$A$1:Q8602,17,FALSE))","v":""},{"$f":"IF(O8602=1,MAX(Q$1:Q8601)+1,\"\")","v":""},"",""]
[null,null,null,null,null,null,null,null,null,null,{"$error":"#DIV/0!"},null,8631,"",{"$f":"IF($A8603=\"\",\"\",COUNTIF($A$2:$A8603,$A8603))","v":""},{"$f":"IF($A8603=\"\",\"\",$O8603+thousand*VLOOKUP($A8603,$A$1:Q8603,17,FALSE))","v":""},{"$f":"IF(O8603=1,MAX(Q$1:Q8602)+1,\"\")","v":""},"",""]
[null,null,null,null,null,null,null,null,null,null,{"$error":"#DIV/0!"},null,8632,"",{"$f":"IF($A8604=\"\",\"\",COUNTIF($A$2:$A8604,$A8604))","v":""},{"$f":"IF($A8604=\"\",\"\",$O8604+thousand*VLOOKUP($A8604,$A$1:Q8604,17,FALSE))","v":""},{"$f":"IF(O8604=1,MAX(Q$1:Q8603)+1,\"\")","v":""},"",""]
[null,null,null,null,null,null,null,null,null,null,{"$error":"#DIV/0!"},null,8633,"",{"$f":"IF($A8605=\"\",\"\",COUNTIF($A$2:$A8605,$A8605))","v":""},{"$f":"IF($A8605=\"\",\"\",$O8605+thousand*VLOOKUP($A8605,$A$1:Q8605,17,FALSE))","v":""},{"$f":"IF(O8605=1,MAX(Q$1:Q8604)+1,\"\")","v":""},"",""]
[null,null,null,null,null,null,null,null,null,null,{"$error":"#DIV/0!"},null,8634,"",{"$f":"IF($A8606=\"\",\"\",COUNTIF($A$2:$A8606,$A8606))","v":""},{"$f":"IF($A8606=\"\",\"\",$O8606+thousand*VLOOKUP($A8606,$A$1:Q8606,17,FALSE))","v":""},{"$f":"IF(O8606=1,MAX(Q$1:Q8605)+1,\"\")","v":""},"",""]
[null,null,null,null,null,null,null,null,null,null,{"$error":"#DIV/0!"},null,8635,"",{"$f":"IF($A8607=\"\",\"\",COUNTIF($A$2:$A8607,$A8607))","v":""},{"$f":"IF($A8607=\"\",\"\",$O8607+thousand*VLOOKUP($A8607,$A$1:Q8607,17,FALSE))","v":""},{"$f":"IF(O8607=1,MAX(Q$1:Q8606)+1,\"\")","v":""},"",""]
[null,null,null,null,null,null,null,null,null,null,{"$error":"#DIV/0!"},null,8636,"",{"$f":"IF($A8608=\"\",\"\",COUNTIF($A$2:$A8608,$A8608))","v":""},{"$f":"IF($A8608=\"\",\"\",$O8608+thousand*VLOOKUP($A8608,$A$1:Q8608,17,FALSE))","v":""},{"$f":"IF(O8608=1,MAX(Q$1:Q8607)+1,\"\")","v":""},"",""]
[null,null,null,null,null,null,null,null,null,null,{"$error":"#DIV/0!"},null,8637,"",{"$f":"IF($A8609=\"\",\"\",COUNTIF($A$2:$A8609,$A8609))","v":""},{"$f":"IF($A8609=\"\",\"\",$O8609+thousand*VLOOKUP($A8609,$A$1:Q8609,17,FALSE))","v":""},{"$f":"IF(O8609=1,MAX(Q$1:Q8608)+1,\"\")","v":""},"",""]
[null,null,null,null,null,null,null,null,null,null,{"$error":"#DIV/0!"},null,8638,"",{"$f":"IF($A8610=\"\",\"\",COUNTIF($A$2:$A8610,$A8610))","v":""},{"$f":"IF($A8610=\"\",\"\",$O8610+thousand*VLOOKUP($A8610,$A$1:Q8610,17,FALSE))","v":""},{"$f":"IF(O8610=1,MAX(Q$1:Q8609)+1,\"\")","v":""},"",""]
[null,null,null,null,null,null,null,null,null,null,{"$error":"#DIV/0!"},null,8639,"",{"$f":"IF($A8611=\"\",\"\",COUNTIF($A$2:$A8611,$A8611))","v":""},{"$f":"IF($A8611=\"\",\"\",$O8611+thousand*VLOOKUP($A8611,$A$1:Q8611,17,FALSE))","v":""},{"$f":"IF(O8611=1,MAX(Q$1:Q8610)+1,\"\")","v":""},"",""]
[null,null,null,null,null,null,null,null,null,null,{"$error":"#DIV/0!"},null,8640,"",{"$f":"IF($A8612=\"\",\"\",COUNTIF($A$2:$A8612,$A8612))","v":""},{"$f":"IF($A8612=\"\",\"\",$O8612+thousand*VLOOKUP($A8612,$A$1:Q8612,17,FALSE))","v":""},{"$f":"IF(O8612=1,MAX(Q$1:Q8611)+1,\"\")","v":""},"",""]
[null,null,null,null,null,null,null,null,null,null,{"$error":"#DIV/0!"},null,8641,"",{"$f":"IF($A8613=\"\",\"\",COUNTIF($A$2:$A8613,$A8613))","v":""},{"$f":"IF($A8613=\"\",\"\",$O8613+thousand*VLOOKUP($A8613,$A$1:Q8613,17,FALSE))","v":""},{"$f":"IF(O8613=1,MAX(Q$1:Q8612)+1,\"\")","v":""},"",""]
[null,null,null,null,null,null,null,null,null,null,{"$error":"#DIV/0!"},null,8642,"",{"$f":"IF($A8614=\"\",\"\",COUNTIF($A$2:$A8614,$A8614))","v":""},{"$f":"IF($A8614=\"\",\"\",$O8614+thousand*VLOOKUP($A8614,$A$1:Q8614,17,FALSE))","v":""},{"$f":"IF(O8614=1,MAX(Q$1:Q8613)+1,\"\")","v":""},"",""]
[null,null,null,null,null,null,null,null,null,null,{"$error":"#DIV/0!"},null,8643,"",{"$f":"IF($A8615=\"\",\"\",COUNTIF($A$2:$A8615,$A8615))","v":""},{"$f":"IF($A8615=\"\",\"\",$O8615+thousand*VLOOKUP($A8615,$A$1:Q8615,17,FALSE))","v":""},{"$f":"IF(O8615=1,MAX(Q$1:Q8614)+1,\"\")","v":""},"",""]
[null,null,null,null,null,null,null,null,null,null,{"$error":"#DIV/0!"},null,8644,"",{"$f":"IF($A8616=\"\",\"\",COUNTIF($A$2:$A8616,$A8616))","v":""},{"$f":"IF($A8616=\"\",\"\",$O8616+thousand*VLOOKUP($A8616,$A$1:Q8616,17,FALSE))","v":""},{"$f":"IF(O8616=1,MAX(Q$1:Q8615)+1,\"\")","v":""},"",""]
[null,null,null,null,null,null,null,null,null,null,{"$error":"#DIV/0!"},null,8645,"",{"$f":"IF($A8617=\"\",\"\",COUNTIF($A$2:$A8617,$A8617))","v":""},{"$f":"IF($A8617=\"\",\"\",$O8617+thousand*VLOOKUP($A8617,$A$1:Q8617,17,FALSE))","v":""},{"$f":"IF(O8617=1,MAX(Q$1:Q8616)+1,\"\")","v":""},"",""]
[null,null,null,null,null,null,null,null,null,null,{"$error":"#DIV/0!"},null,8646,"",{"$f":"IF($A8618=\"\",\"\",COUNTIF($A$2:$A8618,$A8618))","v":""},{"$f":"IF($A8618=\"\",\"\",$O8618+thousand*VLOOKUP($A8618,$A$1:Q8618,17,FALSE))","v":""},{"$f":"IF(O8618=1,MAX(Q$1:Q8617)+1,\"\")","v":""},"",""]
[null,null,null,null,null,null,null,null,null,null,{"$error":"#DIV/0!"},null,8647,"",{"$f":"IF($A8619=\"\",\"\",COUNTIF($A$2:$A8619,$A8619))","v":""},{"$f":"IF($A8619=\"\",\"\",$O8619+thousand*VLOOKUP($A8619,$A$1:Q8619,17,FALSE))","v":""},{"$f":"IF(O8619=1,MAX(Q$1:Q8618)+1,\"\")","v":""},"",""]
[null,null,null,null,null,null,null,null,null,null,{"$error":"#DIV/0!"},null,8648,"",{"$f":"IF($A8620=\"\",\"\",COUNTIF($A$2:$A8620,$A8620))","v":""},{"$f":"IF($A8620=\"\",\"\",$O8620+thousand*VLOOKUP($A8620,$A$1:Q8620,17,FALSE))","v":""},{"$f":"IF(O8620=1,MAX(Q$1:Q8619)+1,\"\")","v":""},"",""]
[null,null,null,null,null,null,null,null,null,null,{"$error":"#DIV/0!"},null,8649,"",{"$f":"IF($A8621=\"\",\"\",COUNTIF($A$2:$A8621,$A8621))","v":""},{"$f":"IF($A8621=\"\",\"\",$O8621+thousand*VLOOKUP($A8621,$A$1:Q8621,17,FALSE))","v":""},{"$f":"IF(O8621=1,MAX(Q$1:Q8620)+1,\"\")","v":""},"",""]
[null,null,null,null,null,null,null,null,null,null,{"$error":"#DIV/0!"},null,8650,"",{"$f":"IF($A8622=\"\",\"\",COUNTIF($A$2:$A8622,$A8622))","v":""},{"$f":"IF($A8622=\"\",\"\",$O8622+thousand*VLOOKUP($A8622,$A$1:Q8622,17,FALSE))","v":""},{"$f":"IF(O8622=1,MAX(Q$1:Q8621)+1,\"\")","v":""},"",""]
[null,null,null,null,null,null,null,null,null,null,{"$error":"#DIV/0!"},null,8651,"",{"$f":"IF($A8623=\"\",\"\",COUNTIF($A$2:$A8623,$A8623))","v":""},{"$f":"IF($A8623=\"\",\"\",$O8623+thousand*VLOOKUP($A8623,$A$1:Q8623,17,FALSE))","v":""},{"$f":"IF(O8623=1,MAX(Q$1:Q8622)+1,\"\")","v":""},"",""]
[null,null,null,null,null,null,null,null,null,null,{"$error":"#DIV/0!"},null,8652,"",{"$f":"IF($A8624=\"\",\"\",COUNTIF($A$2:$A8624,$A8624))","v":""},{"$f":"IF($A8624=\"\",\"\",$O8624+thousand*VLOOKUP($A8624,$A$1:Q8624,17,FALSE))","v":""},{"$f":"IF(O8624=1,MAX(Q$1:Q8623)+1,\"\")","v":""},"",""]
[null,null,null,null,null,null,null,null,null,null,{"$error":"#DIV/0!"},null,8653,"",{"$f":"IF($A8625=\"\",\"\",COUNTIF($A$2:$A8625,$A8625))","v":""},{"$f":"IF($A8625=\"\",\"\",$O8625+thousand*VLOOKUP($A8625,$A$1:Q8625,17,FALSE))","v":""},{"$f":"IF(O8625=1,MAX(Q$1:Q8624)+1,\"\")","v":""},"",""]
[null,null,null,null,null,null,null,null,null,null,{"$error":"#DIV/0!"},null,8654,"",{"$f":"IF($A8626=\"\",\"\",COUNTIF($A$2:$A8626,$A8626))","v":""},{"$f":"IF($A8626=\"\",\"\",$O8626+thousand*VLOOKUP($A8626,$A$1:Q8626,17,FALSE))","v":""},{"$f":"IF(O8626=1,MAX(Q$1:Q8625)+1,\"\")","v":""},"",""]
[null,null,null,null,null,null,null,null,null,null,{"$error":"#DIV/0!"},null,8655,"",{"$f":"IF($A8627=\"\",\"\",COUNTIF($A$2:$A8627,$A8627))","v":""},{"$f":"IF($A8627=\"\",\"\",$O8627+thousand*VLOOKUP($A8627,$A$1:Q8627,17,FALSE))","v":""},{"$f":"IF(O8627=1,MAX(Q$1:Q8626)+1,\"\")","v":""},"",""]
[null,null,null,null,null,null,null,null,null,null,{"$error":"#DIV/0!"},null,8656,"",{"$f":"IF($A8628=\"\",\"\",COUNTIF($A$2:$A8628,$A8628))","v":""},{"$f":"IF($A8628=\"\",\"\",$O8628+thousand*VLOOKUP($A8628,$A$1:Q8628,17,FALSE))","v":""},{"$f":"IF(O8628=1,MAX(Q$1:Q8627)+1,\"\")","v":""},"",""]
[null,null,null,null,null,null,null,null,null,null,{"$error":"#DIV/0!"},null,8657,"",{"$f":"IF($A8629=\"\",\"\",COUNTIF($A$2:$A8629,$A8629))","v":""},{"$f":"IF($A8629=\"\",\"\",$O8629+thousand*VLOOKUP($A8629,$A$1:Q8629,17,FALSE))","v":""},{"$f":"IF(O8629=1,MAX(Q$1:Q8628)+1,\"\")","v":""},"",""]
[null,null,null,null,null,null,null,null,null,null,{"$error":"#DIV/0!"},null,8658,"",{"$f":"IF($A8630=\"\",\"\",COUNTIF($A$2:$A8630,$A8630))","v":""},{"$f":"IF($A8630=\"\",\"\",$O8630+thousand*VLOOKUP($A8630,$A$1:Q8630,17,FALSE))","v":""},{"$f":"IF(O8630=1,MAX(Q$1:Q8629)+1,\"\")","v":""},"",""]
[null,null,null,null,null,null,null,null,null,null,{"$error":"#DIV/0!"},null,8659,{"$f":"IF(M8631>MAX(Q$2:Q$8669),\"\",VLOOKUP(M8631,Q$2:R$8669,2,FALSE))","v":""},{"$f":"IF($A8631=\"\",\"\",COUNTIF($A$2:$A8631,$A8631))","v":""},{"$f":"IF($A8631=\"\",\"\",$O8631+thousand*VLOOKUP($A8631,$A$1:Q8631,17,FALSE))","v":""},{"$f":"IF(O8631=1,MAX(Q$1:Q8630)+1,\"\")","v":""},"",""]
[null,null,null,null,null,null,null,null,null,null,{"$error":"#DIV/0!"},null,8660,"",{"$f":"IF($A8632=\"\",\"\",COUNTIF($A$2:$A8632,$A8632))","v":""},{"$f":"IF($A8632=\"\",\"\",$O8632+thousand*VLOOKUP($A8632,$A$1:Q8632,17,FALSE))","v":""},{"$f":"IF(O8632=1,MAX(Q$1:Q8631)+1,\"\")","v":""},"",""]
[null,null,null,null,null,null,null,null,null,null,{"$error":"#DIV/0!"},null,8661,"",{"$f":"IF($A8633=\"\",\"\",COUNTIF($A$2:$A8633,$A8633))","v":""},{"$f":"IF($A8633=\"\",\"\",$O8633+thousand*VLOOKUP($A8633,$A$1:Q8633,17,FALSE))","v":""},{"$f":"IF(O8633=1,MAX(Q$1:Q8632)+1,\"\")","v":""},"",""]
[null,null,null,null,null,null,null,null,null,null,{"$error":"#DIV/0!"},null,8662,"",{"$f":"IF($A8634=\"\",\"\",COUNTIF($A$2:$A8634,$A8634))","v":""},{"$f":"IF($A8634=\"\",\"\",$O8634+thousand*VLOOKUP($A8634,$A$1:Q8634,17,FALSE))","v":""},{"$f":"IF(O8634=1,MAX(Q$1:Q8633)+1,\"\")","v":""},"",""]
[null,null,null,null,null,null,null,null,null,null,{"$error":"#DIV/0!"},null,8663,"",{"$f":"IF($A8635=\"\",\"\",COUNTIF($A$2:$A8635,$A8635))","v":""},{"$f":"IF($A8635=\"\",\"\",$O8635+thousand*VLOOKUP($A8635,$A$1:Q8635,17,FALSE))","v":""},{"$f":"IF(O8635=1,MAX(Q$1:Q8634)+1,\"\")","v":""},"",""]
[null,null,null,null,null,null,null,null,null,null,{"$error":"#DIV/0!"},null,8664,"",{"$f":"IF($A8636=\"\",\"\",COUNTIF($A$2:$A8636,$A8636))","v":""},{"$f":"IF($A8636=\"\",\"\",$O8636+thousand*VLOOKUP($A8636,$A$1:Q8636,17,FALSE))","v":""},{"$f":"IF(O8636=1,MAX(Q$1:Q8635)+1,\"\")","v":""},"",""]
[null,null,null,null,null,null,null,null,null,null,{"$error":"#DIV/0!"},null,8665,"",{"$f":"IF($A8637=\"\",\"\",COUNTIF($A$2:$A8637,$A8637))","v":""},{"$f":"IF($A8637=\"\",\"\",$O8637+thousand*VLOOKUP($A8637,$A$1:Q8637,17,FALSE))","v":""},{"$f":"IF(O8637=1,MAX(Q$1:Q8636)+1,\"\")","v":""},"",""]
[null,null,null,null,null,null,null,null,null,null,{"$error":"#DIV/0!"},null,8666,"",{"$f":"IF($A8638=\"\",\"\",COUNTIF($A$2:$A8638,$A8638))","v":""},{"$f":"IF($A8638=\"\",\"\",$O8638+thousand*VLOOKUP($A8638,$A$1:Q8638,17,FALSE))","v":""},{"$f":"IF(O8638=1,MAX(Q$1:Q8637)+1,\"\")","v":""},"",""]
[null,null,null,null,null,null,null,null,null,null,{"$error":"#DIV/0!"},null,8667,"",{"$f":"IF($A8639=\"\",\"\",COUNTIF($A$2:$A8639,$A8639))","v":""},{"$f":"IF($A8639=\"\",\"\",$O8639+thousand*VLOOKUP($A8639,$A$1:Q8639,17,FALSE))","v":""},{"$f":"IF(O8639=1,MAX(Q$1:Q8638)+1,\"\")","v":""},"",""]
[null,null,null,null,null,null,null,null,null,null,{"$error":"#DIV/0!"},null,8668,"",{"$f":"IF($A8640=\"\",\"\",COUNTIF($A$2:$A8640,$A8640))","v":""},{"$f":"IF($A8640=\"\",\"\",$O8640+thousand*VLOOKUP($A8640,$A$1:Q8640,17,FALSE))","v":""},{"$f":"IF(O8640=1,MAX(Q$1:Q8639)+1,\"\")","v":""},"",""]
[null,null,null,null,null,null,null,null,null,null,{"$error":"#DIV/0!"},null,8669,"",{"$f":"IF($A8641=\"\",\"\",COUNTIF($A$2:$A8641,$A8641))","v":""},{"$f":"IF($A8641=\"\",\"\",$O8641+thousand*VLOOKUP($A8641,$A$1:Q8641,17,FALSE))","v":""},{"$f":"IF(O8641=1,MAX(Q$1:Q8640)+1,\"\")","v":""},"",""]
[null,null,null,null,null,null,null,null,null,null,{"$error":"#DIV/0!"},null,8670,"",{"$f":"IF($A8642=\"\",\"\",COUNTIF($A$2:$A8642,$A8642))","v":""},{"$f":"IF($A8642=\"\",\"\",$O8642+thousand*VLOOKUP($A8642,$A$1:Q8642,17,FALSE))","v":""},{"$f":"IF(O8642=1,MAX(Q$1:Q8641)+1,\"\")","v":""},"",""]
[null,null,null,null,null,null,null,null,null,null,{"$error":"#DIV/0!"},null,8671,"",{"$f":"IF($A8643=\"\",\"\",COUNTIF($A$2:$A8643,$A8643))","v":""},{"$f":"IF($A8643=\"\",\"\",$O8643+thousand*VLOOKUP($A8643,$A$1:Q8643,17,FALSE))","v":""},{"$f":"IF(O8643=1,MAX(Q$1:Q8642)+1,\"\")","v":""},"",""]
[null,null,null,null,null,null,null,null,null,null,{"$error":"#DIV/0!"},null,8672,"",{"$f":"IF($A8644=\"\",\"\",COUNTIF($A$2:$A8644,$A8644))","v":""},{"$f":"IF($A8644=\"\",\"\",$O8644+thousand*VLOOKUP($A8644,$A$1:Q8644,17,FALSE))","v":""},{"$f":"IF(O8644=1,MAX(Q$1:Q8643)+1,\"\")","v":""},"",""]
[null,null,null,null,null,null,null,null,null,null,{"$error":"#DIV/0!"},null,8673,"",{"$f":"IF($A8645=\"\",\"\",COUNTIF($A$2:$A8645,$A8645))","v":""},{"$f":"IF($A8645=\"\",\"\",$O8645+thousand*VLOOKUP($A8645,$A$1:Q8645,17,FALSE))","v":""},{"$f":"IF(O8645=1,MAX(Q$1:Q8644)+1,\"\")","v":""},"",""]
[null,null,null,null,null,null,null,null,null,null,{"$f":"F8646/E8646*J8646","v":{"$error":"#DIV/0!"}},null,8674,"",{"$f":"IF($A8646=\"\",\"\",COUNTIF($A$2:$A8646,$A8646))","v":""},{"$f":"IF($A8646=\"\",\"\",$O8646+thousand*VLOOKUP($A8646,$A$1:Q8646,17,FALSE))","v":""},{"$f":"IF(O8646=1,MAX(Q$1:Q8645)+1,\"\")","v":""},{"$f":"IF(A8646=\"\",\"\",A8646)","v":""},{"$f":"IF(B8646=\"\",\"\",B8646)","v":""}]
[null,null,null,null,null,null,null,null,null,null,{"$error":"#DIV/0!"},null,8675,"",{"$f":"IF($A8647=\"\",\"\",COUNTIF($A$2:$A8647,$A8647))","v":""},{"$f":"IF($A8647=\"\",\"\",$O8647+thousand*VLOOKUP($A8647,$A$1:Q8647,17,FALSE))","v":""},{"$f":"IF(O8647=1,MAX(Q$1:Q8646)+1,\"\")","v":""},"",""]
[null,null,null,null,null,null,null,null,null,null,{"$error":"#DIV/0!"},null,8676,"",{"$f":"IF($A8648=\"\",\"\",COUNTIF($A$2:$A8648,$A8648))","v":""},{"$f":"IF($A8648=\"\",\"\",$O8648+thousand*VLOOKUP($A8648,$A$1:Q8648,17,FALSE))","v":""},{"$f":"IF(O8648=1,MAX(Q$1:Q8647)+1,\"\")","v":""},"",""]
[null,null,null,null,null,null,null,null,null,null,{"$error":"#DIV/0!"},null,8677,"",{"$f":"IF($A8649=\"\",\"\",COUNTIF($A$2:$A8649,$A8649))","v":""},{"$f":"IF($A8649=\"\",\"\",$O8649+thousand*VLOOKUP($A8649,$A$1:Q8649,17,FALSE))","v":""},{"$f":"IF(O8649=1,MAX(Q$1:Q8648)+1,\"\")","v":""},"",""]
[null,null,null,null,null,null,null,null,null,null,{"$error":"#DIV/0!"},null,8678,"",{"$f":"IF($A8650=\"\",\"\",COUNTIF($A$2:$A8650,$A8650))","v":""},{"$f":"IF($A8650=\"\",\"\",$O8650+thousand*VLOOKUP($A8650,$A$1:Q8650,17,FALSE))","v":""},{"$f":"IF(O8650=1,MAX(Q$1:Q8649)+1,\"\")","v":""},"",""]
[null,null,null,null,null,null,null,null,null,null,{"$error":"#DIV/0!"},null,8679,"",{"$f":"IF($A8651=\"\",\"\",COUNTIF($A$2:$A8651,$A8651))","v":""},{"$f":"IF($A8651=\"\",\"\",$O8651+thousand*VLOOKUP($A8651,$A$1:Q8651,17,FALSE))","v":""},{"$f":"IF(O8651=1,MAX(Q$1:Q8650)+1,\"\")","v":""},"",""]
[null,null,null,null,null,null,null,null,null,null,{"$error":"#DIV/0!"},null,8680,"",{"$f":"IF($A8652=\"\",\"\",COUNTIF($A$2:$A8652,$A8652))","v":""},{"$f":"IF($A8652=\"\",\"\",$O8652+thousand*VLOOKUP($A8652,$A$1:Q8652,17,FALSE))","v":""},{"$f":"IF(O8652=1,MAX(Q$1:Q8651)+1,\"\")","v":""},"",""]
[null,null,null,null,null,null,null,null,null,null,{"$error":"#DIV/0!"},null,8681,"",{"$f":"IF($A8653=\"\",\"\",COUNTIF($A$2:$A8653,$A8653))","v":""},{"$f":"IF($A8653=\"\",\"\",$O8653+thousand*VLOOKUP($A8653,$A$1:Q8653,17,FALSE))","v":""},{"$f":"IF(O8653=1,MAX(Q$1:Q8652)+1,\"\")","v":""},"",""]
[null,null,null,null,null,null,null,null,null,null,{"$error":"#DIV/0!"},null,8682,"",{"$f":"IF($A8654=\"\",\"\",COUNTIF($A$2:$A8654,$A8654))","v":""},{"$f":"IF($A8654=\"\",\"\",$O8654+thousand*VLOOKUP($A8654,$A$1:Q8654,17,FALSE))","v":""},{"$f":"IF(O8654=1,MAX(Q$1:Q8653)+1,\"\")","v":""},"",""]
[null,null,null,null,null,null,null,null,null,null,{"$error":"#DIV/0!"},null,8683,"",{"$f":"IF($A8655=\"\",\"\",COUNTIF($A$2:$A8655,$A8655))","v":""},{"$f":"IF($A8655=\"\",\"\",$O8655+thousand*VLOOKUP($A8655,$A$1:Q8655,17,FALSE))","v":""},{"$f":"IF(O8655=1,MAX(Q$1:Q8654)+1,\"\")","v":""},"",""]
[null,null,null,null,null,null,null,null,null,null,{"$error":"#DIV/0!"},null,8684,"",{"$f":"IF($A8656=\"\",\"\",COUNTIF($A$2:$A8656,$A8656))","v":""},{"$f":"IF($A8656=\"\",\"\",$O8656+thousand*VLOOKUP($A8656,$A$1:Q8656,17,FALSE))","v":""},{"$f":"IF(O8656=1,MAX(Q$1:Q8655)+1,\"\")","v":""},"",""]
[null,null,null,null,null,null,null,null,null,null,{"$error":"#DIV/0!"},null,8685,"",{"$f":"IF($A8657=\"\",\"\",COUNTIF($A$2:$A8657,$A8657))","v":""},{"$f":"IF($A8657=\"\",\"\",$O8657+thousand*VLOOKUP($A8657,$A$1:Q8657,17,FALSE))","v":""},{"$f":"IF(O8657=1,MAX(Q$1:Q8656)+1,\"\")","v":""},"",""]
[null,null,null,null,null,null,null,null,null,null,{"$error":"#DIV/0!"},null,8686,"",{"$f":"IF($A8658=\"\",\"\",COUNTIF($A$2:$A8658,$A8658))","v":""},{"$f":"IF($A8658=\"\",\"\",$O8658+thousand*VLOOKUP($A8658,$A$1:Q8658,17,FALSE))","v":""},{"$f":"IF(O8658=1,MAX(Q$1:Q8657)+1,\"\")","v":""},"",""]
[null,null,null,null,null,null,null,null,null,null,{"$error":"#DIV/0!"},null,8687,"",{"$f":"IF($A8659=\"\",\"\",COUNTIF($A$2:$A8659,$A8659))","v":""},{"$f":"IF($A8659=\"\",\"\",$O8659+thousand*VLOOKUP($A8659,$A$1:Q8659,17,FALSE))","v":""},{"$f":"IF(O8659=1,MAX(Q$1:Q8658)+1,\"\")","v":""},"",""]
[null,null,null,null,null,null,null,null,null,null,{"$error":"#DIV/0!"},null,8688,"",{"$f":"IF($A8660=\"\",\"\",COUNTIF($A$2:$A8660,$A8660))","v":""},{"$f":"IF($A8660=\"\",\"\",$O8660+thousand*VLOOKUP($A8660,$A$1:Q8660,17,FALSE))","v":""},{"$f":"IF(O8660=1,MAX(Q$1:Q8659)+1,\"\")","v":""},"",""]
[null,null,null,null,null,null,null,null,null,null,{"$error":"#DIV/0!"},null,8689,"",{"$f":"IF($A8661=\"\",\"\",COUNTIF($A$2:$A8661,$A8661))","v":""},{"$f":"IF($A8661=\"\",\"\",$O8661+thousand*VLOOKUP($A8661,$A$1:Q8661,17,FALSE))","v":""},{"$f":"IF(O8661=1,MAX(Q$1:Q8660)+1,\"\")","v":""},"",""]
[null,null,null,null,null,null,null,null,null,null,{"$error":"#DIV/0!"},null,8690,"",{"$f":"IF($A8662=\"\",\"\",COUNTIF($A$2:$A8662,$A8662))","v":""},{"$f":"IF($A8662=\"\",\"\",$O8662+thousand*VLOOKUP($A8662,$A$1:Q8662,17,FALSE))","v":""},{"$f":"IF(O8662=1,MAX(Q$1:Q8661)+1,\"\")","v":""},"",""]
[null,null,null,null,null,null,null,null,null,null,{"$error":"#DIV/0!"},null,8691,"",{"$f":"IF($A8663=\"\",\"\",COUNTIF($A$2:$A8663,$A8663))","v":""},{"$f":"IF($A8663=\"\",\"\",$O8663+thousand*VLOOKUP($A8663,$A$1:Q8663,17,FALSE))","v":""},{"$f":"IF(O8663=1,MAX(Q$1:Q8662)+1,\"\")","v":""},"",""]
[null,null,null,null,null,null,null,null,null,null,{"$error":"#DIV/0!"},null,8692,"",{"$f":"IF($A8664=\"\",\"\",COUNTIF($A$2:$A8664,$A8664))","v":""},{"$f":"IF($A8664=\"\",\"\",$O8664+thousand*VLOOKUP($A8664,$A$1:Q8664,17,FALSE))","v":""},{"$f":"IF(O8664=1,MAX(Q$1:Q8663)+1,\"\")","v":""},"",""]
[null,null,null,null,null,null,null,null,null,null,{"$error":"#DIV/0!"},null,8693,"",{"$f":"IF($A8665=\"\",\"\",COUNTIF($A$2:$A8665,$A8665))","v":""},{"$f":"IF($A8665=\"\",\"\",$O8665+thousand*VLOOKUP($A8665,$A$1:Q8665,17,FALSE))","v":""},{"$f":"IF(O8665=1,MAX(Q$1:Q8664)+1,\"\")","v":""},"",""]
[null,null,null,null,null,null,null,null,null,null,{"$error":"#DIV/0!"},null,8694,"",{"$f":"IF($A8666=\"\",\"\",COUNTIF($A$2:$A8666,$A8666))","v":""},{"$f":"IF($A8666=\"\",\"\",$O8666+thousand*VLOOKUP($A8666,$A$1:Q8666,17,FALSE))","v":""},{"$f":"IF(O8666=1,MAX(Q$1:Q8665)+1,\"\")","v":""},"",""]
[null,null,null,null,null,null,null,null,null,null,{"$error":"#DIV/0!"},null,8695,"",{"$f":"IF($A8667=\"\",\"\",COUNTIF($A$2:$A8667,$A8667))","v":""},{"$f":"IF($A8667=\"\",\"\",$O8667+thousand*VLOOKUP($A8667,$A$1:Q8667,17,FALSE))","v":""},{"$f":"IF(O8667=1,MAX(Q$1:Q8666)+1,\"\")","v":""},"",""]
[null,null,null,null,null,null,null,null,null,null,{"$error":"#DIV/0!"},null,8696,"",{"$f":"IF($A8668=\"\",\"\",COUNTIF($A$2:$A8668,$A8668))","v":""},{"$f":"IF($A8668=\"\",\"\",$O8668+thousand*VLOOKUP($A8668,$A$1:Q8668,17,FALSE))","v":""},{"$f":"IF(O8668=1,MAX(Q$1:Q8667)+1,\"\")","v":""},"",""]
[null,null,null,null,null,null,null,null,null,null,{"$error":"#DIV/0!"},null,8697,"",{"$f":"IF($A8669=\"\",\"\",COUNTIF($A$2:$A8669,$A8669))","v":""},{"$f":"IF($A8669=\"\",\"\",$O8669+thousand*VLOOKUP($A8669,$A$1:Q8669,17,FALSE))","v":""},{"$f":"IF(O8669=1,MAX(Q$1:Q8668)+1,\"\")","v":""},"",""]
[null,null,null,null,null,null,null,null,null,null,{"$error":"#DIV/0!"},null,8698,"",{"$f":"IF($A8670=\"\",\"\",COUNTIF($A$2:$A8670,$A8670))","v":""},{"$f":"IF($A8670=\"\",\"\",$O8670+thousand*VLOOKUP($A8670,$A$1:Q8670,17,FALSE))","v":""},{"$f":"IF(O8670=1,MAX(Q$1:Q8669)+1,\"\")","v":""},"",""]
[null,null,null,null,null,null,null,null,null,null,{"$error":"#DIV/0!"},null,8699,"",{"$f":"IF($A8671=\"\",\"\",COUNTIF($A$2:$A8671,$A8671))","v":""},{"$f":"IF($A8671=\"\",\"\",$O8671+thousand*VLOOKUP($A8671,$A$1:Q8671,17,FALSE))","v":""},{"$f":"IF(O8671=1,MAX(Q$1:Q8670)+1,\"\")","v":""},"",""]
[null,null,null,null,null,null,null,null,null,null,{"$error":"#DIV/0!"},null,8700,"",{"$f":"IF($A8672=\"\",\"\",COUNTIF($A$2:$A8672,$A8672))","v":""},{"$f":"IF($A8672=\"\",\"\",$O8672+thousand*VLOOKUP($A8672,$A$1:Q8672,17,FALSE))","v":""},{"$f":"IF(O8672=1,MAX(Q$1:Q8671)+1,\"\")","v":""},"",""]
[null,null,null,null,null,null,null,null,null,null,{"$error":"#DIV/0!"},null,8701,"",{"$f":"IF($A8673=\"\",\"\",COUNTIF($A$2:$A8673,$A8673))","v":""},{"$f":"IF($A8673=\"\",\"\",$O8673+thousand*VLOOKUP($A8673,$A$1:Q8673,17,FALSE))","v":""},{"$f":"IF(O8673=1,MAX(Q$1:Q8672)+1,\"\")","v":""},"",""]
[null,null,null,null,null,null,null,null,null,null,{"$error":"#DIV/0!"},null,8702,"",{"$f":"IF($A8674=\"\",\"\",COUNTIF($A$2:$A8674,$A8674))","v":""},{"$f":"IF($A8674=\"\",\"\",$O8674+thousand*VLOOKUP($A8674,$A$1:Q8674,17,FALSE))","v":""},{"$f":"IF(O8674=1,MAX(Q$1:Q8673)+1,\"\")","v":""},"",""]
[null,null,null,null,null,null,null,null,null,null,{"$error":"#DIV/0!"},null,8703,"",{"$f":"IF($A8675=\"\",\"\",COUNTIF($A$2:$A8675,$A8675))","v":""},{"$f":"IF($A8675=\"\",\"\",$O8675+thousand*VLOOKUP($A8675,$A$1:Q8675,17,FALSE))","v":""},{"$f":"IF(O8675=1,MAX(Q$1:Q8674)+1,\"\")","v":""},"",""]
[null,null,null,null,null,null,null,null,null,null,{"$error":"#DIV/0!"},null,8704,"",{"$f":"IF($A8676=\"\",\"\",COUNTIF($A$2:$A8676,$A8676))","v":""},{"$f":"IF($A8676=\"\",\"\",$O8676+thousand*VLOOKUP($A8676,$A$1:Q8676,17,FALSE))","v":""},{"$f":"IF(O8676=1,MAX(Q$1:Q8675)+1,\"\")","v":""},"",""]

{"sheet":"Inverter","index":5,"n_rows":39,"n_cols":20,"rows_kept":39,"cut":false,"hidden":false,"merged":[]}
[12,"max.DC input\n(W)","max.input voltage\n(V)","max.input current per mppt\n(A)","min.MPP\nvoltage range\n(V)","max.MPP voltage range\n(V)","operating voltage range","rated voltage","inputes num.","mpp tracker num.","AC output power ","max power","max.output current","max.eff","euro.eff","工作温度","输出电压","每路并联数","MPPT路数","输出频率"]
["SUN2000-8KTL",9100,1000,18,320,800,"250-850",620,4,2,8800,{"$f":"K2*1","v":8800},12.8,0.98499999999999999,0.98,"-25℃~+60℃","3×230/400V",2,{"$f":"INDEX(R2:R15,A1,1)","v":2},"50/60"]
["SUN2000-12KTL",13700,1000,18,380,800,"250-850",620,4,2,13200,{"$f":"K3*1","v":13200},19.2,0.98499999999999999,0.98,"-25℃~+60℃","3×230/400V",2,null,"50/60"]
["SUN2000-17KTL",19200,1000,18,400,800,"250-850",620,6,3,18700,18700,27.2,0.98599999999999999,0.98299999999999998,"-25℃~+60℃","3×230/400V",2,null,"50/60"]
["SUN2000-20KTL",22500,1000,18,480,800,"250-850",620,6,3,22000,22000,32,0.98599999999999999,0.98299999999999998,"-25℃~+60℃","3×230/400V",2,null,"50/60"]
["SUN2000-23KTL",23600,1000,18,480,800,"250-850",620,6,3,23000,23000,33.5,0.98599999999999999,0.98299999999999998,"-25℃~+60℃","3×230/400V",2,null,"50/60"]
["SUN2000-28KTL",28200,1000,18,480,800,"250-850",620,6,3,27500,{"$f":"K7*1","v":27500},33.5,0.98699999999999999,0.98399999999999999,"-25℃~+60℃","3×277/480V",2,null,"50/60"]
["SUN2000-33KTL",33800,1000,23,480,850,"200-980",620,6,3,30000,33000,48,0.98599999999999999,0.98299999999999998,"-25℃~+60℃","3×230/400V",2,null,"50/60"]
["SUN2000-40KTL",40800,1000,23,580,850,"250-850",620,6,3,40000,40000,48,0.98799999999999999,0.98399999999999999,"-25℃~+60℃","3×277/480V",2,null,"50/60"]
["SUN2000-22KTL-US",{"$f":"K10+700","v":22900},1000,25,560,850,"200-950",730,6,3,22200,22200,29.4,0.98599999999999999,0.98,"-25℃~+60℃","3×277/480V",2,null,60]
["SUN2000-25KTL-US",{"$f":"K11+800","v":25800},1000,25,560,850,"200-950",730,6,3,25000,25000,33,0.98599999999999999,0.98,"-25℃~+60℃","3×277/480V",2,null,60]
["SUN2000-30KTL-US",{"$f":"K12+800","v":30800},1000,25,560,850,"200-950",730,6,3,30000,30000,40,0.98599999999999999,0.98,"-25℃~+60℃","3×277/480V",2,null,60]
["SUN2000-33KTL-A",30600,1100,22,480,800,"200-1000",620,8,4,30000,33000,48,0.98599999999999999,0.98399999999999999,"-25℃~+60℃","3×230/400V",2,null,"50/60"]
["SUN2000-36KTL",40800,1100,22,480,850,"200-1000",620,8,4,36000,40000,60.8,0.98599999999999999,0.98299999999999998,"-25℃~+60℃","3×230/400V",2,null,"50/60"]
["SUN2000-42KTL",47900,1100,22,580,850,"200-1000",720,8,4,42000,47000,56.6,0.98799999999999999,0.9840000000000001,"-25℃~+60℃","3×277/480V",2,null,"50/60"]
[{"$f":"\"\"","v":""}]
[{"$f":"\"\"","v":""}]
[{"$f":"\"\"","v":""}]
[{"$f":"\"\"","v":""}]
[{"$f":"\"\"","v":""}]
[{"$f":"\"\"","v":""}]
[{"$f":"\"\"","v":""}]
[{"$f":"\"\"","v":""}]
[{"$f":"\"\"","v":""}]
[{"$f":"\"\"","v":""}]
[{"$f":"\"\"","v":""}]
[{"$f":"\"\"","v":""}]
[{"$f":"\"\"","v":""}]
[{"$f":"\"\"","v":""}]
[{"$f":"\"\"","v":""}]
[{"$f":"\"\"","v":""}]
[{"$f":"\"\"","v":""}]
[{"$f":"\"\"","v":""}]
[{"$f":"\"\"","v":""}]
[{"$f":"\"\"","v":""}]
[{"$f":"\"\"","v":""}]
[{"$f":"\"\"","v":""}]
[{"$f":"\"\"","v":""}]
[{"$f":"\"\"","v":""}]

{"sheet":"GeoMet","index":6,"n_rows":968,"n_cols":74,"rows_kept":968,"cut":false,"hidden":true,"merged":[]}
[null,null,null,1,2,3,4,5,6,7,8,9,10,11,12,13,14,15,16,17,18,19,20,21,22,23,24,25,26,27,28,29,30,31,32,33,34,35,36,37,38,39,40,41,42,43,44,45,46,47,48,49,50,51,52,53,54,55,null,70,null,null,null,null,null,null,null,null,null,null,null,null,11,328]
[null,null,null,null,null,null,"Global Horizon",null,null,null,null,null,null,null,null,null,null,null,null,"Diffuse",null,null,null,null,null,null,null,null,null,null,null,null,"Temerature",null,null,null,null,null,null,null,null,null,null,null,null,"Wind velocity",null,null,null,null,null,null,null,null,null,null,null,null,null,-1,null,null,null,null,null,null,null,null,null,null,null,null,{"$f":"MATCH(INDEX(GeoMet!$BU$4:$BU$348,GeoMet!BU3),GeoMet!$BO$4:$BO$940,0)","v":39}]
["Region","Country","City","Latitude","Longitude","Altitude","Jan","Feb","Mar","Apr","May","June","July","Aug","Sep","Oct","Nov","Dec","Year","Jan","Feb","Mar","Apr","May","June","July","Aug","Sep","Oct","Nov","Dec","Year","Jan","Feb","Mar","Apr","May","June","July","Aug","Sep","Oct","Nov","Dec","Year","Jan","Feb","Mar","Apr","May","June","July","Aug","Sep","Oct","Nov","Dec","Year",null,0,null,null,null,null,null,null,null,null,null,null,1,null,1]
["Asia","Afghanistan","Kabul",34.520000000000003,69.349999999999994,1797,95,115,151,177,211,216,197,188,174,146,107,95,1872,34,37,55,63,70,70,75,68,51,42,32,28,625,-1,0.7,7.3,13.9,17.899999999999999,22.8,25.6,24.4,20.6,13.9,7.8,2.2000000000000002,13.01,2.1,2.6,2.1,3.6,4.5999999999999996,6.2,5.7,5.0999999999999996,4.0999999999999996,3.6,2.1,2.1,3.66,null,1,{"$f":"IF(BH4>MAX(BK$4:BK$940),\"\",VLOOKUP(BH4,BK$4:BL$940,2,FALSE))","v":"Afghanistan"},null,{"$f":"BM4","v":1},{"$f":"IF(B4=\"\",\"\",B4)","v":"Afghanistan"},{"$f":"IF(BN4>1,\"\",MAX(BM$3:BM3)+1)","v":1},{"$f":"IF(BL4=\"\",\"\",COUNTIF(BL$4:BL4,BL4))","v":1},{"$f":"IF(BL4=\"\",\"\",thousand*VLOOKUP(BL4,BL$4:BM$940,2,FALSE)+BN4)","v":1001},{"$f":"IF(C4=\"\",\"\",C4)","v":"Kabul"},null,null,{"$f":"country*thousand+BH4","v":70001},{"$f":"IF(COUNTIF(BO$4:BO$940,BS4)>0,VLOOKUP(BS4,BO$4:BP$940,2,FALSE),\"\")","v":"Manila/Naia"},{"$f":"BU$1*thousand+BH4","v":11001},{"$f":"IF(COUNTIF(BO$4:BO$940,BU4)>0,VLOOKUP(BU4,BO$4:BP$940,2,FALSE),\"\")","v":"La Paz"}]
["Africa","Algeria","Alger",36.340000000000003,2.57,5,65,85,127,161,196,204,227,193,153,107,71,65,1654,33,38,53,61,68,66,59,60,51,45,33,29,596,12.4,13.1,12.9,14,17.2,21.1,24.7,25.6,23.8,20.100000000000001,16.399999999999999,14,17.940000000000001,4.0999999999999996,6.2,5.7,5.7,5.0999999999999996,5.7,6.2,5.0999999999999996,5.0999999999999996,5.7,5.7,6.2,5.54,null,2,"Algeria",null,{"$f":"BM5","v":2},{"$f":"IF(B5=\"\",\"\",B5)","v":"Algeria"},{"$f":"IF(BN5>1,\"\",MAX(BM$3:BM4)+1)","v":2},{"$f":"IF(BL5=\"\",\"\",COUNTIF(BL$4:BL5,BL5))","v":1},2001,{"$f":"IF(C5=\"\",\"\",C5)","v":"Alger"},null,null,70002,"Calapan/Mindoro",11002,""]
["Africa","Algeria","Tamanrasset",22.47,5.31,1377,164,177,217,223,225,234,236,219,193,187,148,142,2365,34,32,47,54,65,58,61,62,56,46,42,38,595,11.8,13.8,17.399999999999999,21.8,25.4,28.1,28.4,27.9,25.9,22.3,18.2,13.8,21.23,3.9,4.2,4.4000000000000004,4.5,4.4000000000000004,4.5,4.2,4.0999999999999996,3.9,3.9,3.8,3.8,4.13,null,3,"Angola",null,"","Algeria",{"$f":"IF(BN6>1,\"\",MAX(BM$3:BM5)+1)","v":""},{"$f":"IF(BL6=\"\",\"\",COUNTIF(BL$4:BL6,BL6))","v":2},2002,"Tamanrasset",null,null,70003,"",11003,""]
["Africa","Angola","Luanda",-9.14,13.24,5,160,148,169,157,153,132,134,138,151,158,160,160,1820,77,69,72,63,57,54,58,65,68,75,74,77,809,28.7,28.5,28.2,27.5,26.1,23.7,23.6,26,28.9,29.6,29.1,28.9,27.4,2.1,2.1,2.1,2.1,2.1,2.1,2.1,2.1,2.1,2.1,2.1,2.1,2.1,null,4,"Argentina",null,3,"Angola",{"$f":"IF(BN7>1,\"\",MAX(BM$3:BM6)+1)","v":3},{"$f":"IF(BL7=\"\",\"\",COUNTIF(BL$4:BL7,BL7))","v":1},3001,"Luanda",null,null,70004,"",11004,""]
["South_America","Argentina","Buenos Aires",-34.450000000000003,-58.24,5,220,181,160,113,85,65,71,99,128,164,202,216,1704,80,64,61,46,36,31,34,43,55,71,76,84,681,22.4,22,21.1,17.899999999999999,14.8,12.5,11.7,12.7,13,15.1,17.600000000000001,20.5,16.78,4.0999999999999996,4.0999999999999996,3.6,3.1,3.1,3.6,3.6,3.6,4.5999999999999996,4.0999999999999996,4.0999999999999996,4.0999999999999996,3.81,null,5,"Australia",null,4,"Argentina",{"$f":"IF(BN8>1,\"\",MAX(BM$3:BM7)+1)","v":4},{"$f":"IF(BL8=\"\",\"\",COUNTIF(BL$4:BL8,BL8))","v":1},4001,"Buenos Aires",null,null,70005,"",11005,""]
["Australia","Australia","Adelaide",-34.520000000000003,139.09,5,238,181,164,114,77,63,75,97,140,175,203,230,1757,63,56,52,41,34,28,31,39,47,62,66,71,590,22.3,22.1,19.899999999999999,16.2,12.9,10.9,10,11.2,13.5,15.7,18.100000000000001,20.7,16.13,5.0999999999999996,5.0999999999999996,6.7,6.7,6.7,6.7,7.2,7.2,7.2,7.2,5.0999999999999996,4.5999999999999996,6.29,null,6,"Austria",null,5,"Australia",{"$f":"IF(BN9>1,\"\",MAX(BM$3:BM8)+1)","v":5},{"$f":"IF(BL9=\"\",\"\",COUNTIF(BL$4:BL9,BL9))","v":1},5001,"Adelaide",null,null,70006,"",11006,""]
["Australia","Australia","Brisbane",-27.51,153.21,5,197,160,149,111,90,73,90,112,148,169,190,196,1685,80,68,66,53,44,38,41,49,56,72,75,83,725,23.2,23.2,21.8,19,15.8,13.4,12.3,13.4,15.7,17.899999999999999,19.899999999999999,22.6,18.18,5.7,5.8,6.1,5.2,4,5.2,5.7,5.8,5.8,5.8,6.1,5.2,5.53,null,7,"Azores",null,"","Australia",{"$f":"IF(BN10>1,\"\",MAX(BM$3:BM9)+1)","v":""},{"$f":"IF(BL10=\"\",\"\",COUNTIF(BL$4:BL10,BL10))","v":2},5002,"Brisbane",null,null,70007,"",11007,""]
["Australia","Australia","Broome Airport",-17.57,122.13,17,226.1,202.7,191.1,194.5,160.19999999999999,135.80000000000001,163.5,178.7,207.3,234.5,249,226.6,2370,null,null,null,null,null,null,null,null,null,null,null,null,null,29.86,29.8,29.53,27.7,24.78,21.53,21.15,22.65,24.77,27.65,28.78,30.17,26.53,3.8,3.7,2.9,2.7,2.8,2.99,2.99,3.1,3.39,3.69,4.1900000000000004,4.5,3.4,null,8,"Barbados",null,"","Australia",{"$f":"IF(BN11>1,\"\",MAX(BM$3:BM10)+1)","v":""},{"$f":"IF(BL11=\"\",\"\",COUNTIF(BL$4:BL11,BL11))","v":3},5003,"Broome Airport",null,null,70008,"",11008,""]
["Australia","Australia","Canberra",-35.340000000000003,148.51,559,209,170,149,105,80,66,76,101,132,170,193,210,1661,85,68,65,49,39,32,35,44,56,73,81,90,717,20.5,21,18.899999999999999,15.3,11.9,9.3000000000000007,8.3000000000000007,9.4,12,14.6,16.899999999999999,19.5,14.8,5.6,5.9,6,5.8,3.5,4.5999999999999996,5.0999999999999996,5.4,5.4,6.3,5.7,5.4,5.39,null,9,"Belgium",null,"","Australia",{"$f":"IF(BN12>1,\"\",MAX(BM$3:BM11)+1)","v":""},{"$f":"IF(BL12=\"\",\"\",COUNTIF(BL$4:BL12,BL12))","v":4},5004,"Canberra",null,null,70009,"",11009,""]
["Australia","Australia","Carnarvon Airp.",-24.53,113.4,4,252.8,216.2,203.6,141,129.19999999999999,106.3,121,161.30000000000001,192,237.6,234.5,273.3,2268.6,null,null,null,null,null,null,null,null,null,null,null,null,null,26.92,26.77,26.53,23.69,20.12,17.39,16.22,17.399999999999999,18.77,21.02,22.59,25.11,21.88,7.51,6.9,6.5,5.2,4.5,4.3,4.4000000000000004,4.9000000000000004,6.1,7,7.29,7.8,6.03,null,10,"Birmania",null,"","Australia",{"$f":"IF(BN13>1,\"\",MAX(BM$3:BM12)+1)","v":""},{"$f":"IF(BL13=\"\",\"\",COUNTIF(BL$4:BL13,BL13))","v":5},5005,"Carnarvon Airp.",null,null,70010,"",11010,""]
["Australia","Australia","Darwin Airport",-12.24,130.52000000000001,31,156.19999999999999,145.80000000000001,161.4,169.8,167.2,160.6,171.4,189.8,196.3,200.8,185,166.5,2070.6999999999998,null,null,null,null,null,null,null,null,null,null,null,null,null,28.35,28.26,28.35,28.49,27.8,25.23,24.85,26.08,27.44,29.48,29,28.91,27.69,3.39,3.31,2.9,3.09,3.3,3.5,3.3,3.1,3.3,3.3,3.21,3.5,3.27,null,11,"Bolivia",null,"","Australia",{"$f":"IF(BN14>1,\"\",MAX(BM$3:BM13)+1)","v":""},{"$f":"IF(BL14=\"\",\"\",COUNTIF(BL$4:BL14,BL14))","v":6},5006,"Darwin Airport",null,null,70011,"",11011,""]
["Australia","Australia","Geraldton Airp.",-28.47,114.42,37,232.8,207.6,181.4,134.5,112.8,98.5,108.4,134.5,166.7,221.5,231.7,252.8,2083,null,null,null,null,null,null,null,null,null,null,null,null,null,24.43,24.4,23.76,21.58,18.7,16.55,15.62,16,16.55,18.239999999999998,20.74,22.75,19.940000000000001,6.59,6.69,5.9,4.9000000000000004,4.4000000000000004,4.6900000000000004,4.7,4.3,4.5,5.3,5.8,6.7,5.37,null,12,"Brazil",null,"","Australia",{"$f":"IF(BN15>1,\"\",MAX(BM$3:BM14)+1)","v":""},{"$f":"IF(BL15=\"\",\"\",COUNTIF(BL$4:BL15,BL15))","v":7},5007,"Geraldton Airp.",null,null,70012,"",11012,""]
["Australia","Australia","Griffith",-34.17,146.03,131,224.6,182.7,167.3,120.7,85.7,65.3,77.2,101.6,130.9,168.1,202.9,235.7,1762.7,null,null,null,null,null,null,null,null,null,null,null,null,null,24.29,25.27,21.79,16.989999999999998,12.78,10.07,9.4,10.47,13.66,17.29,20.12,23.46,17.13,3.42,2.98,2.73,2.2000000000000002,2.2599999999999998,2.4700000000000002,2.56,2.4500000000000002,3.01,3.08,3.56,3.04,2.81,null,13,"Bulgaria",null,"","Australia",{"$f":"IF(BN16>1,\"\",MAX(BM$3:BM15)+1)","v":""},{"$f":"IF(BL16=\"\",\"\",COUNTIF(BL$4:BL16,BL16))","v":8},5008,"Griffith",null,null,70013,"",11013,""]
["Australia","Australia","Hobart Airport",-42.5,147.30000000000001,4,203,150.9,133.69999999999999,87.6,56.5,43,54.9,77.2,116.5,145.80000000000001,177.8,209.7,1456.5,null,null,null,null,null,null,null,null,null,null,null,null,null,17.39,17.13,15.62,13.7,11.17,8.83,8.23,9.44,10.94,12.27,14.19,15.69,12.88,4.5,4.3,4.29,4.4000000000000004,4.3,3.9,3.99,4.59,4.7,4.6900000000000004,4.6900000000000004,4.8,4.43,null,14,"Cambodge",null,"","Australia",{"$f":"IF(BN17>1,\"\",MAX(BM$3:BM16)+1)","v":""},{"$f":"IF(BL17=\"\",\"\",COUNTIF(BL$4:BL17,BL17))","v":9},5009,"Hobart Airport",null,null,70014,"",11014,""]
["Australia","Australia","Kalgoorlie Air.",-30.46,121.27,360,218.5,196,174,121.5,97.4,89.6,98.8,129.19999999999999,176.8,226,226.6,231.9,1986.5,null,null,null,null,null,null,null,null,null,null,null,null,null,26.05,25.45,23.24,19,15.2,12.19,11.63,12.8,15.78,18.57,22.38,25.19,18.96,5.0999999999999996,4.79,4.4000000000000004,3.49,3.3,3.2,3.6,3.5,4.01,4.4000000000000004,4.59,5,4.1100000000000003,null,15,"Canada",null,"","Australia",{"$f":"IF(BN18>1,\"\",MAX(BM$3:BM17)+1)","v":""},{"$f":"IF(BL18=\"\",\"\",COUNTIF(BL$4:BL18,BL18))","v":10},5010,"Kalgoorlie Air.",null,null,70015,"",11015,""]
["Australia","Australia","Learmonth Airp.",-22.14,114.05,6,252.6,219.3,213.1,158.19999999999999,148.1,114,135.30000000000001,164.6,205.8,248,239.5,269.89999999999998,2368,null,null,null,null,null,null,null,null,null,null,null,null,null,29.92,29.75,29.27,26.15,22.33,18.739999999999998,18.16,19.32,21.56,24.03,26.48,28.43,24.51,6.1,5.59,5.2,4.0999999999999996,3.9,3.89,4,4.4000000000000004,5.19,5.9,6.29,6.6,5.0999999999999996,null,16,"Cape Verde",null,"","Australia",{"$f":"IF(BN19>1,\"\",MAX(BM$3:BM18)+1)","v":""},{"$f":"IF(BL19=\"\",\"\",COUNTIF(BL$4:BL19,BL19))","v":11},5011,"Learmonth Airp.",null,null,70016,"",11016,""]
["Australia","Australia","Meekatharra Airp.",-26.36,118.31,522,243.1,196.8,201.9,140.19999999999999,125.4,107.3,121.4,163.5,195,246.9,241,274.60000000000002,2257,null,null,null,null,null,null,null,null,null,null,null,null,null,30.98,30.49,27.96,22.64,17.43,12.99,12.32,14.6,18.420000000000002,21.28,25.13,28.74,21.91,4.9000000000000004,4.99,4.6900000000000004,4.01,3.99,3.8,3.9,3.9,4.3,4.6900000000000004,4.78,5,4.41,null,17,"Centrafrica",null,"","Australia",{"$f":"IF(BN20>1,\"\",MAX(BM$3:BM19)+1)","v":""},{"$f":"IF(BL20=\"\",\"\",COUNTIF(BL$4:BL20,BL20))","v":12},5012,"Meekatharra Airp.",null,null,70017,"",11017,""]
["Australia","Australia","Melbourne",-37.49,144.58000000000001,38,214.9,167.3,136.1,95.6,64.599999999999994,57.4,60.8,81.400000000000006,119.4,165.8,171.9,197.1,1532.4,null,null,null,null,null,null,null,null,null,null,null,null,null,19.07,19.32,17.79,14.8,12.23,9.86,8.89,10.050000000000001,10.94,13.32,14.82,17.29,14.03,5,4.8,4.3899999999999997,4.4000000000000004,4.6900000000000004,5.21,4.8899999999999997,5.3,5.4,5.2,5.01,5.0999999999999996,4.95,null,18,"Chile",null,"","Australia",{"$f":"IF(BN21>1,\"\",MAX(BM$3:BM20)+1)","v":""},{"$f":"IF(BL21=\"\",\"\",COUNTIF(BL$4:BL21,BL21))","v":13},5013,"Melbourne",null,null,70018,"",11018,""]
["Australia","Australia","Mildura Air.",-34.130000000000003,142.05000000000001,51,243.1,192.7,165.7,124.8,82.4,68.900000000000006,78.599999999999994,104.7,150.19999999999999,188.7,209.3,228.4,1837.7,null,null,null,null,null,null,null,null,null,null,null,null,null,24.54,23.23,21.02,16.28,12.94,10.62,9.8800000000000008,11.24,13.81,16.57,19.03,22.43,16.8,4.09,3.71,3.39,2.99,2.8,3.11,3.1,3.3,3.7,3.9,3.91,4.01,3.5,null,19,"China",null,"","Australia",{"$f":"IF(BN22>1,\"\",MAX(BM$3:BM21)+1)","v":""},{"$f":"IF(BL22=\"\",\"\",COUNTIF(BL$4:BL22,BL22))","v":14},5014,"Mildura Air.",null,null,70019,"",11019,""]
["Australia","Australia","Mt Gambier",-37.44,140.47,65,237.1,159.19999999999999,165.8,97.5,66.900000000000006,51.1,70.400000000000006,84.7,126.6,153.9,198.7,239.4,1651.4,null,null,null,null,null,null,null,null,null,null,null,null,null,18.04,18.7,17.21,14.73,12.08,10.33,9.5500000000000007,10.52,11.63,13.55,15.05,16.86,14.02,5.0999999999999996,4.71,4.38,3.91,3.79,4.0999999999999996,4.09,4.3,4.79,4.8,4.79,4.8,4.46,null,20,"Colombia",null,"","Australia",{"$f":"IF(BN23>1,\"\",MAX(BM$3:BM22)+1)","v":""},{"$f":"IF(BL23=\"\",\"\",COUNTIF(BL$4:BL23,BL23))","v":15},5015,"Mt Gambier",null,null,70020,"",11020,""]
["Australia","Australia","Perth",-31.57,115.52,19,241.7,190.8,185.9,120.1,99.5,81,84.7,118.7,149.69999999999999,191.1,224.6,249,1936.6,null,null,null,null,null,null,null,null,null,null,null,null,null,24.5,24.32,22.87,19.11,16.12,13.67,13.24,13.35,14.19,16.12,19.2,21.71,18.2,4.0999999999999996,4.49,3.9,3,2.8,2.7,2.99,2.7,3.1,3.6,3.8,4.2,3.45,null,21,"Croatia",null,"","Australia",{"$f":"IF(BN24>1,\"\",MAX(BM$3:BM23)+1)","v":""},{"$f":"IF(BL24=\"\",\"\",COUNTIF(BL$4:BL24,BL24))","v":16},5016,"Perth",null,null,70021,"",11021,""]
["Australia","Australia","Sydney",-33.520000000000003,151.12,42,186.7,155.19999999999999,130.1,91.4,81,69.599999999999994,78.8,110,138.19999999999999,182.1,194.9,189.7,1607.7,null,null,null,null,null,null,null,null,null,null,null,null,null,22.95,22.73,21.69,18.66,16.18,13.21,12.28,13.35,15.35,17.850000000000001,19.170000000000002,21.79,17.93,5.7,6.2,5.7,5.7,2.11,3.59,4.0999999999999996,4.5999999999999996,4.5999999999999996,6.19,5.7,5.69,4.99,null,22,"Cuba",null,"","Australia",{"$f":"IF(BN25>1,\"\",MAX(BM$3:BM24)+1)","v":""},{"$f":"IF(BL25=\"\",\"\",COUNTIF(BL$4:BL25,BL25))","v":17},5017,"Sydney",null,null,70022,"",11022,""]
["Australia","Australia","Townsville",-19.149999999999999,146.44999999999999,5,188.2,167.3,168.1,162.5,138.80000000000001,132.80000000000001,150.5,172.4,202.6,223.1,213.7,214.8,2134.6,null,null,null,null,null,null,null,null,null,null,null,null,null,27.64,27.29,26.53,24.82,22.92,20.43,19.559999999999999,20.79,22.54,25.16,26.13,27.65,24.29,4.5999999999999996,4.29,4.21,4.2,3.39,3.59,3.4,4.0999999999999996,4.2,4.7,4.7,4.6100000000000003,4.17,null,23,"Czechoslovakia",null,"","Australia",{"$f":"IF(BN26>1,\"\",MAX(BM$3:BM25)+1)","v":""},{"$f":"IF(BL26=\"\",\"\",COUNTIF(BL$4:BL26,BL26))","v":18},5018,"Townsville",null,null,70023,"",11023,""]
["Australia","Australia","Williamtown Airp.",-32.47,151.49,9,200.1,161.1,154.69999999999999,116.6,92.7,73.8,93.3,112.1,150.4,164.4,188.6,198.4,1706.2,null,null,null,null,null,null,null,null,null,null,null,null,null,23.45,23.25,21.71,18.63,15.57,13.12,12.23,13.23,15.33,17.850000000000001,19.62,22.85,18.07,4.09,3.89,3.59,2.9,3,3.5,3.7,3.7,3.8,3.9,4.3899999999999997,4.3,3.73,null,24,"Denmark",null,"","Australia",{"$f":"IF(BN27>1,\"\",MAX(BM$3:BM26)+1)","v":""},{"$f":"IF(BL27=\"\",\"\",COUNTIF(BL$4:BL27,BL27))","v":19},5019,"Williamtown Airp.",null,null,70024,"",11024,""]
["Australia","Australia","Willis Is",-16.18,149.59,6,201.5,167.9,193.1,146.80000000000001,133.1,127.3,130.1,170.9,194.2,204.5,215.8,214.1,2099.6,null,null,null,null,null,null,null,null,null,null,null,null,null,28.33,28.3,27.85,26.82,26.14,24.1,24.41,24.43,24.65,26.13,27.45,28.31,26.41,6.99,6.6,7.99,8.8000000000000007,8.7100000000000009,9.11,8.6,8.8000000000000007,7.7,7.5,6.81,6.4,7.83,null,25,"Egypt",null,"","Australia",{"$f":"IF(BN28>1,\"\",MAX(BM$3:BM27)+1)","v":""},{"$f":"IF(BL28=\"\",\"\",COUNTIF(BL$4:BL28,BL28))","v":20},5020,"Willis Is",null,null,70025,"",11025,""]
["Australia","Austria","Alice Springs",-23.48,133.54,545,231.3,200.2,197.1,166.7,138.19999999999999,128.4,143.6,170.4,198.3,221.6,220.9,229,2245.8000000000002,null,null,null,null,null,null,null,null,null,null,null,null,null,29,28.26,25.69,20.22,16.28,12.61,12.23,15.21,18.66,22.98,25.85,28.39,21.28,4.09,3.6,3.6,3.1,3.1,3.59,3.09,3.1,3.6,3.61,3.6,3.59,3.47,null,26,"Equator",null,6,"Austria",{"$f":"IF(BN29>1,\"\",MAX(BM$3:BM28)+1)","v":6},{"$f":"IF(BL29=\"\",\"\",COUNTIF(BL$4:BL29,BL29))","v":1},6001,"Alice Springs",null,null,70026,"",11026,""]
["Europe","Austria","Innsbruck Univ.",47.16,11.24,582,37.9,55.7,98.1,121,149.5,147.6,152.5,133.9,99.3,73.5,41.6,29.7,1140.4000000000001,null,null,null,null,null,null,null,null,null,null,null,null,null,-2.67,0.05,5.21,9.73,14.41,17.309999999999999,19.39,18.59,15.01,9.61,3.97,-0.87,9.14,1.2,1.3,1.39,1.6,1.51,1.4,1.21,1.21,1.21,1.21,1.2,1.19,1.3,null,27,"Ethiopia",null,"","Austria",{"$f":"IF(BN30>1,\"\",MAX(BM$3:BM29)+1)","v":""},{"$f":"IF(BL30=\"\",\"\",COUNTIF(BL$4:BL30,BL30))","v":2},6002,"Innsbruck Univ.",null,null,70027,"",11027,""]
["Europe","Austria","Wien",48.19,16.34,170,27,43,84,114,158,161,169,145,97,65,29,20,1112,19,29,50,65,81,84,84,72,54,38,21,15,612,-1.1000000000000001,0.6,5.5,9.6,14.1,17.3,19.5,19.5,15.8,10.4,5.0999999999999996,0.5,9.73,3.3,3.2,3.2,3.2,3.1,3.1,3.2,2.8,2.7,2.6,3.1,3,3.04,null,28,"Fidji",null,"","Austria",{"$f":"IF(BN31>1,\"\",MAX(BM$3:BM30)+1)","v":""},{"$f":"IF(BL31=\"\",\"\",COUNTIF(BL$4:BL31,BL31))","v":3},6003,"Wien",null,null,70028,"",11028,""]
["Europe","Azores","Angrado Heroism",38.39,-27.14,90,52.8,61.1,100.4,127.4,142.1,141.80000000000001,162.9,145.1,117.3,83.3,55.4,43.1,1232.5999999999999,null,null,null,null,null,null,null,null,null,null,null,null,null,14.4,13.86,14.47,14.86,16.77,18.649999999999999,21.16,22.19,20.81,18.920000000000002,16.45,15.06,17.3,5.5,4.59,4.9000000000000004,4.3899999999999997,4.5,3.79,3.6,3.49,3.7,4.5,4.6900000000000004,5.5,4.43,null,29,"Finland",null,7,"Azores",{"$f":"IF(BN32>1,\"\",MAX(BM$3:BM31)+1)","v":7},{"$f":"IF(BL32=\"\",\"\",COUNTIF(BL$4:BL32,BL32))","v":1},7001,"Angrado Heroism",null,null,70029,"",11029,""]
["Europe","Azores","Horta/Faial Island",38.31,-28.43,41,52.2,60.9,100.3,127.1,141.6,141.5,162.69999999999999,144.19999999999999,117.1,82.5,55,42.8,1227.9000000000001,null,null,null,null,null,null,null,null,null,null,null,null,null,14.36,13.73,14.17,14.75,16.64,18.55,21.25,22.41,21.2,19.23,16.63,15.46,17.37,5.39,5.3,5.59,4.59,4.5,3.69,3.2,3.01,3.8,4.29,4.8899999999999997,5.6,4.49,null,30,"France",null,"","Azores",{"$f":"IF(BN33>1,\"\",MAX(BM$3:BM32)+1)","v":""},{"$f":"IF(BL33=\"\",\"\",COUNTIF(BL$4:BL33,BL33))","v":2},7002,"Horta/Faial Island",null,null,70030,"",11030,""]
["Europe","Azores","Ponta Delgada",37.450000000000003,-25.4,36,55.7,65.099999999999994,103.4,128.9,142.1,141.80000000000001,161.4,141.30000000000001,121.7,85.5,59.7,47.5,1254.2,null,null,null,null,null,null,null,null,null,null,null,null,null,14.32,13.88,14.37,14.91,16.579999999999998,18.39,20.84,22.01,20.9,18.97,16.600000000000001,15.23,17.25,3.5,3.6,3.5,3.29,2.9,2.5,2.4900000000000002,2.4900000000000002,2.6,3,3.3,3.3,3.04,null,31,"France - Guyane",null,"","Azores",{"$f":"IF(BN34>1,\"\",MAX(BM$3:BM33)+1)","v":""},{"$f":"IF(BL34=\"\",\"\",COUNTIF(BL$4:BL34,BL34))","v":3},7003,"Ponta Delgada",null,null,70031,"",11031,""]
["North_America","Barbados","Husbands",13.1,-59.6,42,154,152,184,171,186,167,190,171,165,146,130,135,1951,null,null,null,null,null,null,null,null,null,null,null,null,null,25.6,26.1,26.1,27.2,27.8,27.8,27.8,27.8,27.8,27.8,27.2,26.1,27.09,5.7,5.7,5.7,5.7,5.7,6.2,5.7,5.0999999999999996,5.0999999999999996,4.5999999999999996,5.0999999999999996,5.7,5.5,null,32,"France - La Réunion",null,8,"Barbados",{"$f":"IF(BN35>1,\"\",MAX(BM$3:BM34)+1)","v":8},{"$f":"IF(BL35=\"\",\"\",COUNTIF(BL$4:BL35,BL35))","v":1},8001,"Husbands",null,null,70032,"",11032,""]
["Asia","Belgium","Oostende",51.14,2.5499999999999998,12,20.100000000000001,41.6,75.099999999999994,116.5,156.80000000000001,161.19999999999999,157.6,131.6,92,55.6,25.9,16.3,1050.3,null,null,null,null,null,null,null,null,null,null,null,null,null,3.98,3.17,6.16,7.73,11.05,13.71,16.21,16.68,14.19,11.14,7.11,5.01,9.68,5.29,5.2,5.3,4.8,4.7,4.49,4,4,4.3899999999999997,4.7,4.5999999999999996,5.0999999999999996,4.71,null,33,"France - Martinique",null,9,"Belgium",{"$f":"IF(BN36>1,\"\",MAX(BM$3:BM35)+1)","v":9},{"$f":"IF(BL36=\"\",\"\",COUNTIF(BL$4:BL36,BL36))","v":1},9001,"Oostende",null,null,70033,"",11033,""]
["Europe","Belgium","St Hubert",50.02,5.24,563,20.100000000000001,44.8,68.3,107.2,142,136.1,154.69999999999999,127.1,86.4,52,27.3,15.6,981.8,null,null,null,null,null,null,null,null,null,null,null,null,null,-0.03,0.5,3.29,5.58,10.18,12.69,15.09,15.66,12.02,8.3699999999999992,3.73,1.23,7.36,4,3.8,3.99,3.8,3.69,3.5,3,2.8,3.3,3.6,3.4,3.9,3.56,null,34,"Gabon",null,"","Belgium",{"$f":"IF(BN37>1,\"\",MAX(BM$3:BM36)+1)","v":""},{"$f":"IF(BL37=\"\",\"\",COUNTIF(BL$4:BL37,BL37))","v":2},9002,"St Hubert",null,null,70034,"",11034,""]
["Europe","Belgium","Uccle",50.48,4.21,105,20,36.9,66.2,102.2,139.6,141,142,123.5,84.2,53.5,24.4,15.6,949.2,null,null,null,null,null,null,null,null,null,null,null,null,null,2.5,2.98,5.71,8.5500000000000007,12.75,15.36,17.36,17.079999999999998,14.15,10.39,5.87,3.57,9.69,4.21,4.0999999999999996,3.99,3.7,3.39,3.11,3.1,3.01,3.2,3.4,3.8,4,3.58,null,35,"Germany",null,"","Belgium",{"$f":"IF(BN38>1,\"\",MAX(BM$3:BM37)+1)","v":""},{"$f":"IF(BL38=\"\",\"\",COUNTIF(BL$4:BL38,BL38))","v":3},9003,"Uccle",null,null,70035,"",11035,""]
["Europe","Belgium","Vlissingen",51.27,3.36,8,22.3,42.8,75.7,120.2,154.6,158.30000000000001,162.69999999999999,136.69999999999999,89.9,54.9,28,16.3,1062.3,null,null,null,null,null,null,null,null,null,null,null,null,null,3.33,3.17,5.29,7.93,12.13,14.73,17.03,17.38,15.05,11.99,7.24,4.6399999999999997,9.99,6.99,6.49,6.49,5.8,5.6,5.5,5.31,5.5,5.9,6.2,7,7.19,6.16,null,36,"Ghana",null,"","Belgium",{"$f":"IF(BN39>1,\"\",MAX(BM$3:BM38)+1)","v":""},{"$f":"IF(BL39=\"\",\"\",COUNTIF(BL$4:BL39,BL39))","v":4},9004,"Vlissingen",null,null,70036,"",11036,""]
["Europe","Belgium","Zuid-Limburg/Beek",50.55,5.46,114,22.3,43.5,72,112.2,148.80000000000001,142.4,155.4,130.80000000000001,87.7,55.5,28.8,17.100000000000001,1016.5,null,null,null,null,null,null,null,null,null,null,null,null,null,2.0699999999999998,2.2599999999999998,5.27,8.15,12.59,15.32,17.309999999999999,17.16,14.04,10.48,5.64,3.16,9.4499999999999993,4.6900000000000004,4.7,4.6900000000000004,4.0999999999999996,3.71,3.7,3.3,3.19,3.7,4.09,3.9,4.59,4.03,null,37,"Greece",null,"","Belgium",{"$f":"IF(BN40>1,\"\",MAX(BM$3:BM39)+1)","v":""},{"$f":"IF(BL40=\"\",\"\",COUNTIF(BL$4:BL40,BL40))","v":5},9005,"Zuid-Limburg/Beek",null,null,70037,"",11037,""]
["Asia","Birmania","Rangoon",16.510000000000002,96.37,10,145,146,173,175,179,162,171,134,141,145,137,146,1854,60,60,75,78,82,80,82,79,75,71,60,55,857,25.3,26.7,28.4,29.7,28.9,27.9,27.7,28.3,29.1,29.3,27.5,25.4,27.85,2.2000000000000002,2.2999999999999998,2.7,2.7,2.7,3.2,2.8,2.7,2.2999999999999998,3,3,2.6,2.68,null,38,"Guatemala",null,10,"Birmania",{"$f":"IF(BN41>1,\"\",MAX(BM$3:BM40)+1)","v":10},{"$f":"IF(BL41=\"\",\"\",COUNTIF(BL$4:BL41,BL41))","v":1},10001,"Rangoon",null,null,70038,"",11038,""]
["South_America","Bolivia","La Paz",-16.239999999999998,-67.39,3630,229,179,201,196,183,165,179,202,220,248,241,233,2476,68,65,62,44,36,32,32,37,42,50,57,68,593,10.199999999999999,10.8,10.199999999999999,9.6999999999999993,8.6,7.5,6.9,8,9.1,10.199999999999999,10.8,10.8,9.4,3.6,3.6,3.6,3.1,5.0999999999999996,5.7,5.7,5.7,3.6,3.6,3.6,3.6,4.21,null,39,"Guyana",null,11,"Bolivia",{"$f":"IF(BN42>1,\"\",MAX(BM$3:BM41)+1)","v":11},{"$f":"IF(BL42=\"\",\"\",COUNTIF(BL$4:BL42,BL42))","v":1},11001,"La Paz",null,null,70039,"",11039,""]
["South_America","Brazil","Rio de Janeiro",-22.51,-43.32,5,181,157,162,122,119,96,118,126,127,151,158,174,1691,80,68,68,55,48,42,46,53,59,70,74,79,742,25.7,27,27.2,26.8,25.4,24.1,23.9,23.8,22.5,23,23.7,24.4,24.79,4.0999999999999996,4.0999999999999996,4.0999999999999996,3.6,3.6,2.6,2.6,3.6,3.6,4.0999999999999996,4.0999999999999996,4.0999999999999996,3.68,null,40,"Hungary",null,12,"Brazil",{"$f":"IF(BN43>1,\"\",MAX(BM$3:BM42)+1)","v":12},{"$f":"IF(BL43=\"\",\"\",COUNTIF(BL$4:BL43,BL43))","v":1},12001,"Rio de Janeiro",null,null,70040,"",11040,""]
["South_America","Brazil","Sao Paulo",-23.43,-46.37,850,140,140,126,108,99,89,100,115,112,125,150,141,1445,72,66,62,52,45,40,44,52,56,64,72,73,698,22.7,23.5,23.1,20.9,18.899999999999999,17.899999999999999,17.2,18.100000000000001,17.899999999999999,20.2,21.1,21.5,20.25,3.6,3.6,3.6,3.6,3.1,3.1,3.1,3.6,4.0999999999999996,4.0999999999999996,4.0999999999999996,4.0999999999999996,3.64,null,41,"Iceland",null,"","Brazil",{"$f":"IF(BN44>1,\"\",MAX(BM$3:BM43)+1)","v":""},{"$f":"IF(BL44=\"\",\"\",COUNTIF(BL$4:BL44,BL44))","v":2},12002,"Sao Paulo",null,null,70041,"",11041,""]
["Europe","Bulgaria","Sofia",42.55,23.47,550,36,56,89,120,148,160,174,155,110,75,40,30,1193,26,35,55,69,83,85,84,74,59,44,28,22,664,-1.2,0.9,5.6,10.199999999999999,14.7,18.100000000000001,20.3,20.2,17,11.7,4.4000000000000004,0.6,10.210000000000001,4.2,3.8,3.8,4.7,4.2,4.2,4.0999999999999996,4.0999999999999996,4.2,3.2,4.2,4.5999999999999996,4.1100000000000003,null,42,"India",null,13,"Bulgaria",{"$f":"IF(BN45>1,\"\",MAX(BM$3:BM44)+1)","v":13},{"$f":"IF(BL45=\"\",\"\",COUNTIF(BL$4:BL45,BL45))","v":1},13001,"Sofia",null,null,70042,"",11042,""]
["Asia","Cambodge","Phnom Penh",11.45,105,10,140,138,173,167,161,144,149,145,131,132,129,138,1747,60,59,69,70,74,71,74,74,70,68,60,57,806,28.2,28.8,28.5,29,28.2,27.3,27.4,27.7,29,29.1,28.4,27.8,28.28,2.6,3.1,3.1,3.1,3.1,3.6,3.5,3.1,3.1,2.6,2.6,2.6,3.01,null,43,"Indonesia",null,14,"Cambodge",{"$f":"IF(BN46>1,\"\",MAX(BM$3:BM45)+1)","v":14},{"$f":"IF(BL46=\"\",\"\",COUNTIF(BL$4:BL46,BL46))","v":1},14001,"Phnom Penh",null,null,70043,"",11043,""]
["North_America","Canada","Edmonton",53.25,-115.2,206,33,55,108,148,182,193,198,165,106,69,34,24,1315,16,24,40,57,77,80,76,65,50,33,18,13,549,-8.6999999999999993,-7,-0.9,7.3,13.5,16.8,19.100000000000001,17.399999999999999,12.9,7.4,-2.5,-7.5,5.65,3.7,3.2,3.2,3.2,3.7,4.2,3.7,3.2,3.2,3.2,3.2,3.2,3.41,null,44,"Irak",null,15,"Canada",{"$f":"IF(BN47>1,\"\",MAX(BM$3:BM46)+1)","v":15},{"$f":"IF(BL47=\"\",\"\",COUNTIF(BL$4:BL47,BL47))","v":1},15001,"Edmonton",null,null,70044,"",11044,""]
["North_America","Canada","Montreal",45.44,-73.36,41,50,73,120,138,176,186,186,151,121,79,37,37,1354,25,32,50,67,80,81,81,73,55,42,26,22,634,-9.5,-7.8,-1.7,6.5,13.7,18.7,21.5,20.399999999999999,14.9,8.3000000000000007,2.2000000000000002,-6.2,6.75,5.7,5.0999999999999996,5.7,5.0999999999999996,4.5999999999999996,4.0999999999999996,4.0999999999999996,3.6,4.0999999999999996,4.5999999999999996,5.0999999999999996,5.0999999999999996,4.74,null,45,"Ireland",null,"","Canada",{"$f":"IF(BN48>1,\"\",MAX(BM$3:BM47)+1)","v":""},{"$f":"IF(BL48=\"\",\"\",COUNTIF(BL$4:BL48,BL48))","v":2},15002,"Montreal",null,null,70045,"",11045,""]
["North_America","Canada","Ottawa",45.22,-76.02,100,52,78,123,142,180,187,187,156,117,78,40,39,1379,26,31,49,66,79,80,80,73,56,42,27,22,631,-10.1,-8.4,-2.2999999999999998,6,13.2,18.2,21,19.899999999999999,14.3,7.7,1,-7.2,6.11,4.5999999999999996,5.0999999999999996,5.7,4.5999999999999996,3.6,3.1,3.6,2.6,3.1,4.0999999999999996,4.0999999999999996,4.5999999999999996,4.07,null,46,"Israel",null,"","Canada",{"$f":"IF(BN49>1,\"\",MAX(BM$3:BM48)+1)","v":""},{"$f":"IF(BL49=\"\",\"\",COUNTIF(BL$4:BL49,BL49))","v":3},15003,"Ottawa",null,null,70046,"",11046,""]
["North_America","Canada","Quebec",46.49,-70.599999999999994,5,51,75,121,143,168,180,177,152,113,72,39,37,1328,23,29,47,65,81,82,83,73,55,41,26,20,625,-10.9,-9.4,-3.1,4.7,12,17.2,20.2,18.899999999999999,14,7.8,0.9,-7.1,5.43,6.1,5.8,6.3,5.9,5.8,4.4000000000000004,4.2,4.3,4.5,4.8,5.4,5.9,5.28,null,47,"Italy",null,"","Canada",{"$f":"IF(BN50>1,\"\",MAX(BM$3:BM49)+1)","v":""},{"$f":"IF(BL50=\"\",\"\",COUNTIF(BL$4:BL50,BL50))","v":4},15004,"Quebec",null,null,70047,"",11047,""]
["North_America","Canada","Toronto",43.48,-79.12,75,49,71,111,139,179,189,195,169,121,83,41,36,1383,28,35,55,68,80,80,78,70,57,44,28,24,647,-5.7,-5.2,0.4,7.1,13.2,18.2,21.5,20.399999999999999,15.4,9.3000000000000007,3.7,-2.4,7.99,5.7,5.0999999999999996,5.7,5.7,4.0999999999999996,4.0999999999999996,3.6,3.1,4.0999999999999996,4.5999999999999996,5.0999999999999996,5.7,4.72,null,48,"Japan",null,"","Canada",{"$f":"IF(BN51>1,\"\",MAX(BM$3:BM50)+1)","v":""},{"$f":"IF(BL51=\"\",\"\",COUNTIF(BL$4:BL51,BL51))","v":5},15005,"Toronto",null,null,70048,"",11048,""]
["North_America","Canada","Vancouver",49.28,-122.5,5,26,49,93,128,188,195,202,169,115,65,31,20,1281,16,26,45,60,74,77,75,65,49,34,18,13,552,3.6,5.2,7,9.6999999999999993,12.7,15.5,17.7,18.2,14.8,11,6.5,4.3,10.52,3.1,3.6,3.6,3.6,3.1,3.1,3.1,3.1,3.1,3.1,3.6,3.1,3.27,null,49,"Jordania",null,"","Canada",{"$f":"IF(BN52>1,\"\",MAX(BM$3:BM51)+1)","v":""},{"$f":"IF(BL52=\"\",\"\",COUNTIF(BL$4:BL52,BL52))","v":6},15006,"Vancouver",null,null,70049,"",11049,""]
["Africa","Cape Verde","Sal Island",16.440000000000001,-22.57,55,150.9,170.4,205.7,217.1,188.5,154.69999999999999,170.9,199.2,161,166.1,161.1,154.19999999999999,2099.9,null,null,null,null,null,null,null,null,null,null,null,null,null,21.4,21.1,21.6,21.6,22.5,23.1,24.7,26,26.3,26.1,24.2,22.7,23.44,6.69,6.7,6.8,6.79,7.1,6.8,5.3,5.09,5.4,5.69,5.8,6.4,6.21,null,50,"Kenya",null,16,"Cape Verde",{"$f":"IF(BN53>1,\"\",MAX(BM$3:BM52)+1)","v":16},{"$f":"IF(BL53=\"\",\"\",COUNTIF(BL$4:BL53,BL53))","v":1},16001,"Sal Island",null,null,70050,"",11050,""]
["Africa","Centrafrica","Bangui",4.26,18.41,385,139,138,166,168,169,145,135,133,143,158,140,140,1774,68,64,73,68,67,66,70,72,71,70,66,66,821,26.1,26.9,27.2,27.2,26.4,25.8,25.3,25.5,25.3,25.3,25.8,25.5,26.02,0.9,0.9,1.2,1.2,0.9,0.9,0.9,1.2,1.2,1.2,0.9,0.9,1.03,null,51,"Korea",null,17,"Centrafrica",{"$f":"IF(BN54>1,\"\",MAX(BM$3:BM53)+1)","v":17},{"$f":"IF(BL54=\"\",\"\",COUNTIF(BL$4:BL54,BL54))","v":1},17001,"Bangui",null,null,70051,"",11051,""]
["South_America","Chile","Santiago",-33.229999999999997,-70.41,520,199,157,134,92,58,40,47,70,80,142,174,201,1394,87,72,68,51,38,29,33,45,55,76,83,89,726,20.5,19.600000000000001,18.100000000000001,14.9,11.8,9.1,8.4,9.9,11.4,14.1,16.600000000000001,18.7,14.43,3.1,3.6,3.1,3.1,2.6,2.6,2.1,2.6,3.1,3.6,3.6,3.6,3.06,null,52,"Lebanon",null,18,"Chile",{"$f":"IF(BN55>1,\"\",MAX(BM$3:BM54)+1)","v":18},{"$f":"IF(BL55=\"\",\"\",COUNTIF(BL$4:BL55,BL55))","v":1},18001,"Santiago",null,null,70052,"",11052,""]
["Asia","China","Beijing",39.56,116.17,55,64.7,80.599999999999994,115.3,150.5,168.9,164.2,130.19999999999999,130.9,117.4,98.2,66.2,55.8,1343,null,null,null,null,null,null,null,null,null,null,null,null,null,-4.3,-1.9,5.0999999999999996,13.6,20,24.2,25.9,24.6,19.600000000000001,12.7,4.3,-2.2000000000000002,11.8,2.79,2.89,3.2,3.4,2.89,2.4900000000000002,1.9,1.59,1.89,2.1,2.6,2.7,2.54,null,53,"Lettonia",null,19,"China",{"$f":"IF(BN56>1,\"\",MAX(BM$3:BM55)+1)","v":19},{"$f":"IF(BL56=\"\",\"\",COUNTIF(BL$4:BL56,BL56))","v":1},19001,"Beijing",null,null,70053,"",11053,""]
["Asia","China","Chengdu",30.4,104.01,508,40.9,45,62.5,91.4,107.1,119.5,107.1,101.2,77.8,56.5,48.2,35.700000000000003,893.1,null,null,null,null,null,null,null,null,null,null,null,null,null,5.5,7.2,11.6,16.5,21,23.51,25.2,24.9,21,16.899999999999999,11.8,7.1,16.02,0.9,1.1000000000000001,1.29,1.3,1.3,1.2,1.0900000000000001,1.1000000000000001,1.1000000000000001,0.89,0.88,0.81,1.08,null,54,"Madagascar",null,"","China",{"$f":"IF(BN57>1,\"\",MAX(BM$3:BM56)+1)","v":""},{"$f":"IF(BL57=\"\",\"\",COUNTIF(BL$4:BL57,BL57))","v":2},19002,"Chengdu",null,null,70054,"",11054,""]
["Asia","China","Guangzhou",23.08,113.19,7,67,58.5,55.1,62.6,88.5,103,133.9,120.5,112.3,118.3,99.4,89.3,1108.3,null,null,null,null,null,null,null,null,null,null,null,null,null,13.3,14.3,17.7,21.9,25.6,27.3,28.5,28.3,27.1,24,19.399999999999999,15,21.87,1.99,2.1,1.9,1.8,1.79,1.8,1.91,1.6,1.7,1.9,2.1,1.88,1.87,null,55,"Malaysia",null,"","China",{"$f":"IF(BN58>1,\"\",MAX(BM$3:BM57)+1)","v":""},{"$f":"IF(BL58=\"\",\"\",COUNTIF(BL$4:BL58,BL58))","v":3},19003,"Guangzhou",null,null,70055,"",11055,""]
["Asia","China","Hong Kong",22.19,114.1,0,105,64,78,94,130,147,168,158,138,131,109,104,1426,48,37,46,54,67,70,75,72,64,59,49,46,687,16.7,17.2,19.399999999999999,22.8,26.1,28.3,29.4,29.4,28.3,26.1,22.2,18.3,23.68,5.0999999999999996,5.7,5.7,5.7,5.0999999999999996,5.7,3.6,5.0999999999999996,5.0999999999999996,5.0999999999999996,4.5999999999999996,4.5999999999999996,5.09,null,56,"Mali",null,"","China",{"$f":"IF(BN59>1,\"\",MAX(BM$3:BM58)+1)","v":""},{"$f":"IF(BL59=\"\",\"\",COUNTIF(BL$4:BL59,BL59))","v":4},19004,"Hong Kong",null,null,70056,"",11056,""]
["Asia","China","King's Park",22.19,114.1,66,93,65.2,71.400000000000006,90,123.5,129.6,157,141.4,124.6,118.3,100.8,96,1310.7,null,null,null,null,null,null,null,null,null,null,null,null,null,16,16.2,18.8,22.5,26.2,28,29,28.7,27.8,25.4,21.6,17.8,23.17,5.0999999999999996,5.7,5.7,5.7,5.0999999999999996,5.7,3.59,5.0999999999999996,5.1100000000000003,5.1100000000000003,4.5999999999999996,4.5999999999999996,5.09,null,57,"Mexico",null,"","China",{"$f":"IF(BN60>1,\"\",MAX(BM$3:BM59)+1)","v":""},{"$f":"IF(BL60=\"\",\"\",COUNTIF(BL$4:BL60,BL60))","v":5},19005,"King's Park",null,null,70057,"",11057,""]
["Asia","China","Kunming",25.01,102.41,1891,105.6,114.2,148.80000000000001,158.4,142.9,131,117.6,141.4,110.9,81.099999999999994,103,102.7,1457.5,null,null,null,null,null,null,null,null,null,null,null,null,null,7.6,9.5,12.6,16.100000000000001,18.899999999999999,19.600000000000001,19.7,19.100000000000001,17.5,15,11.3,7.9,14.57,2.4,3,3.1,2.9,2.69,2.2999999999999998,1.9,1.4,1.51,1.7,1.9,2,2.23,null,58,"Morocco",null,"","China",{"$f":"IF(BN61>1,\"\",MAX(BM$3:BM60)+1)","v":""},{"$f":"IF(BL61=\"\",\"\",COUNTIF(BL$4:BL61,BL61))","v":6},19006,"Kunming",null,null,70058,"",11058,""]
["Asia","China","Lanzhou",36.03,103.53,1517,64.7,83.3,107.1,145.5,166.7,172.1,171.9,154.69999999999999,124.6,91.5,72.7,58,1412.8,null,null,null,null,null,null,null,null,null,null,null,null,null,-6.1,-2,5,11.7,16.8,20.100000000000001,22.1,21,15.7,9.6999999999999993,1.9,-4.8,9.26,0.31,0.59,0.98,1.3,1.29,1.2,1.1000000000000001,1,0.7,0.59,0.4,0.31,0.81,null,59,"Namibia",null,"","China",{"$f":"IF(BN62>1,\"\",MAX(BM$3:BM61)+1)","v":""},{"$f":"IF(BL62=\"\",\"\",COUNTIF(BL$4:BL62,BL62))","v":7},19007,"Lanzhou",null,null,70059,"",11059,""]
["Asia","China","Macau",22.12,113.33,57,100.4,60.5,69.900000000000006,87.8,130.19999999999999,151.19999999999999,176.3,158.5,144,129.5,111.6,102.7,1422.6,null,null,null,null,null,null,null,null,null,null,null,null,null,15.1,15.4,18.2,21.8,26,27.8,28.5,28.2,27.5,24.5,20.8,16.5,22.52,4.28,4.75,4.6900000000000004,4.6500000000000004,4.22,4.66,3.16,4.17,4.1900000000000004,4.25,3.93,3.9,4.24,null,60,"Nepal",null,"","China",{"$f":"IF(BN63>1,\"\",MAX(BM$3:BM62)+1)","v":""},{"$f":"IF(BL63=\"\",\"\",COUNTIF(BL$4:BL63,BL63))","v":8},19008,"Macau",null,null,70060,"",11060,""]
["Asia","China","Shanghai",31.1,121.26,7,59.5,67.900000000000006,89.3,118.1,129.5,133.19999999999999,152.5,126.5,105.8,108.6,81.400000000000006,70.7,1242.9000000000001,null,null,null,null,null,null,null,null,null,null,null,null,null,3.7,4.5999999999999996,8.5,14.2,19.2,23.4,27.8,27.7,23.6,18.3,12.4,6.1,15.79,3,3.09,3.3,3.3,3.09,3.01,3.1,3.2,2.9,2.69,2.7,2.7,3.01,null,61,"Netherlands",null,"","China",{"$f":"IF(BN64>1,\"\",MAX(BM$3:BM63)+1)","v":""},{"$f":"IF(BL64=\"\",\"\",COUNTIF(BL$4:BL64,BL64))","v":9},19009,"Shanghai",null,null,70061,"",11061,""]
["Asia","China","Shenyang",41.46,123.26,42,61,78.599999999999994,125,141.1,160.69999999999999,151.19999999999999,136.9,130.19999999999999,112.3,91.5,54.7,48.4,1291.5999999999999,null,null,null,null,null,null,null,null,null,null,null,null,null,-11.5,-7.8,0.7,9.8000000000000007,17.2,21.7,24.5,23.6,17.3,9.5,0.3,-7.9,8.1199999999999992,2.59,2.9,3.4,4,3.69,3.1,2.6,2.38,2.5,2.79,3.01,2.7,2.97,null,62,"New Zealand",null,"","China",{"$f":"IF(BN65>1,\"\",MAX(BM$3:BM64)+1)","v":""},{"$f":"IF(BL65=\"\",\"\",COUNTIF(BL$4:BL65,BL65))","v":10},19010,"Shenyang",null,null,70062,"",11062,""]
["Asia","China","Taipei",24.5,121.43,10,80,71,103,123,141,162,186,166,146,121,85,74,1458,45,44,60,67,75,76,77,74,65,58,46,42,729,18.2,18.600000000000001,20.2,23,25.6,27.3,29,28.7,27.8,26,22.8,20,23.93,5.0999999999999996,5.0999999999999996,4.5999999999999996,4.5999999999999996,4.5999999999999996,5.0999999999999996,5.6,5.0999999999999996,4.0999999999999996,5.0999999999999996,5.6,5,4.97,null,63,"New-Guinea",null,"","China",{"$f":"IF(BN66>1,\"\",MAX(BM$3:BM65)+1)","v":""},{"$f":"IF(BL66=\"\",\"\",COUNTIF(BL$4:BL66,BL66))","v":11},19011,"Taipei",null,null,70063,"",11063,""]
["Asia","China","Taiyuan",37.42,112.39,782,60,89,97,115,138,151,172,141,129,88,64,71,1315,30,38,49,59,70,73,77,67,57,43,31,29,623,-6.5,-3.8,2.8,10.5,16.5,20.9,22.7,21.6,17.2,10.5,1.8,-4.3,9.16,4.0999999999999996,5.6,3.6,4.0999999999999996,3.6,3.6,2.6,2.6,2.6,3.1,5.6,4.0999999999999996,3.77,null,64,"Nicaragua",null,"","China",{"$f":"IF(BN67>1,\"\",MAX(BM$3:BM66)+1)","v":""},{"$f":"IF(BL67=\"\",\"\",COUNTIF(BL$4:BL67,BL67))","v":12},19012,"Taiyuan",null,null,70064,"",11064,""]
["Asia","China","Yechang",30.42,111.15,70,59.5,89.4,96,113.8,137.6,150.5,171.9,140.6,128.9,87.8,64.099999999999994,71.400000000000006,1311.4,null,null,null,null,null,null,null,null,null,null,null,null,null,4.8,6.2,10.9,16.8,21.7,25.31,27.9,27.6,23.1,18,12.4,6.9,16.8,1.0900000000000001,1.2,1.31,1.4,1.31,1.3,1.3,1.3,1.19,1,1.1000000000000001,1.1000000000000001,1.22,null,65,{"$f":"IF(BH68>MAX(BK$4:BK$940),\"\",VLOOKUP(BH68,BK$4:BL$940,2,FALSE))","v":"Nigeria"},null,"","China",{"$f":"IF(BN68>1,\"\",MAX(BM$3:BM67)+1)","v":""},{"$f":"IF(BL68=\"\",\"\",COUNTIF(BL$4:BL68,BL68))","v":13},{"$f":"IF(BL68=\"\",\"\",thousand*VLOOKUP(BL68,BL$4:BM$940,2,FALSE)+BN68)","v":19013},"Yechang",null,null,{"$f":"country*thousand+BH68","v":70065},{"$f":"IF(COUNTIF(BO$4:BO$940,BS68)>0,VLOOKUP(BS68,BO$4:BP$940,2,FALSE),\"\")","v":""},{"$f":"BU$1*thousand+BH68","v":11065},{"$f":"IF(COUNTIF(BO$4:BO$940,BU68)>0,VLOOKUP(BU68,BO$4:BP$940,2,FALSE),\"\")","v":""}]
["South_America","Colombia","Bogota",4.2300000000000004,-73.489999999999995,2650,150,141,154,144,151,141,153,159,155,148,133,140,1769,66,62,70,67,68,64,67,70,68,68,62,63,795,13.5,14,14.9,16,16,16,15.8,16.100000000000001,16.5,15.6,14.9,14.6,15.33,3.6,3.6,3.6,3.5,3.1,3.1,3.7,3.7,3.5,3.2,3.2,3.2,3.42,null,66,"Norway",null,{"$f":"BM69","v":20},{"$f":"IF(B69=\"\",\"\",B69)","v":"Colombia"},{"$f":"IF(BN69>1,\"\",MAX(BM$3:BM68)+1)","v":20},{"$f":"IF(BL69=\"\",\"\",COUNTIF(BL$4:BL69,BL69))","v":1},20001,{"$f":"IF(C69=\"\",\"\",C69)","v":"Bogota"},null,null,70066,"",11066,""]
["Europe","Croatia","Parg",45.36,14.38,863,36.5,49.4,85.6,101.5,145.80000000000001,147.6,166.7,144.30000000000001,92.9,59.5,36.700000000000003,32,1098.5,null,null,null,null,null,null,null,null,null,null,null,null,null,-3.9,-2.5,1.3,6,10.199999999999999,13.8,15.4,15.2,12.1,7.1,2.5,-1.1000000000000001,6.34,2.9,3,2.8,2.7,2.6,2.2999999999999998,2.4,2.1,2.4,2.7,2.8,3.2,2.66,null,67,"Ouganda",null,21,"Croatia",{"$f":"IF(BN70>1,\"\",MAX(BM$3:BM69)+1)","v":21},{"$f":"IF(BL70=\"\",\"\",COUNTIF(BL$4:BL70,BL70))","v":1},21001,"Parg",null,null,70067,"",11067,""]
["North_America","Cuba","Havana",23.01,-82.12,5,120,126,165,186,183,133,188,173,143,131,97,102,1747,54,56,71,75,84,80,84,81,73,66,54,51,829,22.4,22.4,23.5,24.7,26.3,27.5,28.1,28.1,28,26.3,25.2,23.5,25.5,3.7,5.7,4.2,4.2,3.7,2.7,2.7,2.7,2.7,5.0999999999999996,3.7,3.7,3.73,null,68,"Pakistan",null,22,"Cuba",{"$f":"IF(BN71>1,\"\",MAX(BM$3:BM70)+1)","v":22},{"$f":"IF(BL71=\"\",\"\",COUNTIF(BL$4:BL71,BL71))","v":1},22001,"Havana",null,null,70068,"",11068,""]
["Europe","Czechoslovakia","Praha",49.55,13.57,187,21,38,72,114,149,146,145,136,87,57,25,15,1005,16,26,46,64,81,84,83,72,52,35,19,12,590,-1.4,-0.8,4.2,7.6,13.1,15.9,17.5,17.5,14.3,8.6999999999999993,3.3,0.3,8.35,6.7,6.2,5.7,4.5999999999999996,3.6,4.5999999999999996,4.5999999999999996,4.0999999999999996,5.0999999999999996,5.0999999999999996,6.2,6.7,5.27,null,69,"Peru",null,23,"Czechoslovakia",{"$f":"IF(BN72>1,\"\",MAX(BM$3:BM71)+1)","v":23},{"$f":"IF(BL72=\"\",\"\",COUNTIF(BL$4:BL72,BL72))","v":1},23001,"Praha",null,null,70069,"",11069,""]
["Europe","Denmark","Kobenhavn",55.39,12.35,5,16,32,63,115,156,154,165,132,80,44,20,11,988,11,21,40,60,79,83,82,68,47,28,14,8,541,2.2999999999999998,1,2.5,5.0999999999999996,10.4,13.3,15.2,15.9,13.8,10.5,6.5,4,8.3699999999999992,7.2,6.3,6.6,6.3,5.8,5.7,5.7,5.0999999999999996,5.8,5.8,6.3,6.3,6.08,null,70,"Philippines",null,24,"Denmark",{"$f":"IF(BN73>1,\"\",MAX(BM$3:BM72)+1)","v":24},{"$f":"IF(BL73=\"\",\"\",COUNTIF(BL$4:BL73,BL73))","v":1},24001,"Kobenhavn",null,null,70070,"",11070,""]
["Africa","Egypt","Cairo",30.12,31.24,16,106,124,172,198,232,239,242,224,188,157,113,96,2091,39,41,55,60,64,60,62,58,51,46,39,37,612,14.2,15.1,17.7,21.6,24.7,27.4,28,27.7,26.8,24,19.7,16,21.91,4.0999999999999996,4.5999999999999996,3.6,4.0999999999999996,4.0999999999999996,4.0999999999999996,3.6,3.6,3.6,3.6,3.1,3.6,3.81,null,71,"Poland",null,25,"Egypt",{"$f":"IF(BN74>1,\"\",MAX(BM$3:BM73)+1)","v":25},{"$f":"IF(BL74=\"\",\"\",COUNTIF(BL$4:BL74,BL74))","v":1},25001,"Cairo",null,null,70071,"",11071,""]
["South_America","Equator","Quito",-0.11,-78.209999999999994,2818,155,147,164,152,153,141,146,154,157,166,156,155,1846,71,65,73,69,67,62,66,69,70,72,68,69,821,14.4,14.4,14.4,15,14.4,14.4,14.4,14.4,14.4,14.4,14.4,14.4,14.45,3.6,3.6,3.6,3.1,3.1,3.1,4.0999999999999996,4.0999999999999996,3.1,3.6,3.6,3.6,3.52,null,72,"Portugal",null,26,"Equator",{"$f":"IF(BN75>1,\"\",MAX(BM$3:BM74)+1)","v":26},{"$f":"IF(BL75=\"\",\"\",COUNTIF(BL$4:BL75,BL75))","v":1},26001,"Quito",null,null,70072,"",11072,""]
["Africa","Ethiopia","Addis Ababa",9.1199999999999992,38.39,2450,171,170,191,171,167,140,119,126,142,182,186,170,1935,66,63,75,77,79,75,74,76,76,73,59,62,855,16.2,17.100000000000001,17.5,17.5,17.8,16.600000000000001,15.1,15.8,16,16.600000000000001,15.7,15.8,16.48,5.0999999999999996,5.0999999999999996,5.7,5.7,5.7,4.0999999999999996,4.0999999999999996,4.0999999999999996,5.7,6.2,5.7,5.7,5.24,null,73,"Puerto Rico",null,27,"Ethiopia",{"$f":"IF(BN76>1,\"\",MAX(BM$3:BM75)+1)","v":27},{"$f":"IF(BL76=\"\",\"\",COUNTIF(BL$4:BL76,BL76))","v":1},27001,"Addis Ababa",null,null,70073,"",11073,""]
["Africa","Ethiopia","Mandera",3.57,41.52,230,192,177,187,167,167,143,138,153,164,161,168,189,2006,67,65,78,76,76,72,75,78,77,78,71,66,879,29.2,30.6,30.9,30.3,29.5,28.4,27.9,28.1,29,28.4,28.4,28.7,29.12,3.4,3,3.5,4.3,5.0999999999999996,5.9,5.9,5.9,5.7,4.8,3.4,3,4.49,null,74,"Qatar",null,"","Ethiopia",{"$f":"IF(BN77>1,\"\",MAX(BM$3:BM76)+1)","v":""},{"$f":"IF(BL77=\"\",\"\",COUNTIF(BL$4:BL77,BL77))","v":2},27002,"Mandera",null,null,70074,"",11074,""]
["Pacific","Fidji","Nandi",-17.45,177.27,16,196.3,156.5,165.1,145.9,126.4,117.1,129.9,148,169.1,192.5,188.6,188.9,1924.2,null,null,null,null,null,null,null,null,null,null,null,null,null,27.1,27.19,26.92,25.81,24.95,23.87,23.35,23.63,24.06,25.36,25.86,26.74,25.4,2.8,2.6,2.6,2.5099999999999998,2.8,2.7,2.9,3.2,3.19,3.3,3,3,2.88,null,75,"Romania",null,28,"Fidji",{"$f":"IF(BN78>1,\"\",MAX(BM$3:BM77)+1)","v":28},{"$f":"IF(BL78=\"\",\"\",COUNTIF(BL$4:BL78,BL78))","v":1},28001,"Nandi",null,null,70075,"",11075,""]
["Australia","Fidji","Suva/Laucala Bay",-18.09,178.27,6,189.7,149.1,148.69999999999999,126.6,99.5,95.7,101.2,115.3,149.5,147.30000000000001,159.80000000000001,166.6,1649,null,null,null,null,null,null,null,null,null,null,null,null,null,27.14,27.37,27.01,26.01,25.13,24.17,23.44,23.51,23.59,24.84,25.31,26.49,25.33,3.48,3,3.39,3.28,3.49,3.3,3.3,3.79,4.08,3.89,3.49,3.69,3.51,null,76,"Russia",null,"","Fidji",{"$f":"IF(BN79>1,\"\",MAX(BM$3:BM78)+1)","v":""},{"$f":"IF(BL79=\"\",\"\",COUNTIF(BL$4:BL79,BL79))","v":2},28002,"Suva/Laucala Bay",null,null,70076,"",11076,""]
["Europe","Finland","Helsinki",59.57,24.07,5,8,25,64,107,164,182,169,125,69,33,9,5,960,6,16,37,57,76,80,80,65,42,22,7,4,492,-4.0999999999999996,-5,-2.5,2.2999999999999998,8.6999999999999993,12.2,15.3,14.3,10.6,6.3,1.6,-2,4.8099999999999996,3.6,3.6,5.7,4.5999999999999996,4.5999999999999996,4.5999999999999996,4.0999999999999996,4.5999999999999996,3.1,3.1,5.7,6.2,4.46,null,77,"Saudi Arabia",null,29,"Finland",{"$f":"IF(BN80>1,\"\",MAX(BM$3:BM79)+1)","v":29},{"$f":"IF(BL80=\"\",\"\",COUNTIF(BL$4:BL80,BL80))","v":1},29001,"Helsinki",null,null,70077,"",11077,""]
["Europe","France","Ajaccio",41.55,8.48,4,54,70,115,150,186,212,222,193,144,100,62,48,1556,26,33,49,59,69,64,62,57,48,39,28,23,557,8.6,9,10.1,12.3,15.7,19.100000000000001,21.9,22.1,19.899999999999999,16.7,12.6,9.6,14.8,3.1,3.3,3.3,3.4,3.3,3.4,3.6,3.6,3.2,3,3.2,3.2,3.3,null,78,"Senegal",null,30,"France",{"$f":"IF(BN81>1,\"\",MAX(BM$3:BM80)+1)","v":30},{"$f":"IF(BL81=\"\",\"\",COUNTIF(BL$4:BL81,BL81))","v":1},30001,"Ajaccio",null,null,70078,"",11078,""]
["Europe","France","Aurillac",44.54,2.25,639,41,55.9,97.3,132.19999999999999,158,177.5,198.9,162.5,123.2,80,44.8,34.1,1305.4000000000001,null,null,null,null,null,null,null,null,null,null,null,null,null,3,3.8,7.5,9.9,13.7,16.7,19,18.7,15.8,11.6,6.9,4.0999999999999996,10.89,3.5,3.2,3.19,3.59,3.19,2.89,2.8,2.6,2.8,3,3.3,3.3,3.11,null,79,"Singapore",null,"","France",{"$f":"IF(BN82>1,\"\",MAX(BM$3:BM81)+1)","v":""},{"$f":"IF(BL82=\"\",\"\",COUNTIF(BL$4:BL82,BL82))","v":2},30002,"Aurillac",null,null,70079,"",11079,""]
["Europe","France","Auxerre",47.48,3.33,212,28,48,86,125,152,164,182,154,107,66,37,24,1173,20,30,50,66,81,84,82,72,55,39,24,17,620,2.6,3.4,7.5,10.5,14,17,19,18.8,16.2,11.2,6.5,3.5,10.85,4.2,3.9,4.2,4,3.6,3.4,3.3,3.1,3.4,3.4,3.9,4.0999999999999996,3.71,null,80,"Slovenia",null,"","France",{"$f":"IF(BN83>1,\"\",MAX(BM$3:BM82)+1)","v":""},{"$f":"IF(BL83=\"\",\"\",COUNTIF(BL$4:BL83,BL83))","v":3},30003,"Auxerre",null,null,70080,"",11080,""]
["Europe","France","Biscarrosse",44.26,-1.1399999999999999,33,42,60,106,143,172,184,194,170,130,82,50,36,1369,28,36,54,66,80,80,76,68,54,45,30,24,641,6.3,6.9,10.199999999999999,12.1,14.6,17.899999999999999,19.8,20.100000000000001,18.2,14,9.6,7.1,13.07,3.3,3.5,3.6,3.6,3.3,3.1,3,2.8,2.6,2.8,2.9,3.2,3.14,null,81,"South Africa",null,"","France",{"$f":"IF(BN84>1,\"\",MAX(BM$3:BM83)+1)","v":""},{"$f":"IF(BL84=\"\",\"\",COUNTIF(BL$4:BL84,BL84))","v":4},30004,"Biscarrosse",null,null,70081,"",11081,""]
["Europe","France","Bordeaux",45.07,-0.32,10,39,56,97,131,156,171,184,160,125,80,48,34,1281,27,36,56,69,84,84,80,71,54,43,29,23,656,6.3,7.3,9.6,11.3,15.1,18,20.7,20.7,18.399999999999999,14.1,9.6,7.3,13.2,4.5,5.6,5.0999999999999996,4.5999999999999996,4.0999999999999996,4.0999999999999996,3.6,3.6,3.6,4,3.1,5.6,4.29,null,82,"Spain",null,"","France",{"$f":"IF(BN85>1,\"\",MAX(BM$3:BM84)+1)","v":""},{"$f":"IF(BL85=\"\",\"\",COUNTIF(BL$4:BL85,BL85))","v":5},30005,"Bordeaux",null,null,70082,"",11082,""]
["Europe","France","Bourges",47.04,2.2200000000000002,161,28,50,85,122,151,167,183,150,108,68,38,25,1175,20,31,50,66,81,84,82,73,56,40,25,18,626,3.2,4.4000000000000004,6.7,9.6999999999999993,13.2,16.7,19.2,18.600000000000001,16,11.7,6.5,3.8,10.81,4.2,4.4000000000000004,4.3,4,3.5,3.3,3.3,3.2,3.3,3.5,4,4.2,3.77,null,83,"Sri Lanka",null,"","France",{"$f":"IF(BN86>1,\"\",MAX(BM$3:BM85)+1)","v":""},{"$f":"IF(BL86=\"\",\"\",COUNTIF(BL$4:BL86,BL86))","v":6},30006,"Bourges",null,null,70083,"",11083,""]
["Europe","France","Brest",48.48,7.38,150,30.4,42.6,92.4,129,167.1,169.2,169.9,137.30000000000001,90,67.900000000000006,35.4,24.2,1155.3,20.5,29,50.8,67.5,83.4,87.6,86.8,74.7,54.3,37.799999999999997,22.8,17.100000000000001,632.29999999999995,6.1,6,8.1,9.3000000000000007,11.7,14.4,15.7,16.100000000000001,14.8,12,8.9,6.9,10.83,4.3,4.4000000000000004,4.3,4.2,3.8,3.5,3.5,3.3,3.3,3.4,3.8,4.3,3.84,null,84,"Sweden",null,"","France",{"$f":"IF(BN87>1,\"\",MAX(BM$3:BM86)+1)","v":""},{"$f":"IF(BL87=\"\",\"\",COUNTIF(BL$4:BL87,BL87))","v":7},30007,"Brest",null,null,70084,"",11084,""]
["Europe","France","Caen",49.11,-0.28000000000000003,64,28,46,83,120,150,158,167,134,99,60,34,22,1101,19,28,48,65,81,84,84,73,54,37,22,16,611,4.4000000000000004,4.7,6.6,8.5,11.7,14.6,16.7,16.600000000000001,14.7,11.5,7.5,5.3,10.23,5.4,5.2,5.4,5.0999999999999996,4.5,4.0999999999999996,4,4,4.0999999999999996,4.2,5,5.3,4.6900000000000004,null,85,"Switzerland",null,"","France",{"$f":"IF(BN88>1,\"\",MAX(BM$3:BM87)+1)","v":""},{"$f":"IF(BL88=\"\",\"\",COUNTIF(BL$4:BL88,BL88))","v":8},30008,"Caen",null,null,70085,"",11085,""]
["Europe","France","Carcassonne",43.13,2.19,130,45.3,60.9,107.7,135.30000000000001,169.4,186.4,198.4,169.5,129.5,89.5,51,40.1,1383.1,null,null,null,null,null,null,null,null,null,null,null,null,null,5.88,6.92,8.8000000000000007,11.22,14.99,18.38,21.74,21.08,18.329999999999998,14.53,8.77,6.66,13.11,5.0999999999999996,5.3,5.3,5.5,4.99,4.9000000000000004,4.6900000000000004,4.3899999999999997,4.3899999999999997,4.4000000000000004,4.6900000000000004,4.5999999999999996,4.8499999999999996,null,86,"Tanzania",null,"","France",{"$f":"IF(BN89>1,\"\",MAX(BM$3:BM88)+1)","v":""},{"$f":"IF(BL89=\"\",\"\",COUNTIF(BL$4:BL89,BL89))","v":9},30009,"Carcassonne",null,null,70086,"",11086,""]
["Europe","France","Carpentras",44.02,5.05,109,53,67,118,146,184,206,218,188,138,87,55,44,1504,24,31,46,58,69,66,63,57,47,38,26,21,546,5.5,5.8,9.8000000000000007,11.3,15.1,18.899999999999999,22.9,21.3,18.399999999999999,13.9,8.6999999999999993,5.4,13.08,4.0999999999999996,4.3,4.5999999999999996,4.8,4.2,4.3,4.3,4.0999999999999996,3.7,3.7,4,4,4.18,null,87,"Thailand",null,"","France",{"$f":"IF(BN90>1,\"\",MAX(BM$3:BM89)+1)","v":""},{"$f":"IF(BL90=\"\",\"\",COUNTIF(BL$4:BL90,BL90))","v":10},30010,"Carpentras",null,null,70087,"",11087,""]
["Europe","France","Clermont-Ferrand",45.48,3.09,329,37,54,94,126,144,167,185,154,116,72,43,32,1224,26,34,55,69,86,85,80,73,57,44,28,22,659,3,4.4000000000000004,7.1,9.9,13.8,17.100000000000001,19,18.7,16.3,11.6,6.9,4.4000000000000004,11.02,2.8,3,3.5,3.3,2.6,2.4,2.2999999999999998,2,2.2000000000000002,2.6,2.8,3.2,2.72,null,88,"Tunisia",null,"","France",{"$f":"IF(BN91>1,\"\",MAX(BM$3:BM90)+1)","v":""},{"$f":"IF(BL91=\"\",\"\",COUNTIF(BL$4:BL91,BL91))","v":11},30011,"Clermont-Ferrand",null,null,70088,"",11088,""]
["Europe","France","Dijon",47.16,5.05,222,28,48,86,124,151,170,185,152,109,65,39,23,1180,20,30,50,66,81,84,82,73,55,39,24,17,621,1.4,3.2,6.2,9.6999999999999993,13.6,17.100000000000001,19.600000000000001,18.899999999999999,15.7,10.9,5.3,2.1,10.31,3.2,3.7,3.9,3.7,3.1,2.9,3,2.9,2.9,2.9,3.2,3.3,3.23,null,89,"Turkey",null,"","France",{"$f":"IF(BN92>1,\"\",MAX(BM$3:BM91)+1)","v":""},{"$f":"IF(BL92=\"\",\"\",COUNTIF(BL$4:BL92,BL92))","v":12},30012,"Dijon",null,null,70089,"",11089,""]
["Europe","France","Grenoble FR",45.11,5.43,392,48.5,64,104.1,132.69999999999999,164.8,180.9,196.4,166.7,119.9,80,49.5,43,1350.6,null,null,null,null,null,null,null,null,null,null,null,null,null,1.44,3.12,6.16,9.16,13.42,16.73,19.89,19.11,15.92,11.52,5.58,2.52,10.38,3.47,3.19,3.3,3.4,2.99,2.98,2.8,2.68,2.78,2.81,3.22,3.37,3.08,null,90,"Ukrainia",null,"","France",{"$f":"IF(BN93>1,\"\",MAX(BM$3:BM92)+1)","v":""},{"$f":"IF(BL93=\"\",\"\",COUNTIF(BL$4:BL93,BL93))","v":13},30013,"Grenoble FR",null,null,70090,"",11090,""]
["Europe","France","Hyeres/Ile Levant",43.02,6.28,133,57,71,120,153,191,213,217,193,142,93,58,48,1556,25,31,47,57,67,64,63,56,47,39,27,22,545,8.9,9.4,11.1,12.8,16.7,20.6,23.3,23.3,20.6,16.7,12.2,10,15.47,4.5999999999999996,6.7,5.7,6.2,5.7,5.0999999999999996,5.0999999999999996,5.0999999999999996,5.0999999999999996,6.2,3.6,4.0999999999999996,5.27,null,91,"United Kingdom",null,"","France",{"$f":"IF(BN94>1,\"\",MAX(BM$3:BM93)+1)","v":""},{"$f":"IF(BL94=\"\",\"\",COUNTIF(BL$4:BL94,BL94))","v":14},30014,"Hyeres/Ile Levant",null,null,70091,"",11091,""]
["Europe","France","Jersey Island",49.13,-2.12,83,26,47,86,133,168,176,179,152,102,59,33,22,1183,18,28,49,64,80,83,82,71,54,37,22,15,603,6.1,5.6,7.2,8.9,11.7,14.4,16.7,17.2,15.6,12.8,9.4,7.2,11.07,8.1999999999999993,6.2,7.2,7.2,5.7,6.2,5.7,5.7,6.7,8.1999999999999993,8.6999999999999993,6.7,6.87,null,92,"Uruguay",null,"","France",{"$f":"IF(BN95>1,\"\",MAX(BM$3:BM94)+1)","v":""},{"$f":"IF(BL95=\"\",\"\",COUNTIF(BL$4:BL95,BL95))","v":15},30015,"Jersey Island",null,null,70092,"",11092,""]
["Europe","France","La Rochelle",46.09,-1.0900000000000001,4,36,56,103,143,170,186,196,167,125,77,47,32,1338,25,34,53,64,80,79,75,68,53,43,28,22,624,6.1,7.2,9.4,11.1,15,17.8,20,20,17.8,14.4,10,7.2,13,3.1,3.1,5.7,5.7,5.0999999999999996,5.0999999999999996,5.0999999999999996,4.5999999999999996,4.5999999999999996,2.6,3.1,3.1,4.24,null,93,"USA",null,"","France",{"$f":"IF(BN96>1,\"\",MAX(BM$3:BM95)+1)","v":""},{"$f":"IF(BL96=\"\",\"\",COUNTIF(BL$4:BL96,BL96))","v":16},30016,"La Rochelle",null,null,70093,"",11093,""]
["Europe","France","Le Puy-en-Velay",45.03,3.54,715,42,56,95,132,163,178,201,162,122,83,44,33,1311,27,35,55,68,83,82,73,71,56,43,29,23,645,1,2,5.5,8.3000000000000007,11.9,15.6,17.899999999999999,17.600000000000001,14.9,9.9,5.4,2,9.33,2.2000000000000002,2.5,2.9,2.8,2.7,2.7,2.4,2.2999999999999998,2.4,2.7,2.2999999999999998,2.9,2.57,null,94,"Venezuela",null,"","France",{"$f":"IF(BN97>1,\"\",MAX(BM$3:BM96)+1)","v":""},{"$f":"IF(BL97=\"\",\"\",COUNTIF(BL$4:BL97,BL97))","v":17},30017,"Le Puy-en-Velay",null,null,70094,"",11094,""]
["Europe","France","Limoges",45.49,1.17,282,35,53,92,135,145,171,192,159,120,74,48,33,1257,25,34,55,67,85,84,77,72,56,44,28,22,649,3.1,3.9,7.4,9.9,13.3,16.8,18.399999999999999,17.8,15.3,10.7,6.7,3.8,10.59,3.6,3.4,2.6,3.9,2.5,2.8,2.4,2.8,1.5,2.8,2.9,3.6,2.9,null,95,"Vietnam",null,"","France",{"$f":"IF(BN98>1,\"\",MAX(BM$3:BM97)+1)","v":""},{"$f":"IF(BL98=\"\",\"\",COUNTIF(BL$4:BL98,BL98))","v":18},30018,"Limoges",null,null,70095,"",11095,""]
["Europe","France","Lyon",45.58,4.54,163,31,47,91,125,151,174,190,158,114,66,36,25,1208,22,31,52,67,82,83,81,72,56,40,25,18,629,2.9,4.2,6.7,9.9,14.2,17.5,20.100000000000001,19.5,15.8,11,6.2,2.8,10.9,2.6,2.2000000000000002,3.7,3.3,3,2.6,2.8,3,2.2999999999999998,2.2000000000000002,2.7,2.5,2.74,null,96,"Yugoslavia",null,"","France",{"$f":"IF(BN99>1,\"\",MAX(BM$3:BM98)+1)","v":""},{"$f":"IF(BL99=\"\",\"\",COUNTIF(BL$4:BL99,BL99))","v":19},30019,"Lyon",null,null,70096,"",11096,""]
["Europe","France","Macon",46.18,4.4800000000000004,218,31,47,91,125,150,175,190,158,114,65,36,25,1207,22,31,52,67,82,83,81,73,56,40,25,18,630,2.7,4.0999999999999996,6.3,9.5,13.8,17.2,19.7,19,15.3,10.5,5.8,2.2999999999999998,10.52,2.6,2.1,3.9,3.4,3.1,2.7,2.9,3.1,2.2999999999999998,2.2000000000000002,2.8,2.5,2.8,null,97,"Zairean",null,"","France",{"$f":"IF(BN100>1,\"\",MAX(BM$3:BM99)+1)","v":""},{"$f":"IF(BL100=\"\",\"\",COUNTIF(BL$4:BL100,BL100))","v":20},30020,"Macon",null,null,70097,"",11097,""]
["Europe","France","Marseille",43.28,5.12,5,56,69,121,154,192,209,219,189,139,93,58,46,1545,25,31,47,57,67,65,62,57,47,38,26,22,544,7.9,8.6,10.6,12.3,16.5,20.399999999999999,23.5,23.8,21,16.2,11.3,8.9,15.08,4,4.3,4.5999999999999996,5.2,4.8,5,4.4000000000000004,4,3.9,4.0999999999999996,4.2,4.4000000000000004,4.41,null,98,"Zambia",null,"","France",{"$f":"IF(BN101>1,\"\",MAX(BM$3:BM100)+1)","v":""},{"$f":"IF(BL101=\"\",\"\",COUNTIF(BL$4:BL101,BL101))","v":21},30021,"Marseille",null,null,70098,"",11098,""]
["Europe","France","Millau",44.07,3.31,715,44,58,105,134,157,185,205,169,130,79,47,38,1351,28,36,55,69,84,80,71,69,54,46,30,25,647,3.6,4.7,8.3000000000000007,10.7,14,17.899999999999999,20.100000000000001,20.100000000000001,17.100000000000001,12.4,7.7,4.4000000000000004,11.75,5.3,6.3,6.2,6.5,5.6,5,5,4.8,4.7,5.3,5,5.0999999999999996,5.4,null,99,"",null,"","France",{"$f":"IF(BN102>1,\"\",MAX(BM$3:BM101)+1)","v":""},{"$f":"IF(BL102=\"\",\"\",COUNTIF(BL$4:BL102,BL102))","v":22},30022,"Millau",null,null,70099,"",11099,""]
["Europe","France","Montpellier",43.35,3.58,3,54,66,114,143,179,196,208,179,130,84,53,44,1450,28,36,54,67,79,78,74,68,56,45,30,25,640,6,7.1,10.199999999999999,12.9,16,19.8,22.3,22.1,19.3,14.9,10.5,6.9,14,4,4.0999999999999996,4.4000000000000004,4.4000000000000004,4,3.9,4,3.7,3.5,3.5,3.7,3.9,3.93,null,100,"",null,"","France",{"$f":"IF(BN103>1,\"\",MAX(BM$3:BM102)+1)","v":""},{"$f":"IF(BL103=\"\",\"\",COUNTIF(BL$4:BL103,BL103))","v":23},30023,"Montpellier",null,null,70100,"",11100,""]
["Europe","France","Nancy",48.41,6.13,212,25,44,80,116,148,158,173,144,99,58,31,20,1096,18,28,48,65,81,84,83,73,54,37,21,15,607,1.1000000000000001,2.2999999999999998,5.2,8.6999999999999993,12.8,16.100000000000001,18.100000000000001,17.5,14.4,9.9,4.9000000000000004,2.1,9.42,2.9,3.1,3.3,3.1,2.8,2.7,2.5,2.4,2.4,2.2999999999999998,2.9,3,2.78,null,101,"",null,"","France",{"$f":"IF(BN104>1,\"\",MAX(BM$3:BM103)+1)","v":""},{"$f":"IF(BL104=\"\",\"\",COUNTIF(BL$4:BL104,BL104))","v":24},30024,"Nancy",null,null,70101,"",11101,""]
["Europe","France","Nantes",47.18,-1.39,10,31,51,90,129,151,179,182,157,114,70,40,28,1222,19,28,46,61,75,78,78,68,51,36,22,16,578,6.9,7,8.4,10.199999999999999,13.3,16.600000000000001,19.100000000000001,19.399999999999999,17.2,13.5,9.6999999999999993,7.9,12.43,5.7,4.0999999999999996,5.7,4.5999999999999996,4.5999999999999996,4.0999999999999996,4.5999999999999996,4.0999999999999996,4.0999999999999996,4.5999999999999996,5.0999999999999996,5.7,4.75,null,102,"",null,"","France",{"$f":"IF(BN105>1,\"\",MAX(BM$3:BM104)+1)","v":""},{"$f":"IF(BL105=\"\",\"\",COUNTIF(BL$4:BL105,BL105))","v":25},30025,"Nantes",null,null,70102,"",11102,""]
["Europe","France","Nice",43.4,7.12,5,54,67,113,141,183,197,207,183,135,90,55,46,1471,28,36,54,67,78,78,74,66,54,44,30,25,634,8.6999999999999993,9.4,10.9,13.2,16.399999999999999,19.899999999999999,22.9,23,20.5,17,12.4,9.6,15.32,4.5,4.4000000000000004,4.0999999999999996,4,3.7,3.4,3.4,3.4,3.5,4,4.3,4.5999999999999996,3.94,null,103,"",null,"","France",{"$f":"IF(BN106>1,\"\",MAX(BM$3:BM105)+1)","v":""},{"$f":"IF(BL106=\"\",\"\",COUNTIF(BL$4:BL106,BL106))","v":26},30026,"Nice",null,null,70103,"",11103,""]
["Europe","France","Paris",49.12,2.1,26,24,43,76,114,140,153,163,139,96,59,32,20,1059,18,28,48,65,81,84,84,72,53,37,21,15,606,4.5999999999999996,4.7,7,9.8000000000000007,13.5,16.3,18.899999999999999,19,16,11.8,7.3,5.0999999999999996,11.17,5.4,3.2,4.5,4.3,4.2,3.9,3.9,3.3,4.3,3.7,4.8,4.9000000000000004,4.2,null,104,"",null,"","France",{"$f":"IF(BN107>1,\"\",MAX(BM$3:BM106)+1)","v":""},{"$f":"IF(BL107=\"\",\"\",COUNTIF(BL$4:BL107,BL107))","v":27},30027,"Paris",null,null,70104,"",11104,""]
["Europe","France","Paris/Montsouris",48.49,2.2000000000000002,75,23.8,41.6,73.7,111.6,136.1,150.5,158.5,136.80000000000001,94.2,58.7,32.200000000000003,19.3,1036.8,null,null,null,null,null,null,null,null,null,null,null,null,null,3.96,4.1399999999999997,7.18,9.93,13.94,16.489999999999998,19.46,19.47,15.87,11.75,6.59,5.04,11.15,6.19,3.09,5.0999999999999996,4.5999999999999996,4.5999999999999996,4.5999999999999996,4.59,4.0999999999999996,4.5999999999999996,4.5999999999999996,5.7,5.7,4.79,null,105,"",null,"","France",{"$f":"IF(BN108>1,\"\",MAX(BM$3:BM107)+1)","v":""},{"$f":"IF(BL108=\"\",\"\",COUNTIF(BL$4:BL108,BL108))","v":28},30028,"Paris/Montsouris",null,null,70105,"",11105,""]
["Europe","France","Pau",43.22,-0.25,189,44,60,103,128,152,163,167,148,123,83,53,39,1263,29,37,57,71,85,86,86,77,58,46,31,26,689,5.5,6.3,9.6,11.6,14.6,17.899999999999999,19.600000000000001,19.600000000000001,17.899999999999999,13.2,9.1,6.3,12.6,3.4,3.8,3.9,3.9,3.4,3.1,3.1,2.9,2.8,3.1,3.1,3.3,3.32,null,106,"",null,"","France",{"$f":"IF(BN109>1,\"\",MAX(BM$3:BM108)+1)","v":""},{"$f":"IF(BL109=\"\",\"\",COUNTIF(BL$4:BL109,BL109))","v":29},30029,"Pau",null,null,70106,"",11106,""]
["Europe","France","Perpignan",42.44,2.52,42,54,70,118,142,165,186,199,175,134,93,60,49,1445,25,32,51,62,74,78,79,70,55,41,27,23,617,8.1,9.1,10.8,13.4,16.8,20.8,23.7,23.2,20.5,16.399999999999999,11.6,8.8000000000000007,15.27,4.9000000000000004,5.4,5.7,5.6,4.8,4.5,4.5999999999999996,4.3,3.7,4.0999999999999996,4.7,5.2,4.79,null,107,"",null,"","France",{"$f":"IF(BN110>1,\"\",MAX(BM$3:BM109)+1)","v":""},{"$f":"IF(BL110=\"\",\"\",COUNTIF(BL$4:BL110,BL110))","v":30},30030,"Perpignan",null,null,70107,"",11107,""]
["Europe","France","Reims",49.18,4.0199999999999996,94,25.3,46.9,78,115.9,147.30000000000001,157.6,172.5,141.9,99.9,60.2,33.700000000000003,20,1099.2,null,null,null,null,null,null,null,null,null,null,null,null,null,1.81,3.38,5.49,10.119999999999999,13.54,16.93,19.09,18.64,15.25,10.5,5.64,2.77,10.27,4.2,4.1900000000000004,4,4,3.3,3.2,3.09,2.9,3.11,3.2,4.01,3.8,3.58,null,108,"",null,"","France",{"$f":"IF(BN111>1,\"\",MAX(BM$3:BM110)+1)","v":""},{"$f":"IF(BL111=\"\",\"\",COUNTIF(BL$4:BL111,BL111))","v":31},30031,"Reims",null,null,70108,"",11108,""]
["Europe","France","Rennes",48.04,-1.43,35,29,48,86,125,151,165,170,145,106,65,37,24,1151,20,29,50,65,81,84,84,73,55,39,23,17,620,4.9000000000000004,5.8,7.7,10.199999999999999,13.5,16.3,18.5,18.2,15.7,11.8,7.7,5.8,11.34,5.3,4.9000000000000004,5.0999999999999996,5,4.3,4.2,4.0999999999999996,4,4.2,4.5999999999999996,5.0999999999999996,4.9000000000000004,4.6399999999999997,null,109,"",null,"","France",{"$f":"IF(BN112>1,\"\",MAX(BM$3:BM111)+1)","v":""},{"$f":"IF(BL112=\"\",\"\",COUNTIF(BL$4:BL112,BL112))","v":32},30032,"Rennes",null,null,70109,"",11109,""]
["Europe","France","Saint-Quentin",49.49,3.12,101,23.8,45.6,76.599999999999994,121.6,153.9,155.4,165.9,136.1,93.5,57.8,30.8,18.600000000000001,1079.7,null,null,null,null,null,null,null,null,null,null,null,null,null,1.9,2.91,5.03,8.73,12.34,15.05,17.29,16.79,14.31,9.92,5.55,2.63,9.3699999999999992,5.2,5,4.9000000000000004,4.5999999999999996,4.2,3.8,3.69,3.7,4.29,4.5999999999999996,4.59,5,4.46,null,110,"",null,"","France",{"$f":"IF(BN113>1,\"\",MAX(BM$3:BM112)+1)","v":""},{"$f":"IF(BL113=\"\",\"\",COUNTIF(BL$4:BL113,BL113))","v":33},30033,"Saint-Quentin",null,null,70110,"",11110,""]
["Europe","France","Strasbourg",48.33,7.38,150,25,45,80,114,150,158,171,144,99,56,32,20,1094,18,29,48,65,81,84,84,73,54,37,22,15,610,0.8,2.2000000000000002,5.6,9.4,13.7,16.899999999999999,19,18.3,15,10.1,4.9000000000000004,1.8,9.81,4.3,4.4000000000000004,4.3,4.2,3.8,3.5,3.5,3.3,3.3,3.4,3.8,4.3,3.84,null,111,"",null,"","France",{"$f":"IF(BN114>1,\"\",MAX(BM$3:BM113)+1)","v":""},{"$f":"IF(BL114=\"\",\"\",COUNTIF(BL$4:BL114,BL114))","v":34},30034,"Strasbourg",null,null,70111,"",11111,""]
["Europe","France","Toulouse",43.38,1.22,152,43.8,59.9,105.2,134.69999999999999,163.4,178.7,191.1,164.6,127.8,84.7,50.2,37.799999999999997,1341.9,null,null,null,null,null,null,null,null,null,null,null,null,null,5.14,6.78,8.7100000000000009,11.11,14.73,18.21,21.41,20.87,18.21,14.31,8.69,5.96,12.84,4.21,4.3,4.2,4.49,4,4,3.7,3.49,3.6,3.7,3.7,3.69,3.92,null,112,"",null,"","France",{"$f":"IF(BN115>1,\"\",MAX(BM$3:BM114)+1)","v":""},{"$f":"IF(BL115=\"\",\"\",COUNTIF(BL$4:BL115,BL115))","v":35},30035,"Toulouse",null,null,70112,"",11112,""]
["Europe","France","Tours",47.27,0.43,108,33,52,96,138,163,179,190,164,116,69,40,25,1265,19,28,47,61,75,78,78,68,51,36,22,15,578,3.8,4.7,8.3000000000000007,10.7,14.3,17.600000000000001,19.600000000000001,19,16.8,12.1,7.7,4.7,11.61,4.2,4.4000000000000004,4.0999999999999996,4.2,3.6,3.2,3.6,3.2,3,2.9,3.6,4,3.67,null,113,"",null,"","France",{"$f":"IF(BN116>1,\"\",MAX(BM$3:BM115)+1)","v":""},{"$f":"IF(BL116=\"\",\"\",COUNTIF(BL$4:BL116,BL116))","v":36},30036,"Tours",null,null,70113,"",11113,""]
["Europe","France","Trappes",48.46,2.0099999999999998,168,25,44,80,117,144,157,172,145,100,61,32,20,1097,18,28,48,65,81,84,83,72,54,37,22,15,607,3.9,3.9,5.9,8.6,12.5,15.7,17.8,17.600000000000001,14.5,10.7,6.3,3.3,10.06,4.2,3.3,3.5,3.9,3.6,2.8,2.6,1.9,3.9,2.2000000000000002,3.3,3.7,3.24,null,114,"",null,"","France",{"$f":"IF(BN117>1,\"\",MAX(BM$3:BM116)+1)","v":""},{"$f":"IF(BL117=\"\",\"\",COUNTIF(BL$4:BL117,BL117))","v":37},30037,"Trappes",null,null,70114,"",11114,""]
["South_America","France - Guyane","Cayenne-Rochea.",4.5,-52.22,5,118.9,116.2,137.6,136.69999999999999,134.6,138.19999999999999,163.6,177.7,185.6,185.1,157.4,129.4,1781,null,null,null,null,null,null,null,null,null,null,null,null,null,26.18,26.06,26.11,26.31,26.72,25.79,26.15,26.71,26.82,27.24,26.35,26.11,26.38,4.0999999999999996,4.6100000000000003,4.59,4.09,3.59,3.6,3.61,4.0999999999999996,4.0999999999999996,4.1100000000000003,4.0999999999999996,4.0999999999999996,4.0599999999999996,null,115,"",null,31,"France - Guyane",{"$f":"IF(BN118>1,\"\",MAX(BM$3:BM117)+1)","v":31},{"$f":"IF(BL118=\"\",\"\",COUNTIF(BL$4:BL118,BL118))","v":1},31001,"Cayenne-Rochea.",null,null,70115,"",11115,""]
["Pacific","France - La Réunion","St Denis",-20.52,55.31,14,199.3,162.4,178.4,140.19999999999999,129.6,117,124.7,146.9,158.9,181.5,192.8,197.1,1928.7,null,null,null,null,null,null,null,null,null,null,null,null,null,27.3,27.6,27,26.1,24.5,22.3,22.1,22.3,22.9,24.3,25.9,26.3,24.88,6.2,6,5.7,5.5,5.61,5.7,6.79,6.79,6.2,6.4,6.11,5.0999999999999996,6.01,null,116,"",null,32,"France - La Réunion",{"$f":"IF(BN119>1,\"\",MAX(BM$3:BM118)+1)","v":32},{"$f":"IF(BL119=\"\",\"\",COUNTIF(BL$4:BL119,BL119))","v":1},32001,"St Denis",null,null,70116,"",11116,""]
["North_America","France - Martinique","Le Lamentin",14.36,-61,7,149,149,182,181,182,171,180,177,163,155,138,139,1966,58,57,69,72,78,76,78,78,74,71,61,57,829,24.9,24.8,25.2,25.9,26.8,27.3,27.2,27.2,27,26.7,26.3,25.4,26.22,3.9,4.4000000000000004,4.4000000000000004,4.0999999999999996,4.4000000000000004,5.3,4.8,4.0999999999999996,3.2,2.9,3.3,3.7,4.04,null,117,"",null,33,"France - Martinique",{"$f":"IF(BN120>1,\"\",MAX(BM$3:BM119)+1)","v":33},{"$f":"IF(BL120=\"\",\"\",COUNTIF(BL$4:BL120,BL120))","v":1},33001,"Le Lamentin",null,null,70117,"",11117,""]
["Africa","Gabon","Libreville",0.27,9.25,15,144.19999999999999,137.69999999999999,162.1,151.69999999999999,161.19999999999999,148.9,154.6,155.4,149.69999999999999,150.19999999999999,126.6,130.9,1773.4,null,null,null,null,null,null,null,null,null,null,null,null,null,26.79,26.97,27.12,26.24,26.73,25.07,24.32,24.3,25.09,25.71,25.54,26.22,25.84,2.6,2.99,3.1,3.2,3.59,3.9,4.2,4.21,4.3899999999999997,3.59,3,2.9,3.47,null,118,"",null,34,"Gabon",{"$f":"IF(BN121>1,\"\",MAX(BM$3:BM120)+1)","v":34},{"$f":"IF(BL121=\"\",\"\",COUNTIF(BL$4:BL121,BL121))","v":1},34001,"Libreville",null,null,70118,"",11118,""]
["Europe","Germany","Berlin",52.25,13.15,33,19,34,71,107,150,158,156,134,89,51,22,13,1004,14,23,44,62,80,84,83,70,50,32,16,10,568,-0.6,0.6,4.4000000000000004,7.8,12.8,16.7,18.3,17.8,14.4,9.4,4.4000000000000004,1.1000000000000001,8.92,5.0999999999999996,3.6,6.2,4.5999999999999996,3.6,4.0999999999999996,4.5999999999999996,4.0999999999999996,4.5999999999999996,3.6,5.0999999999999996,5.7,4.57,null,119,"",null,35,"Germany",{"$f":"IF(BN122>1,\"\",MAX(BM$3:BM121)+1)","v":35},{"$f":"IF(BL122=\"\",\"\",COUNTIF(BL$4:BL122,BL122))","v":1},35001,"Berlin",null,null,70119,"",11119,""]
["Europe","Germany","Bocholt",51.5,6.32,24,19.3,38.9,67.599999999999994,113.7,150.19999999999999,144.5,151,127.8,82.6,53.4,25.9,14.9,989.9,null,null,null,null,null,null,null,null,null,null,null,null,null,2.02,2.2999999999999998,5.13,8.4499999999999993,12.99,16.010000000000002,17.510000000000002,17.25,14.24,10.39,5.59,3.16,9.59,3.51,3.75,3.46,2.75,2.41,2.39,2.2400000000000002,2.13,2.37,2.91,2.62,3.21,2.81,null,120,"",null,"","Germany",{"$f":"IF(BN123>1,\"\",MAX(BM$3:BM122)+1)","v":""},{"$f":"IF(BL123=\"\",\"\",COUNTIF(BL$4:BL123,BL123))","v":2},35002,"Bocholt",null,null,70120,"",11120,""]
["Europe","Germany","Bonn",50.42,7.09,65,22.3,40.799999999999997,69,106.4,137.5,138.9,150.19999999999999,126.4,82.1,54.1,28.7,17,973.4,null,null,null,null,null,null,null,null,null,null,null,null,null,2.1800000000000002,2.68,6.11,8.3000000000000007,12.9,15.84,17.93,17.899999999999999,14.78,10.59,5.95,4.03,9.93,4.0999999999999996,3.1,3.1,2.59,2.6,3.59,3.59,2.11,2.11,3.1,3.58,4.0999999999999996,3.14,null,121,"",null,"","Germany",{"$f":"IF(BN124>1,\"\",MAX(BM$3:BM123)+1)","v":""},{"$f":"IF(BL124=\"\",\"\",COUNTIF(BL$4:BL124,BL124))","v":3},35003,"Bonn",null,null,70121,"",11121,""]
["Europe","Germany","Braunlage",51.43,10.37,615,21.5,39.6,70.599999999999994,103.6,138.1,143.19999999999999,142.1,123.5,82.1,52.1,23,15.6,954.9,null,null,null,null,null,null,null,null,null,null,null,null,null,-2.2999999999999998,-2.11,0.56000000000000005,4.68,9.2200000000000006,12.79,14.07,13.85,10.87,7.13,1.92,-0.85,5.82,3.62,4,3.84,3.41,2.98,2.87,2.9,2.68,3.01,3.44,3.26,3.89,3.32,null,122,"",null,"","Germany",{"$f":"IF(BN125>1,\"\",MAX(BM$3:BM124)+1)","v":""},{"$f":"IF(BL125=\"\",\"\",COUNTIF(BL$4:BL125,BL125))","v":4},35004,"Braunlage",null,null,70122,"",11122,""]
["Europe","Germany","Braunschweig",52.18,10.27,81,20,36.200000000000003,69.5,105.8,148.69999999999999,153.30000000000001,147.19999999999999,128.4,84.8,50.5,23,14.1,981.8,null,null,null,null,null,null,null,null,null,null,null,null,null,0.26,0.54,3.76,7.84,12.56,15.78,17.29,16.96,13.49,9.5399999999999991,4.7300000000000004,2,8.73,4.1900000000000004,3.8,4.3,4,3.59,3.29,3.4,3.1,3.5,3.7,4.5,4.5999999999999996,3.83,null,123,"",null,"","Germany",{"$f":"IF(BN126>1,\"\",MAX(BM$3:BM125)+1)","v":""},{"$f":"IF(BL126=\"\",\"\",COUNTIF(BL$4:BL126,BL126))","v":5},35005,"Braunschweig",null,null,70123,"",11123,""]
["Europe","Germany","Bremen",53.03,8.48,24,18.600000000000001,36.1,64.7,107.2,148,135.9,142.80000000000001,122.7,79.8,48.3,23,12.6,939.7,null,null,null,null,null,null,null,null,null,null,null,null,null,1.59,1.61,4.9800000000000004,7.72,12.28,14.8,16.73,17.239999999999998,13.76,10.06,5.45,2.81,9.08,7.2,4.5999999999999996,6.19,5.0999999999999996,4.0999999999999996,4.5999999999999996,4.5999999999999996,4.59,5.0999999999999996,5.09,5.7,6.7,5.3,null,124,"",null,"","Germany",{"$f":"IF(BN127>1,\"\",MAX(BM$3:BM126)+1)","v":""},{"$f":"IF(BL127=\"\",\"\",COUNTIF(BL$4:BL127,BL127))","v":6},35006,"Bremen",null,null,70124,"",11124,""]
["Europe","Germany","Coburg",50.16,10.57,357,21.6,42.3,71.3,112.9,151.69999999999999,147.30000000000001,165.1,134.6,89.1,54.9,25.2,15.5,1031.5999999999999,null,null,null,null,null,null,null,null,null,null,null,null,null,-1.4,-0.22,3.49,7.55,12.42,15.65,17.350000000000001,16.440000000000001,12.89,8.4600000000000009,3.28,0.18,8.01,3.29,3.05,3.36,3.17,2.73,2.65,2.63,2.35,2.46,2.87,2.96,3.4,2.91,null,125,"",null,"","Germany",{"$f":"IF(BN128>1,\"\",MAX(BM$3:BM127)+1)","v":""},{"$f":"IF(BL128=\"\",\"\",COUNTIF(BL$4:BL128,BL128))","v":7},35007,"Coburg",null,null,70125,"",11125,""]
["Europe","Germany","Dresden/Wahnsdorf",51.07,13.41,271,23.8,40.9,72.8,109.2,150.19999999999999,144.69999999999999,151,130,83.4,57.9,27.3,17.8,1009,null,null,null,null,null,null,null,null,null,null,null,null,null,-2.42,-3.59,0.55000000000000004,4.4800000000000004,9.3699999999999992,12.7,14.73,14.34,10.81,7.44,2.5499999999999998,0.22,5.93,3.19,3.53,3.69,3.45,3.05,2.79,2.72,2.4300000000000002,2.63,2.74,2.68,3.21,3.01,null,126,"",null,"","Germany",{"$f":"IF(BN129>1,\"\",MAX(BM$3:BM128)+1)","v":""},{"$f":"IF(BL129=\"\",\"\",COUNTIF(BL$4:BL129,BL129))","v":8},35008,"Dresden/Wahnsdorf",null,null,70126,"",11126,""]
["Europe","Germany","Fichtelberg",50.26,12.57,1214,23.8,42.2,72.900000000000006,106.5,139.80000000000001,129.6,139.9,125.7,82.7,58.7,30.9,17.8,970.5,null,null,null,null,null,null,null,null,null,null,null,null,null,-5.01,-5.1100000000000003,-2.13,1.18,6.62,9.5,11.48,11.38,8.1300000000000008,4.53,-0.76,-3.45,3.03,4.12,4.37,4.55,4.03,3.76,3.59,3.51,3.15,3.48,3.5,3.58,4.0199999999999996,3.81,null,127,"",null,"","Germany",{"$f":"IF(BN130>1,\"\",MAX(BM$3:BM129)+1)","v":""},{"$f":"IF(BL130=\"\",\"\",COUNTIF(BL$4:BL130,BL130))","v":9},35009,"Fichtelberg",null,null,70127,"",11127,""]
["Europe","Germany","Frankfurt",49.52,9.0299999999999994,92,23,43,74,114,150,152,162,134,93,55,28,18,1046,17,27,47,64,81,84,84,72,53,35,20,13,597,1.7,2.7,6.5,9.9,14.5,17.7,19.600000000000001,19.100000000000001,15.6,10.5,5.6,3,10.53,3.5,2.9,3.4,3,2.8,2.7,2.7,2.2999999999999998,2.4,2.5,2.7,3.2,2.84,null,128,"",null,"","Germany",{"$f":"IF(BN131>1,\"\",MAX(BM$3:BM130)+1)","v":""},{"$f":"IF(BL131=\"\",\"\",COUNTIF(BL$4:BL131,BL131))","v":10},35010,"Frankfurt",null,null,70128,"",11128,""]
["Europe","Germany","Freiburg",48,7.51,308,27.4,44.2,81.099999999999994,111.6,146.6,161.9,170.9,148.6,102.1,63.2,34.4,21.6,1113.7,null,null,null,null,null,null,null,null,null,null,null,null,null,1.26,2.42,6.01,9.6999999999999993,14.28,16.88,19.329999999999998,18.59,15,10.199999999999999,5.18,2.71,10.130000000000001,3.23,3.53,3.38,3.16,2.8,2.71,2.57,2.3199999999999998,2.54,2.67,2.8,3.33,2.92,null,129,{"$f":"IF(BH132>MAX(BK$4:BK$940),\"\",VLOOKUP(BH132,BK$4:BL$940,2,FALSE))","v":""},null,"","Germany",{"$f":"IF(BN132>1,\"\",MAX(BM$3:BM131)+1)","v":""},{"$f":"IF(BL132=\"\",\"\",COUNTIF(BL$4:BL132,BL132))","v":11},{"$f":"IF(BL132=\"\",\"\",thousand*VLOOKUP(BL132,BL$4:BM$940,2,FALSE)+BN132)","v":35011},"Freiburg",null,null,{"$f":"country*thousand+BH132","v":70129},{"$f":"IF(COUNTIF(BO$4:BO$940,BS132)>0,VLOOKUP(BS132,BO$4:BP$940,2,FALSE),\"\")","v":""},{"$f":"BU$1*thousand+BH132","v":11129},{"$f":"IF(COUNTIF(BO$4:BO$940,BU132)>0,VLOOKUP(BU132,BO$4:BP$940,2,FALSE),\"\")","v":""}]
["Europe","Germany","Geisenheim",49.59,7.57,131,20.8,40.9,74.3,112.9,148,150.4,160.69999999999999,133.80000000000001,90.6,52.1,25.9,17.100000000000001,1027.4000000000001,null,null,null,null,null,null,null,null,null,null,null,null,null,1.31,2.2200000000000002,5.7,9.31,13.95,16.760000000000002,18.829999999999998,18.13,14.57,9.99,5.05,2.4500000000000002,9.86,2.41,2.31,2.5,2.41,2.2000000000000002,2.0099999999999998,2.0099999999999998,1.91,1.8,1.61,2.0099999999999998,2.31,2.12,null,130,"",null,{"$f":"BM133","v":""},{"$f":"IF(B133=\"\",\"\",B133)","v":"Germany"},{"$f":"IF(BN133>1,\"\",MAX(BM$3:BM132)+1)","v":""},{"$f":"IF(BL133=\"\",\"\",COUNTIF(BL$4:BL133,BL133))","v":12},35012,{"$f":"IF(C133=\"\",\"\",C133)","v":"Geisenheim"},null,null,70130,"",11130,""]
["Europe","Germany","Giessen",50.35,8.42,201,20.100000000000001,39.5,69.099999999999994,113.6,145.80000000000001,146.6,157.6,127.8,85.5,50.5,24.4,14.8,995.5,null,null,null,null,null,null,null,null,null,null,null,null,null,0.59,1.48,4.75,8.48,13.23,15.81,18.010000000000002,16.91,13.63,8.8800000000000008,4.25,1.36,8.9499999999999993,2.9,2.94,3.04,2.68,2.42,2.5,2.41,2.2000000000000002,2.2599999999999998,2.41,2.31,2.85,2.58,null,131,"",null,"","Germany",{"$f":"IF(BN134>1,\"\",MAX(BM$3:BM133)+1)","v":""},{"$f":"IF(BL134=\"\",\"\",COUNTIF(BL$4:BL134,BL134))","v":13},35013,"Giessen",null,null,70131,"",11131,""]
["Europe","Germany","Groningen/Eelde",53.08,6.35,4,18.600000000000001,38.200000000000003,66.2,113.7,148.80000000000001,141.1,145,124.9,84.9,49.8,23.6,12.6,967.1,null,null,null,null,null,null,null,null,null,null,null,null,null,1.23,1.45,4.13,7.18,11.71,14.42,15.95,16.09,13.16,9.82,5.24,2.4700000000000002,8.57,5.3,4.9000000000000004,5.19,4.5999999999999996,4.0999999999999996,3.99,4.0999999999999996,3.7,3.9,4.0999999999999996,5.09,5.21,4.5199999999999996,null,132,"",null,"","Germany",{"$f":"IF(BN135>1,\"\",MAX(BM$3:BM134)+1)","v":""},{"$f":"IF(BL135=\"\",\"\",COUNTIF(BL$4:BL135,BL135))","v":14},35014,"Groningen/Eelde",null,null,70132,"",11132,""]
["Europe","Germany","Guettingen",47.36,9.17,440,26.7,45,84,115.9,150.19999999999999,159,173.8,145,97.9,58,27.3,19.3,1102,null,null,null,null,null,null,null,null,null,null,null,null,null,0.08,0.14000000000000001,4.5999999999999996,7.55,12.51,15.08,18.57,17.89,14.03,9.6300000000000008,3.92,1.63,8.8000000000000007,2.5,2.59,2.6,2.42,2.21,2.31,2.02,2.0099999999999998,2.0099999999999998,2.0099999999999998,2.21,2.41,2.27,null,133,"",null,"","Germany",{"$f":"IF(BN136>1,\"\",MAX(BM$3:BM135)+1)","v":""},{"$f":"IF(BL136=\"\",\"\",COUNTIF(BL$4:BL136,BL136))","v":15},35015,"Guettingen",null,null,70133,"",11133,""]
["Europe","Germany","Hamburg",53.33,9.42,5,17,33,65,106,147,152,145,126,82,47,21,13,954,13,22,42,62,80,84,83,69,49,31,15,10,560,2.9,2.2000000000000002,4.3,6.4,11.1,13.5,15.9,16.600000000000001,14.5,10.7,6.6,4.2,9.08,5.8,4.5999999999999996,5.2,4.5999999999999996,4.0999999999999996,4.2,4.2,3.7,4.2,5.0999999999999996,5.7,5.2,4.72,null,134,"",null,"","Germany",{"$f":"IF(BN137>1,\"\",MAX(BM$3:BM136)+1)","v":""},{"$f":"IF(BL137=\"\",\"\",COUNTIF(BL$4:BL137,BL137))","v":16},35016,"Hamburg",null,null,70134,"",11134,""]
["Europe","Germany","Heiligendamm",54.09,11.51,21,15.6,31.5,68.3,115.7,166.6,155.5,162,135.30000000000001,87.1,49.7,22.9,11.1,1021.2,null,null,null,null,null,null,null,null,null,null,null,null,null,1.08,1.06,3.92,6.58,11.8,14.73,17.39,17.25,14.29,10.02,5.54,2.91,8.8800000000000008,4.09,4.0999999999999996,7.7,6.2,5.7,6.19,7.2,6.19,7.19,3.6,4.1100000000000003,4.0999999999999996,5.53,null,135,"",null,"","Germany",{"$f":"IF(BN138>1,\"\",MAX(BM$3:BM137)+1)","v":""},{"$f":"IF(BL138=\"\",\"\",COUNTIF(BL$4:BL138,BL138))","v":17},35017,"Heiligendamm",null,null,70135,"",11135,""]
["Europe","Germany","Hohenpeissenberg",47.48,11.01,990,41.5,58.4,98.2,123.1,150.80000000000001,159.1,167.3,145,111.5,78,42.4,34.200000000000003,1209.5,null,null,null,null,null,null,null,null,null,null,null,null,null,-1.68,-1.21,1.57,5.0199999999999996,9.57,12.55,15.13,14.69,11.86,8.1300000000000008,2.4300000000000002,-0.56999999999999995,6.46,2.66,3.08,3.31,2.66,2.42,2.36,2.4,2.11,2.34,2.44,2.33,2.88,2.58,null,136,"",null,"","Germany",{"$f":"IF(BN139>1,\"\",MAX(BM$3:BM138)+1)","v":""},{"$f":"IF(BL139=\"\",\"\",COUNTIF(BL$4:BL139,BL139))","v":18},35018,"Hohenpeissenberg",null,null,70136,"",11136,""]
["Europe","Germany","Kassel",51.18,9.27,233,20,39.6,69.8,109.3,147.19999999999999,142.30000000000001,150,128.6,83.5,49.1,24.5,14.9,978.6,null,null,null,null,null,null,null,null,null,null,null,null,null,-0.1,0.6,3.85,7.93,12.61,15.45,17.170000000000002,16.95,13.34,9.33,3.99,1.23,8.5299999999999994,2.93,3.14,3.2,2.77,2.48,2.48,2.29,2.2799999999999998,2.41,2.52,2.2400000000000002,2.84,2.63,null,137,"",null,"","Germany",{"$f":"IF(BN140>1,\"\",MAX(BM$3:BM139)+1)","v":""},{"$f":"IF(BL140=\"\",\"\",COUNTIF(BL$4:BL140,BL140))","v":19},35019,"Kassel",null,null,70137,"",11137,""]
["Europe","Germany","Köln",50.47,7.18,39,22,41,69,107,138,139,150,127,82,54,29,17,975,16,26,45,63,80,83,83,71,51,34,19,13,584,2.2999999999999998,2.9,6.2,8.5,13,16.2,17.899999999999999,17.899999999999999,15.1,10.7,6.2,4,10.07,4.0999999999999996,3.1,3.1,2.6,2.6,3.6,3.6,2.1,2.1,3.1,3.6,4.0999999999999996,3.14,null,138,"",null,"","Germany",{"$f":"IF(BN141>1,\"\",MAX(BM$3:BM140)+1)","v":""},{"$f":"IF(BL141=\"\",\"\",COUNTIF(BL$4:BL141,BL141))","v":20},35020,"Köln",null,null,70138,"",11138,""]
["Europe","Germany","Luedenscheid",51.13,7.38,465,20,38.9,62.5,106.6,137.5,134.6,140.6,122,77.7,49.7,23.7,14.9,928.6,null,null,null,null,null,null,null,null,null,null,null,null,null,-0.15,0.54,3.4,6.67,11.09,13.96,15.43,15.47,12.65,8.98,3.67,1.22,7.74,2.6,3.39,4,2.99,2.8,2.9,2.5,2.31,2.59,2.79,2.42,3,2.86,null,139,"",null,"","Germany",{"$f":"IF(BN142>1,\"\",MAX(BM$3:BM141)+1)","v":""},{"$f":"IF(BL142=\"\",\"\",COUNTIF(BL$4:BL142,BL142))","v":21},35021,"Luedenscheid",null,null,70139,"",11139,""]
["Europe","Germany","Mannheim",49.31,8.33,106,22.9,42.9,72.8,113.5,150.19999999999999,151.1,162.80000000000001,134.5,93.5,54.8,29.5,17.8,1046.4000000000001,null,null,null,null,null,null,null,null,null,null,null,null,null,2.33,3.15,7.15,10.48,15.1,18.13,20.65,20,15.89,11.12,6,4.13,11.18,3.1,3.1,3.1,2.59,2.59,2.59,2.59,2.1,2.1,2.11,2.1,2.6,2.56,null,140,"",null,"","Germany",{"$f":"IF(BN143>1,\"\",MAX(BM$3:BM142)+1)","v":""},{"$f":"IF(BL143=\"\",\"\",COUNTIF(BL$4:BL143,BL143))","v":22},35022,"Mannheim",null,null,70140,"",11140,""]
["Europe","Germany","München",48.13,11.23,520,32,50,89,120,155,161,166,142,105,66,34,25,1145,21,30,50,66,81,84,84,73,54,38,22,17,620,-0.9,0,4,7.1,11.8,14.6,17.3,16.899999999999999,13.9,8.9,3.6,0.8,8.17,3.2,3.1,3.3,3.3,3,2.8,2.8,2.6,2.6,2.8,3.3,3.3,3.01,null,141,"",null,"","Germany",{"$f":"IF(BN144>1,\"\",MAX(BM$3:BM143)+1)","v":""},{"$f":"IF(BL144=\"\",\"\",COUNTIF(BL$4:BL144,BL144))","v":23},35023,"München",null,null,70141,"",11141,""]
["Europe","Germany","Norderney",53.43,7.09,29,17,36.200000000000003,70.599999999999994,121.6,162.5,154,156.19999999999999,132.4,84,48.2,23,12.6,1018.4,null,null,null,null,null,null,null,null,null,null,null,null,null,2.11,2.14,5.0199999999999996,7.19,11.72,14.74,17.36,17.88,14.76,11.27,6.53,3.89,9.5500000000000007,6.2,5.68,8.1999999999999993,7.19,6.2,7.2,8.1999999999999993,7.2,5.0999999999999996,5.0999999999999996,5.7,5.7,6.47,null,142,"",null,"","Germany",{"$f":"IF(BN145>1,\"\",MAX(BM$3:BM144)+1)","v":""},{"$f":"IF(BL145=\"\",\"\",COUNTIF(BL$4:BL145,BL145))","v":24},35024,"Norderney",null,null,70142,"",11142,""]
["Europe","Germany","Nuernberg",49.3,11.05,312,23.7,44.9,72.099999999999994,112.9,145.69999999999999,146.80000000000001,162.1,135.30000000000001,95,57.8,30.2,17.8,1044.3,null,null,null,null,null,null,null,null,null,null,null,null,null,-0.9,0.34,3.95,8.18,13.3,16.440000000000001,18.39,17.68,13.82,8.9700000000000006,3.84,0.77,8.73,2.89,2.7,2.99,3.1,2.9,2.69,2.59,2.42,2.11,2.42,2.79,2.99,2.72,null,143,"",null,"","Germany",{"$f":"IF(BN146>1,\"\",MAX(BM$3:BM145)+1)","v":""},{"$f":"IF(BL146=\"\",\"\",COUNTIF(BL$4:BL146,BL146))","v":25},35025,"Nuernberg",null,null,70143,"",11143,""]
["Europe","Germany","Osnabrueck",52.15,8.0299999999999994,104,18.600000000000001,37.5,65.400000000000006,109.3,149.4,142.4,147.30000000000001,127,80.5,50.6,24.5,13.3,965.9,null,null,null,null,null,null,null,null,null,null,null,null,null,0.9,1.1299999999999999,4.34,7.78,12.44,15.56,17.059999999999999,16.72,13.75,9.9600000000000009,5.09,2.52,8.94,3.76,4.03,3.96,3.17,2.81,2.92,2.63,2.5499999999999998,2.8,3.19,2.98,3.46,3.19,null,144,"",null,"","Germany",{"$f":"IF(BN147>1,\"\",MAX(BM$3:BM146)+1)","v":""},{"$f":"IF(BL147=\"\",\"\",COUNTIF(BL$4:BL147,BL147))","v":26},35026,"Osnabrueck",null,null,70144,"",11144,""]
["Europe","Germany","Passau",48.35,13.28,412,26.8,48.4,81.599999999999994,120.8,159.1,154.80000000000001,169.6,142.1,97.1,64.5,30.2,20,1115,null,null,null,null,null,null,null,null,null,null,null,null,null,-1.77,-0.02,4.43,8.36,13.23,16.3,18.21,17.45,14.17,9.15,3.56,-0.25,8.57,1.27,1.4,1.79,1.65,1.39,1.21,1.22,1.2,1.1499999999999999,1.19,1.32,1.43,1.35,null,145,"",null,"","Germany",{"$f":"IF(BN148>1,\"\",MAX(BM$3:BM147)+1)","v":""},{"$f":"IF(BL148=\"\",\"\",COUNTIF(BL$4:BL148,BL148))","v":27},35027,"Passau",null,null,70145,"",11145,""]
["Europe","Germany","Pöfersdorf",49.49,11.47,519,23.5,43.7,74.400000000000006,114,149.80000000000001,150.80000000000001,162.4,135.80000000000001,94.1,57.5,27.9,17.7,1051.8,null,null,null,null,null,null,null,null,null,null,null,null,null,-2.68,-1.77,2.25,6.18,11.58,14.55,16.579999999999998,15.67,11.9,7.27,1.96,-1.04,6.87,2.54,2.56,2.89,2.4700000000000002,2.38,2.1800000000000002,2.1800000000000002,1.97,1.94,2.14,2.31,2.67,2.35,null,146,"",null,"","Germany",{"$f":"IF(BN149>1,\"\",MAX(BM$3:BM148)+1)","v":""},{"$f":"IF(BL149=\"\",\"\",COUNTIF(BL$4:BL149,BL149))","v":28},35028,"Pöfersdorf",null,null,70146,"",11146,""]
["Europe","Germany","Potsdam",52.23,13.04,81,18.600000000000001,33.6,70.599999999999994,107,150.1,157.6,156.1,133.80000000000001,88.3,50.5,21.6,13.4,1001.2,null,null,null,null,null,null,null,null,null,null,null,null,null,-0.86,0.15,3.68,7.92,13.38,16.48,18.010000000000002,17.510000000000002,13.91,9.42,4.1399999999999997,0.74,8.7100000000000009,5.0999999999999996,3.6,6.19,4.59,3.59,4.0999999999999996,4.5999999999999996,4.0999999999999996,4.5999999999999996,3.6,5.0999999999999996,5.7,4.57,null,147,"",null,"","Germany",{"$f":"IF(BN150>1,\"\",MAX(BM$3:BM149)+1)","v":""},{"$f":"IF(BL150=\"\",\"\",COUNTIF(BL$4:BL150,BL150))","v":29},35029,"Potsdam",null,null,70147,"",11147,""]
["Europe","Germany","Saarbruecken",49.13,7.07,325,20.8,42.2,73.599999999999994,110.2,145.69999999999999,151.9,172.5,136.69999999999999,94.2,54.2,29.5,17.899999999999999,1049.4000000000001,null,null,null,null,null,null,null,null,null,null,null,null,null,1.22,1.57,5.58,7.74,12.89,15.41,17.89,17.850000000000001,14.14,10.01,4.4400000000000004,2.2599999999999998,9.25,5.7,4.0999999999999996,5.0999999999999996,4.0999999999999996,4.0999999999999996,3.09,3.1,3.09,3.6,3.6,5.0999999999999996,5.0999999999999996,4.1500000000000004,null,148,"",null,"","Germany",{"$f":"IF(BN151>1,\"\",MAX(BM$3:BM150)+1)","v":""},{"$f":"IF(BL151=\"\",\"\",COUNTIF(BL$4:BL151,BL151))","v":30},35030,"Saarbruecken",null,null,70148,"",11148,""]
["Europe","Germany","Schleswig",54.32,9.33,59,15.6,32.9,60.8,109.4,152.4,145.4,153.1,130.9,79.8,44.5,20.8,11.9,957.7,null,null,null,null,null,null,null,null,null,null,null,null,null,0.15,0.36,2.85,6.11,11.01,14.39,15.86,15.86,12.87,9.4,4.76,1.71,7.94,6.2,4.59,4.5999999999999996,4.1100000000000003,4.0999999999999996,4.0999999999999996,4.5999999999999996,4.09,4.09,4.59,5.0999999999999996,5.7,4.66,null,149,"",null,"","Germany",{"$f":"IF(BN152>1,\"\",MAX(BM$3:BM151)+1)","v":""},{"$f":"IF(BL152=\"\",\"\",COUNTIF(BL$4:BL152,BL152))","v":31},35031,"Schleswig",null,null,70149,"",11149,""]
["Europe","Germany","Stuttgart",48.5,9.1199999999999992,318,28.3,48,79.599999999999994,113,146.6,154.1,164.4,139.1,97.9,60.3,35.299999999999997,22.3,1088.9000000000001,null,null,null,null,null,null,null,null,null,null,null,null,null,0,1.1000000000000001,5,7.8,12.8,15.6,17.8,17.8,14.4,9.4,3.9,1.7,8.94,4.5999999999999996,3.1,4.5999999999999996,3.6,3.1,3.1,3.1,3.1,3.1,3.6,4.0999999999999996,4.5999999999999996,3.64,null,150,"",null,"","Germany",{"$f":"IF(BN153>1,\"\",MAX(BM$3:BM152)+1)","v":""},{"$f":"IF(BL153=\"\",\"\",COUNTIF(BL$4:BL153,BL153))","v":32},35032,"Stuttgart",null,null,70150,"",11150,""]
["Europe","Germany","Trier",49.45,6.4,278,21.5,41.6,75.8,111.6,148,154.1,159.1,134.5,94.1,56.5,25.9,17.899999999999999,1040.5,null,null,null,null,null,null,null,null,null,null,null,null,null,1.02,1.81,4.97,8.2799999999999994,12.66,15.6,17.760000000000002,17.059999999999999,13.84,9.7799999999999994,4.49,1.92,9.1,3.2,3.59,3.7,4.0999999999999996,3.3,3,2.8,2.79,2.79,2.89,4.09,3.3,3.3,null,151,"",null,"","Germany",{"$f":"IF(BN154>1,\"\",MAX(BM$3:BM153)+1)","v":""},{"$f":"IF(BL154=\"\",\"\",COUNTIF(BL$4:BL154,BL154))","v":33},35033,"Trier",null,null,70151,"",11151,""]
["Europe","Germany","Weissenburg",49.01,10.58,428,25.3,44.3,80.900000000000006,117.1,154,161.19999999999999,163.5,138.30000000000001,99.2,59.3,28.1,20,1091.2,null,null,null,null,null,null,null,null,null,null,null,null,null,-1.2,0.03,3.85,7.98,13,15.55,17.68,17.190000000000001,13.33,8.4600000000000009,3.54,0.66,8.34,2.89,2.5,2.8,2.7,2.41,2.21,2.21,2.11,2.11,2.31,2.99,3.09,2.5299999999999998,null,152,"",null,"","Germany",{"$f":"IF(BN155>1,\"\",MAX(BM$3:BM154)+1)","v":""},{"$f":"IF(BL155=\"\",\"\",COUNTIF(BL$4:BL155,BL155))","v":34},35034,"Weissenburg",null,null,70152,"",11152,""]
["Europe","Germany","Wuerzburg",49.46,9.58,275,25.3,44.2,80.900000000000006,117.2,153.80000000000001,161.19999999999999,163.6,138.30000000000001,99.3,59.3,28,20.100000000000001,1091.3,null,null,null,null,null,null,null,null,null,null,null,null,null,0.51,0.9,5.6,8.2200000000000006,13.36,16.440000000000001,18.48,18.399999999999999,14.82,9.48,4.21,1.82,9.35,5.0999999999999996,3.1,4.5999999999999996,4.59,3.6,3.59,3.6,3.09,3.59,4.0999999999999996,4.5999999999999996,5.0999999999999996,4.0599999999999996,null,153,"",null,"","Germany",{"$f":"IF(BN156>1,\"\",MAX(BM$3:BM155)+1)","v":""},{"$f":"IF(BL156=\"\",\"\",COUNTIF(BL$4:BL156,BL156))","v":35},35035,"Wuerzburg",null,null,70153,"",11153,""]
["Africa","Ghana","Accra",5.28,-0.21,5,136,142,171,161,166,132,133,133,149,164,165,139,1791,67,63,71,70,69,68,70,72,71,69,60,65,815,28.2,29.3,29.2,29.2,28.1,27,25.9,25.4,26.4,27.1,28.1,28.2,27.68,2.6,2.6,2.6,2.6,2.1,2.1,4.5999999999999996,5.0999999999999996,5.0999999999999996,2.6,4.5999999999999996,2.1,3.22,null,154,"",null,36,"Ghana",{"$f":"IF(BN157>1,\"\",MAX(BM$3:BM156)+1)","v":36},{"$f":"IF(BL157=\"\",\"\",COUNTIF(BL$4:BL157,BL157))","v":1},36001,"Accra",null,null,70154,"",11154,""]
["Europe","Greece","Athinai",38.04,23.37,107,66,74,104,147,182,201,213,200,155,106,66,52,1566,31,36,53,62,71,68,65,56,48,43,32,27,592,11.6,10.9,11.8,13.9,18,22.1,25.6,26.3,24.3,20.5,16.399999999999999,13.5,17.91,5.0999999999999996,6.7,5.0999999999999996,4.5999999999999996,4.0999999999999996,4.5999999999999996,4.5999999999999996,4.5999999999999996,4.5999999999999996,6.2,4.5999999999999996,5.0999999999999996,4.99,null,155,"",null,37,"Greece",{"$f":"IF(BN158>1,\"\",MAX(BM$3:BM157)+1)","v":37},{"$f":"IF(BL158=\"\",\"\",COUNTIF(BL$4:BL158,BL158))","v":1},37001,"Athinai",null,null,70155,"",11155,""]
["Europe","Greece","Ioannina",39.700000000000003,20.8,480,58.9,52.8,100.9,121.9,169.1,209.4,200.2,192.5,127.3,107.1,60.6,41,1442,null,null,null,null,null,null,null,null,null,null,null,null,null,11.6,10.9,11.8,13.9,18,22.1,25.6,26.3,24.3,20.5,16.399999999999999,13.5,17.91,null,null,null,null,null,null,null,null,null,null,null,null,null,null,156,"",null,"","Greece",{"$f":"IF(BN159>1,\"\",MAX(BM$3:BM158)+1)","v":""},{"$f":"IF(BL159=\"\",\"\",COUNTIF(BL$4:BL159,BL159))","v":2},37002,"Ioannina",null,null,70156,"",11156,""]
["Europe","Greece","Ioannina",39.700000000000003,20.8,480,60.6,67.5,110.7,125.1,173.8,211,214.6,191.7,128.80000000000001,94.7,58.9,45,1482.4,29.4,32.4,49.5,64.7,76.2,68.599999999999994,68.900000000000006,62,53.8,40.200000000000003,29.7,24.9,600.29999999999995,4.5999999999999996,6.1,8.9,12.6,17.399999999999999,21.7,24.8,24.2,20.3,14.9,9.6999999999999993,5.8,14.25,1.1000000000000001,1.5,1.7,1.4,1.2,1.2,1.1000000000000001,1.2,1.1000000000000001,1.4,0.8,1,1.23,null,157,"",null,"","Greece",{"$f":"IF(BN160>1,\"\",MAX(BM$3:BM159)+1)","v":""},{"$f":"IF(BL160=\"\",\"\",COUNTIF(BL$4:BL160,BL160))","v":3},37003,"Ioannina",null,null,70157,"",11157,""]
["Europe","Greece","Ioannina_MN",39.42,20.49,483,43,51,86,123,157,171,176,158,119,76,48,38,1246,null,null,null,null,null,null,null,null,null,null,null,null,null,4.5999999999999996,6.1,8.9,12.6,17.399999999999999,21.7,24.8,24.2,20.3,14.9,9.6999999999999993,5.8,14.25,1.1000000000000001,1.5,1.7,1.4,1.2,1.2,1.1000000000000001,1.2,1.1000000000000001,1.4,0.8,1,1.23,null,158,"",null,"","Greece",{"$f":"IF(BN161>1,\"\",MAX(BM$3:BM160)+1)","v":""},{"$f":"IF(BL161=\"\",\"\",COUNTIF(BL$4:BL161,BL161))","v":4},37004,"Ioannina_MN",null,null,70158,"",11158,""]
["Europe","Greece","Kythira",36.17,23.01,10,63,68,105,146,180,195,201,186,146,100,61,51,1502,null,null,null,null,null,null,null,null,null,null,null,null,null,10.8,10.8,12,14.7,18.8,23,25.6,25.4,22.9,18.899999999999999,15.8,12.7,17.62,6,5.5,5.6,4.8,4.3,4.2,3.8,3.7,4.5,5.3,5.4,6.1,4.93,null,159,"",null,"","Greece",{"$f":"IF(BN162>1,\"\",MAX(BM$3:BM161)+1)","v":""},{"$f":"IF(BL162=\"\",\"\",COUNTIF(BL$4:BL162,BL162))","v":5},37005,"Kythira",null,null,70159,"",11159,""]
["Europe","Greece","Rhodos",36.24,28.05,11,63,84,134,170,209,231,244,221,174,122,79,58,1789,32,38,52,58,64,56,51,48,43,42,33,29,546,11.7,12,13.6,16.7,20.5,24.7,26.9,26.9,24.6,20.6,16.399999999999999,13.4,19,4.0999999999999996,4.5999999999999996,4.7,4.7,4.4000000000000004,5.3,6.1,6,5.2,3.6,3.3,4,4.67,null,160,"",null,"","Greece",{"$f":"IF(BN163>1,\"\",MAX(BM$3:BM162)+1)","v":""},{"$f":"IF(BL163=\"\",\"\",COUNTIF(BL$4:BL163,BL163))","v":6},37006,"Rhodos",null,null,70160,"",11160,""]
["North_America","Guatemala","Guatemala",14.41,-90.45,1488,163,156,181,173,168,155,178,167,144,152,148,152,1937,59,60,75,78,82,79,81,81,76,72,61,57,861,20,20.5,21.5,22.1,21.5,20.8,20.9,20.9,20.3,20.399999999999999,20.5,20,20.78,4.5,4.0999999999999996,4,4,3.5,2.2000000000000002,2.8,2.6,2.2000000000000002,3,3.4,4.2,3.37,null,161,"",null,38,"Guatemala",{"$f":"IF(BN164>1,\"\",MAX(BM$3:BM163)+1)","v":38},{"$f":"IF(BL164=\"\",\"\",COUNTIF(BL$4:BL164,BL164))","v":1},38001,"Guatemala",null,null,70161,"",11161,""]
["South_America","Guyana","Georgetown",6.44,-58.02,5,135,136,150,147,149,133,147,159,163,155,132,128,1734,62,61,69,68,68,63,67,70,69,68,61,60,786,25.1,25.9,27.1,28,28.4,27.7,27.2,27.5,26.9,27.1,26.8,25.7,26.95,3.7,4.2,4,4.0999999999999996,3.8,3.4,3.1,3.2,3.2,3.3,3.3,3.4,3.56,null,162,"",null,39,"Guyana",{"$f":"IF(BN165>1,\"\",MAX(BM$3:BM164)+1)","v":39},{"$f":"IF(BL165=\"\",\"\",COUNTIF(BL$4:BL165,BL165))","v":1},39001,"Georgetown",null,null,70162,"",11162,""]
["Europe","Hungary","Budapest",47.31,19.07,105,30,46,86,128,162,172,183,154,110,71,35,23,1200,18,27,46,61,76,78,78,68,51,36,21,15,575,-0.5,1.2,6.2,10.7,15.7,19,20.7,20.7,16.8,10.7,4,1.2,10.53,6.2,3.6,4.0999999999999996,5.7,4.0999999999999996,5.0999999999999996,5.0999999999999996,3.1,5.0999999999999996,3.6,4.0999999999999996,6.2,4.67,null,163,"",null,40,"Hungary",{"$f":"IF(BN166>1,\"\",MAX(BM$3:BM165)+1)","v":40},{"$f":"IF(BL166=\"\",\"\",COUNTIF(BL$4:BL166,BL166))","v":1},40001,"Budapest",null,null,70163,"",11163,""]
["Europe","Iceland","Reykjavik",64.25,-21.24,5,4,17,55,93,137,137,136,105,63,29,7,1,784,4,13,35,59,84,92,90,69,42,20,6,1,515,-0.3,0.9,0.9,3.1,6.4,9.1999999999999993,11.4,10.9,7.5,4.7,2,0.3,4.75,6.2,6.2,6.2,5.7,5.7,5.0999999999999996,5.7,5.0999999999999996,5.0999999999999996,5.7,5.7,6.2,5.72,null,164,"",null,41,"Iceland",{"$f":"IF(BN167>1,\"\",MAX(BM$3:BM166)+1)","v":41},{"$f":"IF(BL167=\"\",\"\",COUNTIF(BL$4:BL167,BL167))","v":1},41001,"Reykjavik",null,null,70164,"",11164,""]
["Asia","India","Bombay",19.170000000000002,73.08,5,143,152,192,198,202,147,120,122,142,158,139,132,1847,56,56,69,73,80,81,77,76,74,67,57,54,820,25.5,25.9,27,28,28.8,27.7,26.7,26.9,28.3,30,28.5,27.3,27.55,3,3.5,3.5,3.5,3.1,3.6,4,3.6,2.6,2.6,2.6,2.6,3.18,null,165,"",null,42,"India",{"$f":"IF(BN168>1,\"\",MAX(BM$3:BM167)+1)","v":42},{"$f":"IF(BL168=\"\",\"\",COUNTIF(BL$4:BL168,BL168))","v":1},42001,"Bombay",null,null,70165,"",11165,""]
["Asia","India","Calcutta",22.16,88.35,10,129,137,168,192,194,145,135,138,126,147,132,119,1762,54,55,72,74,83,81,81,80,72,66,53,51,822,19.7,22.9,27.1,29.8,29.7,29.6,29.1,28.8,29,27.9,24.7,20.399999999999999,26.56,1.5,1.5,2.1,2.6,3.1,2.6,2.1,2.1,2.1,1.5,1.5,1.5,2.02,null,166,"",null,"","India",{"$f":"IF(BN169>1,\"\",MAX(BM$3:BM168)+1)","v":""},{"$f":"IF(BL169=\"\",\"\",COUNTIF(BL$4:BL169,BL169))","v":2},42002,"Calcutta",null,null,70166,"",11166,""]
["Asia","India","Chittagong",22.21,91.49,35,136.4,146,177.7,190.5,191.1,167,140.6,145.80000000000001,146.80000000000001,148.5,144.5,137.69999999999999,1872.6,null,null,null,null,null,null,null,null,null,null,null,null,null,20.100000000000001,22.16,25.6,27.48,28.93,27.91,27.88,28.29,27.93,27.83,24.65,21.74,25.87,2.1,2.6,3.59,6.71,4.0999999999999996,5.7,5.09,4.59,3.6,3.11,2.1,2.1,3.78,null,167,"",null,"","India",{"$f":"IF(BN170>1,\"\",MAX(BM$3:BM169)+1)","v":""},{"$f":"IF(BL170=\"\",\"\",COUNTIF(BL$4:BL170,BL170))","v":3},42003,"Chittagong",null,null,70167,"",11167,""]
["Asia","India","Dacca",23.46,90.23,8,128.6,144.1,175.4,180.5,209.6,146.80000000000001,153.19999999999999,148,143.19999999999999,141.9,138.69999999999999,133.5,1843.5,null,null,null,null,null,null,null,null,null,null,null,null,null,19.399999999999999,21.47,26.21,28.07,28.73,28.3,28.77,28.69,28.62,27.62,23.66,20.440000000000001,25.83,1.55,1.75,2.0699999999999998,2.44,2.2999999999999998,2.3199999999999998,2.39,2.09,1.88,1.67,1.56,1.36,1.95,null,168,"",null,"","India",{"$f":"IF(BN171>1,\"\",MAX(BM$3:BM170)+1)","v":""},{"$f":"IF(BL171=\"\",\"\",COUNTIF(BL$4:BL171,BL171))","v":4},42004,"Dacca",null,null,70168,"",11168,""]
["Asia","India","Delhi",28.32,77.13,215,118,137,188,207,222,197,167,160,171,165,129,115,1976,39,40,51,58,67,72,77,72,58,45,37,35,651,14.7,17.3,22.7,28.8,32.5,32.9,30.3,29.9,29.5,26.2,20.9,16,25.14,3.1,3.6,3.6,3.6,3.6,3.6,2.1,2.1,3.1,2.1,2.1,2.6,2.93,null,169,"",null,"","India",{"$f":"IF(BN172>1,\"\",MAX(BM$3:BM171)+1)","v":""},{"$f":"IF(BL172=\"\",\"\",COUNTIF(BL$4:BL172,BL172))","v":5},42005,"Delhi",null,null,70169,"",11169,""]
["Asia","India","Madras",13.08,80.209999999999994,5,158,173,208,203,199,172,167,170,166,150,126,129,2021,57,46,56,61,69,75,80,80,73,74,66,63,800,26,27,27.9,29.5,31.4,30.4,29,29.1,29.8,29.4,27.5,26.8,28.65,2.6,2.6,3.1,3.6,3.1,4.0999999999999996,3.6,3.1,2.6,2.6,2.6,2.6,3.02,null,170,"",null,"","India",{"$f":"IF(BN173>1,\"\",MAX(BM$3:BM172)+1)","v":""},{"$f":"IF(BL173=\"\",\"\",COUNTIF(BL$4:BL173,BL173))","v":6},42006,"Madras",null,null,70170,"",11170,""]
["Asia","India","New Delhi",28.16,77.209999999999994,215,118,137,188,207,222,197,167,160,171,165,129,115,1976,40,41,52,58,67,72,77,72,59,46,37,35,656,14.7,17.3,22.7,28.8,32.5,32.9,30.3,29.9,29.5,26.2,20.9,16,25.14,3.1,3.6,3.6,3.6,3.6,3.6,2.1,2.1,3.1,2.1,2.1,2.6,2.93,null,171,"",null,"","India",{"$f":"IF(BN174>1,\"\",MAX(BM$3:BM173)+1)","v":""},{"$f":"IF(BL174=\"\",\"\",COUNTIF(BL$4:BL174,BL174))","v":7},42007,"New Delhi",null,null,70171,"",11171,""]
["Asia","Indonesia","Djakarta",-6.11,106.44,5,138,144,150,138,133,131,138,141,134,137,118,124,1626,68,65,70,64,61,57,60,64,64,67,62,64,766,27.2,26.9,26.9,27.3,27.2,26.8,26.1,26.5,27.9,28.9,28.6,28,27.36,3.1,3.6,3.6,3.1,3.1,3.1,3.6,3.6,3.6,2.6,2.6,3.6,3.27,null,172,"",null,43,"Indonesia",{"$f":"IF(BN175>1,\"\",MAX(BM$3:BM174)+1)","v":43},{"$f":"IF(BL175=\"\",\"\",COUNTIF(BL$4:BL175,BL175))","v":1},43001,"Djakarta",null,null,70172,"",11172,""]
["Asia","Irak","Bagdad",33.14,44.31,37,76,95,144,174,221,231,236,217,173,136,95,74,1872,36,40,54,59,59,55,55,51,47,43,35,33,567,8.6,11,14.7,20.2,24.6,29.6,32.5,31.6,28.8,23,16.3,11.2,21.01,4.4000000000000004,4.4000000000000004,4.5999999999999996,5.5,4.9000000000000004,5,4.9000000000000004,4.3,4.2,3.4,3.5,3.5,4.38,null,173,"",null,44,"Irak",{"$f":"IF(BN176>1,\"\",MAX(BM$3:BM175)+1)","v":44},{"$f":"IF(BL176=\"\",\"\",COUNTIF(BL$4:BL176,BL176))","v":1},44001,"Bagdad",null,null,70173,"",11173,""]
["Europe","Ireland","Dublin",53.07,-6.02,5,20,33,70,108,144,143,148,114,83,49,23,14,949,14,23,44,62,80,83,83,69,49,31,16,11,565,7,6.8,7.1,8.1999999999999993,10.3,13.5,15.5,15.8,14,11.5,8.6999999999999993,7.9,10.53,7.3,6.4,6.4,5.5,4.4000000000000004,4.9000000000000004,4.9000000000000004,4.9000000000000004,5.4,5.5,5.5,6.8,5.66,null,174,"",null,45,"Ireland",{"$f":"IF(BN177>1,\"\",MAX(BM$3:BM176)+1)","v":45},{"$f":"IF(BL177=\"\",\"\",COUNTIF(BL$4:BL177,BL177))","v":1},45001,"Dublin",null,null,70174,"",11174,""]
["Asia","Israel","Jerusalem",31.44,35.1,790,96,101,153,187,231,257,263,236,202,167,117,91,2101,39,43,58,63,64,52,52,53,43,39,35,35,576,7.9,8.4,10.7,15.1,19,21.2,22.9,23.4,22.3,19,14.5,9.5,16.16,5.0999999999999996,6.2,5.7,4.5999999999999996,4.5999999999999996,5.0999999999999996,5.0999999999999996,4.5999999999999996,4.0999999999999996,3.6,3.6,4.5999999999999996,4.74,null,175,"",null,46,"Israel",{"$f":"IF(BN178>1,\"\",MAX(BM$3:BM177)+1)","v":46},{"$f":"IF(BL178=\"\",\"\",COUNTIF(BL$4:BL178,BL178))","v":1},46001,"Jerusalem",null,null,70175,"",11175,""]
["Europe","Italy","Amendola",41.32,15.43,56,55.1,75.900000000000006,123.5,164.2,200.1,213.1,221.7,194.9,147.6,110.9,63.4,52.1,1622.4,null,null,null,null,null,null,null,null,null,null,null,null,null,6.3,6.9,8.8000000000000007,14,19,22.6,24.8,25.9,22.1,16,10.7,8.5,15.47,3.64,4.01,3.69,4.01,3.57,3.52,3.82,3.27,3.27,3.5,3.26,3.7,3.61,null,176,"",null,47,"Italy",{"$f":"IF(BN179>1,\"\",MAX(BM$3:BM178)+1)","v":47},{"$f":"IF(BL179=\"\",\"\",COUNTIF(BL$4:BL179,BL179))","v":1},47001,"Amendola",null,null,70176,"",11176,""]
["Europe","Italy","Ancona",43.37,13.31,105,39.4,56.4,105.7,141.1,179.3,188.6,202.4,172.6,130.30000000000001,82.6,47.5,36.5,1382.4,null,null,null,null,null,null,null,null,null,null,null,null,null,6.3,7.4,9.6,14,17.399999999999999,21.8,24.8,24.5,21.5,16.3,11.6,8,15.27,3.72,3.99,4.3099999999999996,4.72,3.37,2.97,3.3,2.87,3.01,4.71,4.0999999999999996,4.18,3.77,null,177,"",null,"","Italy",{"$f":"IF(BN180>1,\"\",MAX(BM$3:BM179)+1)","v":""},{"$f":"IF(BL180=\"\",\"\",COUNTIF(BL$4:BL180,BL180))","v":2},47002,"Ancona",null,null,70177,"",11177,""]
["Europe","Italy","Bari",41.07,16.52,28,57.3,83.3,140.6,188.6,230.6,245.5,255.2,219.5,164.9,121.3,69.8,56.5,1833.2,null,null,null,null,null,null,null,null,null,null,null,null,null,8.9,8.9,11.1,13.3,17.2,21.7,24.4,23.9,21.1,17.2,12.8,10,15.88,3.59,3.59,3.6,4.0999999999999996,3.6,3.6,4.0999999999999996,3.09,3.1,3.1,3.6,3.59,3.55,null,178,"",null,"","Italy",{"$f":"IF(BN181>1,\"\",MAX(BM$3:BM180)+1)","v":""},{"$f":"IF(BL181=\"\",\"\",COUNTIF(BL$4:BL181,BL181))","v":3},47003,"Bari",null,null,70178,"",11178,""]
["Europe","Italy","Bologna",44.32,11.18,49,37.200000000000003,47.7,87.8,118.8,153.30000000000001,171.4,180,156.19999999999999,111.6,71.400000000000006,37.4,29.8,1202.5999999999999,null,null,null,null,null,null,null,null,null,null,null,null,null,1.9,4.4000000000000004,9.4,14,20.100000000000001,21.8,24.3,24,21.2,14.3,8.5,3.8,13.97,3.62,3.63,3.61,3.61,3.59,3.6,3.6,3.59,3.12,3.62,3.62,3.13,3.53,null,179,"",null,"","Italy",{"$f":"IF(BN182>1,\"\",MAX(BM$3:BM181)+1)","v":""},{"$f":"IF(BL182=\"\",\"\",COUNTIF(BL$4:BL182,BL182))","v":4},47004,"Bologna",null,null,70179,"",11179,""]
["Europe","Italy","Genova",44.25,8.51,3,43.1,59.8,98.2,118.8,147.30000000000001,168.5,189.7,162.19999999999999,110.2,76.599999999999994,46.8,36.5,1257.7,null,null,null,null,null,null,null,null,null,null,null,null,null,8.9,8.9,11.7,13.3,17.2,20.6,23.9,24.4,21.7,17.2,12.2,9.4,15.78,7.19,6.7,5.09,4.5999999999999996,4.09,3.6,4.0999999999999996,4.5999999999999996,4.59,5.7,6.19,6.69,5.26,null,180,"",null,"","Italy",{"$f":"IF(BN183>1,\"\",MAX(BM$3:BM182)+1)","v":""},{"$f":"IF(BL183=\"\",\"\",COUNTIF(BL$4:BL183,BL183))","v":5},47005,"Genova",null,null,70180,"",11180,""]
["Europe","Italy","Milano",45.29,9.16,122,33,50,96,129,162,179,188,164,117,73,36,28,1255,20,29,48,62,76,78,78,68,53,38,22,17,589,2.8,4,7.1,10,14.8,18.600000000000001,21.7,21.5,18.600000000000001,12.7,6.7,3.2,11.81,3.1,3.1,4.0999999999999996,4.0999999999999996,3.1,2.6,2.6,2.6,2.6,2.6,3.1,2.6,3.02,null,181,"",null,"","Italy",{"$f":"IF(BN184>1,\"\",MAX(BM$3:BM183)+1)","v":""},{"$f":"IF(BL184=\"\",\"\",COUNTIF(BL$4:BL184,BL184))","v":6},47006,"Milano",null,null,70181,"",11181,""]
["Europe","Italy","Napoli",41.01,14.13,5,57,76,128,169,209,231,241,208,155,116,65,54,1709,27,34,48,56,63,56,52,51,45,36,29,24,521,9.4,9.1999999999999993,11.2,13.4,17.7,21.5,24.3,24.5,22,17.5,12.7,10.6,16.170000000000002,3.6,4.5999999999999996,3.6,3.6,3.6,3.6,3.6,3.6,3.6,3.6,2.6,3.6,3.6,null,182,"",null,"","Italy",{"$f":"IF(BN185>1,\"\",MAX(BM$3:BM184)+1)","v":""},{"$f":"IF(BL185=\"\",\"\",COUNTIF(BL$4:BL185,BL185))","v":7},47007,"Napoli",null,null,70182,"",11182,""]
["Europe","Italy","Palermo",38.04,13.38,5,67,85,133,170,204,218,220,194,153,114,73,59,1690,31,36,51,57,65,62,62,58,49,41,32,28,572,13.6,13.2,12.5,13.9,16.899999999999999,20.3,23.1,24.5,23.9,21.3,17.399999999999999,15.2,17.98,6.7,6.8,6.1,6.6,5.4,5.3,5.0999999999999996,5.0999999999999996,5.0999999999999996,4.4000000000000004,4.4000000000000004,6.3,5.61,null,183,"",null,"","Italy",{"$f":"IF(BN186>1,\"\",MAX(BM$3:BM185)+1)","v":""},{"$f":"IF(BL186=\"\",\"\",COUNTIF(BL$4:BL186,BL186))","v":8},47008,"Palermo",null,null,70183,"",11183,""]
["Europe","Italy","Pescara",42.26,14.12,16,46.1,65.900000000000006,114.6,155.5,191.2,209.5,217.3,186.7,140.4,101.9,56.2,46.1,1531.4,null,null,null,null,null,null,null,null,null,null,null,null,null,6.7,7.2,9.4,12.2,16.7,20.6,23.3,23.3,20,16.100000000000001,10.6,7.8,14.49,3.6,3.6,4.0999999999999996,4.5999999999999996,3.09,2.6,3.11,2.61,2.6,4.5999999999999996,3.6,4.09,3.52,null,184,"",null,"","Italy",{"$f":"IF(BN187>1,\"\",MAX(BM$3:BM186)+1)","v":""},{"$f":"IF(BL187=\"\",\"\",COUNTIF(BL$4:BL187,BL187))","v":9},47009,"Pescara",null,null,70184,"",11184,""]
["Europe","Italy","Pisa/S. Giusto",43.4,10.23,1,44.6,61.8,103.4,142.6,180.1,198.7,223.9,186.7,133.19999999999999,86.3,51.1,37.200000000000003,1449.7,null,null,null,null,null,null,null,null,null,null,null,null,null,6.7,7.8,10,12.2,16.100000000000001,20,22.8,23.3,20.6,16.100000000000001,10.6,7.8,14.5,3.59,3.59,3.6,3.6,3.59,3.59,3.6,3.6,3.09,3.6,3.59,3.1,3.51,null,185,"",null,"","Italy",{"$f":"IF(BN188>1,\"\",MAX(BM$3:BM187)+1)","v":""},{"$f":"IF(BL188=\"\",\"\",COUNTIF(BL$4:BL188,BL188))","v":10},47010,"Pisa/S. Giusto",null,null,70185,"",11185,""]
["Europe","Italy","Roma",42.11,12.28,15,56,71,120,153,191,203,217,189,141,99,61,48,1549,26,33,48,59,68,67,63,58,48,39,27,23,559,8,8.9,11,13.3,17.399999999999999,21.3,24.2,24.8,21.7,17.3,11.9,9.1999999999999993,15.75,2.6,4.5999999999999996,5.0999999999999996,4.5999999999999996,4.0999999999999996,4,4.0999999999999996,3.6,4.5,4.5999999999999996,5,2.7,4.12,null,186,"",null,"","Italy",{"$f":"IF(BN189>1,\"\",MAX(BM$3:BM188)+1)","v":""},{"$f":"IF(BL189=\"\",\"\",COUNTIF(BL$4:BL189,BL189))","v":11},47011,"Roma",null,null,70186,"",11186,""]
["Europe","Italy","Udine",46.02,13.11,92,40.200000000000003,57.8,90.8,125.3,148.80000000000001,162.69999999999999,177.8,154.69999999999999,108,75.2,41.8,27.5,1210.5999999999999,null,null,null,null,null,null,null,null,null,null,null,null,null,3.6,4.7,8.5,13.5,17.399999999999999,20.7,22.9,22.6,20.100000000000001,14,9.6,5.5,13.59,5.05,5.24,4.5599999999999996,5.1100000000000003,4.43,4.13,3.96,3.96,4.41,4.76,5.75,4.93,4.6900000000000004,null,187,"",null,"","Italy",{"$f":"IF(BN190>1,\"\",MAX(BM$3:BM189)+1)","v":""},{"$f":"IF(BL190=\"\",\"\",COUNTIF(BL$4:BL190,BL190))","v":12},47012,"Udine",null,null,70187,"",11187,""]
["Asia","Japan","Hiroshima",34.229999999999997,132.19,5,67,76,110,130,153,139,147,154,112,102,71,63,1324,42,48,66,76,87,88,89,80,68,55,43,38,780,6.4,6.1,7.8,12.1,16.2,20.100000000000001,24.6,26.3,23.5,18.5,13.7,9.1999999999999993,15.38,3,3.5,3.6,4.0999999999999996,3.8,3.9,3.7,3.6,3.3,2.6,2.5,2.9,3.37,null,188,"",null,48,"Japan",{"$f":"IF(BN191>1,\"\",MAX(BM$3:BM190)+1)","v":48},{"$f":"IF(BL191=\"\",\"\",COUNTIF(BL$4:BL191,BL191))","v":1},48001,"Hiroshima",null,null,70188,"",11188,""]
["Asia","Japan","Kyoto",34.56,135.59,100,64,72,103,120,136,117,130,137,102,85,63,56,1185,44,50,70,81,93,90,94,87,72,59,44,39,823,4.2,4.5999999999999996,7.7,13.7,18,22.3,25.9,28.2,23.9,17.399999999999999,12.6,7.1,15.47,3.1,3.6,4.0999999999999996,4.5999999999999996,3.6,4.0999999999999996,3.6,3.6,3.1,3.1,2.1,2.6,3.43,null,189,"",null,"","Japan",{"$f":"IF(BN192>1,\"\",MAX(BM$3:BM191)+1)","v":""},{"$f":"IF(BL192=\"\",\"\",COUNTIF(BL$4:BL192,BL192))","v":2},48002,"Kyoto",null,null,70189,"",11189,""]
["Asia","Japan","Sapporo",43.05,141.30000000000001,17,51,69,109,130,155,155,149,129,109,82,49,42,1229,32,40,61,77,92,94,95,84,65,50,34,28,752,-4.7,-4.9000000000000004,-0.7,6.6,11.9,16.8,20.8,22.1,17.899999999999999,11.2,4.7,-1.3,8.3699999999999992,6.7,6.2,6.7,8.1999999999999993,6.7,6.2,5.7,5.7,5.0999999999999996,5.7,6.7,6.2,6.32,null,190,"",null,"","Japan",{"$f":"IF(BN193>1,\"\",MAX(BM$3:BM192)+1)","v":""},{"$f":"IF(BL193=\"\",\"\",COUNTIF(BL$4:BL193,BL193))","v":3},48003,"Sapporo",null,null,70190,"",11190,""]
["Asia","Japan","Tokyo",35.340000000000003,139.51,5,79,86,115,128,150,127,128,141,97,87,69,68,1275,41,49,70,81,93,92,93,87,71,59,44,38,818,3.1,3.5,6,11.3,15.5,19.3,23.5,25.1,21.7,15.9,10.9,5.7,13.46,2.8,3,3.1,3.6,3.3,3.1,3,3,2.5,2.8,2.4,2.6,2.93,null,191,"",null,"","Japan",{"$f":"IF(BN194>1,\"\",MAX(BM$3:BM193)+1)","v":""},{"$f":"IF(BL194=\"\",\"\",COUNTIF(BL$4:BL194,BL194))","v":4},48004,"Tokyo",null,null,70191,"",11191,""]
["Asia","Jordania","Amman",31.46,36.11,918,93,103,155,191,232,255,261,235,199,161,115,88,2088,39,43,57,61,64,53,53,54,45,41,35,35,580,7,8,10.3,14.6,18.2,20.9,22.9,23,21.6,18.2,13.4,8.6999999999999993,15.57,4.7,5.3,5.2,4.7,4.5,4.9000000000000004,5,4.7,3.9,3,3.1,3.9,4.41,null,192,"",null,49,"Jordania",{"$f":"IF(BN195>1,\"\",MAX(BM$3:BM194)+1)","v":49},{"$f":"IF(BL195=\"\",\"\",COUNTIF(BL$4:BL195,BL195))","v":1},49001,"Amman",null,null,70192,"",11192,""]
["Africa","Kenya","Nairobi",-1.2,36.54,1640,185,170,185,154,143,122,118,126,151,170,157,171,1852,68,64,72,72,71,67,71,75,74,76,73,71,854,19.899999999999999,20.5,21,20.5,19.3,17.7,17.100000000000001,17.100000000000001,18.8,19.899999999999999,19.3,19.3,19.2,6.2,6.2,6.2,5.0999999999999996,4.0999999999999996,3.6,3.1,3.6,5.0999999999999996,5.7,5.7,6.2,5.07,null,193,{"$f":"IF(BH196>MAX(BK$4:BK$940),\"\",VLOOKUP(BH196,BK$4:BL$940,2,FALSE))","v":""},null,50,"Kenya",{"$f":"IF(BN196>1,\"\",MAX(BM$3:BM195)+1)","v":50},{"$f":"IF(BL196=\"\",\"\",COUNTIF(BL$4:BL196,BL196))","v":1},{"$f":"IF(BL196=\"\",\"\",thousand*VLOOKUP(BL196,BL$4:BM$940,2,FALSE)+BN196)","v":50001},"Nairobi",null,null,{"$f":"country*thousand+BH196","v":70193},{"$f":"IF(COUNTIF(BO$4:BO$940,BS196)>0,VLOOKUP(BS196,BO$4:BP$940,2,FALSE),\"\")","v":""},{"$f":"BU$1*thousand+BH196","v":11193},{"$f":"IF(COUNTIF(BO$4:BO$940,BU196)>0,VLOOKUP(BU196,BO$4:BP$940,2,FALSE),\"\")","v":""}]
["Asia","Korea","Pyongyang",39.119999999999997,125.5,27,65,81,118,136,155,150,115,122,118,100,69,55,1284,34,40,60,73,86,88,86,80,63,48,35,31,724,-6,-2.7,3.4,10.7,16.7,21.1,24.4,24.5,19.5,12.9,4.5,-2.7,10.53,3.1,3.6,3.6,3.6,3.1,2.6,2.1,2.1,2.6,3.1,3.6,3.6,3.06,null,194,"",null,{"$f":"BM197","v":51},{"$f":"IF(B197=\"\",\"\",B197)","v":"Korea"},{"$f":"IF(BN197>1,\"\",MAX(BM$3:BM196)+1)","v":51},{"$f":"IF(BL197=\"\",\"\",COUNTIF(BL$4:BL197,BL197))","v":1},51001,{"$f":"IF(C197=\"\",\"\",C197)","v":"Pyongyang"},null,null,70194,"",11194,""]
["Asia","Korea","Seoul",37.28,126.55,86,62,81,115,138,143,138,112,110,107,93,63,52,1214,40,47,67,80,93,94,89,84,70,57,41,36,798,-1.9,0.1,5.5,12.1,17.5,21.8,24.7,25.5,21.2,15.1,7.5,1,12.51,3.6,3.6,3.6,3.6,3.6,3.1,2.1,2.1,2.1,1.5,1.5,3.1,2.79,null,195,"",null,"","Korea",{"$f":"IF(BN198>1,\"\",MAX(BM$3:BM197)+1)","v":""},{"$f":"IF(BL198=\"\",\"\",COUNTIF(BL$4:BL198,BL198))","v":2},51002,"Seoul",null,null,70195,"",11195,""]
["Pacific","France - La Réunion","Gillot",-20.52,55.31,14,199,163,179,140,130,117,125,147,159,182,193,197,1931,85,76,70,61,50,43,47,53,64,77,78,87,791,27.3,27.6,27,26.5,24.5,22.6,22.1,22.3,23.2,24.3,26.2,26.2,24.98,4.4000000000000004,4,4.3,4.4000000000000004,4.9000000000000004,5.0999999999999996,5.5,5.8,5.3,5.0999999999999996,4.5999999999999996,4.2,4.8,null,196,"",null,"","France - La Réunion",{"$f":"IF(BN199>1,\"\",MAX(BM$3:BM198)+1)","v":""},{"$f":"IF(BL199=\"\",\"\",COUNTIF(BL$4:BL199,BL199))","v":2},32002,"Gillot",null,null,70196,"",11196,""]
["Asia","Lebanon","Bayrouth",33.549999999999997,35.42,5,72,96,141,162,204,217,217,195,159,129,91,73,1756,35,39,54,62,65,61,63,60,51,44,34,32,600,14.2,14.1,14.6,16.899999999999999,19.5,22.4,24.9,26.1,26.1,24.3,20.100000000000001,16.5,19.97,2.2000000000000002,1.6,2.2000000000000002,5.7,4.5999999999999996,4.5999999999999996,5.0999999999999996,4.5999999999999996,4.0999999999999996,2.1,2.1,1.5,3.37,null,197,"",null,52,"Lebanon",{"$f":"IF(BN200>1,\"\",MAX(BM$3:BM199)+1)","v":52},{"$f":"IF(BL200=\"\",\"\",COUNTIF(BL$4:BL200,BL200))","v":1},52001,"Bayrouth",null,null,70197,"",11197,""]
["Europe","Lettonia","Riga",56.52,24.04,10,15,33,72,110,162,167,164,130,76,41,16,9,995,10,20,40,59,78,83,82,67,45,27,12,7,530,-3.2,-4,-1.2,4.5999999999999996,10.4,14.1,15.7,15.5,12.5,8.6,3.2,-0.8,6.28,5.5,5,5.0999999999999996,5,4.8,4.5,4.2,4.2,4.4000000000000004,4.8,5.5,5.9,4.91,null,198,"",null,53,"Lettonia",{"$f":"IF(BN201>1,\"\",MAX(BM$3:BM200)+1)","v":53},{"$f":"IF(BL201=\"\",\"\",COUNTIF(BL$4:BL201,BL201))","v":1},53001,"Riga",null,null,70198,"",11198,""]
["Africa","Madagascar","Tananarive",-18.489999999999998,47.27,1305,192,169,170,155,138,124,129,150,182,208,193,189,1999,87,76,77,63,55,49,53,60,65,76,83,89,833,21.7,21.7,21.1,20.6,18.3,16.100000000000001,15,16.100000000000001,17.8,19.399999999999999,20.6,21.1,19.13,4.0999999999999996,4.0999999999999996,3.6,3.6,3.6,3.6,4.0999999999999996,4.0999999999999996,4.5999999999999996,4.0999999999999996,4.0999999999999996,4.0999999999999996,3.97,null,199,"",null,54,"Madagascar",{"$f":"IF(BN202>1,\"\",MAX(BM$3:BM201)+1)","v":54},{"$f":"IF(BL202=\"\",\"\",COUNTIF(BL$4:BL202,BL202))","v":1},54001,"Tananarive",null,null,70199,"",11199,""]
["Asia","Malaysia","Kuala Lumpur",2.56,101.59,50,122,130,146,135,135,132,135,137,131,134,119,119,1575,82,77,88,84,83,78,81,85,84,86,80,80,988,27.4,27.7,27.2,27.5,27.4,26.5,26.4,26.8,27.6,28.1,27.7,27.7,27.33,3.1,3.6,2.1,2.1,3,3.1,3.5,3.6,3.1,2.6,2.6,2.1,2.87,null,200,"",null,55,"Malaysia",{"$f":"IF(BN203>1,\"\",MAX(BM$3:BM202)+1)","v":55},{"$f":"IF(BL203=\"\",\"\",COUNTIF(BL$4:BL203,BL203))","v":1},55001,"Kuala Lumpur",null,null,70200,"",11200,""]
["Asia","Malaysia","Kota Kinabalu",5.93,116.05,2,136.80000000000001,133.1,165.8,170.6,154.69999999999999,144.69999999999999,155.5,153.19999999999999,149,148.69999999999999,136.1,133.9,1782,70.2,68.400000000000006,94.8,77.8,74.099999999999994,75.8,79.099999999999994,88.9,73,83.9,79.5,70.7,936.4,26.63,26.87,27.58,27.8,28.15,27.38,27.71,27.68,27.03,26.98,26.68,26.99,27.29,1.81,1.71,1.91,2.02,2.0099999999999998,2.11,2.21,2.31,2.21,2.21,2.0099999999999998,1.91,2.04,null,201,"",null,"","Malaysia",{"$f":"IF(BN204>1,\"\",MAX(BM$3:BM203)+1)","v":""},{"$f":"IF(BL204=\"\",\"\",COUNTIF(BL$4:BL204,BL204))","v":2},55002,"Kota Kinabalu",null,null,70201,"",11201,""]
["Asia","Malaysia","Brunei Airport",4.93,114.93,15,133.6,129.30000000000001,161.9,160.5,155.4,147.1,153,155.80000000000001,144.69999999999999,146.69999999999999,133.9,135.19999999999999,1757.1,77.8,77.2,82.9,81.5,80.3,72.099999999999994,89.4,84.5,80.400000000000006,77.2,70.400000000000006,69.5,943.3,27,27.04,27.69,27.68,28.07,27.38,27.73,27.68,27.16,27.08,26.78,27.05,27.36,2.79,2.79,2.5,2.31,2.21,2.21,2.21,2.42,2.31,2.42,2.31,2.31,2.4,null,202,"",null,"","Malaysia",{"$f":"IF(BN205>1,\"\",MAX(BM$3:BM204)+1)","v":""},{"$f":"IF(BL205=\"\",\"\",COUNTIF(BL$4:BL205,BL205))","v":3},55003,"Brunei Airport",null,null,70202,"",11202,""]
["Africa","Mali","Bamako",12.45,-7.48,480,176,182,202,193,194,181,168,162,173,181,175,166,2153,58,55,71,74,78,76,81,81,74,69,57,58,832,24,26.4,28.9,29.7,29.1,27.3,25.6,25.3,25.7,26.8,26.6,24.3,26.64,1.4,1.4,2.5,2.2999999999999998,2.8,2.6,2.2999999999999998,2,1.6,1.3,1,0.7,1.82,null,203,"",null,56,"Mali",{"$f":"IF(BN206>1,\"\",MAX(BM$3:BM205)+1)","v":56},{"$f":"IF(BL206=\"\",\"\",COUNTIF(BL$4:BL206,BL206))","v":1},56001,"Bamako",null,null,70203,"",11203,""]
["North_America","Mexico","Mexico City",19.190000000000001,-99.09,2277,141,151,184,182,173,163,159,153,132,141,130,134,1843,56,56,71,76,84,81,83,81,73,69,58,54,842,13.9,15,17.2,18.899999999999999,19.399999999999999,19.399999999999999,18.3,18.3,17.8,17.2,15.6,14.4,17.12,4.0999999999999996,5.0999999999999996,5.0999999999999996,4.0999999999999996,4.5999999999999996,4.5999999999999996,4.5999999999999996,4.5999999999999996,4.5999999999999996,4.5999999999999996,4.0999999999999996,3.1,4.43,null,204,"",null,57,"Mexico",{"$f":"IF(BN207>1,\"\",MAX(BM$3:BM206)+1)","v":57},{"$f":"IF(BL207=\"\",\"\",COUNTIF(BL$4:BL207,BL207))","v":1},57001,"Mexico City",null,null,70204,"",11204,""]
["Africa","Morocco","Casablanca",33.29,-7.33,5,86,100,150,176,205,207,214,199,161,126,89,77,1790,38,43,58,66,74,74,73,68,58,50,39,35,676,13,14.1,14.7,15.9,18.100000000000001,20.3,23.1,23.1,22.5,19.2,16.3,14.1,17.87,3.1,2.6,4.0999999999999996,4.5999999999999996,4.5999999999999996,4.0999999999999996,4.0999999999999996,4.0999999999999996,4.0999999999999996,3.6,3.1,3.1,3.77,null,205,"",null,58,"Morocco",{"$f":"IF(BN208>1,\"\",MAX(BM$3:BM207)+1)","v":58},{"$f":"IF(BL208=\"\",\"\",COUNTIF(BL$4:BL208,BL208))","v":1},58001,"Casablanca",null,null,70205,"",11205,""]
["Africa","Namibia","Windhoek",-22.23,16.54,1728,224.8,198.1,197,181.1,167,149.1,160,184.1,206.1,230.9,224.1,241,2363.1999999999998,72.2,61,60,41,30.1,25.1,27.1,34,42.9,57,66,70,586.20000000000005,25,23.3,22.2,20,17.2,13.9,13.9,16.7,20.6,22.8,25,25.6,20.52,4.0999999999999996,3.1,3.1,2.6,3.1,3.1,3.1,3.1,3.1,3.6,4.0999999999999996,4.0999999999999996,3.35,null,206,"",null,59,"Namibia",{"$f":"IF(BN209>1,\"\",MAX(BM$3:BM208)+1)","v":59},{"$f":"IF(BL209=\"\",\"\",COUNTIF(BL$4:BL209,BL209))","v":1},59001,"Windhoek",null,null,70206,"",11206,""]
["Asia","Nepal","Kathmandu",27.5,85.05,1478,129,140,166,189,181,141,135,138,124,141,134,124,1742,44,46,67,73,85,82,82,79,70,61,43,39,771,10,12.2,15.6,19.399999999999999,21.7,23.9,23.9,23.9,22.2,19.399999999999999,15,11.1,18.190000000000001,1.8,2,2.4,2.7,2.9,2.6,2,2,2.1,1.6,1.6,1.7,2.12,null,207,"",null,60,"Nepal",{"$f":"IF(BN210>1,\"\",MAX(BM$3:BM209)+1)","v":60},{"$f":"IF(BL210=\"\",\"\",COUNTIF(BL$4:BL210,BL210))","v":1},60001,"Kathmandu",null,null,70207,"",11207,""]
["Europe","Netherlands","Amsterdam",52.35,4.49,5,20,41,74,120,161,157,158,135,88,52,24,14,1044,14,25,45,63,79,84,83,70,50,32,17,11,573,4.4000000000000004,3.6,5.2,6.9,11.2,13.9,16.3,16.600000000000001,14.7,11.6,7.6,5.8,9.82,7.4,5.7,7.6,5.4,5.7,4.9000000000000004,5.4,5.3,5.8,4.5999999999999996,5.0999999999999996,7.1,5.83,null,208,"",null,61,"Netherlands",{"$f":"IF(BN211>1,\"\",MAX(BM$3:BM210)+1)","v":61},{"$f":"IF(BL211=\"\",\"\",COUNTIF(BL$4:BL211,BL211))","v":1},61001,"Amsterdam",null,null,70208,"",11208,""]
["Europe","Netherlands","De Bilt",52.06,5.1100000000000003,40,18.600000000000001,39.5,66.099999999999994,109.2,144.80000000000001,140.4,148.69999999999999,127.8,82.7,52,25.9,15.5,971.2,null,null,null,null,null,null,null,null,null,null,null,null,null,2.14,2.37,4.99,7.88,12.26,15.07,16.91,16.850000000000001,13.84,10.59,5.69,3.3,9.32,3.8,3.7,3.9,3.61,3.09,2.99,2.99,2.69,2.69,2.99,3.6,3.79,3.32,null,209,"",null,"","Netherlands",{"$f":"IF(BN212>1,\"\",MAX(BM$3:BM211)+1)","v":""},{"$f":"IF(BL212=\"\",\"\",COUNTIF(BL$4:BL212,BL212))","v":2},61002,"De Bilt",null,null,70209,"",11209,""]
["Europe","Netherlands","De Kooy",52.55,4.47,0,20,41.4,76.5,122.8,166.5,163.4,160.69999999999999,137.6,89.8,51.2,23.7,14.1,1067.5999999999999,null,null,null,null,null,null,null,null,null,null,null,null,null,2.81,2.46,4.57,7.26,11.38,13.91,16.29,16.59,14.35,11.35,7.01,4.13,9.34,7.3,7.2,7,6.6,6.09,5.8,5.99,5.9,5.8,6.3,7.39,7.3,6.56,null,210,"",null,"","Netherlands",{"$f":"IF(BN213>1,\"\",MAX(BM$3:BM212)+1)","v":""},{"$f":"IF(BL213=\"\",\"\",COUNTIF(BL$4:BL213,BL213))","v":3},61003,"De Kooy",null,null,70210,"",11210,""]
["Australia","New Zealand","Auckland",-37.22,175.05,5,204,157,143,102,71,55,67,87,116,157,177,199,1535,79,65,59,43,33,27,30,40,52,68,77,85,658,20,20,18.899999999999999,16.100000000000001,13.9,12.2,11.1,11.7,12.8,14.4,16.100000000000001,17.8,15.42,7.7,6.7,6.7,6.2,6.7,6.2,6.7,6.7,6.7,7.2,7.7,6.7,6.82,null,211,"",null,62,"New Zealand",{"$f":"IF(BN214>1,\"\",MAX(BM$3:BM213)+1)","v":62},{"$f":"IF(BL214=\"\",\"\",COUNTIF(BL$4:BL214,BL214))","v":1},62001,"Auckland",null,null,70211,"",11211,""]
["Australia","New Zealand","Auckland Airp.",-37.01,174.48,6,205.2,154.5,139.80000000000001,99.2,72.099999999999994,54.3,66.2,86.9,118.1,159.1,178.5,199.3,1533.2,null,null,null,null,null,null,null,null,null,null,null,null,null,19.559999999999999,19.809999999999999,18.84,16.05,13.4,11.22,10.44,11.28,12.58,14.32,15.92,17.989999999999998,15.12,7.7,6.7,6.69,6.18,6.7,6.2,6.7,6.69,6.7,7.2,7.69,6.7,6.82,null,212,"",null,"","New Zealand",{"$f":"IF(BN215>1,\"\",MAX(BM$3:BM214)+1)","v":""},{"$f":"IF(BL215=\"\",\"\",COUNTIF(BL$4:BL215,BL215))","v":2},62002,"Auckland Airp.",null,null,70212,"",11212,""]
["Australia","New Zealand","Christchurch Airp.",-43.29,172.32,34,199.3,146.5,120.5,84,51.9,37.4,44.6,66.8,103.5,144.19999999999999,171.3,188.9,1358.8,null,null,null,null,null,null,null,null,null,null,null,null,null,17.29,16.559999999999999,15.31,11.98,8.77,6.09,5.78,7.25,9.32,11.88,13.69,15.97,11.66,6.19,6.2,5.7,5.09,4.5999999999999996,4.5999999999999996,4.59,5.09,5.09,5.7,5.69,5.7,5.35,null,213,"",null,"","New Zealand",{"$f":"IF(BN216>1,\"\",MAX(BM$3:BM215)+1)","v":""},{"$f":"IF(BL216=\"\",\"\",COUNTIF(BL$4:BL216,BL216))","v":3},62003,"Christchurch Airp.",null,null,70213,"",11213,""]
["Australia","New Zealand","Invercargill Airp.",-46.25,168.19,4,167.4,131.69999999999999,106.3,66.8,39.299999999999997,30.2,36.299999999999997,60.9,92.8,136,169.2,181.4,1218.4000000000001,null,null,null,null,null,null,null,null,null,null,null,null,null,14.21,13.68,12.67,10.17,7.66,5.36,5.16,6.35,8.19,9.86,11.29,13.03,9.8000000000000007,9.8000000000000007,9.2899999999999991,8.6999999999999993,9.2899999999999991,9.3000000000000007,3.6,3.6,4.0999999999999996,8.69,9.3000000000000007,9.3000000000000007,9.8000000000000007,7.9,null,214,"",null,"","New Zealand",{"$f":"IF(BN217>1,\"\",MAX(BM$3:BM216)+1)","v":""},{"$f":"IF(BL217=\"\",\"\",COUNTIF(BL$4:BL217,BL217))","v":4},62004,"Invercargill Airp.",null,null,70214,"",11214,""]
["Australia","New Zealand","Ohakea",-40.119999999999997,175.23,55,209.7,161.9,136.80000000000001,96.3,60.9,46.7,55.7,78.099999999999994,106.5,144.9,180.6,200.9,1479.1,null,null,null,null,null,null,null,null,null,null,null,null,null,17.93,18.010000000000002,16.920000000000002,13.97,11.29,9.09,8.4600000000000009,9.43,10.84,12.74,14.31,16.41,13.28,7.2,7.2,6.7,3.09,8.1999999999999993,3.1,3.1,3.1,8.6999999999999993,9.3000000000000007,8.6999999999999993,8.6999999999999993,6.42,null,215,"",null,"","New Zealand",{"$f":"IF(BN218>1,\"\",MAX(BM$3:BM217)+1)","v":""},{"$f":"IF(BL218=\"\",\"\",COUNTIF(BL$4:BL218,BL218))","v":5},62005,"Ohakea",null,null,70215,"",11215,""]
["Australia","New Zealand","Wellington",-41.19,174.46,6,209.7,157.9,128.5,87.7,57.1,39.6,48.3,69.099999999999994,103.6,142.80000000000001,167.7,192.6,1404.7,null,null,null,null,null,null,null,null,null,null,null,null,null,18.11,18,16.8,14.13,11.95,9.94,9.2100000000000009,9.77,10.98,12.79,14.26,16.43,13.53,6.8,6.5,6.79,6.4,6.49,6.6,5.99,6.5,6.79,7.5,7.6,7.6,6.8,null,216,"",null,"","New Zealand",{"$f":"IF(BN219>1,\"\",MAX(BM$3:BM218)+1)","v":""},{"$f":"IF(BL219=\"\",\"\",COUNTIF(BL$4:BL219,BL219))","v":6},62006,"Wellington",null,null,70216,"",11216,""]
["Australia","New-Guinea","Port Moresby",-9.4,147.32,5,182,160,176,170,157,150,147,175,183,203,210,200,2113,69,62,65,53,50,42,50,49,54,58,53,62,667,28.4,27.5,27,26.8,26.7,25.2,24.6,25.5,26.9,27.9,28.7,28.7,26.99,3.1,3.1,2.1,2.6,3.1,3.6,3.6,3.6,3.6,3.6,3.6,2.1,3.14,null,217,"",null,63,"New-Guinea",{"$f":"IF(BN220>1,\"\",MAX(BM$3:BM219)+1)","v":63},{"$f":"IF(BL220=\"\",\"\",COUNTIF(BL$4:BL220,BL220))","v":1},63001,"Port Moresby",null,null,70217,"",11217,""]
["North_America","Nicaragua","Managua",12.19,-86.11,54,150,153,185,176,162,144,157,156,139,143,132,140,1837,65,64,76,77,81,77,80,80,75,73,65,63,876,28.6,28.7,29.4,30,29.7,28.7,29,29,28.2,28.4,28.9,28.6,28.93,4.0999999999999996,4.0999999999999996,3.6,3.6,3.1,2.6,3.6,2.6,2.6,2.6,2.6,4.5999999999999996,3.31,null,218,"",null,64,"Nicaragua",{"$f":"IF(BN221>1,\"\",MAX(BM$3:BM220)+1)","v":64},{"$f":"IF(BL221=\"\",\"\",COUNTIF(BL$4:BL221,BL221))","v":1},64001,"Managua",null,null,70218,"",11218,""]
["Africa","Nigeria","Benin City",6.33,5.37,156,138,134,151,146,150,130,114,110,120,135,145,138,1611,78,74,87,84,84,81,83,83,83,84,73,75,969,26.5,27.3,27.6,27.6,27,25.6,24.5,24.5,25.1,25.9,26.8,26.2,26.22,2.6,2.6,2.6,2.6,2.1,2.1,4.5999999999999996,5.0999999999999996,5.0999999999999996,2.6,4.5999999999999996,2.1,3.22,null,219,"",null,65,"Nigeria",{"$f":"IF(BN222>1,\"\",MAX(BM$3:BM221)+1)","v":65},{"$f":"IF(BL222=\"\",\"\",COUNTIF(BL$4:BL222,BL222))","v":1},65001,"Benin City",null,null,70219,"",11219,""]
["Africa","Nigeria","Port Harcourt",4.46,7.01,15,130.19999999999999,125,139.9,134.5,136.9,115.9,108.6,107.1,118.1,122,120.9,130.80000000000001,1489.9,null,null,null,null,null,null,null,null,null,null,null,null,null,26.22,27.58,26.82,26.95,26.86,25.54,25.47,25.15,25.29,25.66,26.14,26.2,26.16,0.88,1.02,1.08,1.04,1.01,0.98,0.91,0.93,1,0.93,0.86,0.73,0.95,null,220,"",null,"","Nigeria",{"$f":"IF(BN223>1,\"\",MAX(BM$3:BM222)+1)","v":""},{"$f":"IF(BL223=\"\",\"\",COUNTIF(BL$4:BL223,BL223))","v":2},65002,"Port Harcourt",null,null,70220,"",11220,""]
["Europe","Norway","Oslo",59.53,10.41,5,11,28,66,106,172,166,169,131,78,37,15,8,987,8,18,39,59,72,84,80,66,44,25,10,5,510,-1.7,-2.4,0.3,4.7,10.1,13.9,17,16.2,13.2,8.6999999999999993,3.7,0.8,7.04,5.6,5.4,5.7,5.8,4.7,4.5999999999999996,4.2,4.5999999999999996,4.8,4.5999999999999996,5,5.5,5.04,null,221,"",null,66,"Norway",{"$f":"IF(BN224>1,\"\",MAX(BM$3:BM223)+1)","v":66},{"$f":"IF(BL224=\"\",\"\",COUNTIF(BL$4:BL224,BL224))","v":1},66001,"Oslo",null,null,70221,"",11221,""]
["Africa","Ouganda","Entebbe",0.03,32.369999999999997,1155,150,140,160,143,141,136,138,146,149,153,144,141,1741,68,63,71,66,65,61,63,67,67,70,66,66,793,22.1,22.1,22.3,21.8,21.8,21.2,20.7,20.7,21,21.5,21.8,21.8,21.57,4,4,3.8,3.7,3.6,3.6,3.6,3.8,3.8,3.7,3.8,3.8,3.77,null,222,"",null,67,"Ouganda",{"$f":"IF(BN225>1,\"\",MAX(BM$3:BM224)+1)","v":67},{"$f":"IF(BL225=\"\",\"\",COUNTIF(BL$4:BL225,BL225))","v":1},67001,"Entebbe",null,null,70222,"",11222,""]
["Asia","Pakistan","Karachi",25.03,66.58,5,126,127,164,184,192,181,148,148,168,160,125,112,1835,50,54,70,75,84,83,84,81,70,60,50,48,809,20.6,22.1,24.7,27.9,29.3,30,28.5,28.1,29.9,29.5,25.9,21.9,26.53,3.1,3.1,3.6,3.6,4.0999999999999996,4.0999999999999996,4.5999999999999996,4.0999999999999996,3.6,3.1,3.1,3.1,3.6,null,223,"",null,68,"Pakistan",{"$f":"IF(BN226>1,\"\",MAX(BM$3:BM225)+1)","v":68},{"$f":"IF(BL226=\"\",\"\",COUNTIF(BL$4:BL226,BL226))","v":1},68001,"Karachi",null,null,70223,"",11223,""]
["Asia","Pakistan","Lahore",31.41,74.290000000000006,214,89,111,153,167,190,191,171,172,163,130,97,86,1720,44,48,66,75,85,84,87,80,66,57,44,40,776,12.7,15,20,26.1,30.9,33.299999999999997,32,31.1,29.6,25.2,18.8,14.2,24.07,1.8,2.2000000000000002,2.2999999999999998,2.2999999999999998,2.4,2.7,2.2999999999999998,2.2999999999999998,2.2000000000000002,1.6,1.6,1.7,2.12,null,224,"",null,"","Pakistan",{"$f":"IF(BN227>1,\"\",MAX(BM$3:BM226)+1)","v":""},{"$f":"IF(BL227=\"\",\"\",COUNTIF(BL$4:BL227,BL227))","v":2},68002,"Lahore",null,null,70224,"",11224,""]
["South_America","Peru","Lima",-12.1,-76.39,10,178,168,190,182,168,157,149,172,189,202,187,190,2132,71,61,60,45,41,34,45,47,50,59,64,68,645,21.7,23,23.7,22.8,21.4,20.2,19.5,18.2,16.899999999999999,17.3,18.600000000000001,19.899999999999999,20.27,4.5999999999999996,4.0999999999999996,4.0999999999999996,4.0999999999999996,4.0999999999999996,3.6,3.6,3.6,4.0999999999999996,4.0999999999999996,4.0999999999999996,4.5999999999999996,4.0599999999999996,null,225,"",null,69,"Peru",{"$f":"IF(BN228>1,\"\",MAX(BM$3:BM227)+1)","v":69},{"$f":"IF(BL228=\"\",\"\",COUNTIF(BL$4:BL228,BL228))","v":1},69001,"Lima",null,null,70225,"",11225,""]
["Asia","Philippines","Manila/Naia",14.52,121,15,128.69999999999999,135,179.9,187.9,174.1,165.6,149.5,130.19999999999999,140.9,132.4,128.19999999999999,126.5,1778.9,69,59.2,75.900000000000006,72.900000000000006,83.3,86.2,86.7,83.4,81.599999999999994,78.2,67.599999999999994,61.5,905.6,26.26,26.78,27.95,29.2,29.4,28.21,27.87,27.55,27.08,27.72,26.97,26.41,27.62,2.7,3,3.2,3.21,2.99,2.7,2.9,2.9,2.7,2.11,2.21,2.31,2.74,null,226,"",null,70,"Philippines",{"$f":"IF(BN229>1,\"\",MAX(BM$3:BM228)+1)","v":70},{"$f":"IF(BL229=\"\",\"\",COUNTIF(BL$4:BL229,BL229))","v":1},70001,"Manila/Naia",null,null,70226,"",11226,""]
["Asia","Philippines","Calapan/Mindoro",14.63,121.01,41,116.8,122.3,162,173.3,159.69999999999999,142.5,130.19999999999999,120.5,123,119.7,114.5,113,1597.7,63.3,67.7,81.8,84.5,86.6,85.9,90.4,81.3,71,70,69,62.5,914,25.56,26.14,27.37,28.55,29.09,27.68,27.5,27.38,26.7,27.04,26.26,25.66,27.08,0.69,0.8,0.9,1,1.1000000000000001,1.01,1.2,1.2,0.9,0.72,0.81,0.81,0.93,null,227,"",null,"","Philippines",{"$f":"IF(BN230>1,\"\",MAX(BM$3:BM229)+1)","v":""},{"$f":"IF(BL230=\"\",\"\",COUNTIF(BL$4:BL230,BL230))","v":2},70002,"Calapan/Mindoro",null,null,70227,"",11227,""]
["Europe","Poland","Gdansk",54.12,18.489999999999998,5,15,31,68,114,171,162,164,128,79,50,20,13,1015,12,21,43,61,77,84,82,69,48,31,15,9,552,-0.1,-0.8,1.3,4.5,9.6999999999999993,12.6,14.5,15.2,12.6,8.9,4.2,1.8,7.03,8.1999999999999993,6.7,7.2,6.2,4.0999999999999996,5.0999999999999996,5.0999999999999996,5.0999999999999996,5.7,5.0999999999999996,6.2,7.7,6.03,null,228,"",null,71,"Poland",{"$f":"IF(BN231>1,\"\",MAX(BM$3:BM230)+1)","v":71},{"$f":"IF(BL231=\"\",\"\",COUNTIF(BL$4:BL231,BL231))","v":1},71001,"Gdansk",null,null,70228,"",11228,""]
["Europe","Poland","Krakow",50.06,20.149999999999999,214,22,40,76,111,154,154,161,137,88,59,26,16,1044,16,27,47,64,81,84,84,72,52,36,19,12,594,-2.1,-2.1,2.6,8.6,12.6,16.399999999999999,18,17.7,14.1,9.6,4.4000000000000004,0.3,8.34,6.2,5.7,6.2,5.0999999999999996,4.0999999999999996,4.5999999999999996,4.0999999999999996,4.0999999999999996,4.5999999999999996,4.5999999999999996,5.7,6.2,5.0999999999999996,null,229,"",null,"","Poland",{"$f":"IF(BN232>1,\"\",MAX(BM$3:BM231)+1)","v":""},{"$f":"IF(BL232=\"\",\"\",COUNTIF(BL$4:BL232,BL232))","v":2},71002,"Krakow",null,null,70229,"",11229,""]
["Europe","Poland","Warszawa",51.59,21.12,80,20,37,72,110,160,152,162,137,84,54,23,14,1025,15,25,45,63,80,84,83,70,50,33,17,11,576,-1.2,-1.4,2.9,7.9,13.2,16,17.7,17.899999999999999,13.6,8.6,3.3,0.6,8.26,6.2,5.7,6.2,5.0999999999999996,4.0999999999999996,4.5999999999999996,4.0999999999999996,4.0999999999999996,4.5999999999999996,4.5999999999999996,5.7,6.2,5.0999999999999996,null,230,"",null,"","Poland",{"$f":"IF(BN233>1,\"\",MAX(BM$3:BM232)+1)","v":""},{"$f":"IF(BL233=\"\",\"\",COUNTIF(BL$4:BL233,BL233))","v":3},71003,"Warszawa",null,null,70230,"",11230,""]
["Europe","Portugal","Braganca",41.49,-6.46,691,57,75,130,143,183,212,234,205,149,97,57,42,1584,26,32,46,60,70,64,56,52,46,40,28,23,543,4.5,5.9,8,10,13.4,17.7,21.1,20.8,18.3,13.1,8,5,12.15,2.6,3.2,3.3,3.3,3.2,2.9,2.9,2.9,2.5,2.4,2.5,2.6,2.86,null,231,"",null,72,"Portugal",{"$f":"IF(BN234>1,\"\",MAX(BM$3:BM233)+1)","v":72},{"$f":"IF(BL234=\"\",\"\",COUNTIF(BL$4:BL234,BL234))","v":1},72001,"Braganca",null,null,70231,"",11231,""]
["Europe","Portugal","Coimbra",40.119999999999997,-8.25,141,61,73,129,140,179,195,209,195,147,104,63,54,1549,28,34,49,61,71,69,66,57,49,41,30,25,580,10,11,12.5,14,16.399999999999999,19.600000000000001,21.8,21.8,20.8,17.399999999999999,13,10.4,15.72,3,3.1,2.8,2.7,2.5,2.4,2.4,2.4,2.2000000000000002,2.4,2.6,3,2.63,null,232,"",null,"","Portugal",{"$f":"IF(BN235>1,\"\",MAX(BM$3:BM234)+1)","v":""},{"$f":"IF(BL235=\"\",\"\",COUNTIF(BL$4:BL235,BL235))","v":2},72002,"Coimbra",null,null,70232,"",11232,""]
["Europe","Portugal","Evora",38.340000000000003,-7.54,321,74,84,147,157,204,221,241,217,162,120,72,61,1760,29,35,46,60,65,61,53,49,46,40,31,27,542,9.4,10.199999999999999,11.8,13.4,16.3,20.100000000000001,23,23.2,21.6,17.3,12.7,9.9,15.74,4,4.0999999999999996,4,4.0999999999999996,4,3.7,3.8,3.8,3.3,3.7,3.8,4,3.86,null,233,"",null,"","Portugal",{"$f":"IF(BN236>1,\"\",MAX(BM$3:BM235)+1)","v":""},{"$f":"IF(BL236=\"\",\"\",COUNTIF(BL$4:BL236,BL236))","v":3},72003,"Evora",null,null,70233,"",11233,""]
["Europe","Portugal","Faro",37.01,-7.58,8,85,95,161,174,226,238,249,222,177,134,82,71,1914,32,38,49,62,65,63,59,57,48,42,34,29,578,11.9,12.6,13.7,15.1,17.5,20.6,23.3,23.4,21.8,18.7,15.1,12.7,17.2,3.6,4,3.9,4.0999999999999996,4,3.8,3.6,3.3,3.3,3.4,3.4,3.6,3.67,null,234,"",null,"","Portugal",{"$f":"IF(BN237>1,\"\",MAX(BM$3:BM236)+1)","v":""},{"$f":"IF(BL237=\"\",\"\",COUNTIF(BL$4:BL237,BL237))","v":4},72004,"Faro",null,null,70234,"",11234,""]
["Europe","Portugal","Funchal",32.380000000000003,-16.54,56,82.5,97.3,140.6,157.6,181.4,162,189.5,179.7,146.80000000000001,120.4,89.2,80.8,1627.9,null,null,null,null,null,null,null,null,null,null,null,null,null,16.14,15.88,16.29,16.27,17.68,19.11,21.14,22.32,22.01,20.89,18.57,16.91,18.600000000000001,2.5,2.5,2.4,2.21,1.9,1.71,1.61,1.7,1.91,2.11,2.5,2.6,2.14,null,235,"",null,"","Portugal",{"$f":"IF(BN238>1,\"\",MAX(BM$3:BM237)+1)","v":""},{"$f":"IF(BL238=\"\",\"\",COUNTIF(BL$4:BL238,BL238))","v":5},72005,"Funchal",null,null,70235,"",11235,""]
["Europe","Portugal","Lisboa",38.479999999999997,-9.1300000000000008,5,66,79,144,158,199,216,225,207,156,113,65,58,1686,30,36,47,60,66,63,60,53,47,41,31,27,561,12.2,12.9,13.7,14.3,16.399999999999999,19.7,22.8,23.1,22.5,18.8,15,13.2,17.05,3.1,4.5999999999999996,5.0999999999999996,5.0999999999999996,5.7,5.7,6.2,5.7,4.5999999999999996,4.5999999999999996,4.0999999999999996,3.1,4.8,null,236,"",null,"","Portugal",{"$f":"IF(BN239>1,\"\",MAX(BM$3:BM238)+1)","v":""},{"$f":"IF(BL239=\"\",\"\",COUNTIF(BL$4:BL239,BL239))","v":6},72006,"Lisboa",null,null,70236,"",11236,""]
["Europe","Portugal","Penhas Douradas",40.25,-7.33,1380,57,69,124,136,185,204,233,214,150,96,57,48,1573,28,34,49,62,69,67,57,49,48,42,29,25,559,3.1,3.1,4.5,5.8,9.1999999999999993,13.7,17.3,17.3,15,10,5.8,3.7,9.0399999999999991,6.4,6.4,6.1,5.0999999999999996,5.4,4.5,4.7,5,4.7,5.3,5.8,5.8,5.43,null,237,"",null,"","Portugal",{"$f":"IF(BN240>1,\"\",MAX(BM$3:BM239)+1)","v":""},{"$f":"IF(BL240=\"\",\"\",COUNTIF(BL$4:BL240,BL240))","v":7},72007,"Penhas Douradas",null,null,70237,"",11237,""]
["Europe","Portugal","Porto",41.08,-8.36,100,60,71,126,151,193,208,206,192,145,101,60,48,1561,27,33,48,59,67,66,67,58,48,40,29,24,566,9.3000000000000007,10.1,11.5,12.9,15.1,18.100000000000001,19.899999999999999,19.8,19,16.2,12.3,9.9,14.51,5.7,5.7,5.6,5.3,5,4.4000000000000004,4.3,4.3,4.2,4.5,5,5.7,4.97,null,238,"",null,"","Portugal",{"$f":"IF(BN241>1,\"\",MAX(BM$3:BM240)+1)","v":""},{"$f":"IF(BL241=\"\",\"\",COUNTIF(BL$4:BL241,BL241))","v":8},72008,"Porto",null,null,70238,"",11238,""]
["Europe","Portugal","Vila Real",41.19,-7.44,562,58.2,73.400000000000006,129.19999999999999,145.6,186.1,209.8,224.7,200.7,148,98.7,58.3,44.3,1577.1,null,null,null,null,null,null,null,null,null,null,null,null,null,6.29,7.57,10.199999999999999,11.42,14.87,18.62,22.04,21.69,19.25,14.95,9.7100000000000009,6.97,13.63,2.82,2.86,2.87,3.01,2.75,2.5099999999999998,2.35,2.2400000000000002,2.27,2.21,2.4500000000000002,2.74,2.59,null,239,"",null,"","Portugal",{"$f":"IF(BN242>1,\"\",MAX(BM$3:BM241)+1)","v":""},{"$f":"IF(BL242=\"\",\"\",COUNTIF(BL$4:BL242,BL242))","v":9},72009,"Vila Real",null,null,70239,"",11239,""]
["North_America","Puerto Rico","San Juan",18.43,-66,19,132,138,177,183,179,181,189,185,166,153,130,123,1936,null,null,null,null,null,null,null,null,null,null,null,null,null,25,25.1,25.6,26.3,27.2,27.9,28.1,28.2,28.1,27.7,26.7,25.6,26.79,4.0999999999999996,4.2,4.4000000000000004,4.3,4,4.3,4.5999999999999996,4.2,3.6,3.2,3.6,4,4.04,null,240,"",null,73,"Puerto Rico",{"$f":"IF(BN243>1,\"\",MAX(BM$3:BM242)+1)","v":73},{"$f":"IF(BL243=\"\",\"\",COUNTIF(BL$4:BL243,BL243))","v":1},73001,"San Juan",null,null,70240,"",11240,""]
["Africa","Qatar","Doha Int. Airp.",25.15,51.34,10,104.6,121.2,136,160.19999999999999,172.5,179.9,168,162.69999999999999,152.6,133.6,115.4,96.3,1703,null,null,null,null,null,null,null,null,null,null,null,null,null,17.07,17.82,21.17,25.41,31.07,33.47,34.770000000000003,34.29,31.73,28.92,23.88,19.25,26.57,3.5,4.21,4.3899999999999997,4.0999999999999996,4.3,4.4000000000000004,4.0999999999999996,3.4,3.29,3.1,3.5,3.4,3.81,null,241,"",null,74,"Qatar",{"$f":"IF(BN244>1,\"\",MAX(BM$3:BM243)+1)","v":74},{"$f":"IF(BL244=\"\",\"\",COUNTIF(BL$4:BL244,BL244))","v":1},74001,"Doha Int. Airp.",null,null,70241,"",11241,""]
["Europe","Romania","Bucuresti",44.45,26.1,88,41,55,89,134,168,192,196,175,122,84,42,29,1327,23,30,48,63,76,78,77,68,53,39,24,18,597,-1,0.1,5.6,11.1,16.7,20,22.2,21.7,17.899999999999999,11.8,4.5,0.7,10.94,3.2,5.0999999999999996,4.7,4.2,4.0999999999999996,3.7,3.2,3.2,3.7,3.7,3.2,3.2,3.77,null,242,"",null,75,"Romania",{"$f":"IF(BN245>1,\"\",MAX(BM$3:BM244)+1)","v":75},{"$f":"IF(BL245=\"\",\"\",COUNTIF(BL$4:BL245,BL245))","v":1},75001,"Bucuresti",null,null,70242,"",11242,""]
["Asia","Russia","Chelyabinsk",55.03,61.38,100,21,44,96,122,159,182,173,130,72,46,25,14,1084,15,25,44,66,86,88,88,76,52,33,17,11,601,-13.5,-11.3,-3.5,4.9000000000000004,11.6,17.100000000000001,19.3,16,10.4,2.7,-5.0999999999999996,-10.199999999999999,3.2,4.5999999999999996,4.5999999999999996,4.5999999999999996,5.0999999999999996,5.0999999999999996,4.0999999999999996,3.6,4.0999999999999996,4.5999999999999996,4.5999999999999996,5.0999999999999996,4.5999999999999996,4.5599999999999996,null,243,"",null,76,"Russia",{"$f":"IF(BN246>1,\"\",MAX(BM$3:BM245)+1)","v":76},{"$f":"IF(BL246=\"\",\"\",COUNTIF(BL$4:BL246,BL246))","v":1},76001,"Chelyabinsk",null,null,70243,"",11243,""]
["Asia","Russia","Gor'kiy",56.15,43.51,50,16,37,80,104,167,161,162,130,74,40,17,11,999,13,24,46,67,84,92,90,75,52,31,14,9,597,-9.1,-8,-2.1,6.5,13.3,17,18.600000000000001,16.899999999999999,11.1,4.5999999999999996,-1.7,-6,5.09,5.2,4.5,4.0999999999999996,4.5,4.5,4.3,4.2,4.2,4.5999999999999996,4.7,4.9000000000000004,5.2,4.57,null,244,"",null,"","Russia",{"$f":"IF(BN247>1,\"\",MAX(BM$3:BM246)+1)","v":""},{"$f":"IF(BL247=\"\",\"\",COUNTIF(BL$4:BL247,BL247))","v":2},76002,"Gor'kiy",null,null,70244,"",11244,""]
["Asia","Russia","Moskva",55.57,37.26,141,15,36,77,101,164,158,159,128,72,39,16,10,975,13,24,46,67,85,93,91,76,52,31,14,9,601,-8.4,-7.5,-2.1,5.7,12.1,15.4,17.100000000000001,15.7,10.3,4.2,-1.7,-5.5,4.6100000000000003,5.0999999999999996,4.0999999999999996,4.0999999999999996,4.0999999999999996,4.0999999999999996,4.0999999999999996,4.0999999999999996,4.0999999999999996,4.5999999999999996,4.5999999999999996,4.5999999999999996,5.0999999999999996,4.3899999999999997,null,245,"",null,"","Russia",{"$f":"IF(BN248>1,\"\",MAX(BM$3:BM247)+1)","v":""},{"$f":"IF(BL248=\"\",\"\",COUNTIF(BL$4:BL248,BL248))","v":3},76003,"Moskva",null,null,70245,"",11245,""]
["Africa","Saudi Arabia","Hafr Al-Batin Airp.",28.2,46.07,355,121.7,139.19999999999999,183.7,203.6,217,224.9,232.7,222,192,163.1,109.2,103.5,2112.6,null,null,null,null,null,null,null,null,null,null,null,null,null,11.39,13.27,18.07,24.13,31.55,33.69,36.29,35.33,32.68,27.88,18.37,13.6,24.69,3,3.19,3.39,3.8,3.5,3.49,3.8,3.3,2.89,3.19,3,3.1,3.3,null,246,"",null,77,"Saudi Arabia",{"$f":"IF(BN249>1,\"\",MAX(BM$3:BM248)+1)","v":77},{"$f":"IF(BL249=\"\",\"\",COUNTIF(BL$4:BL249,BL249))","v":1},77001,"Hafr Al-Batin Airp.",null,null,70246,"",11246,""]
["Africa","Saudi Arabia","Jeddah",21.41,39.090000000000003,4,137.1,149.4,201,195.6,224,217.3,211.1,214.7,197.7,183.6,141.9,132.4,2205.9,null,null,null,null,null,null,null,null,null,null,null,null,null,25.02,23.52,25.12,27.27,29.65,30.39,32.47,32.14,30.33,29.1,26.64,24.69,28.03,3.59,4.0999999999999996,4.3,3.8,3.7,3.9,3.6,3.7,3.3,3.09,3.3,3.49,3.66,null,247,"",null,"","Saudi Arabia",{"$f":"IF(BN250>1,\"\",MAX(BM$3:BM249)+1)","v":""},{"$f":"IF(BL250=\"\",\"\",COUNTIF(BL$4:BL250,BL250))","v":2},77002,"Jeddah",null,null,70247,"",11247,""]
["Africa","Saudi Arabia","Riyadh-Solar Village",24.55,46.25,650,126.9,140.19999999999999,184.3,200.6,230.2,238.5,233,219.3,200.3,179.1,133.69999999999999,132.4,2218.6999999999998,null,null,null,null,null,null,null,null,null,null,null,null,null,13.6,16.8,19.5,26.6,32,34.5,36,36.299999999999997,32.299999999999997,27,20,16.399999999999999,25.92,2.61,3.25,3.4,3.46,3.01,3.35,3.54,3.11,2.38,2.15,2.5499999999999998,2.61,2.95,null,248,"",null,"","Saudi Arabia",{"$f":"IF(BN251>1,\"\",MAX(BM$3:BM250)+1)","v":""},{"$f":"IF(BL251=\"\",\"\",COUNTIF(BL$4:BL251,BL251))","v":3},77003,"Riyadh-Solar Village",null,null,70248,"",11248,""]
["Africa","Saudi Arabia","Sharura",17.28,47.07,772,165.8,171.2,206.2,220,227.4,218.7,211.1,208.2,205.7,201.8,170.8,164.9,2371.6999999999998,null,null,null,null,null,null,null,null,null,null,null,null,null,18.3,20.97,26.11,27.88,31.74,32.93,34.46,34.450000000000003,31.31,27.17,22.98,19.41,27.31,4,4.4000000000000004,4.6900000000000004,4.3899999999999997,4.1100000000000003,3.5,3.8,4.2,3.89,3.89,3.99,4.09,4.08,null,249,"",null,"","Saudi Arabia",{"$f":"IF(BN252>1,\"\",MAX(BM$3:BM251)+1)","v":""},{"$f":"IF(BL252=\"\",\"\",COUNTIF(BL$4:BL252,BL252))","v":4},77004,"Sharura",null,null,70249,"",11249,""]
["Africa","Saudi Arabia","Wejh",26.12,36.28,16,124.9,151.1,201.8,212,246.2,246.7,249.8,219.1,199.9,176.5,135.69999999999999,116.3,2279.9,null,null,null,null,null,null,null,null,null,null,null,null,null,18.75,18.95,21.29,24.04,26.52,27.66,29.39,29.33,27.83,26.27,23.18,20.11,24.44,4.2,4.79,4.8899999999999997,4.91,4.6900000000000004,4.8,4.5,4.9000000000000004,4.71,4.3,3.8,3.7,4.5199999999999996,null,250,"",null,"","Saudi Arabia",{"$f":"IF(BN253>1,\"\",MAX(BM$3:BM252)+1)","v":""},{"$f":"IF(BL253=\"\",\"\",COUNTIF(BL$4:BL253,BL253))","v":5},77005,"Wejh",null,null,70250,"",11250,""]
["Africa","Senegal","Dakar",14.48,-17.010000000000002,5,162,176,208,214,214,187,176,172,170,187,162,148,2176,51,46,58,59,64,67,72,71,66,57,50,51,712,21.7,21.7,22.2,22.5,23.8,26.4,27.6,27.8,28,28,26.4,23.5,24.97,5,5.6,5.6,6.1,6.1,4.0999999999999996,3.6,3.6,3.1,4.5,5,5.6,4.82,null,251,"",null,78,"Senegal",{"$f":"IF(BN254>1,\"\",MAX(BM$3:BM253)+1)","v":78},{"$f":"IF(BL254=\"\",\"\",COUNTIF(BL$4:BL254,BL254))","v":1},78001,"Dakar",null,null,70251,"",11251,""]
["Asia","Singapore","Singapore",1.1100000000000001,104.1,5,138,144,150,138,133,131,138,141,134,137,118,123,1625,78,70,81,77,76,70,73,77,78,81,76,77,914,27.2,27.4,27.5,27.8,27.7,26.8,26.7,27.1,27.3,27.8,27.5,27.5,27.36,3.1,2.6,2.1,2.1,1.5,2.1,2.1,2.1,2.1,2.1,2.1,3.1,2.2599999999999998,null,252,"",null,79,"Singapore",{"$f":"IF(BN255>1,\"\",MAX(BM$3:BM254)+1)","v":79},{"$f":"IF(BL255=\"\",\"\",COUNTIF(BL$4:BL255,BL255))","v":1},79001,"Singapore",null,null,70252,"",11252,""]
["Europe","Slovenia","Koper",45.33,13.43,33,38.700000000000003,49.4,99,128.19999999999999,178.6,187.2,198.6,173.4,113.8,75.099999999999994,39.6,30.5,1312,null,null,null,null,null,null,null,null,null,null,null,null,null,5.6,6.7,9.4,13.3,17.8,21.1,23.9,23.9,20.6,15.6,10,7.2,14.59,5.0999999999999996,5.0999999999999996,4.5999999999999996,5.0999999999999996,4.5999999999999996,4.0999999999999996,4.0999999999999996,4.0999999999999996,4.5999999999999996,4.5999999999999996,5.7,4.5999999999999996,4.6900000000000004,null,253,"",null,80,"Slovenia",{"$f":"IF(BN256>1,\"\",MAX(BM$3:BM255)+1)","v":80},{"$f":"IF(BL256=\"\",\"\",COUNTIF(BL$4:BL256,BL256))","v":1},80001,"Koper",null,null,70253,"",11253,""]
["Europe","Slovenia","Ljubljana",46.04,14.31,299,34.200000000000003,50.8,88.5,113,148.1,154.1,168.9,143.6,97.2,61,33.1,23.8,1116.4000000000001,null,null,null,null,null,null,null,null,null,null,null,null,null,-1.1000000000000001,1.4,5.4,9.9,14.6,17.8,19.899999999999999,19.100000000000001,15.5,10.4,4.5999999999999996,0,9.7899999999999991,1.5,1.5,1.5,2.1,2.1,2.1,2.1,2.1,2.1,1.5,1.5,1.5,1.8,null,254,"",null,"","Slovenia",{"$f":"IF(BN257>1,\"\",MAX(BM$3:BM256)+1)","v":""},{"$f":"IF(BL257=\"\",\"\",COUNTIF(BL$4:BL257,BL257))","v":2},80002,"Ljubljana",null,null,70254,"",11254,""]
["Europe","Slovenia","Portoroz",45.32,13.34,95,43.2,65.400000000000006,111.6,144,182.3,186.5,203.9,174.8,122.4,83.3,47.5,33.5,1398.4,null,null,null,null,null,null,null,null,null,null,null,null,null,5,5.6,8.9,12.2,16.7,20,22.8,22.8,20,15.6,10,6.7,13.86,2.7,2.9,3.2,3.3,2.9,3,3,3,3,2.8,2.9,2.7,2.95,null,255,"",null,"","Slovenia",{"$f":"IF(BN258>1,\"\",MAX(BM$3:BM257)+1)","v":""},{"$f":"IF(BL258=\"\",\"\",COUNTIF(BL$4:BL258,BL258))","v":3},80003,"Portoroz",null,null,70255,"",11255,""]
["Africa","South Africa","Pretoria",-25.45,28.14,1369,211,182,181,143,135,120,133,156,182,198,194,214,2049,77,64,62,49,37,32,33,41,50,67,74,79,665,23.3,23.3,21.7,18.899999999999999,16.100000000000001,12.8,12.8,15.6,19.399999999999999,21.1,21.7,22.8,19.13,2.6,2.6,2.6,2.6,2.6,2.6,3.1,3.6,3.6,3.1,2.6,2.6,2.85,null,256,"",null,81,"South Africa",{"$f":"IF(BN259>1,\"\",MAX(BM$3:BM258)+1)","v":81},{"$f":"IF(BL259=\"\",\"\",COUNTIF(BL$4:BL259,BL259))","v":1},81001,"Pretoria",null,null,70256,"",11256,""]
["Europe","Spain","Almeria_Cener",36.85,2.38,21,80,95,145,168,203,211,225,193,153,117,75,70,1735,null,null,null,null,null,null,null,null,null,null,null,null,null,13.8,13.9,14.7,15.7,18.2,21.7,25.1,26,24.6,20.6,17,14.5,18.82,5,4.8,5.0999999999999996,5.6,5.2,5.4,5.0999999999999996,4.7,4.9000000000000004,4.7,4.9000000000000004,4.8,5.0199999999999996,null,257,{"$f":"IF(BH260>MAX(BK$4:BK$940),\"\",VLOOKUP(BH260,BK$4:BL$940,2,FALSE))","v":""},null,82,"Spain",{"$f":"IF(BN260>1,\"\",MAX(BM$3:BM259)+1)","v":82},{"$f":"IF(BL260=\"\",\"\",COUNTIF(BL$4:BL260,BL260))","v":1},{"$f":"IF(BL260=\"\",\"\",thousand*VLOOKUP(BL260,BL$4:BM$940,2,FALSE)+BN260)","v":82001},"Almeria_Cener",null,null,{"$f":"country*thousand+BH260","v":70257},{"$f":"IF(COUNTIF(BO$4:BO$940,BS260)>0,VLOOKUP(BS260,BO$4:BP$940,2,FALSE),\"\")","v":""},{"$f":"BU$1*thousand+BH260","v":11257},{"$f":"IF(COUNTIF(BO$4:BO$940,BU260)>0,VLOOKUP(BU260,BO$4:BP$940,2,FALSE),\"\")","v":""}]
["Europe","Spain","Almeria Airp.",36.51,-2.23,21,79.599999999999994,98.8,145.1,167.8,203.1,211,224.7,193.4,153.4,116.8,74.900000000000006,69.900000000000006,1738.5,null,null,null,null,null,null,null,null,null,null,null,null,null,12.5,13,14.6,16.100000000000001,18.8,22.3,25.4,26,24.1,19.899999999999999,16.2,13.3,18.52,4,3.8,4.0999999999999996,4.5999999999999996,4.2,4.4000000000000004,4.0999999999999996,3.7,3.9,3.7,3.9,3.8,4.0199999999999996,null,258,"",null,{"$f":"BM261","v":""},{"$f":"IF(B261=\"\",\"\",B261)","v":"Spain"},{"$f":"IF(BN261>1,\"\",MAX(BM$3:BM260)+1)","v":""},{"$f":"IF(BL261=\"\",\"\",COUNTIF(BL$4:BL261,BL261))","v":2},82002,{"$f":"IF(C261=\"\",\"\",C261)","v":"Almeria Airp."},null,null,70258,"",11258,""]
["Europe","Spain","Barcelona",41.32,2.15,5,53,69,117,142,168,188,200,175,133,93,58,48,1444,31,38,57,69,83,80,77,70,57,46,32,27,667,9.6999999999999993,9.9,11.3,12.9,16.2,20.100000000000001,23.7,23.5,21.3,17,12.7,10.8,15.76,5,5.4,5.5,5.5,4.9000000000000004,4.8,4.9000000000000004,4.3,4.4000000000000004,5,5.2,4.7,4.97,null,259,"",null,"","Spain",{"$f":"IF(BN262>1,\"\",MAX(BM$3:BM261)+1)","v":""},{"$f":"IF(BL262=\"\",\"\",COUNTIF(BL$4:BL262,BL262))","v":3},82003,"Barcelona",null,null,70259,"",11259,""]
["Europe","Spain","Caceres",39.47,-6.33,405,68,80,139,151,201,212,231,207,149,110,65,52,1665,null,null,null,null,null,null,null,null,null,null,null,null,null,8.1,9.3000000000000007,11.3,13.4,17.100000000000001,21.9,25.6,25.6,22.7,17.2,11.7,8.4,16.03,2.8,2.5,2.6,3.1,2.8,2.6,2.7,2.7,2.8,2.4,2.8,2.7,2.71,null,260,"",null,"","Spain",{"$f":"IF(BN263>1,\"\",MAX(BM$3:BM262)+1)","v":""},{"$f":"IF(BL263=\"\",\"\",COUNTIF(BL$4:BL263,BL263))","v":4},82004,"Caceres",null,null,70260,"",11260,""]
["Europe","Spain","Logrono/Agoncillo",42.45,-2.33,363,50,68,118,137,176,194,204,180,137,92,54,42,1452,null,null,null,null,null,null,null,null,null,null,null,null,null,5.8,7.3,9.3000000000000007,11.5,14.7,18.8,22.1,21.8,19.2,14.4,9.1,6.3,13.36,2.9,2.8,2.8,2.9,2.8,2.8,2.7,2.5,2.2999999999999998,2.2000000000000002,2.5,2.6,2.65,null,261,"",null,"","Spain",{"$f":"IF(BN264>1,\"\",MAX(BM$3:BM263)+1)","v":""},{"$f":"IF(BL264=\"\",\"\",COUNTIF(BL$4:BL264,BL264))","v":5},82005,"Logrono/Agoncillo",null,null,70261,"",11261,""]
["Europe","Spain","Madrid",40.450000000000003,-3.55,582,66,77,141,153,204,223,230,201,150,105,64,49,1663,null,null,null,null,null,null,null,null,null,null,null,null,null,5.5,7,9.3000000000000007,11.6,15.5,20.399999999999999,24.3,23.8,20.3,14.5,8.9,5.9,13.92,2.5,2.4,2.6,3.2,2.6,2.8,2.7,2.5,2.7,2.2999999999999998,2.6,2.2000000000000002,2.59,null,262,"",null,"","Spain",{"$f":"IF(BN265>1,\"\",MAX(BM$3:BM264)+1)","v":""},{"$f":"IF(BL265=\"\",\"\",COUNTIF(BL$4:BL265,BL265))","v":6},82006,"Madrid",null,null,70262,"",11262,""]
["Europe","Spain","Murcia/San Javier",37.78,-0.8,3,80,95,145,168,203,211,224,193,153,117,75,70,1734,null,null,null,null,null,null,null,null,null,null,null,null,null,10.6,11.4,12.6,14.5,17.399999999999999,21,23.9,24.6,22.7,18.7,14.3,11.3,16.920000000000002,4.0999999999999996,4.5,4.5,4.9000000000000004,4.5999999999999996,4.5999999999999996,4.4000000000000004,4.2,4.3,3.9,3.9,3.7,4.3,null,263,"",null,"","Spain",{"$f":"IF(BN266>1,\"\",MAX(BM$3:BM265)+1)","v":""},{"$f":"IF(BL266=\"\",\"\",COUNTIF(BL$4:BL266,BL266))","v":7},82007,"Murcia/San Javier",null,null,70263,"",11263,""]
["Europe","Spain","Palma de Mallorca",39.549999999999997,2.62,8,65,79,126,159,196,208,214,188,140,106,66,57,1604,null,null,null,null,null,null,null,null,null,null,null,null,null,9.4,10,11.1,12.8,16.7,20.6,23.9,24.4,21.7,17.8,13.3,10.6,16.03,4.5999999999999996,4.5999999999999996,5.0999999999999996,4.5999999999999996,4.5999999999999996,5.0999999999999996,5.0999999999999996,4.5999999999999996,4.0999999999999996,4.5999999999999996,4.5999999999999996,4.0999999999999996,4.6399999999999997,null,264,"",null,"","Spain",{"$f":"IF(BN267>1,\"\",MAX(BM$3:BM266)+1)","v":""},{"$f":"IF(BL267=\"\",\"\",COUNTIF(BL$4:BL267,BL267))","v":8},82008,"Palma de Mallorca",null,null,70264,"",11264,""]
["Europe","Spain","Santander",43.46,-3.82,65,45,58,103,125,161,168,170,147,120,81,50,38,1266,null,null,null,null,null,null,null,null,null,null,null,null,null,9.6999999999999993,10.3,10.8,11.9,14.3,17,19.3,19.600000000000001,18.600000000000001,16.100000000000001,12.5,10.5,14.22,3.9,3.6,3.6,4.3,3.4,3.3,3.3,3.1,3.5,3.7,4.7,4.3,3.73,null,265,"",null,"","Spain",{"$f":"IF(BN268>1,\"\",MAX(BM$3:BM267)+1)","v":""},{"$f":"IF(BL268=\"\",\"\",COUNTIF(BL$4:BL268,BL268))","v":9},82009,"Santander",null,null,70265,"",11265,""]
["Europe","Spain","Sevilla",37.119999999999997,-5.43,10,78,91,146,161,205,216,235,202,161,120,75,67,1757,31,36,48,60,65,62,55,56,47,41,33,28,562,11.2,12.3,14.5,16.2,19.5,24,27.3,27.3,25.1,19.5,15.1,11.8,18.649999999999999,3.6,3.6,3.6,4.5999999999999996,4.5999999999999996,4.5999999999999996,4.5999999999999996,4.5999999999999996,4.0999999999999996,3.6,3.6,3.6,4.0599999999999996,null,266,"",null,"","Spain",{"$f":"IF(BN269>1,\"\",MAX(BM$3:BM268)+1)","v":""},{"$f":"IF(BL269=\"\",\"\",COUNTIF(BL$4:BL269,BL269))","v":10},82010,"Sevilla",null,null,70266,"",11266,""]
["Europe","Spain","Toledo",39.880000000000003,-4.05,516,70,82,145,161,209,228,233,203,155,111,70,52,1719,null,null,null,null,null,null,null,null,null,null,null,null,null,7.1,8.8000000000000007,11.6,14,17.899999999999999,22.9,27.3,26.1,22.4,16.5,10.8,7.7,16.09,3,2.9,2.9,3.7,3.2,3.4,3.3,3,3.1,2.6,2.8,2.5,3.03,null,267,"",null,"","Spain",{"$f":"IF(BN270>1,\"\",MAX(BM$3:BM269)+1)","v":""},{"$f":"IF(BL270=\"\",\"\",COUNTIF(BL$4:BL270,BL270))","v":11},82011,"Toledo",null,null,70267,"",11267,""]
["Asia","Sri Lanka","Colombo",7.01,80.09,5,173,172,204,185,172,137,160,170,170,168,144,160,2015,68,64,73,75,78,74,77,79,76,76,70,68,878,26.1,27.1,28,28.3,28.1,26.2,25.4,26,26.7,27.1,26.9,26.5,26.87,2.6,2.6,3.1,3.6,3.1,4.0999999999999996,3.6,3.1,2.6,2.6,2.6,2.6,3.02,null,268,"",null,83,"Sri Lanka",{"$f":"IF(BN271>1,\"\",MAX(BM$3:BM270)+1)","v":83},{"$f":"IF(BL271=\"\",\"\",COUNTIF(BL$4:BL271,BL271))","v":1},83001,"Colombo",null,null,70268,"",11268,""]
["Europe","Sweden","Göteborg",57.19,12.16,5,12,25,52,106,150,161,168,121,76,39,17,8,935,9,18,36,59,78,83,81,67,45,26,12,6,520,-0.1,0.3,4.5,9.9,15.2,18.100000000000001,20,20.7,18.100000000000001,12.7,6.4,2.4,10.68,5.7,5.7,5.7,6.2,4.5999999999999996,4.5999999999999996,4.0999999999999996,4.5999999999999996,4.5999999999999996,4.5999999999999996,5.0999999999999996,5.7,5.0999999999999996,null,269,"",null,84,"Sweden",{"$f":"IF(BN272>1,\"\",MAX(BM$3:BM271)+1)","v":84},{"$f":"IF(BL272=\"\",\"\",COUNTIF(BL$4:BL272,BL272))","v":1},84001,"Göteborg",null,null,70269,"",11269,""]
["Europe","Sweden","Stockholm",59.11,17.59,5,10,27,68,109,164,177,162,130,77,38,14,7,983,8,17,38,57,76,81,81,66,43,24,10,5,506,-2.7,-3.2,0.1,4,10.7,14.5,17.3,16.2,11.2,6.2,1.8,-2.1,6.17,4.0999999999999996,3.6,4.5999999999999996,4.5999999999999996,3.6,4.0999999999999996,3.6,3.6,4.0999999999999996,3.1,3.6,3.6,3.85,null,270,"",null,"","Sweden",{"$f":"IF(BN273>1,\"\",MAX(BM$3:BM272)+1)","v":""},{"$f":"IF(BL273=\"\",\"\",COUNTIF(BL$4:BL273,BL273))","v":2},84002,"Stockholm",null,null,70270,"",11270,""]
["Europe","Switzerland","Basel",47.34,7.35,270,28,44,78,106,143,156,174,146,100,61,31,22,1089,20,29,49,65,81,84,83,73,55,38,22,16,615,2.2000000000000002,2.8,7.1,10.3,14.5,17.399999999999999,20.7,20.3,16.5,11.8,6.4,3.9,11.16,2.1,2,2,1.6,1.2,1.3,1.2,1.1000000000000001,1.1000000000000001,1.3,1.7,1.9,1.54,null,271,"",null,85,"Switzerland",{"$f":"IF(BN274>1,\"\",MAX(BM$3:BM273)+1)","v":85},{"$f":"IF(BL274=\"\",\"\",COUNTIF(BL$4:BL274,BL274))","v":1},85001,"Basel",null,null,70271,"",11271,""]
["Europe","Switzerland","Bern",46.57,7.26,540,32,48,86,111,144,155,174,148,103,61,32,25,1119,22,31,51,66,82,84,83,73,55,39,23,18,627,0.8,1.3,5.3,8.6,13.1,16.2,19.600000000000001,19.100000000000001,15.3,10.5,5,2.2999999999999998,9.76,1.8,2,2.2000000000000002,2.1,1.9,1.9,1.7,1.6,1.7,1.6,1.6,1.6,1.81,null,272,"",null,"","Switzerland",{"$f":"IF(BN275>1,\"\",MAX(BM$3:BM274)+1)","v":""},{"$f":"IF(BL275=\"\",\"\",COUNTIF(BL$4:BL275,BL275))","v":2},85002,"Bern",null,null,70272,"",11272,""]
["Europe","Switzerland","Chur",46.51,9.32,590,45,62,102,131,159,160,176,148,111,78,44,34,1250,25,33,52,68,83,87,83,73,56,41,27,21,649,-0.3,0.5,4.5999999999999996,8,12.7,15.4,18.899999999999999,17.899999999999999,14.4,10.1,4,1,8.93,2.7,2.7,3.1,3.5,3.2,2.8,3,2.8,2.6,2.6,2.5,2.4,2.82,null,273,"",null,"","Switzerland",{"$f":"IF(BN276>1,\"\",MAX(BM$3:BM275)+1)","v":""},{"$f":"IF(BL276=\"\",\"\",COUNTIF(BL$4:BL276,BL276))","v":3},85003,"Chur",null,null,70273,"",11273,""]
["Europe","Switzerland","Davos",46.48,9.5,1556,52,75,125,150,173,171,182,155,119,86,52,41,1381,24,32,51,67,83,86,86,75,57,41,26,20,648,-6.4,-5.5,-1.5,1.6,6.1,9,12.9,12.2,9.1999999999999993,5.2,-1.3,-4.7,3.07,1.6,1.8,2.2999999999999998,2.7,2.7,2.8,3.1,2.9,2.7,2.4,2,1.7,2.39,null,274,"",null,"","Switzerland",{"$f":"IF(BN277>1,\"\",MAX(BM$3:BM276)+1)","v":""},{"$f":"IF(BL277=\"\",\"\",COUNTIF(BL$4:BL277,BL277))","v":4},85004,"Davos",null,null,70274,"",11274,""]
["Europe","Switzerland","Fribourg",46.48,7.09,588,33,49,88,113,148,158,179,151,106,62,33,27,1147,22,31,51,66,82,84,83,73,56,39,23,18,628,-0.4,0.2,4.3,7.5,12,15,18.5,17.899999999999999,14.1,9.4,3.8,1,8.61,2.2999999999999998,2.4,2.5,2.4,2.2000000000000002,2.2000000000000002,2,1.9,2,1.9,2.1,2.1,2.17,null,275,"",null,"","Switzerland",{"$f":"IF(BN278>1,\"\",MAX(BM$3:BM277)+1)","v":""},{"$f":"IF(BL278=\"\",\"\",COUNTIF(BL$4:BL278,BL278))","v":5},85005,"Fribourg",null,null,70275,"",11275,""]
["Europe","Switzerland","Genève",46.12,6.08,379,29,49,90,123,157,170,189,160,117,71,32,25,1212,19,28,47,61,76,78,78,68,52,37,20,16,580,2.2000000000000002,2.6,6,8.5,13.1,16.3,20.2,19.8,16.399999999999999,11.7,6.2,3.7,10.56,3.2,3.5,3.5,3.5,3.2,3,3,2.9,2.9,2.9,3,3.2,3.15,null,276,"",null,"","Switzerland",{"$f":"IF(BN279>1,\"\",MAX(BM$3:BM278)+1)","v":""},{"$f":"IF(BL279=\"\",\"\",COUNTIF(BL$4:BL279,BL279))","v":6},85006,"Genève",null,null,70276,"",11276,""]
["Europe","Switzerland","Grand-St-Bernard",45.52,7.1,2472,53.6,82.1,133.9,161.30000000000001,189,185.8,192,165.2,124.6,90,56.2,46.9,1480.4,null,null,null,null,null,null,null,null,null,null,null,null,null,-7.2,-7.9,-6.2,-4.0999999999999996,0.3,3.7,8.4,8,5.4,1.2,-3.5,-5.3,-0.6,6,6.3,6.7,6.6,5.8,5.9,6,5.9,5.7,5.8,5.7,5.9,6.03,null,277,"",null,"","Switzerland",{"$f":"IF(BN280>1,\"\",MAX(BM$3:BM279)+1)","v":""},{"$f":"IF(BL280=\"\",\"\",COUNTIF(BL$4:BL280,BL280))","v":7},85007,"Grand-St-Bernard",null,null,70277,"",11277,""]
["Europe","Switzerland","La Chaux-de-Fonds",47.06,6.49,994,38,56,92,116,139,152,174,148,107,70,40,32,1164,25,33,54,70,86,88,83,73,57,42,26,21,658,-0.8,-0.9,2.1,4.8,9.1999999999999993,12,15.8,15.3,12.1,8.1,2.9,0.9,6.79,2.8,2.9,2.8,2.7,2.5,2.4,2.2000000000000002,2.1,2.4,2.5,2.6,2.6,2.54,null,278,"",null,"","Switzerland",{"$f":"IF(BN281>1,\"\",MAX(BM$3:BM280)+1)","v":""},{"$f":"IF(BL281=\"\",\"\",COUNTIF(BL$4:BL281,BL281))","v":8},85008,"La Chaux-de-Fonds",null,null,70278,"",11278,""]
["Europe","Switzerland","Lausanne",46.31,6.38,526,32,48,89,118,152,163,184,156,111,66,34,27,1180,22,31,52,67,82,84,82,72,56,40,24,19,631,1.7,2.2000000000000002,6,8.9,13.6,16.8,20.5,19.899999999999999,16.100000000000001,11.4,6,3.4,10.54,0.1,0.2,0.2,0.3,0.2,0.2,0.2,0.1,0.1,0.1,0.2,0,0.16,null,279,"",null,"","Switzerland",{"$f":"IF(BN282>1,\"\",MAX(BM$3:BM281)+1)","v":""},{"$f":"IF(BL282=\"\",\"\",COUNTIF(BL$4:BL282,BL282))","v":9},85009,"Lausanne",null,null,70279,"",11279,""]
["Europe","Switzerland","Locarno",46.1,8.48,209,44,56,95,107,136,165,184,160,112,67,43,35,1204,26,34,55,70,86,86,80,70,57,43,28,22,657,2.2000000000000002,3.3,7.7,10.3,14.3,17.7,21.5,20.7,17.399999999999999,12.3,6.4,3.1,11.41,2.6,2.7,2.9,3.1,2.9,2.9,2.8,2.8,2.5,2.2999999999999998,2.5,2.6,2.72,null,280,"",null,"","Switzerland",{"$f":"IF(BN283>1,\"\",MAX(BM$3:BM282)+1)","v":""},{"$f":"IF(BL283=\"\",\"\",COUNTIF(BL$4:BL283,BL283))","v":10},85010,"Locarno",null,null,70280,"",11280,""]
["Europe","Switzerland","Lugano",46,8.57,273,42,56,92,105,135,162,181,160,111,67,43,35,1189,26,34,55,70,86,87,81,70,57,43,28,22,659,2,3,7.3,9.9,13.9,17.3,21.1,20.399999999999999,17,12,6.1,3,11.08,1.6,1.7,2,2,1.8,1.8,1.9,1.9,1.8,1.6,1.7,1.7,1.79,null,281,"",null,"","Switzerland",{"$f":"IF(BN284>1,\"\",MAX(BM$3:BM283)+1)","v":""},{"$f":"IF(BL284=\"\",\"\",COUNTIF(BL$4:BL284,BL284))","v":11},85011,"Lugano",null,null,70281,"",11281,""]
["Europe","Switzerland","Luzern",47.03,8.19,436,29,46,92,112,145,149,169,141,100,61,32,23,1099,21,30,51,66,82,84,84,73,55,39,23,17,625,1.3,1.3,4.9000000000000004,7.8,12.2,15,18.8,18.3,15.2,10.7,5,2.7,9.43,2.4,2.5,2.7,2.7,2.5,2.4,2.2999999999999998,2.2999999999999998,2.2000000000000002,2.2000000000000002,2.2000000000000002,2.2999999999999998,2.39,null,282,"",null,"","Switzerland",{"$f":"IF(BN285>1,\"\",MAX(BM$3:BM284)+1)","v":""},{"$f":"IF(BL285=\"\",\"\",COUNTIF(BL$4:BL285,BL285))","v":12},85012,"Luzern",null,null,70282,"",11282,""]
["Europe","Switzerland","Neuchâtel",46.6,6.56,438,27,46,84,112,146,159,179,151,105,62,30,23,1124,20,30,51,66,82,84,83,73,55,39,22,17,622,1.1000000000000001,1.4,5,8,12.3,15.3,19.100000000000001,18.7,15.3,10.5,4.9000000000000004,2.4,9.5,2.8,3,2.9,2.9,2.6,2.6,2.4,2.2999999999999998,2.5,2.4,2.6,2.6,2.63,null,283,"",null,"","Switzerland",{"$f":"IF(BN286>1,\"\",MAX(BM$3:BM285)+1)","v":""},{"$f":"IF(BL286=\"\",\"\",COUNTIF(BL$4:BL286,BL286))","v":13},85013,"Neuchâtel",null,null,70283,"",11283,""]
["Europe","Switzerland","Schaffhausen",47.42,8.3800000000000008,402,27,45,81,112,150,159,175,146,101,59,27,21,1103,20,29,50,66,82,84,83,73,55,38,20,16,616,0,0.4,4.9000000000000004,8.3000000000000007,12.9,15.8,19.100000000000001,18.3,14.6,9.9,4.2,1.5,9.16,3.4,3.5,3.6,3.4,3.2,3.2,2.9,2.8,3,3,3,3.1,3.18,null,284,"",null,"","Switzerland",{"$f":"IF(BN287>1,\"\",MAX(BM$3:BM286)+1)","v":""},{"$f":"IF(BL287=\"\",\"\",COUNTIF(BL$4:BL287,BL287))","v":14},85014,"Schaffhausen",null,null,70284,"",11284,""]
["Europe","Switzerland","Sion",46.14,7.22,518,43,61,104,137,172,176,196,166,120,83,45,35,1338,25,33,52,66,81,83,78,69,55,41,27,21,631,-0.5,1.2,5.8,9.1999999999999993,13.8,16.600000000000001,20.3,19.3,15.5,10.3,4,0.4,9.66,1.8,1.9,2.4,2.8,2.7,2.7,2.7,2.4,2.2000000000000002,1.8,1.6,1.6,2.2200000000000002,null,285,"",null,"","Switzerland",{"$f":"IF(BN288>1,\"\",MAX(BM$3:BM287)+1)","v":""},{"$f":"IF(BL288=\"\",\"\",COUNTIF(BL$4:BL288,BL288))","v":15},85015,"Sion",null,null,70285,"",11285,""]
["Europe","Switzerland","St.Gallen",47.26,9.23,670,31,49,96,115,148,151,170,144,100,62,32,25,1123,21,30,51,66,82,84,84,73,55,38,23,17,624,-0.6,-0.3,3.8,7,11.5,14.1,17.600000000000001,17.2,13.6,9.1,3.3,1,8.11,1.9,2,2.2000000000000002,2.2999999999999998,2,2,1.8,1.8,1.8,1.7,1.7,1.8,1.92,null,286,"",null,"","Switzerland",{"$f":"IF(BN289>1,\"\",MAX(BM$3:BM288)+1)","v":""},{"$f":"IF(BL289=\"\",\"\",COUNTIF(BL$4:BL289,BL289))","v":16},85016,"St.Gallen",null,null,70286,"",11286,""]
["Europe","Switzerland","Zürich",47.22,8.33,413,26,44,83,114,148,155,171,144,100,58,27,20,1090,20,30,50,66,82,84,84,73,55,38,20,15,617,1.2,1.2,4.9000000000000004,7.7,12.1,15,18.7,18.2,15,10.4,4.8,2.6,9.32,3.3,3.3,3.4,3.3,3.1,3.1,2.8,2.7,2.7,2.7,3,3.1,3.04,null,287,"",null,"","Switzerland",{"$f":"IF(BN290>1,\"\",MAX(BM$3:BM289)+1)","v":""},{"$f":"IF(BL290=\"\",\"\",COUNTIF(BL$4:BL290,BL290))","v":17},85017,"Zürich",null,null,70287,"",11287,""]
["Africa","Tanzania","Dar es Salaam",-6.53,39.119999999999997,55,158,146,146,118,136,131,138,149,148,164,173,164,1771,76,68,74,66,63,57,60,65,69,74,70,74,816,27.8,28.3,27.8,26.7,25.6,24.4,23.9,23.9,24.4,25.6,26.7,27.8,26.07,4.0999999999999996,4.0999999999999996,4.0999999999999996,3.1,3.6,4.0999999999999996,3.6,3.6,4.0999999999999996,4.0999999999999996,4.0999999999999996,4.5999999999999996,3.93,null,288,"",null,86,"Tanzania",{"$f":"IF(BN291>1,\"\",MAX(BM$3:BM290)+1)","v":86},{"$f":"IF(BL291=\"\",\"\",COUNTIF(BL$4:BL291,BL291))","v":1},86001,"Dar es Salaam",null,null,70288,"",11288,""]
["Asia","Thailand","Bangkok",13.53,100.49,10,141,138,176,168,162,144,149,143,127,128,133,147,1756,57,57,66,70,75,73,75,75,70,67,57,51,793,27,28.4,29.3,30.5,29.7,29,29.1,28.8,29,28.4,27.5,26.5,28.6,2.6,3.1,3.1,3.1,3.1,3.6,3.6,3.1,3.1,2.6,2.6,2.6,3.02,null,289,"",null,87,"Thailand",{"$f":"IF(BN292>1,\"\",MAX(BM$3:BM291)+1)","v":87},{"$f":"IF(BL292=\"\",\"\",COUNTIF(BL$4:BL292,BL292))","v":1},87001,"Bangkok",null,null,70289,"",11289,""]
["Africa","Tunisia","Tunis",36.479999999999997,10.210000000000001,5,78,89,140,164,208,225,237,208,166,128,90,75,1808,34,41,57,67,73,69,66,63,54,45,34,30,633,13.5,13.3,13.1,14.7,18.2,21.7,25.3,26.5,25.6,21.9,17.7,14.8,18.86,5.0999999999999996,5.7,5.7,5.7,4.5999999999999996,4.0999999999999996,3.6,4.0999999999999996,4.0999999999999996,4.5999999999999996,4.5999999999999996,5.0999999999999996,4.75,null,290,"",null,88,"Tunisia",{"$f":"IF(BN293>1,\"\",MAX(BM$3:BM292)+1)","v":88},{"$f":"IF(BL293=\"\",\"\",COUNTIF(BL$4:BL293,BL293))","v":1},88001,"Tunis",null,null,70290,"",11290,""]
["Europe","Turkey","Ankara",39.43,33.07,850,55,72,121,160,204,226,243,218,165,117,73,48,1702,29,35,51,59,65,59,51,47,42,38,29,25,530,-0.3,2,6.4,11.4,15.3,19.3,22.6,22.6,18.2,13.2,6.4,2,11.59,3.3,3.8,4.2,4.5999999999999996,4.0999999999999996,4.2,4.2,3.8,4.2,3.7,3.7,3.8,3.97,null,291,"",null,89,"Turkey",{"$f":"IF(BN294>1,\"\",MAX(BM$3:BM293)+1)","v":89},{"$f":"IF(BL294=\"\",\"\",COUNTIF(BL$4:BL294,BL294))","v":1},89001,"Ankara",null,null,70291,"",11291,""]
["Europe","Turkey","Istanbul",41.01,28.58,5,49,66,106,150,189,202,207,187,137,94,57,42,1486,31,39,58,68,78,75,74,66,57,47,33,27,653,4.8,5.2,7,11.1,15.6,19.7,22.4,22.9,20.7,16.2,11.1,7.7,13.7,4.4000000000000004,5.9,5.8,3.7,3.4,3.5,3.3,3.2,3.4,6.4,4.2,4.5999999999999996,4.32,null,292,"",null,"","Turkey",{"$f":"IF(BN295>1,\"\",MAX(BM$3:BM294)+1)","v":""},{"$f":"IF(BL295=\"\",\"\",COUNTIF(BL$4:BL295,BL295))","v":2},89002,"Istanbul",null,null,70292,"",11292,""]
["Europe","Turkey","Izmir",38.229999999999997,27.17,5,61,77,120,164,207,224,235,213,163,111,70,52,1697,30,36,52,59,64,59,55,50,45,41,32,27,550,9.6,9.6999999999999993,10.8,14.1,18.100000000000001,22.6,26.2,26.4,24.5,19.8,14.9,11.8,17.38,4.0999999999999996,4.2,3.8,3.6,3.4,3.8,4.2,4.2,3.8,3.8,3.6,3.8,3.86,null,293,"",null,"","Turkey",{"$f":"IF(BN296>1,\"\",MAX(BM$3:BM295)+1)","v":""},{"$f":"IF(BL296=\"\",\"\",COUNTIF(BL$4:BL296,BL296))","v":3},89003,"Izmir",null,null,70293,"",11293,""]
["Asia","Ukrainia","Kiev",50.09,30.5,90,28,48,88,122,185,178,176,156,101,67,29,21,1199,20,30,50,66,73,82,82,68,54,37,22,16,600,-4.2,-3.7,1.9,8.5,15.2,18,19.100000000000001,18.5,14.1,8,1.3,-2,7.89,4.5999999999999996,4.0999999999999996,4.0999999999999996,4.0999999999999996,3.6,3.6,3.6,3.1,3.6,4.0999999999999996,4.5999999999999996,4.5999999999999996,3.97,null,294,"",null,90,"Ukrainia",{"$f":"IF(BN297>1,\"\",MAX(BM$3:BM296)+1)","v":90},{"$f":"IF(BL297=\"\",\"\",COUNTIF(BL$4:BL297,BL297))","v":1},90001,"Kiev",null,null,70294,"",11294,""]
["Europe","United Kingdom","Birmingham",52.32,-2.11,100,20,33,63,105,136,138,139,120,81,47,25,15,922,14,23,43,62,79,83,82,70,49,31,17,11,564,3.4,3.6,5.7,8,11.2,14.1,16,15.9,13.7,10.4,6.7,4.5999999999999996,9.44,6.8,5.5,5.3,4.4000000000000004,3.8,4.5,4.5,4.8,4.5999999999999996,4.8,6.1,6.1,5.0999999999999996,null,295,"",null,91,"United Kingdom",{"$f":"IF(BN298>1,\"\",MAX(BM$3:BM297)+1)","v":91},{"$f":"IF(BL298=\"\",\"\",COUNTIF(BL$4:BL298,BL298))","v":1},91001,"Birmingham",null,null,70295,"",11295,""]
["Europe","United Kingdom","Edinburgh",55.48,-2.44,10,15,30,63,101,140,141,142,112,76,41,20,10,891,13,23,46,67,88,93,92,76,52,31,16,9,606,4.2,4,5,6.3,8.9,12.3,13.7,13.9,12.6,10,6.5,5,8.5299999999999994,5.9,4.9000000000000004,5.8,4.8,3.9,4.5,4.4000000000000004,4.0999999999999996,4.9000000000000004,4.9000000000000004,4.5999999999999996,5,4.8099999999999996,null,296,"",null,"","United Kingdom",{"$f":"IF(BN299>1,\"\",MAX(BM$3:BM298)+1)","v":""},{"$f":"IF(BL299=\"\",\"\",COUNTIF(BL$4:BL299,BL299))","v":2},91002,"Edinburgh",null,null,70296,"",11296,""]
["Europe","United Kingdom","Glasgow",55.41,-4.3,10,14,29,61,103,140,141,136,108,71,39,19,10,871,12,23,46,67,88,93,92,76,52,31,15,9,604,3.5,3.7,5.3,7.1,10.1,13.1,14.1,14,12.2,9.6,6.1,4.4000000000000004,8.6,5.4,4.5999999999999996,5.3,4.4000000000000004,3.7,4.3,4.0999999999999996,3.9,4.3,4.4000000000000004,4.4000000000000004,4.5999999999999996,4.45,null,297,"",null,"","United Kingdom",{"$f":"IF(BN300>1,\"\",MAX(BM$3:BM299)+1)","v":""},{"$f":"IF(BL300=\"\",\"\",COUNTIF(BL$4:BL300,BL300))","v":3},91003,"Glasgow",null,null,70297,"",11297,""]
["Europe","United Kingdom","London",51.36,0.03,5,20,34,70,103,138,146,142,124,88,52,26,15,958,15,24,45,62,80,84,83,70,51,33,18,12,577,5.7,5.5,6.8,8.3000000000000007,11.5,14.7,17.100000000000001,17.100000000000001,15.2,11.6,8.1999999999999993,6.9,10.72,4.8,4.8,4.9000000000000004,4.9000000000000004,4.8,3.9,3.9,3.9,4.4000000000000004,4.4000000000000004,4.3,4.4000000000000004,4.45,null,298,"",null,"","United Kingdom",{"$f":"IF(BN301>1,\"\",MAX(BM$3:BM300)+1)","v":""},{"$f":"IF(BL301=\"\",\"\",COUNTIF(BL$4:BL301,BL301))","v":4},91004,"London",null,null,70298,"",11298,""]
["South_America","Uruguay","Montevideo",-34.450000000000003,-56.12,5,197,151,145,102,76,59,66,88,112,162,171,206,1535,86,72,65,49,39,33,36,46,59,74,84,87,730,21.2,21.4,21,18.100000000000001,15.1,12.7,12.3,11.8,12.5,14,16.7,19.100000000000001,16.329999999999998,4.0999999999999996,4.0999999999999996,3.6,3.1,3.1,3.6,3.6,3.6,4.5999999999999996,4.0999999999999996,4.0999999999999996,4.0999999999999996,3.81,null,299,"",null,92,"Uruguay",{"$f":"IF(BN302>1,\"\",MAX(BM$3:BM301)+1)","v":92},{"$f":"IF(BL302=\"\",\"\",COUNTIF(BL$4:BL302,BL302))","v":1},92001,"Montevideo",null,null,70299,"",11299,""]
["North_America","USA","Atlanta",33.57,-83.56,320,79,97,145,167,201,189,191,177,149,131,91,75,1692,38,42,57,65,71,75,76,70,58,46,37,34,669,5.9,7.6,11.6,16.600000000000001,21,24.8,26,26,22.7,17,11.5,7,16.48,5.6,5.6,5.6,5.0999999999999996,4.5,4.0999999999999996,3.6,3.6,4.5,4.0999999999999996,5,5,4.6900000000000004,null,300,"",null,93,"USA",{"$f":"IF(BN303>1,\"\",MAX(BM$3:BM302)+1)","v":93},{"$f":"IF(BL303=\"\",\"\",COUNTIF(BL$4:BL303,BL303))","v":1},93001,"Atlanta",null,null,70300,"",11300,""]
["North_America","USA","Boston",42.28,-70.58,5,60,79,121,144,176,186,185,162,131,97,56,48,1445,27,34,51,64,76,76,77,69,53,41,29,24,621,-1.2,-0.7,3.8,8.9,14.4,19.899999999999999,23.2,22.1,18.2,12.7,7.1,1,10.78,7.2,7.2,7.2,6.7,6.2,5.7,5.0999999999999996,5.0999999999999996,5.7,5.7,6.7,6.7,6.27,null,301,"",null,"","USA",{"$f":"IF(BN304>1,\"\",MAX(BM$3:BM303)+1)","v":""},{"$f":"IF(BL304=\"\",\"\",COUNTIF(BL$4:BL304,BL304))","v":2},93002,"Boston",null,null,70301,"",11301,""]
["North_America","USA","Chicago",41.6,-87.42,177,57,74,110,137,178,190,190,168,127,94,55,45,1425,30,37,57,70,81,79,80,72,58,45,32,27,668,-5.2,-2.9,2.8,10,15.4,20.8,23.3,22.4,18.2,12,4.7,-2.4,9.92,5.2,5.0999999999999996,5.4,5.3,4.7,4.0999999999999996,3.7,3.6,4,4.5,4.8,4.9000000000000004,4.6100000000000003,null,302,"",null,"","USA",{"$f":"IF(BN305>1,\"\",MAX(BM$3:BM304)+1)","v":""},{"$f":"IF(BL305=\"\",\"\",COUNTIF(BL$4:BL305,BL305))","v":3},93003,"Chicago",null,null,70302,"",11302,""]
["North_America","USA","Cleveland",41.31,-81.25,175,51,69,106,135,189,195,193,173,129,92,45,36,1413,32,39,59,71,75,76,77,69,58,47,33,27,663,-3,-2,3,9.6,15.3,20.399999999999999,23.1,22,18.2,12.5,6.3,-0.3,10.43,5.7,5.7,5.7,5.7,4.5999999999999996,4.5999999999999996,4.0999999999999996,3.6,4.0999999999999996,4.5999999999999996,5.7,5.7,4.9800000000000004,null,303,"",null,"","USA",{"$f":"IF(BN306>1,\"\",MAX(BM$3:BM305)+1)","v":""},{"$f":"IF(BL306=\"\",\"\",COUNTIF(BL$4:BL306,BL306))","v":4},93004,"Cleveland",null,null,70303,"",11303,""]
["North_America","USA","Dallas",32.57,-96.53,146,94,107,151,166,199,219,232,207,157,140,96,86,1854,38,43,59,69,76,70,67,66,60,48,39,35,670,6.8,9.5,14,19,22.9,27.3,29.5,29.5,25.7,20.100000000000001,13.4,8.4,18.84,5.7,5.7,7.2,6.7,6.2,5.7,4.5999999999999996,4.5999999999999996,5.0999999999999996,5.0999999999999996,5.7,5.7,5.67,null,304,"",null,"","USA",{"$f":"IF(BN307>1,\"\",MAX(BM$3:BM306)+1)","v":""},{"$f":"IF(BL307=\"\",\"\",COUNTIF(BL$4:BL307,BL307))","v":5},93005,"Dallas",null,null,70304,"",11304,""]
["North_America","USA","Denver",39.5,-104.5,1585,74,92,137,167,192,205,208,185,149,118,79,66,1672,27,32,47,56,67,64,65,59,47,36,27,23,550,-1.6,0.5,3.8,9,14.1,19.399999999999999,22.7,21.6,16.7,10.6,3.5,-0.8,9.9600000000000009,3.7,3.8,4.0999999999999996,4.4000000000000004,4.0999999999999996,3.8,3.6,3.5,3.4,3.4,3.5,3.6,3.74,null,305,"",null,"","USA",{"$f":"IF(BN308>1,\"\",MAX(BM$3:BM307)+1)","v":""},{"$f":"IF(BL308=\"\",\"\",COUNTIF(BL$4:BL308,BL308))","v":6},93006,"Denver",null,null,70305,"",11305,""]
["North_America","USA","Houston",29.53,-95.3,10,82,102,137,156,185,196,197,182,148,136,95,77,1693,43,46,62,69,76,72,74,70,62,51,42,39,706,10.3,12.2,16.100000000000001,20.7,24.2,27.7,28.8,28.9,26.2,21.1,15.7,11.6,20.29,5.0999999999999996,5.2,5.6,5.4,5.2,4.5999999999999996,4,3.8,3.6,4,4.8,5,4.6900000000000004,null,306,"",null,"","USA",{"$f":"IF(BN309>1,\"\",MAX(BM$3:BM308)+1)","v":""},{"$f":"IF(BL309=\"\",\"\",COUNTIF(BL$4:BL309,BL309))","v":7},93007,"Houston",null,null,70306,"",11306,""]
["North_America","USA","Los Angeles",33.93,-118.4,32,89,108,147.5,179.8,203.5,203.5,217.1,205,154.4,129.4,96.6,84.4,1818.3,35.9,38.799999999999997,57.7,61.9,80,79.7,77.599999999999994,69,58.7,47.8,37.700000000000003,31.4,676.2,13.35,12.8,14.55,15.55,16.989999999999998,17.649999999999999,19.78,20.11,19.95,18.14,15.97,14.43,16.61,3.3,3.7,4.0599999999999996,3.84,3.83,3.37,3.89,3.84,3.41,3.53,3.24,2.78,3.57,null,307,"",null,"","USA",{"$f":"IF(BN310>1,\"\",MAX(BM$3:BM309)+1)","v":""},{"$f":"IF(BL310=\"\",\"\",COUNTIF(BL$4:BL310,BL310))","v":8},93008,"Los Angeles",null,null,70307,"",11307,""]
["North_America","USA","Los Angeles",33.549999999999997,-118.1,10,96,115,165,197,210,196,239,219,168,135,97,87,1924,37,40,54,60,73,77,65,60,56,48,37,33,640,13.7,14.3,14.9,16.100000000000001,17.7,19.7,21.6,22.1,21.9,19.899999999999999,17.100000000000001,14.3,17.78,4,4,4.5,4.5,4.5,4.5,4,4,4,4,4,2.6,4.05,null,308,"",null,"","USA",{"$f":"IF(BN311>1,\"\",MAX(BM$3:BM310)+1)","v":""},{"$f":"IF(BL311=\"\",\"\",COUNTIF(BL$4:BL311,BL311))","v":9},93009,"Los Angeles",null,null,70308,"",11308,""]
["North_America","USA","Miami",25.59,-80.040000000000006,5,117,127,171,196,195,173,201,192,158,148,126,120,1924,40,42,52,53,66,70,65,62,58,48,37,33,626,20,20.6,22.2,23.9,26.1,27.8,28.3,28.3,27.8,25.6,22.8,20.6,24.5,4.0999999999999996,5.0999999999999996,5.0999999999999996,5.0999999999999996,4.5999999999999996,4.5999999999999996,4.0999999999999996,4.0999999999999996,4.5999999999999996,5.0999999999999996,5.7,4.0999999999999996,4.6900000000000004,null,309,"",null,"","USA",{"$f":"IF(BN312>1,\"\",MAX(BM$3:BM311)+1)","v":""},{"$f":"IF(BL312=\"\",\"\",COUNTIF(BL$4:BL312,BL312))","v":10},93010,"Miami",null,null,70309,"",11309,""]
["North_America","USA","New Orleans",29.53,-90.04,10,82,100,136,161,184,182,176,164,142,131,93,76,1627,43,46,62,68,76,75,78,73,63,52,43,40,719,10.1,11.7,15.7,19.899999999999999,23.5,26.7,27.6,27.4,25.3,20.2,15.4,11.6,19.59,4.5999999999999996,4.8,4.8,4.7,4.2,3.5,3.2,3,3.3,3.6,4.2,4.4000000000000004,4.0199999999999996,null,310,"",null,"","USA",{"$f":"IF(BN313>1,\"\",MAX(BM$3:BM312)+1)","v":""},{"$f":"IF(BL313=\"\",\"\",COUNTIF(BL$4:BL313,BL313))","v":11},93011,"New Orleans",null,null,70310,"",11310,""]
["North_America","USA","New York",40.47,-73.58,5,58,76,116,142,176,180,181,168,130,99,56,46,1428,32,39,58,70,81,82,83,73,59,46,33,28,684,0,1.1000000000000001,5,11.1,16.7,21.7,25,24.4,20.6,14.4,8.9,2.8,12.64,7.2,7.7,7.7,7.2,5.0999999999999996,5.0999999999999996,5.0999999999999996,5.0999999999999996,4.5999999999999996,5.7,6.7,7.2,6.2,null,311,"",null,"","USA",{"$f":"IF(BN314>1,\"\",MAX(BM$3:BM313)+1)","v":""},{"$f":"IF(BL314=\"\",\"\",COUNTIF(BL$4:BL314,BL314))","v":12},93012,"New York",null,null,70311,"",11311,""]
["North_America","USA","New York City",40.78,-73.97,57,57.4,78.8,116.5,148.6,173.9,189,188.3,167.5,131.30000000000001,100.6,57.2,51.1,1460.4,29.7,36.700000000000003,57.5,70.400000000000006,90,97.1,96.3,86.3,63.8,48.2,34.700000000000003,28.7,739.6,-1.73,0.78,5.16,9.82,16.84,21.83,24.7,22.92,20.22,13.52,7.8,2.67,12.05,6.19,5.68,5.53,4.7699999999999996,5.19,5.01,4.4400000000000004,4.5199999999999996,5.01,4.75,5.21,5.93,5.19,null,312,"",null,"","USA",{"$f":"IF(BN315>1,\"\",MAX(BM$3:BM314)+1)","v":""},{"$f":"IF(BL315=\"\",\"\",COUNTIF(BL$4:BL315,BL315))","v":13},93013,"New York City",null,null,70312,"",11312,""]
["North_America","USA","Newark",40.700000000000003,-74.17,9,60.5,76.3,114.4,138.1,172.6,176.4,175.9,160.69999999999999,129,98.2,59.4,50.7,1412.2,28.9,36.700000000000003,51.2,67,84.8,86.5,87.2,79.8,59.4,43.9,32.6,27.3,685.4,-1.42,0.67,5.0999999999999996,9.86,17.100000000000001,21.54,24.15,24.36,19.79,14.46,7.44,1.92,12.08,4.63,5.22,5.88,4.51,4.72,4.28,4.6500000000000004,3.34,4.0999999999999996,4.0999999999999996,4.55,5.51,4.63,null,313,"",null,"","USA",{"$f":"IF(BN316>1,\"\",MAX(BM$3:BM315)+1)","v":""},{"$f":"IF(BL316=\"\",\"\",COUNTIF(BL$4:BL316,BL316))","v":14},93014,"Newark",null,null,70313,"",11313,""]
["North_America","USA","Philadelphia",39.590000000000003,-75.13,10,64,80,120,152,181,180,181,175,142,107,65,51,1498,31,37,54,64,76,77,78,68,54,43,32,27,641,1.1000000000000001,2.1,5.8,11.1,16.899999999999999,21.9,24.9,23.6,19.5,14,7.9,1.7,12.54,6.5,6.8,6.8,6.4,4.5999999999999996,4.4000000000000004,4.4000000000000004,4.3,4.2,4.8,5.9,6.5,5.47,null,314,"",null,"","USA",{"$f":"IF(BN317>1,\"\",MAX(BM$3:BM316)+1)","v":""},{"$f":"IF(BL317=\"\",\"\",COUNTIF(BL$4:BL317,BL317))","v":15},93015,"Philadelphia",null,null,70314,"",11314,""]
["North_America","USA","Salt Lake City",40.49,-111.5,1285,65,91,147,176,222,233,249,215,168,123,70,56,1815,27,31,43,54,58,55,48,47,39,34,28,24,488,-2.2000000000000002,1.1000000000000001,5,10,15,20.6,25.6,24.4,18.3,11.7,4.4000000000000004,-1.1000000000000001,11.07,4.5999999999999996,4.5999999999999996,4.5999999999999996,4.5999999999999996,4.5999999999999996,4.5999999999999996,4.5999999999999996,4.5999999999999996,4.5999999999999996,4.0999999999999996,4.0999999999999996,4.0999999999999996,4.47,null,315,"",null,"","USA",{"$f":"IF(BN318>1,\"\",MAX(BM$3:BM317)+1)","v":""},{"$f":"IF(BL318=\"\",\"\",COUNTIF(BL$4:BL318,BL318))","v":16},93016,"Salt Lake City",null,null,70315,"",11315,""]
["North_America","USA","San Francisco",37.47,-122.1,5,67,83,132,170,208,215,228,202,161,121,75,61,1723,31,37,51,58,64,63,59,56,46,40,32,28,565,9.1,10.9,11.5,12.5,13.7,15.3,16.100000000000001,16.5,16.8,15.3,12.4,9.4,13.29,3.3,4,4.8,5.5,6.2,6.2,6.2,5.7,5,4.3,3.7,3.5,4.87,null,316,"",null,"","USA",{"$f":"IF(BN319>1,\"\",MAX(BM$3:BM318)+1)","v":""},{"$f":"IF(BL319=\"\",\"\",COUNTIF(BL$4:BL319,BL319))","v":17},93017,"San Francisco",null,null,70316,"",11316,""]
["North_America","USA","Seattle",47.53,-122,5,27,48,91,123,168,184,196,164,115,74,33,22,1245,17,27,46,61,76,78,77,67,51,36,20,14,570,4.9000000000000004,6.7,7.9,10.5,13.9,16.399999999999999,18.600000000000001,18.600000000000001,16.2,12.2,8.1999999999999993,6,11.68,5.9,5.9,5.4,5,4.5,4.5,4.0999999999999996,4.0999999999999996,4,4.4000000000000004,4.9000000000000004,4.9000000000000004,4.8,null,317,"",null,"","USA",{"$f":"IF(BN320>1,\"\",MAX(BM$3:BM319)+1)","v":""},{"$f":"IF(BL320=\"\",\"\",COUNTIF(BL$4:BL320,BL320))","v":18},93018,"Seattle",null,null,70317,"",11317,""]
["North_America","USA","Washington",39.1,-76.510000000000005,5,71,87,129,153,189,198,189,174,144,110,69,57,1570,31,37,54,65,74,73,76,68,54,44,33,28,637,-0.1,1.5,7,12,17.5,22.1,24.8,23.7,19.8,13.3,8.1,2.5,12.68,5.7,5.7,5.7,5.7,3.6,3.1,3.1,3.1,3.1,3.1,5.0999999999999996,5.7,4.3899999999999997,null,318,"",null,"","USA",{"$f":"IF(BN321>1,\"\",MAX(BM$3:BM320)+1)","v":""},{"$f":"IF(BL321=\"\",\"\",COUNTIF(BL$4:BL321,BL321))","v":19},93019,"Washington",null,null,70318,"",11318,""]
["South_America","Venezuela","Caracas",10.34,-66.44,920,128,128,147,139,140,137,147,145,142,134,128,120,1635,59,58,68,66,68,65,69,69,66,64,58,56,766,20.8,21.8,22.9,23.5,24,23.5,22.9,22.9,23.5,22.9,22.9,21.8,22.78,3.1,3.1,3.1,3.1,3.1,3.1,3.1,3.1,3.1,2.6,3.1,3.1,3.06,null,319,"",null,94,"Venezuela",{"$f":"IF(BN322>1,\"\",MAX(BM$3:BM321)+1)","v":94},{"$f":"IF(BL322=\"\",\"\",COUNTIF(BL$4:BL322,BL322))","v":1},94001,"Caracas",null,null,70319,"",11319,""]
["Asia","Vietnam","Hanoi",20.54,105.46,16,126,110,129,138,158,156,173,142,141,139,125,127,1664,51,51,62,66,73,72,75,69,65,60,51,49,744,20.100000000000001,21.5,24.5,27.3,28.6,29.1,29.2,29.1,28.4,27,24,20.7,25.79,2.8,3,3.3,3.3,3.2,3.7,2.8,3.2,2.8,3.6,3.5,3.1,3.19,null,320,"",null,95,"Vietnam",{"$f":"IF(BN323>1,\"\",MAX(BM$3:BM322)+1)","v":95},{"$f":"IF(BL323=\"\",\"\",COUNTIF(BL$4:BL323,BL323))","v":1},95001,"Hanoi",null,null,70320,"",11320,""]
["Europe","Yugoslavia","Beograd",44.43,20.420000000000002,76,38,59,101,131,172,179,191,172,123,83,44,35,1328,27,36,56,69,81,82,78,66,55,43,29,24,646,2.4,3,8,13.6,18.600000000000001,20.8,23.6,23.6,19.7,14,7.5,3.5,13.19,3.1,4.0999999999999996,4.2,3.6,3.6,2.6,2.6,2.6,3.1,3.6,3.7,3.5,3.36,null,321,{"$f":"IF(BH324>MAX(BK$4:BK$940),\"\",VLOOKUP(BH324,BK$4:BL$940,2,FALSE))","v":""},null,96,"Yugoslavia",{"$f":"IF(BN324>1,\"\",MAX(BM$3:BM323)+1)","v":96},{"$f":"IF(BL324=\"\",\"\",COUNTIF(BL$4:BL324,BL324))","v":1},{"$f":"IF(BL324=\"\",\"\",thousand*VLOOKUP(BL324,BL$4:BM$940,2,FALSE)+BN324)","v":96001},"Beograd",null,null,{"$f":"country*thousand+BH324","v":70321},{"$f":"IF(COUNTIF(BO$4:BO$940,BS324)>0,VLOOKUP(BS324,BO$4:BP$940,2,FALSE),\"\")","v":""},{"$f":"BU$1*thousand+BH324","v":11321},{"$f":"IF(COUNTIF(BO$4:BO$940,BU324)>0,VLOOKUP(BU324,BO$4:BP$940,2,FALSE),\"\")","v":""}]
["Europe","Yugoslavia","Zagreb",45.31,15.6,148,33,54,88,124,161,166,181,161,117,70,39,24,1218,23,33,52,67,82,84,82,72,56,41,26,18,636,0.1,1.2,6.7,10.6,15.6,18.399999999999999,20.7,20.100000000000001,16.8,11.2,4.5,1.2,10.59,2.1,3.5,3.5,3.5,2.6,2.6,2.1,2.1,2.1,3,3,2.1,2.68,null,322,"",null,{"$f":"BM325","v":""},{"$f":"IF(B325=\"\",\"\",B325)","v":"Yugoslavia"},{"$f":"IF(BN325>1,\"\",MAX(BM$3:BM324)+1)","v":""},{"$f":"IF(BL325=\"\",\"\",COUNTIF(BL$4:BL325,BL325))","v":2},96002,{"$f":"IF(C325=\"\",\"\",C325)","v":"Zagreb"},null,null,70322,"",11322,""]
["Africa","Zairean","Kinshasa",-4.1900000000000004,15.44,340,153,140,169,158,137,110,109,111,132,148,154,151,1672,81,74,77,69,70,67,71,75,78,82,77,80,901,26,26.6,27.1,26.6,26,23.8,22.7,23.8,25.5,26,26,26,25.51,2.1,2.1,2.1,2.1,2.1,2.1,2.1,2.1,2.1,2.1,2.1,2.1,2.1,null,323,"",null,{"$f":"BM326","v":97},{"$f":"IF(B326=\"\",\"\",B326)","v":"Zairean"},{"$f":"IF(BN326>1,\"\",MAX(BM$3:BM325)+1)","v":97},{"$f":"IF(BL326=\"\",\"\",COUNTIF(BL$4:BL326,BL326))","v":1},97001,{"$f":"IF(C326=\"\",\"\",C326)","v":"Kinshasa"},null,null,70323,"",11323,""]
["Africa","Zambia","Lusaka",-15.22,28.25,1274,150,153,176,159,164,154,172,194,198,199,179,176,2074,85,76,78,65,54,45,45,51,63,79,83,87,811,22.8,22.8,22.2,21.1,18.899999999999999,16.7,16.7,18.899999999999999,22.8,25,24.4,22.8,21.26,4.0999999999999996,3.6,4.5999999999999996,4.5999999999999996,4.0999999999999996,4.5999999999999996,4.5999999999999996,5.7,5.7,5.7,5.0999999999999996,4.0999999999999996,4.71,null,324,"",null,{"$f":"BM327","v":98},{"$f":"IF(B327=\"\",\"\",B327)","v":"Zambia"},{"$f":"IF(BN327>1,\"\",MAX(BM$3:BM326)+1)","v":98},{"$f":"IF(BL327=\"\",\"\",COUNTIF(BL$4:BL327,BL327))","v":1},98001,{"$f":"IF(C327=\"\",\"\",C327)","v":"Lusaka"},null,null,70324,"",11324,""]
[null,null,null,null,null,null,null,null,null,null,null,null,null,null,null,null,null,null,null,null,null,null,null,null,null,null,null,null,null,null,null,null,null,null,null,null,null,null,null,null,null,null,null,null,null,null,null,null,null,null,null,null,null,null,null,null,null,null,null,325,"",null,{"$f":"BM328","v":""},{"$f":"IF(B328=\"\",\"\",B328)","v":""},{"$f":"IF(BN328>1,\"\",MAX(BM$3:BM327)+1)","v":""},{"$f":"IF(BL328=\"\",\"\",COUNTIF(BL$4:BL328,BL328))","v":""},"",{"$f":"IF(C328=\"\",\"\",C328)","v":""},null,null,70325,"",11325,""]
[null,null,null,null,null,null,null,null,null,null,null,null,null,null,null,null,null,null,null,null,null,null,null,null,null,null,null,null,null,null,null,null,null,null,null,null,null,null,null,null,null,null,null,null,null,null,null,null,null,null,null,null,null,null,null,null,null,null,null,326,"",null,"","",{"$f":"IF(BN329>1,\"\",MAX(BM$3:BM328)+1)","v":""},{"$f":"IF(BL329=\"\",\"\",COUNTIF(BL$4:BL329,BL329))","v":""},"","",null,null,70326,"",11326,""]
[null,null,null,null,null,null,null,null,null,null,null,null,null,null,null,null,null,null,null,null,null,null,null,null,null,null,null,null,null,null,null,null,null,null,null,null,null,null,null,null,null,null,null,null,null,null,null,null,null,null,null,null,null,null,null,null,null,null,null,327,"",null,"","",{"$f":"IF(BN330>1,\"\",MAX(BM$3:BM329)+1)","v":""},{"$f":"IF(BL330=\"\",\"\",COUNTIF(BL$4:BL330,BL330))","v":""},"","",null,null,70327,"",11327,""]
[null,null,null,null,null,null,null,null,null,null,null,null,null,null,null,null,null,null,null,null,null,null,null,null,null,null,null,null,null,null,null,null,null,null,null,null,null,null,null,null,null,null,null,null,null,null,null,null,null,null,null,null,null,null,null,null,null,null,null,328,"",null,"","",{"$f":"IF(BN331>1,\"\",MAX(BM$3:BM330)+1)","v":""},{"$f":"IF(BL331=\"\",\"\",COUNTIF(BL$4:BL331,BL331))","v":""},"","",null,null,70328,"",11328,""]
[null,null,null,null,null,null,null,null,null,null,null,null,null,null,null,null,null,null,null,null,null,null,null,null,null,null,null,null,null,null,null,null,null,null,null,null,null,null,null,null,null,null,null,null,null,null,null,null,null,null,null,null,null,null,null,null,null,null,null,329,"",null,"","",{"$f":"IF(BN332>1,\"\",MAX(BM$3:BM331)+1)","v":""},{"$f":"IF(BL332=\"\",\"\",COUNTIF(BL$4:BL332,BL332))","v":""},"","",null,null,70329,"",11329,""]
[null,null,null,null,null,null,null,null,null,null,null,null,null,null,null,null,null,null,null,null,null,null,null,null,null,null,null,null,null,null,null,null,null,null,null,null,null,null,null,null,null,null,null,null,null,null,null,null,null,null,null,null,null,null,null,null,null,null,null,330,"",null,"","",{"$f":"IF(BN333>1,\"\",MAX(BM$3:BM332)+1)","v":""},{"$f":"IF(BL333=\"\",\"\",COUNTIF(BL$4:BL333,BL333))","v":""},"","",null,null,70330,"",11330,""]
[null,null,null,null,null,null,null,null,null,null,null,null,null,null,null,null,null,null,null,null,null,null,null,null,null,null,null,null,null,null,null,null,null,null,null,null,null,null,null,null,null,null,null,null,null,null,null,null,null,null,null,null,null,null,null,null,null,null,null,331,"",null,"","",{"$f":"IF(BN334>1,\"\",MAX(BM$3:BM333)+1)","v":""},{"$f":"IF(BL334=\"\",\"\",COUNTIF(BL$4:BL334,BL334))","v":""},"","",null,null,70331,"",11331,""]
[null,null,null,null,null,null,null,null,null,null,null,null,null,null,null,null,null,null,null,null,null,null,null,null,null,null,null,null,null,null,null,null,null,null,null,null,null,null,null,null,null,null,null,null,null,null,null,null,null,null,null,null,null,null,null,null,null,null,null,332,"",null,"","",{"$f":"IF(BN335>1,\"\",MAX(BM$3:BM334)+1)","v":""},{"$f":"IF(BL335=\"\",\"\",COUNTIF(BL$4:BL335,BL335))","v":""},"","",null,null,70332,"",11332,""]
[null,null,null,null,null,null,null,null,null,null,null,null,null,null,null,null,null,null,null,null,null,null,null,null,null,null,null,null,null,null,null,null,null,null,null,null,null,null,null,null,null,null,null,null,null,null,null,null,null,null,null,null,null,null,null,null,null,null,null,333,"",null,"","",{"$f":"IF(BN336>1,\"\",MAX(BM$3:BM335)+1)","v":""},{"$f":"IF(BL336=\"\",\"\",COUNTIF(BL$4:BL336,BL336))","v":""},"","",null,null,70333,"",11333,""]
[null,null,null,null,null,null,null,null,null,null,null,null,null,null,null,null,null,null,null,null,null,null,null,null,null,null,null,null,null,null,null,null,null,null,null,null,null,null,null,null,null,null,null,null,null,null,null,null,null,null,null,null,null,null,null,null,null,null,null,334,"",null,"","",{"$f":"IF(BN337>1,\"\",MAX(BM$3:BM336)+1)","v":""},{"$f":"IF(BL337=\"\",\"\",COUNTIF(BL$4:BL337,BL337))","v":""},"","",null,null,70334,"",11334,""]
[null,null,null,null,null,null,null,null,null,null,null,null,null,null,null,null,null,null,null,null,null,null,null,null,null,null,null,null,null,null,null,null,null,null,null,null,null,null,null,null,null,null,null,null,null,null,null,null,null,null,null,null,null,null,null,null,null,null,null,335,"",null,"","",{"$f":"IF(BN338>1,\"\",MAX(BM$3:BM337)+1)","v":""},{"$f":"IF(BL338=\"\",\"\",COUNTIF(BL$4:BL338,BL338))","v":""},"","",null,null,70335,"",11335,""]
[null,null,null,null,null,null,null,null,null,null,null,null,null,null,null,null,null,null,null,null,null,null,null,null,null,null,null,null,null,null,null,null,null,null,null,null,null,null,null,null,null,null,null,null,null,null,null,null,null,null,null,null,null,null,null,null,null,null,null,336,"",null,"","",{"$f":"IF(BN339>1,\"\",MAX(BM$3:BM338)+1)","v":""},{"$f":"IF(BL339=\"\",\"\",COUNTIF(BL$4:BL339,BL339))","v":""},"","",null,null,70336,"",11336,""]
[null,null,null,null,null,null,null,null,null,null,null,null,null,null,null,null,null,null,null,null,null,null,null,null,null,null,null,null,null,null,null,null,null,null,null,null,null,null,null,null,null,null,null,null,null,null,null,null,null,null,null,null,null,null,null,null,null,null,null,337,"",null,"","",{"$f":"IF(BN340>1,\"\",MAX(BM$3:BM339)+1)","v":""},{"$f":"IF(BL340=\"\",\"\",COUNTIF(BL$4:BL340,BL340))","v":""},"","",null,null,70337,"",11337,""]
[null,null,null,null,null,null,null,null,null,null,null,null,null,null,null,null,null,null,null,null,null,null,null,null,null,null,null,null,null,null,null,null,null,null,null,null,null,null,null,null,null,null,null,null,null,null,null,null,null,null,null,null,null,null,null,null,null,null,null,338,"",null,"","",{"$f":"IF(BN341>1,\"\",MAX(BM$3:BM340)+1)","v":""},{"$f":"IF(BL341=\"\",\"\",COUNTIF(BL$4:BL341,BL341))","v":""},"","",null,null,70338,"",11338,""]
[null,null,null,null,null,null,null,null,null,null,null,null,null,null,null,null,null,null,null,null,null,null,null,null,null,null,null,null,null,null,null,null,null,null,null,null,null,null,null,null,null,null,null,null,null,null,null,null,null,null,null,null,null,null,null,null,null,null,null,339,"",null,"","",{"$f":"IF(BN342>1,\"\",MAX(BM$3:BM341)+1)","v":""},{"$f":"IF(BL342=\"\",\"\",COUNTIF(BL$4:BL342,BL342))","v":""},"","",null,null,70339,"",11339,""]
[null,null,null,null,null,null,null,null,null,null,null,null,null,null,null,null,null,null,null,null,null,null,null,null,null,null,null,null,null,null,null,null,null,null,null,null,null,null,null,null,null,null,null,null,null,null,null,null,null,null,null,null,null,null,null,null,null,null,null,340,"",null,"","",{"$f":"IF(BN343>1,\"\",MAX(BM$3:BM342)+1)","v":""},{"$f":"IF(BL343=\"\",\"\",COUNTIF(BL$4:BL343,BL343))","v":""},"","",null,null,70340,"",11340,""]
[null,null,null,null,null,null,null,null,null,null,null,null,null,null,null,null,null,null,null,null,null,null,null,null,null,null,null,null,null,null,null,null,null,null,null,null,null,null,null,null,null,null,null,null,null,null,null,null,null,null,null,null,null,null,null,null,null,null,null,341,"",null,"","",{"$f":"IF(BN344>1,\"\",MAX(BM$3:BM343)+1)","v":""},{"$f":"IF(BL344=\"\",\"\",COUNTIF(BL$4:BL344,BL344))","v":""},"","",null,null,70341,"",11341,""]
[null,null,null,null,null,null,null,null,null,null,null,null,null,null,null,null,null,null,null,null,null,null,null,null,null,null,null,null,null,null,null,null,null,null,null,null,null,null,null,null,null,null,null,null,null,null,null,null,null,null,null,null,null,null,null,null,null,null,null,342,"",null,"","",{"$f":"IF(BN345>1,\"\",MAX(BM$3:BM344)+1)","v":""},{"$f":"IF(BL345=\"\",\"\",COUNTIF(BL$4:BL345,BL345))","v":""},"","",null,null,70342,"",11342,""]
[null,null,null,null,null,null,null,null,null,null,null,null,null,null,null,null,null,null,null,null,null,null,null,null,null,null,null,null,null,null,null,null,null,null,null,null,null,null,null,null,null,null,null,null,null,null,null,null,null,null,null,null,null,null,null,null,null,null,null,343,"",null,"","",{"$f":"IF(BN346>1,\"\",MAX(BM$3:BM345)+1)","v":""},{"$f":"IF(BL346=\"\",\"\",COUNTIF(BL$4:BL346,BL346))","v":""},"","",null,null,70343,"",11343,""]
[null,null,null,null,null,null,null,null,null,null,null,null,null,null,null,null,null,null,null,null,null,null,null,null,null,null,null,null,null,null,null,null,null,null,null,null,null,null,null,null,null,null,null,null,null,null,null,null,null,null,null,null,null,null,null,null,null,null,null,344,"",null,"","",{"$f":"IF(BN347>1,\"\",MAX(BM$3:BM346)+1)","v":""},{"$f":"IF(BL347=\"\",\"\",COUNTIF(BL$4:BL347,BL347))","v":""},"","",null,null,70344,"",11344,""]
[null,null,null,null,null,null,null,null,null,null,null,null,null,null,null,null,null,null,null,null,null,null,null,null,null,null,null,null,null,null,null,null,null,null,null,null,null,null,null,null,null,null,null,null,null,null,null,null,null,null,null,null,null,null,null,null,null,null,null,345,"",null,"","",{"$f":"IF(BN348>1,\"\",MAX(BM$3:BM347)+1)","v":""},{"$f":"IF(BL348=\"\",\"\",COUNTIF(BL$4:BL348,BL348))","v":""},"","",null,null,70345,"",11345,""]
[null,null,null,null,null,null,null,null,null,null,null,null,null,null,null,null,null,null,null,null,null,null,null,null,null,null,null,null,null,null,null,null,null,null,null,null,null,null,null,null,null,null,null,null,null,null,null,null,null,null,null,null,null,null,null,null,null,null,null,346,"",null,"","",{"$f":"IF(BN349>1,\"\",MAX(BM$3:BM348)+1)","v":""},{"$f":"IF(BL349=\"\",\"\",COUNTIF(BL$4:BL349,BL349))","v":""},"",""]
[null,null,null,null,null,null,null,null,null,null,null,null,null,null,null,null,null,null,null,null,null,null,null,null,null,null,null,null,null,null,null,null,null,null,null,null,null,null,null,null,null,null,null,null,null,null,null,null,null,null,null,null,null,null,null,null,null,null,null,347,"",null,"","",{"$f":"IF(BN350>1,\"\",MAX(BM$3:BM349)+1)","v":""},{"$f":"IF(BL350=\"\",\"\",COUNTIF(BL$4:BL350,BL350))","v":""},"",""]
[null,null,null,null,null,null,null,null,null,null,null,null,null,null,null,null,null,null,null,null,null,null,null,null,null,null,null,null,null,null,null,null,null,null,null,null,null,null,null,null,null,null,null,null,null,null,null,null,null,null,null,null,null,null,null,null,null,null,null,348,"",null,"","",{"$f":"IF(BN351>1,\"\",MAX(BM$3:BM350)+1)","v":""},{"$f":"IF(BL351=\"\",\"\",COUNTIF(BL$4:BL351,BL351))","v":""},"",""]
[null,null,null,null,null,null,null,null,null,null,null,null,null,null,null,null,null,null,null,null,null,null,null,null,null,null,null,null,null,null,null,null,null,null,null,null,null,null,null,null,null,null,null,null,null,null,null,null,null,null,null,null,null,null,null,null,null,null,null,349,"",null,"","",{"$f":"IF(BN352>1,\"\",MAX(BM$3:BM351)+1)","v":""},{"$f":"IF(BL352=\"\",\"\",COUNTIF(BL$4:BL352,BL352))","v":""},"",""]
[null,null,null,null,null,null,null,null,null,null,null,null,null,null,null,null,null,null,null,null,null,null,null,null,null,null,null,null,null,null,null,null,null,null,null,null,null,null,null,null,null,null,null,null,null,null,null,null,null,null,null,null,null,null,null,null,null,null,null,350,"",null,"","",{"$f":"IF(BN353>1,\"\",MAX(BM$3:BM352)+1)","v":""},{"$f":"IF(BL353=\"\",\"\",COUNTIF(BL$4:BL353,BL353))","v":""},"",""]
[null,null,null,null,null,null,null,null,null,null,null,null,null,null,null,null,null,null,null,null,null,null,null,null,null,null,null,null,null,null,null,null,null,null,null,null,null,null,null,null,null,null,null,null,null,null,null,null,null,null,null,null,null,null,null,null,null,null,null,351,"",null,"","",{"$f":"IF(BN354>1,\"\",MAX(BM$3:BM353)+1)","v":""},{"$f":"IF(BL354=\"\",\"\",COUNTIF(BL$4:BL354,BL354))","v":""},"",""]
[null,null,null,null,null,null,null,null,null,null,null,null,null,null,null,null,null,null,null,null,null,null,null,null,null,null,null,null,null,null,null,null,null,null,null,null,null,null,null,null,null,null,null,null,null,null,null,null,null,null,null,null,null,null,null,null,null,null,null,352,"",null,"","",{"$f":"IF(BN355>1,\"\",MAX(BM$3:BM354)+1)","v":""},{"$f":"IF(BL355=\"\",\"\",COUNTIF(BL$4:BL355,BL355))","v":""},"",""]
[null,null,null,null,null,null,null,null,null,null,null,null,null,null,null,null,null,null,null,null,null,null,null,null,null,null,null,null,null,null,null,null,null,null,null,null,null,null,null,null,null,null,null,null,null,null,null,null,null,null,null,null,null,null,null,null,null,null,null,353,"",null,"","",{"$f":"IF(BN356>1,\"\",MAX(BM$3:BM355)+1)","v":""},{"$f":"IF(BL356=\"\",\"\",COUNTIF(BL$4:BL356,BL356))","v":""},"",""]
[null,null,null,null,null,null,null,null,null,null,null,null,null,null,null,null,null,null,null,null,null,null,null,null,null,null,null,null,null,null,null,null,null,null,null,null,null,null,null,null,null,null,null,null,null,null,null,null,null,null,null,null,null,null,null,null,null,null,null,354,"",null,"","",{"$f":"IF(BN357>1,\"\",MAX(BM$3:BM356)+1)","v":""},{"$f":"IF(BL357=\"\",\"\",COUNTIF(BL$4:BL357,BL357))","v":""},"",""]
[null,null,null,null,null,null,null,null,null,null,null,null,null,null,null,null,null,null,null,null,null,null,null,null,null,null,null,null,null,null,null,null,null,null,null,null,null,null,null,null,null,null,null,null,null,null,null,null,null,null,null,null,null,null,null,null,null,null,null,355,"",null,"","",{"$f":"IF(BN358>1,\"\",MAX(BM$3:BM357)+1)","v":""},{"$f":"IF(BL358=\"\",\"\",COUNTIF(BL$4:BL358,BL358))","v":""},"",""]
[null,null,null,null,null,null,null,null,null,null,null,null,null,null,null,null,null,null,null,null,null,null,null,null,null,null,null,null,null,null,null,null,null,null,null,null,null,null,null,null,null,null,null,null,null,null,null,null,null,null,null,null,null,null,null,null,null,null,null,356,"",null,"","",{"$f":"IF(BN359>1,\"\",MAX(BM$3:BM358)+1)","v":""},{"$f":"IF(BL359=\"\",\"\",COUNTIF(BL$4:BL359,BL359))","v":""},"",""]
[null,null,null,null,null,null,null,null,null,null,null,null,null,null,null,null,null,null,null,null,null,null,null,null,null,null,null,null,null,null,null,null,null,null,null,null,null,null,null,null,null,null,null,null,null,null,null,null,null,null,null,null,null,null,null,null,null,null,null,357,"",null,"","",{"$f":"IF(BN360>1,\"\",MAX(BM$3:BM359)+1)","v":""},{"$f":"IF(BL360=\"\",\"\",COUNTIF(BL$4:BL360,BL360))","v":""},"",""]
[null,null,null,null,null,null,null,null,null,null,null,null,null,null,null,null,null,null,null,null,null,null,null,null,null,null,null,null,null,null,null,null,null,null,null,null,null,null,null,null,null,null,null,null,null,null,null,null,null,null,null,null,null,null,null,null,null,null,null,358,"",null,"","",{"$f":"IF(BN361>1,\"\",MAX(BM$3:BM360)+1)","v":""},{"$f":"IF(BL361=\"\",\"\",COUNTIF(BL$4:BL361,BL361))","v":""},"",""]
[null,null,null,null,null,null,null,null,null,null,null,null,null,null,null,null,null,null,null,null,null,null,null,null,null,null,null,null,null,null,null,null,null,null,null,null,null,null,null,null,null,null,null,null,null,null,null,null,null,null,null,null,null,null,null,null,null,null,null,359,"",null,"","",{"$f":"IF(BN362>1,\"\",MAX(BM$3:BM361)+1)","v":""},{"$f":"IF(BL362=\"\",\"\",COUNTIF(BL$4:BL362,BL362))","v":""},"",""]
[null,null,null,null,null,null,null,null,null,null,null,null,null,null,null,null,null,null,null,null,null,null,null,null,null,null,null,null,null,null,null,null,null,null,null,null,null,null,null,null,null,null,null,null,null,null,null,null,null,null,null,null,null,null,null,null,null,null,null,360,"",null,"","",{"$f":"IF(BN363>1,\"\",MAX(BM$3:BM362)+1)","v":""},{"$f":"IF(BL363=\"\",\"\",COUNTIF(BL$4:BL363,BL363))","v":""},"",""]
[null,null,null,null,null,null,null,null,null,null,null,null,null,null,null,null,null,null,null,null,null,null,null,null,null,null,null,null,null,null,null,null,null,null,null,null,null,null,null,null,null,null,null,null,null,null,null,null,null,null,null,null,null,null,null,null,null,null,null,361,"",null,"","",{"$f":"IF(BN364>1,\"\",MAX(BM$3:BM363)+1)","v":""},{"$f":"IF(BL364=\"\",\"\",COUNTIF(BL$4:BL364,BL364))","v":""},"",""]
[null,null,null,null,null,null,null,null,null,null,null,null,null,null,null,null,null,null,null,null,null,null,null,null,null,null,null,null,null,null,null,null,null,null,null,null,null,null,null,null,null,null,null,null,null,null,null,null,null,null,null,null,null,null,null,null,null,null,null,362,"",null,"","",{"$f":"IF(BN365>1,\"\",MAX(BM$3:BM364)+1)","v":""},{"$f":"IF(BL365=\"\",\"\",COUNTIF(BL$4:BL365,BL365))","v":""},"",""]
[null,null,null,null,null,null,null,null,null,null,null,null,null,null,null,null,null,null,null,null,null,null,null,null,null,null,null,null,null,null,null,null,null,null,null,null,null,null,null,null,null,null,null,null,null,null,null,null,null,null,null,null,null,null,null,null,null,null,null,363,"",null,"","",{"$f":"IF(BN366>1,\"\",MAX(BM$3:BM365)+1)","v":""},{"$f":"IF(BL366=\"\",\"\",COUNTIF(BL$4:BL366,BL366))","v":""},"",""]
[null,null,null,null,null,null,null,null,null,null,null,null,null,null,null,null,null,null,null,null,null,null,null,null,null,null,null,null,null,null,null,null,null,null,null,null,null,null,null,null,null,null,null,null,null,null,null,null,null,null,null,null,null,null,null,null,null,null,null,364,"",null,"","",{"$f":"IF(BN367>1,\"\",MAX(BM$3:BM366)+1)","v":""},{"$f":"IF(BL367=\"\",\"\",COUNTIF(BL$4:BL367,BL367))","v":""},"",""]
[null,null,null,null,null,null,null,null,null,null,null,null,null,null,null,null,null,null,null,null,null,null,null,null,null,null,null,null,null,null,null,null,null,null,null,null,null,null,null,null,null,null,null,null,null,null,null,null,null,null,null,null,null,null,null,null,null,null,null,365,"",null,"","",{"$f":"IF(BN368>1,\"\",MAX(BM$3:BM367)+1)","v":""},{"$f":"IF(BL368=\"\",\"\",COUNTIF(BL$4:BL368,BL368))","v":""},"",""]
[null,null,null,null,null,null,null,null,null,null,null,null,null,null,null,null,null,null,null,null,null,null,null,null,null,null,null,null,null,null,null,null,null,null,null,null,null,null,null,null,null,null,null,null,null,null,null,null,null,null,null,null,null,null,null,null,null,null,null,366,"",null,"","",{"$f":"IF(BN369>1,\"\",MAX(BM$3:BM368)+1)","v":""},{"$f":"IF(BL369=\"\",\"\",COUNTIF(BL$4:BL369,BL369))","v":""},"",""]
[null,null,null,null,null,null,null,null,null,null,null,null,null,null,null,null,null,null,null,null,null,null,null,null,null,null,null,null,null,null,null,null,null,null,null,null,null,null,null,null,null,null,null,null,null,null,null,null,null,null,null,null,null,null,null,null,null,null,null,367,"",null,"","",{"$f":"IF(BN370>1,\"\",MAX(BM$3:BM369)+1)","v":""},{"$f":"IF(BL370=\"\",\"\",COUNTIF(BL$4:BL370,BL370))","v":""},"",""]
[null,null,null,null,null,null,null,null,null,null,null,null,null,null,null,null,null,null,null,null,null,null,null,null,null,null,null,null,null,null,null,null,null,null,null,null,null,null,null,null,null,null,null,null,null,null,null,null,null,null,null,null,null,null,null,null,null,null,null,368,"",null,{"$f":"BM371","v":""},{"$f":"IF(B371=\"\",\"\",B371)","v":""},{"$f":"IF(BN371>1,\"\",MAX(BM$3:BM370)+1)","v":""},{"$f":"IF(BL371=\"\",\"\",COUNTIF(BL$4:BL371,BL371))","v":""},"",{"$f":"IF(C371=\"\",\"\",C371)","v":""}]
[null,null,null,null,null,null,null,null,null,null,null,null,null,null,null,null,null,null,null,null,null,null,null,null,null,null,null,null,null,null,null,null,null,null,null,null,null,null,null,null,null,null,null,null,null,null,null,null,null,null,null,null,null,null,null,null,null,null,null,369,"",null,"","",{"$f":"IF(BN372>1,\"\",MAX(BM$3:BM371)+1)","v":""},{"$f":"IF(BL372=\"\",\"\",COUNTIF(BL$4:BL372,BL372))","v":""},"",""]
[null,null,null,null,null,null,null,null,null,null,null,null,null,null,null,null,null,null,null,null,null,null,null,null,null,null,null,null,null,null,null,null,null,null,null,null,null,null,null,null,null,null,null,null,null,null,null,null,null,null,null,null,null,null,null,null,null,null,null,370,"",null,"","",{"$f":"IF(BN373>1,\"\",MAX(BM$3:BM372)+1)","v":""},{"$f":"IF(BL373=\"\",\"\",COUNTIF(BL$4:BL373,BL373))","v":""},"",""]
[null,null,null,null,null,null,null,null,null,null,null,null,null,null,null,null,null,null,null,null,null,null,null,null,null,null,null,null,null,null,null,null,null,null,null,null,null,null,null,null,null,null,null,null,null,null,null,null,null,null,null,null,null,null,null,null,null,null,null,371,"",null,"","",{"$f":"IF(BN374>1,\"\",MAX(BM$3:BM373)+1)","v":""},{"$f":"IF(BL374=\"\",\"\",COUNTIF(BL$4:BL374,BL374))","v":""},"",""]
[null,null,null,null,null,null,null,null,null,null,null,null,null,null,null,null,null,null,null,null,null,null,null,null,null,null,null,null,null,null,null,null,null,null,null,null,null,null,null,null,null,null,null,null,null,null,null,null,null,null,null,null,null,null,null,null,null,null,null,372,"",null,"","",{"$f":"IF(BN375>1,\"\",MAX(BM$3:BM374)+1)","v":""},{"$f":"IF(BL375=\"\",\"\",COUNTIF(BL$4:BL375,BL375))","v":""},"",""]
[null,null,null,null,null,null,null,null,null,null,null,null,null,null,null,null,null,null,null,null,null,null,null,null,null,null,null,null,null,null,null,null,null,null,null,null,null,null,null,null,null,null,null,null,null,null,null,null,null,null,null,null,null,null,null,null,null,null,null,373,"",null,"","",{"$f":"IF(BN376>1,\"\",MAX(BM$3:BM375)+1)","v":""},{"$f":"IF(BL376=\"\",\"\",COUNTIF(BL$4:BL376,BL376))","v":""},"",""]
[null,null,null,null,null,null,null,null,null,null,null,null,null,null,null,null,null,null,null,null,null,null,null,null,null,null,null,null,null,null,null,null,null,null,null,null,null,null,null,null,null,null,null,null,null,null,null,null,null,null,null,null,null,null,null,null,null,null,null,374,"",null,"","",{"$f":"IF(BN377>1,\"\",MAX(BM$3:BM376)+1)","v":""},{"$f":"IF(BL377=\"\",\"\",COUNTIF(BL$4:BL377,BL377))","v":""},"",""]
[null,null,null,null,null,null,null,null,null,null,null,null,null,null,null,null,null,null,null,null,null,null,null,null,null,null,null,null,null,null,null,null,null,null,null,null,null,null,null,null,null,null,null,null,null,null,null,null,null,null,null,null,null,null,null,null,null,null,null,375,"",null,"","",{"$f":"IF(BN378>1,\"\",MAX(BM$3:BM377)+1)","v":""},{"$f":"IF(BL378=\"\",\"\",COUNTIF(BL$4:BL378,BL378))","v":""},"",""]
[null,null,null,null,null,null,null,null,null,null,null,null,null,null,null,null,null,null,null,null,null,null,null,null,null,null,null,null,null,null,null,null,null,null,null,null,null,null,null,null,null,null,null,null,null,null,null,null,null,null,null,null,null,null,null,null,null,null,null,376,"",null,"","",{"$f":"IF(BN379>1,\"\",MAX(BM$3:BM378)+1)","v":""},{"$f":"IF(BL379=\"\",\"\",COUNTIF(BL$4:BL379,BL379))","v":""},"",""]
[null,null,null,null,null,null,null,null,null,null,null,null,null,null,null,null,null,null,null,null,null,null,null,null,null,null,null,null,null,null,null,null,null,null,null,null,null,null,null,null,null,null,null,null,null,null,null,null,null,null,null,null,null,null,null,null,null,null,null,377,"",null,"","",{"$f":"IF(BN380>1,\"\",MAX(BM$3:BM379)+1)","v":""},{"$f":"IF(BL380=\"\",\"\",COUNTIF(BL$4:BL380,BL380))","v":""},"",""]
[null,null,null,null,null,null,null,null,null,null,null,null,null,null,null,null,null,null,null,null,null,null,null,null,null,null,null,null,null,null,null,null,null,null,null,null,null,null,null,null,null,null,null,null,null,null,null,null,null,null,null,null,null,null,null,null,null,null,null,378,"",null,"","",{"$f":"IF(BN381>1,\"\",MAX(BM$3:BM380)+1)","v":""},{"$f":"IF(BL381=\"\",\"\",COUNTIF(BL$4:BL381,BL381))","v":""},"",""]
[null,null,null,null,null,null,null,null,null,null,null,null,null,null,null,null,null,null,null,null,null,null,null,null,null,null,null,null,null,null,null,null,null,null,null,null,null,null,null,null,null,null,null,null,null,null,null,null,null,null,null,null,null,null,null,null,null,null,null,379,"",null,"","",{"$f":"IF(BN382>1,\"\",MAX(BM$3:BM381)+1)","v":""},{"$f":"IF(BL382=\"\",\"\",COUNTIF(BL$4:BL382,BL382))","v":""},"",""]
[null,null,null,null,null,null,null,null,null,null,null,null,null,null,null,null,null,null,null,null,null,null,null,null,null,null,null,null,null,null,null,null,null,null,null,null,null,null,null,null,null,null,null,null,null,null,null,null,null,null,null,null,null,null,null,null,null,null,null,380,"",null,"","",{"$f":"IF(BN383>1,\"\",MAX(BM$3:BM382)+1)","v":""},{"$f":"IF(BL383=\"\",\"\",COUNTIF(BL$4:BL383,BL383))","v":""},"",""]
[null,null,null,null,null,null,null,null,null,null,null,null,null,null,null,null,null,null,null,null,null,null,null,null,null,null,null,null,null,null,null,null,null,null,null,null,null,null,null,null,null,null,null,null,null,null,null,null,null,null,null,null,null,null,null,null,null,null,null,381,"",null,"","",{"$f":"IF(BN384>1,\"\",MAX(BM$3:BM383)+1)","v":""},{"$f":"IF(BL384=\"\",\"\",COUNTIF(BL$4:BL384,BL384))","v":""},"",""]
[null,null,null,null,null,null,null,null,null,null,null,null,null,null,null,null,null,null,null,null,null,null,null,null,null,null,null,null,null,null,null,null,null,null,null,null,null,null,null,null,null,null,null,null,null,null,null,null,null,null,null,null,null,null,null,null,null,null,null,382,"",null,"","",{"$f":"IF(BN385>1,\"\",MAX(BM$3:BM384)+1)","v":""},{"$f":"IF(BL385=\"\",\"\",COUNTIF(BL$4:BL385,BL385))","v":""},"",""]
[null,null,null,null,null,null,null,null,null,null,null,null,null,null,null,null,null,null,null,null,null,null,null,null,null,null,null,null,null,null,null,null,null,null,null,null,null,null,null,null,null,null,null,null,null,null,null,null,null,null,null,null,null,null,null,null,null,null,null,383,"",null,"","",{"$f":"IF(BN386>1,\"\",MAX(BM$3:BM385)+1)","v":""},{"$f":"IF(BL386=\"\",\"\",COUNTIF(BL$4:BL386,BL386))","v":""},"",""]
[null,null,null,null,null,null,null,null,null,null,null,null,null,null,null,null,null,null,null,null,null,null,null,null,null,null,null,null,null,null,null,null,null,null,null,null,null,null,null,null,null,null,null,null,null,null,null,null,null,null,null,null,null,null,null,null,null,null,null,384,"",null,"","",{"$f":"IF(BN387>1,\"\",MAX(BM$3:BM386)+1)","v":""},{"$f":"IF(BL387=\"\",\"\",COUNTIF(BL$4:BL387,BL387))","v":""},"",""]
[null,null,null,null,null,null,null,null,null,null,null,null,null,null,null,null,null,null,null,null,null,null,null,null,null,null,null,null,null,null,null,null,null,null,null,null,null,null,null,null,null,null,null,null,null,null,null,null,null,null,null,null,null,null,null,null,null,null,null,385,{"$f":"IF(BH388>MAX(BK$4:BK$940),\"\",VLOOKUP(BH388,BK$4:BL$940,2,FALSE))","v":""},null,"","",{"$f":"IF(BN388>1,\"\",MAX(BM$3:BM387)+1)","v":""},{"$f":"IF(BL388=\"\",\"\",COUNTIF(BL$4:BL388,BL388))","v":""},{"$f":"IF(BL388=\"\",\"\",thousand*VLOOKUP(BL388,BL$4:BM$940,2,FALSE)+BN388)","v":""},""]
[null,null,null,null,null,null,null,null,null,null,null,null,null,null,null,null,null,null,null,null,null,null,null,null,null,null,null,null,null,null,null,null,null,null,null,null,null,null,null,null,null,null,null,null,null,null,null,null,null,null,null,null,null,null,null,null,null,null,null,386,"",null,"","",{"$f":"IF(BN389>1,\"\",MAX(BM$3:BM388)+1)","v":""},{"$f":"IF(BL389=\"\",\"\",COUNTIF(BL$4:BL389,BL389))","v":""},"",""]
[null,null,null,null,null,null,null,null,null,null,null,null,null,null,null,null,null,null,null,null,null,null,null,null,null,null,null,null,null,null,null,null,null,null,null,null,null,null,null,null,null,null,null,null,null,null,null,null,null,null,null,null,null,null,null,null,null,null,null,387,"",null,"","",{"$f":"IF(BN390>1,\"\",MAX(BM$3:BM389)+1)","v":""},{"$f":"IF(BL390=\"\",\"\",COUNTIF(BL$4:BL390,BL390))","v":""},"",""]
[null,null,null,null,null,null,null,null,null,null,null,null,null,null,null,null,null,null,null,null,null,null,null,null,null,null,null,null,null,null,null,null,null,null,null,null,null,null,null,null,null,null,null,null,null,null,null,null,null,null,null,null,null,null,null,null,null,null,null,388,"",null,"","",{"$f":"IF(BN391>1,\"\",MAX(BM$3:BM390)+1)","v":""},{"$f":"IF(BL391=\"\",\"\",COUNTIF(BL$4:BL391,BL391))","v":""},"",""]
[null,null,null,null,null,null,null,null,null,null,null,null,null,null,null,null,null,null,null,null,null,null,null,null,null,null,null,null,null,null,null,null,null,null,null,null,null,null,null,null,null,null,null,null,null,null,null,null,null,null,null,null,null,null,null,null,null,null,null,389,"",null,"","",{"$f":"IF(BN392>1,\"\",MAX(BM$3:BM391)+1)","v":""},{"$f":"IF(BL392=\"\",\"\",COUNTIF(BL$4:BL392,BL392))","v":""},"",""]
[null,null,null,null,null,null,null,null,null,null,null,null,null,null,null,null,null,null,null,null,null,null,null,null,null,null,null,null,null,null,null,null,null,null,null,null,null,null,null,null,null,null,null,null,null,null,null,null,null,null,null,null,null,null,null,null,null,null,null,390,"",null,"","",{"$f":"IF(BN393>1,\"\",MAX(BM$3:BM392)+1)","v":""},{"$f":"IF(BL393=\"\",\"\",COUNTIF(BL$4:BL393,BL393))","v":""},"",""]
[null,null,null,null,null,null,null,null,null,null,null,null,null,null,null,null,null,null,null,null,null,null,null,null,null,null,null,null,null,null,null,null,null,null,null,null,null,null,null,null,null,null,null,null,null,null,null,null,null,null,null,null,null,null,null,null,null,null,null,391,"",null,"","",{"$f":"IF(BN394>1,\"\",MAX(BM$3:BM393)+1)","v":""},{"$f":"IF(BL394=\"\",\"\",COUNTIF(BL$4:BL394,BL394))","v":""},"",""]
[null,null,null,null,null,null,null,null,null,null,null,null,null,null,null,null,null,null,null,null,null,null,null,null,null,null,null,null,null,null,null,null,null,null,null,null,null,null,null,null,null,null,null,null,null,null,null,null,null,null,null,null,null,null,null,null,null,null,null,392,"",null,"","",{"$f":"IF(BN395>1,\"\",MAX(BM$3:BM394)+1)","v":""},{"$f":"IF(BL395=\"\",\"\",COUNTIF(BL$4:BL395,BL395))","v":""},"",""]
[null,null,null,null,null,null,null,null,null,null,null,null,null,null,null,null,null,null,null,null,null,null,null,null,null,null,null,null,null,null,null,null,null,null,null,null,null,null,null,null,null,null,null,null,null,null,null,null,null,null,null,null,null,null,null,null,null,null,null,393,"",null,"","",{"$f":"IF(BN396>1,\"\",MAX(BM$3:BM395)+1)","v":""},{"$f":"IF(BL396=\"\",\"\",COUNTIF(BL$4:BL396,BL396))","v":""},"",""]
[null,null,null,null,null,null,null,null,null,null,null,null,null,null,null,null,null,null,null,null,null,null,null,null,null,null,null,null,null,null,null,null,null,null,null,null,null,null,null,null,null,null,null,null,null,null,null,null,null,null,null,null,null,null,null,null,null,null,null,394,"",null,"","",{"$f":"IF(BN397>1,\"\",MAX(BM$3:BM396)+1)","v":""},{"$f":"IF(BL397=\"\",\"\",COUNTIF(BL$4:BL397,BL397))","v":""},"",""]
[null,null,null,null,null,null,null,null,null,null,null,null,null,null,null,null,null,null,null,null,null,null,null,null,null,null,null,null,null,null,null,null,null,null,null,null,null,null,null,null,null,null,null,null,null,null,null,null,null,null,null,null,null,null,null,null,null,null,null,395,"",null,"","",{"$f":"IF(BN398>1,\"\",MAX(BM$3:BM397)+1)","v":""},{"$f":"IF(BL398=\"\",\"\",COUNTIF(BL$4:BL398,BL398))","v":""},"",""]
[null,null,null,null,null,null,null,null,null,null,null,null,null,null,null,null,null,null,null,null,null,null,null,null,null,null,null,null,null,null,null,null,null,null,null,null,null,null,null,null,null,null,null,null,null,null,null,null,null,null,null,null,null,null,null,null,null,null,null,396,"",null,"","",{"$f":"IF(BN399>1,\"\",MAX(BM$3:BM398)+1)","v":""},{"$f":"IF(BL399=\"\",\"\",COUNTIF(BL$4:BL399,BL399))","v":""},"",""]
[null,null,null,null,null,null,null,null,null,null,null,null,null,null,null,null,null,null,null,null,null,null,null,null,null,null,null,null,null,null,null,null,null,null,null,null,null,null,null,null,null,null,null,null,null,null,null,null,null,null,null,null,null,null,null,null,null,null,null,397,"",null,"","",{"$f":"IF(BN400>1,\"\",MAX(BM$3:BM399)+1)","v":""},{"$f":"IF(BL400=\"\",\"\",COUNTIF(BL$4:BL400,BL400))","v":""},"",""]
[null,null,null,null,null,null,null,null,null,null,null,null,null,null,null,null,null,null,null,null,null,null,null,null,null,null,null,null,null,null,null,null,null,null,null,null,null,null,null,null,null,null,null,null,null,null,null,null,null,null,null,null,null,null,null,null,null,null,null,398,"",null,"","",{"$f":"IF(BN401>1,\"\",MAX(BM$3:BM400)+1)","v":""},{"$f":"IF(BL401=\"\",\"\",COUNTIF(BL$4:BL401,BL401))","v":""},"",""]
[null,null,null,null,null,null,null,null,null,null,null,null,null,null,null,null,null,null,null,null,null,null,null,null,null,null,null,null,null,null,null,null,null,null,null,null,null,null,null,null,null,null,null,null,null,null,null,null,null,null,null,null,null,null,null,null,null,null,null,399,"",null,"","",{"$f":"IF(BN402>1,\"\",MAX(BM$3:BM401)+1)","v":""},{"$f":"IF(BL402=\"\",\"\",COUNTIF(BL$4:BL402,BL402))","v":""},"",""]
[null,null,null,null,null,null,null,null,null,null,null,null,null,null,null,null,null,null,null,null,null,null,null,null,null,null,null,null,null,null,null,null,null,null,null,null,null,null,null,null,null,null,null,null,null,null,null,null,null,null,null,null,null,null,null,null,null,null,null,400,"",null,"","",{"$f":"IF(BN403>1,\"\",MAX(BM$3:BM402)+1)","v":""},{"$f":"IF(BL403=\"\",\"\",COUNTIF(BL$4:BL403,BL403))","v":""},"",""]
[null,null,null,null,null,null,null,null,null,null,null,null,null,null,null,null,null,null,null,null,null,null,null,null,null,null,null,null,null,null,null,null,null,null,null,null,null,null,null,null,null,null,null,null,null,null,null,null,null,null,null,null,null,null,null,null,null,null,null,401,"",null,"","",{"$f":"IF(BN404>1,\"\",MAX(BM$3:BM403)+1)","v":""},{"$f":"IF(BL404=\"\",\"\",COUNTIF(BL$4:BL404,BL404))","v":""},"",""]
[null,null,null,null,null,null,null,null,null,null,null,null,null,null,null,null,null,null,null,null,null,null,null,null,null,null,null,null,null,null,null,null,null,null,null,null,null,null,null,null,null,null,null,null,null,null,null,null,null,null,null,null,null,null,null,null,null,null,null,402,"",null,"","",{"$f":"IF(BN405>1,\"\",MAX(BM$3:BM404)+1)","v":""},{"$f":"IF(BL405=\"\",\"\",COUNTIF(BL$4:BL405,BL405))","v":""},"",""]
[null,null,null,null,null,null,null,null,null,null,null,null,null,null,null,null,null,null,null,null,null,null,null,null,null,null,null,null,null,null,null,null,null,null,null,null,null,null,null,null,null,null,null,null,null,null,null,null,null,null,null,null,null,null,null,null,null,null,null,403,"",null,"","",{"$f":"IF(BN406>1,\"\",MAX(BM$3:BM405)+1)","v":""},{"$f":"IF(BL406=\"\",\"\",COUNTIF(BL$4:BL406,BL406))","v":""},"",""]
[null,null,null,null,null,null,null,null,null,null,null,null,null,null,null,null,null,null,null,null,null,null,null,null,null,null,null,null,null,null,null,null,null,null,null,null,null,null,null,null,null,null,null,null,null,null,null,null,null,null,null,null,null,null,null,null,null,null,null,404,"",null,"","",{"$f":"IF(BN407>1,\"\",MAX(BM$3:BM406)+1)","v":""},{"$f":"IF(BL407=\"\",\"\",COUNTIF(BL$4:BL407,BL407))","v":""},"",""]
[null,null,null,null,null,null,null,null,null,null,null,null,null,null,null,null,null,null,null,null,null,null,null,null,null,null,null,null,null,null,null,null,null,null,null,null,null,null,null,null,null,null,null,null,null,null,null,null,null,null,null,null,null,null,null,null,null,null,null,405,"",null,"","",{"$f":"IF(BN408>1,\"\",MAX(BM$3:BM407)+1)","v":""},{"$f":"IF(BL408=\"\",\"\",COUNTIF(BL$4:BL408,BL408))","v":""},"",""]
[null,null,null,null,null,null,null,null,null,null,null,null,null,null,null,null,null,null,null,null,null,null,null,null,null,null,null,null,null,null,null,null,null,null,null,null,null,null,null,null,null,null,null,null,null,null,null,null,null,null,null,null,null,null,null,null,null,null,null,406,"",null,"","",{"$f":"IF(BN409>1,\"\",MAX(BM$3:BM408)+1)","v":""},{"$f":"IF(BL409=\"\",\"\",COUNTIF(BL$4:BL409,BL409))","v":""},"",""]
[null,null,null,null,null,null,null,null,null,null,null,null,null,null,null,null,null,null,null,null,null,null,null,null,null,null,null,null,null,null,null,null,null,null,null,null,null,null,null,null,null,null,null,null,null,null,null,null,null,null,null,null,null,null,null,null,null,null,null,407,"",null,"","",{"$f":"IF(BN410>1,\"\",MAX(BM$3:BM409)+1)","v":""},{"$f":"IF(BL410=\"\",\"\",COUNTIF(BL$4:BL410,BL410))","v":""},"",""]
[null,null,null,null,null,null,null,null,null,null,null,null,null,null,null,null,null,null,null,null,null,null,null,null,null,null,null,null,null,null,null,null,null,null,null,null,null,null,null,null,null,null,null,null,null,null,null,null,null,null,null,null,null,null,null,null,null,null,null,408,"",null,"","",{"$f":"IF(BN411>1,\"\",MAX(BM$3:BM410)+1)","v":""},{"$f":"IF(BL411=\"\",\"\",COUNTIF(BL$4:BL411,BL411))","v":""},"",""]
[null,null,null,null,null,null,null,null,null,null,null,null,null,null,null,null,null,null,null,null,null,null,null,null,null,null,null,null,null,null,null,null,null,null,null,null,null,null,null,null,null,null,null,null,null,null,null,null,null,null,null,null,null,null,null,null,null,null,null,409,"",null,"","",{"$f":"IF(BN412>1,\"\",MAX(BM$3:BM411)+1)","v":""},{"$f":"IF(BL412=\"\",\"\",COUNTIF(BL$4:BL412,BL412))","v":""},"",""]
[null,null,null,null,null,null,null,null,null,null,null,null,null,null,null,null,null,null,null,null,null,null,null,null,null,null,null,null,null,null,null,null,null,null,null,null,null,null,null,null,null,null,null,null,null,null,null,null,null,null,null,null,null,null,null,null,null,null,null,410,"",null,"","",{"$f":"IF(BN413>1,\"\",MAX(BM$3:BM412)+1)","v":""},{"$f":"IF(BL413=\"\",\"\",COUNTIF(BL$4:BL413,BL413))","v":""},"",""]
[null,null,null,null,null,null,null,null,null,null,null,null,null,null,null,null,null,null,null,null,null,null,null,null,null,null,null,null,null,null,null,null,null,null,null,null,null,null,null,null,null,null,null,null,null,null,null,null,null,null,null,null,null,null,null,null,null,null,null,411,"",null,"","",{"$f":"IF(BN414>1,\"\",MAX(BM$3:BM413)+1)","v":""},{"$f":"IF(BL414=\"\",\"\",COUNTIF(BL$4:BL414,BL414))","v":""},"",""]
[null,null,null,null,null,null,null,null,null,null,null,null,null,null,null,null,null,null,null,null,null,null,null,null,null,null,null,null,null,null,null,null,null,null,null,null,null,null,null,null,null,null,null,null,null,null,null,null,null,null,null,null,null,null,null,null,null,null,null,412,"",null,"","",{"$f":"IF(BN415>1,\"\",MAX(BM$3:BM414)+1)","v":""},{"$f":"IF(BL415=\"\",\"\",COUNTIF(BL$4:BL415,BL415))","v":""},"",""]
[null,null,null,null,null,null,null,null,null,null,null,null,null,null,null,null,null,null,null,null,null,null,null,null,null,null,null,null,null,null,null,null,null,null,null,null,null,null,null,null,null,null,null,null,null,null,null,null,null,null,null,null,null,null,null,null,null,null,null,413,"",null,"","",{"$f":"IF(BN416>1,\"\",MAX(BM$3:BM415)+1)","v":""},{"$f":"IF(BL416=\"\",\"\",COUNTIF(BL$4:BL416,BL416))","v":""},"",""]
[null,null,null,null,null,null,null,null,null,null,null,null,null,null,null,null,null,null,null,null,null,null,null,null,null,null,null,null,null,null,null,null,null,null,null,null,null,null,null,null,null,null,null,null,null,null,null,null,null,null,null,null,null,null,null,null,null,null,null,414,"",null,"","",{"$f":"IF(BN417>1,\"\",MAX(BM$3:BM416)+1)","v":""},{"$f":"IF(BL417=\"\",\"\",COUNTIF(BL$4:BL417,BL417))","v":""},"",""]
[null,null,null,null,null,null,null,null,null,null,null,null,null,null,null,null,null,null,null,null,null,null,null,null,null,null,null,null,null,null,null,null,null,null,null,null,null,null,null,null,null,null,null,null,null,null,null,null,null,null,null,null,null,null,null,null,null,null,null,415,"",null,"","",{"$f":"IF(BN418>1,\"\",MAX(BM$3:BM417)+1)","v":""},{"$f":"IF(BL418=\"\",\"\",COUNTIF(BL$4:BL418,BL418))","v":""},"",""]
[null,null,null,null,null,null,null,null,null,null,null,null,null,null,null,null,null,null,null,null,null,null,null,null,null,null,null,null,null,null,null,null,null,null,null,null,null,null,null,null,null,null,null,null,null,null,null,null,null,null,null,null,null,null,null,null,null,null,null,416,"",null,"","",{"$f":"IF(BN419>1,\"\",MAX(BM$3:BM418)+1)","v":""},{"$f":"IF(BL419=\"\",\"\",COUNTIF(BL$4:BL419,BL419))","v":""},"",""]
[null,null,null,null,null,null,null,null,null,null,null,null,null,null,null,null,null,null,null,null,null,null,null,null,null,null,null,null,null,null,null,null,null,null,null,null,null,null,null,null,null,null,null,null,null,null,null,null,null,null,null,null,null,null,null,null,null,null,null,417,"",null,"","",{"$f":"IF(BN420>1,\"\",MAX(BM$3:BM419)+1)","v":""},{"$f":"IF(BL420=\"\",\"\",COUNTIF(BL$4:BL420,BL420))","v":""},"",""]
[null,null,null,null,null,null,null,null,null,null,null,null,null,null,null,null,null,null,null,null,null,null,null,null,null,null,null,null,null,null,null,null,null,null,null,null,null,null,null,null,null,null,null,null,null,null,null,null,null,null,null,null,null,null,null,null,null,null,null,418,"",null,"","",{"$f":"IF(BN421>1,\"\",MAX(BM$3:BM420)+1)","v":""},{"$f":"IF(BL421=\"\",\"\",COUNTIF(BL$4:BL421,BL421))","v":""},"",""]
[null,null,null,null,null,null,null,null,null,null,null,null,null,null,null,null,null,null,null,null,null,null,null,null,null,null,null,null,null,null,null,null,null,null,null,null,null,null,null,null,null,null,null,null,null,null,null,null,null,null,null,null,null,null,null,null,null,null,null,419,"",null,"","",{"$f":"IF(BN422>1,\"\",MAX(BM$3:BM421)+1)","v":""},{"$f":"IF(BL422=\"\",\"\",COUNTIF(BL$4:BL422,BL422))","v":""},"",""]
[null,null,null,null,null,null,null,null,null,null,null,null,null,null,null,null,null,null,null,null,null,null,null,null,null,null,null,null,null,null,null,null,null,null,null,null,null,null,null,null,null,null,null,null,null,null,null,null,null,null,null,null,null,null,null,null,null,null,null,420,"",null,"","",{"$f":"IF(BN423>1,\"\",MAX(BM$3:BM422)+1)","v":""},{"$f":"IF(BL423=\"\",\"\",COUNTIF(BL$4:BL423,BL423))","v":""},"",""]
[null,null,null,null,null,null,null,null,null,null,null,null,null,null,null,null,null,null,null,null,null,null,null,null,null,null,null,null,null,null,null,null,null,null,null,null,null,null,null,null,null,null,null,null,null,null,null,null,null,null,null,null,null,null,null,null,null,null,null,421,"",null,"","",{"$f":"IF(BN424>1,\"\",MAX(BM$3:BM423)+1)","v":""},{"$f":"IF(BL424=\"\",\"\",COUNTIF(BL$4:BL424,BL424))","v":""},"",""]
[null,null,null,null,null,null,null,null,null,null,null,null,null,null,null,null,null,null,null,null,null,null,null,null,null,null,null,null,null,null,null,null,null,null,null,null,null,null,null,null,null,null,null,null,null,null,null,null,null,null,null,null,null,null,null,null,null,null,null,422,"",null,"","",{"$f":"IF(BN425>1,\"\",MAX(BM$3:BM424)+1)","v":""},{"$f":"IF(BL425=\"\",\"\",COUNTIF(BL$4:BL425,BL425))","v":""},"",""]
[null,null,null,null,null,null,null,null,null,null,null,null,null,null,null,null,null,null,null,null,null,null,null,null,null,null,null,null,null,null,null,null,null,null,null,null,null,null,null,null,null,null,null,null,null,null,null,null,null,null,null,null,null,null,null,null,null,null,null,423,"",null,"","",{"$f":"IF(BN426>1,\"\",MAX(BM$3:BM425)+1)","v":""},{"$f":"IF(BL426=\"\",\"\",COUNTIF(BL$4:BL426,BL426))","v":""},"",""]
[null,null,null,null,null,null,null,null,null,null,null,null,null,null,null,null,null,null,null,null,null,null,null,null,null,null,null,null,null,null,null,null,null,null,null,null,null,null,null,null,null,null,null,null,null,null,null,null,null,null,null,null,null,null,null,null,null,null,null,424,"",null,"","",{"$f":"IF(BN427>1,\"\",MAX(BM$3:BM426)+1)","v":""},{"$f":"IF(BL427=\"\",\"\",COUNTIF(BL$4:BL427,BL427))","v":""},"",""]
[null,null,null,null,null,null,null,null,null,null,null,null,null,null,null,null,null,null,null,null,null,null,null,null,null,null,null,null,null,null,null,null,null,null,null,null,null,null,null,null,null,null,null,null,null,null,null,null,null,null,null,null,null,null,null,null,null,null,null,425,"",null,"","",{"$f":"IF(BN428>1,\"\",MAX(BM$3:BM427)+1)","v":""},{"$f":"IF(BL428=\"\",\"\",COUNTIF(BL$4:BL428,BL428))","v":""},"",""]
[null,null,null,null,null,null,null,null,null,null,null,null,null,null,null,null,null,null,null,null,null,null,null,null,null,null,null,null,null,null,null,null,null,null,null,null,null,null,null,null,null,null,null,null,null,null,null,null,null,null,null,null,null,null,null,null,null,null,null,426,"",null,"","",{"$f":"IF(BN429>1,\"\",MAX(BM$3:BM428)+1)","v":""},{"$f":"IF(BL429=\"\",\"\",COUNTIF(BL$4:BL429,BL429))","v":""},"",""]
[null,null,null,null,null,null,null,null,null,null,null,null,null,null,null,null,null,null,null,null,null,null,null,null,null,null,null,null,null,null,null,null,null,null,null,null,null,null,null,null,null,null,null,null,null,null,null,null,null,null,null,null,null,null,null,null,null,null,null,427,"",null,"","",{"$f":"IF(BN430>1,\"\",MAX(BM$3:BM429)+1)","v":""},{"$f":"IF(BL430=\"\",\"\",COUNTIF(BL$4:BL430,BL430))","v":""},"",""]
[null,null,null,null,null,null,null,null,null,null,null,null,null,null,null,null,null,null,null,null,null,null,null,null,null,null,null,null,null,null,null,null,null,null,null,null,null,null,null,null,null,null,null,null,null,null,null,null,null,null,null,null,null,null,null,null,null,null,null,428,"",null,"","",{"$f":"IF(BN431>1,\"\",MAX(BM$3:BM430)+1)","v":""},{"$f":"IF(BL431=\"\",\"\",COUNTIF(BL$4:BL431,BL431))","v":""},"",""]
[null,null,null,null,null,null,null,null,null,null,null,null,null,null,null,null,null,null,null,null,null,null,null,null,null,null,null,null,null,null,null,null,null,null,null,null,null,null,null,null,null,null,null,null,null,null,null,null,null,null,null,null,null,null,null,null,null,null,null,429,"",null,"","",{"$f":"IF(BN432>1,\"\",MAX(BM$3:BM431)+1)","v":""},{"$f":"IF(BL432=\"\",\"\",COUNTIF(BL$4:BL432,BL432))","v":""},"",""]
[null,null,null,null,null,null,null,null,null,null,null,null,null,null,null,null,null,null,null,null,null,null,null,null,null,null,null,null,null,null,null,null,null,null,null,null,null,null,null,null,null,null,null,null,null,null,null,null,null,null,null,null,null,null,null,null,null,null,null,430,"",null,"","",{"$f":"IF(BN433>1,\"\",MAX(BM$3:BM432)+1)","v":""},{"$f":"IF(BL433=\"\",\"\",COUNTIF(BL$4:BL433,BL433))","v":""},"",""]
[null,null,null,null,null,null,null,null,null,null,null,null,null,null,null,null,null,null,null,null,null,null,null,null,null,null,null,null,null,null,null,null,null,null,null,null,null,null,null,null,null,null,null,null,null,null,null,null,null,null,null,null,null,null,null,null,null,null,null,431,"",null,"","",{"$f":"IF(BN434>1,\"\",MAX(BM$3:BM433)+1)","v":""},{"$f":"IF(BL434=\"\",\"\",COUNTIF(BL$4:BL434,BL434))","v":""},"",""]
[null,null,null,null,null,null,null,null,null,null,null,null,null,null,null,null,null,null,null,null,null,null,null,null,null,null,null,null,null,null,null,null,null,null,null,null,null,null,null,null,null,null,null,null,null,null,null,null,null,null,null,null,null,null,null,null,null,null,null,432,"",null,{"$f":"BM435","v":""},{"$f":"IF(B435=\"\",\"\",B435)","v":""},{"$f":"IF(BN435>1,\"\",MAX(BM$3:BM434)+1)","v":""},{"$f":"IF(BL435=\"\",\"\",COUNTIF(BL$4:BL435,BL435))","v":""},"",{"$f":"IF(C435=\"\",\"\",C435)","v":""}]
[null,null,null,null,null,null,null,null,null,null,null,null,null,null,null,null,null,null,null,null,null,null,null,null,null,null,null,null,null,null,null,null,null,null,null,null,null,null,null,null,null,null,null,null,null,null,null,null,null,null,null,null,null,null,null,null,null,null,null,433,"",null,"","",{"$f":"IF(BN436>1,\"\",MAX(BM$3:BM435)+1)","v":""},{"$f":"IF(BL436=\"\",\"\",COUNTIF(BL$4:BL436,BL436))","v":""},"",""]
[null,null,null,null,null,null,null,null,null,null,null,null,null,null,null,null,null,null,null,null,null,null,null,null,null,null,null,null,null,null,null,null,null,null,null,null,null,null,null,null,null,null,null,null,null,null,null,null,null,null,null,null,null,null,null,null,null,null,null,434,"",null,"","",{"$f":"IF(BN437>1,\"\",MAX(BM$3:BM436)+1)","v":""},{"$f":"IF(BL437=\"\",\"\",COUNTIF(BL$4:BL437,BL437))","v":""},"",""]
[null,null,null,null,null,null,null,null,null,null,null,null,null,null,null,null,null,null,null,null,null,null,null,null,null,null,null,null,null,null,null,null,null,null,null,null,null,null,null,null,null,null,null,null,null,null,null,null,null,null,null,null,null,null,null,null,null,null,null,435,"",null,"","",{"$f":"IF(BN438>1,\"\",MAX(BM$3:BM437)+1)","v":""},{"$f":"IF(BL438=\"\",\"\",COUNTIF(BL$4:BL438,BL438))","v":""},"",""]
[null,null,null,null,null,null,null,null,null,null,null,null,null,null,null,null,null,null,null,null,null,null,null,null,null,null,null,null,null,null,null,null,null,null,null,null,null,null,null,null,null,null,null,null,null,null,null,null,null,null,null,null,null,null,null,null,null,null,null,436,"",null,"","",{"$f":"IF(BN439>1,\"\",MAX(BM$3:BM438)+1)","v":""},{"$f":"IF(BL439=\"\",\"\",COUNTIF(BL$4:BL439,BL439))","v":""},"",""]
[null,null,null,null,null,null,null,null,null,null,null,null,null,null,null,null,null,null,null,null,null,null,null,null,null,null,null,null,null,null,null,null,null,null,null,null,null,null,null,null,null,null,null,null,null,null,null,null,null,null,null,null,null,null,null,null,null,null,null,437,"",null,"","",{"$f":"IF(BN440>1,\"\",MAX(BM$3:BM439)+1)","v":""},{"$f":"IF(BL440=\"\",\"\",COUNTIF(BL$4:BL440,BL440))","v":""},"",""]
[null,null,null,null,null,null,null,null,null,null,null,null,null,null,null,null,null,null,null,null,null,null,null,null,null,null,null,null,null,null,null,null,null,null,null,null,null,null,null,null,null,null,null,null,null,null,null,null,null,null,null,null,null,null,null,null,null,null,null,438,"",null,"","",{"$f":"IF(BN441>1,\"\",MAX(BM$3:BM440)+1)","v":""},{"$f":"IF(BL441=\"\",\"\",COUNTIF(BL$4:BL441,BL441))","v":""},"",""]
[null,null,null,null,null,null,null,null,null,null,null,null,null,null,null,null,null,null,null,null,null,null,null,null,null,null,null,null,null,null,null,null,null,null,null,null,null,null,null,null,null,null,null,null,null,null,null,null,null,null,null,null,null,null,null,null,null,null,null,439,"",null,"","",{"$f":"IF(BN442>1,\"\",MAX(BM$3:BM441)+1)","v":""},{"$f":"IF(BL442=\"\",\"\",COUNTIF(BL$4:BL442,BL442))","v":""},"",""]
[null,null,null,null,null,null,null,null,null,null,null,null,null,null,null,null,null,null,null,null,null,null,null,null,null,null,null,null,null,null,null,null,null,null,null,null,null,null,null,null,null,null,null,null,null,null,null,null,null,null,null,null,null,null,null,null,null,null,null,440,"",null,"","",{"$f":"IF(BN443>1,\"\",MAX(BM$3:BM442)+1)","v":""},{"$f":"IF(BL443=\"\",\"\",COUNTIF(BL$4:BL443,BL443))","v":""},"",""]
[null,null,null,null,null,null,null,null,null,null,null,null,null,null,null,null,null,null,null,null,null,null,null,null,null,null,null,null,null,null,null,null,null,null,null,null,null,null,null,null,null,null,null,null,null,null,null,null,null,null,null,null,null,null,null,null,null,null,null,441,"",null,"","",{"$f":"IF(BN444>1,\"\",MAX(BM$3:BM443)+1)","v":""},{"$f":"IF(BL444=\"\",\"\",COUNTIF(BL$4:BL444,BL444))","v":""},"",""]
[null,null,null,null,null,null,null,null,null,null,null,null,null,null,null,null,null,null,null,null,null,null,null,null,null,null,null,null,null,null,null,null,null,null,null,null,null,null,null,null,null,null,null,null,null,null,null,null,null,null,null,null,null,null,null,null,null,null,null,442,"",null,"","",{"$f":"IF(BN445>1,\"\",MAX(BM$3:BM444)+1)","v":""},{"$f":"IF(BL445=\"\",\"\",COUNTIF(BL$4:BL445,BL445))","v":""},"",""]
[null,null,null,null,null,null,null,null,null,null,null,null,null,null,null,null,null,null,null,null,null,null,null,null,null,null,null,null,null,null,null,null,null,null,null,null,null,null,null,null,null,null,null,null,null,null,null,null,null,null,null,null,null,null,null,null,null,null,null,443,"",null,"","",{"$f":"IF(BN446>1,\"\",MAX(BM$3:BM445)+1)","v":""},{"$f":"IF(BL446=\"\",\"\",COUNTIF(BL$4:BL446,BL446))","v":""},"",""]
[null,null,null,null,null,null,null,null,null,null,null,null,null,null,null,null,null,null,null,null,null,null,null,null,null,null,null,null,null,null,null,null,null,null,null,null,null,null,null,null,null,null,null,null,null,null,null,null,null,null,null,null,null,null,null,null,null,null,null,444,"",null,"","",{"$f":"IF(BN447>1,\"\",MAX(BM$3:BM446)+1)","v":""},{"$f":"IF(BL447=\"\",\"\",COUNTIF(BL$4:BL447,BL447))","v":""},"",""]
[null,null,null,null,null,null,null,null,null,null,null,null,null,null,null,null,null,null,null,null,null,null,null,null,null,null,null,null,null,null,null,null,null,null,null,null,null,null,null,null,null,null,null,null,null,null,null,null,null,null,null,null,null,null,null,null,null,null,null,445,"",null,"","",{"$f":"IF(BN448>1,\"\",MAX(BM$3:BM447)+1)","v":""},{"$f":"IF(BL448=\"\",\"\",COUNTIF(BL$4:BL448,BL448))","v":""},"",""]
[null,null,null,null,null,null,null,null,null,null,null,null,null,null,null,null,null,null,null,null,null,null,null,null,null,null,null,null,null,null,null,null,null,null,null,null,null,null,null,null,null,null,null,null,null,null,null,null,null,null,null,null,null,null,null,null,null,null,null,446,"",null,"","",{"$f":"IF(BN449>1,\"\",MAX(BM$3:BM448)+1)","v":""},{"$f":"IF(BL449=\"\",\"\",COUNTIF(BL$4:BL449,BL449))","v":""},"",""]
[null,null,null,null,null,null,null,null,null,null,null,null,null,null,null,null,null,null,null,null,null,null,null,null,null,null,null,null,null,null,null,null,null,null,null,null,null,null,null,null,null,null,null,null,null,null,null,null,null,null,null,null,null,null,null,null,null,null,null,447,"",null,"","",{"$f":"IF(BN450>1,\"\",MAX(BM$3:BM449)+1)","v":""},{"$f":"IF(BL450=\"\",\"\",COUNTIF(BL$4:BL450,BL450))","v":""},"",""]
[null,null,null,null,null,null,null,null,null,null,null,null,null,null,null,null,null,null,null,null,null,null,null,null,null,null,null,null,null,null,null,null,null,null,null,null,null,null,null,null,null,null,null,null,null,null,null,null,null,null,null,null,null,null,null,null,null,null,null,448,"",null,"","",{"$f":"IF(BN451>1,\"\",MAX(BM$3:BM450)+1)","v":""},{"$f":"IF(BL451=\"\",\"\",COUNTIF(BL$4:BL451,BL451))","v":""},"",""]
[null,null,null,null,null,null,null,null,null,null,null,null,null,null,null,null,null,null,null,null,null,null,null,null,null,null,null,null,null,null,null,null,null,null,null,null,null,null,null,null,null,null,null,null,null,null,null,null,null,null,null,null,null,null,null,null,null,null,null,449,{"$f":"IF(BH452>MAX(BK$4:BK$940),\"\",VLOOKUP(BH452,BK$4:BL$940,2,FALSE))","v":""},null,"","",{"$f":"IF(BN452>1,\"\",MAX(BM$3:BM451)+1)","v":""},{"$f":"IF(BL452=\"\",\"\",COUNTIF(BL$4:BL452,BL452))","v":""},{"$f":"IF(BL452=\"\",\"\",thousand*VLOOKUP(BL452,BL$4:BM$940,2,FALSE)+BN452)","v":""},""]
[null,null,null,null,null,null,null,null,null,null,null,null,null,null,null,null,null,null,null,null,null,null,null,null,null,null,null,null,null,null,null,null,null,null,null,null,null,null,null,null,null,null,null,null,null,null,null,null,null,null,null,null,null,null,null,null,null,null,null,450,"",null,"","",{"$f":"IF(BN453>1,\"\",MAX(BM$3:BM452)+1)","v":""},{"$f":"IF(BL453=\"\",\"\",COUNTIF(BL$4:BL453,BL453))","v":""},"",""]
[null,null,null,null,null,null,null,null,null,null,null,null,null,null,null,null,null,null,null,null,null,null,null,null,null,null,null,null,null,null,null,null,null,null,null,null,null,null,null,null,null,null,null,null,null,null,null,null,null,null,null,null,null,null,null,null,null,null,null,451,"",null,"","",{"$f":"IF(BN454>1,\"\",MAX(BM$3:BM453)+1)","v":""},{"$f":"IF(BL454=\"\",\"\",COUNTIF(BL$4:BL454,BL454))","v":""},"",""]
[null,null,null,null,null,null,null,null,null,null,null,null,null,null,null,null,null,null,null,null,null,null,null,null,null,null,null,null,null,null,null,null,null,null,null,null,null,null,null,null,null,null,null,null,null,null,null,null,null,null,null,null,null,null,null,null,null,null,null,452,"",null,"","",{"$f":"IF(BN455>1,\"\",MAX(BM$3:BM454)+1)","v":""},{"$f":"IF(BL455=\"\",\"\",COUNTIF(BL$4:BL455,BL455))","v":""},"",""]
[null,null,null,null,null,null,null,null,null,null,null,null,null,null,null,null,null,null,null,null,null,null,null,null,null,null,null,null,null,null,null,null,null,null,null,null,null,null,null,null,null,null,null,null,null,null,null,null,null,null,null,null,null,null,null,null,null,null,null,453,"",null,"","",{"$f":"IF(BN456>1,\"\",MAX(BM$3:BM455)+1)","v":""},{"$f":"IF(BL456=\"\",\"\",COUNTIF(BL$4:BL456,BL456))","v":""},"",""]
[null,null,null,null,null,null,null,null,null,null,null,null,null,null,null,null,null,null,null,null,null,null,null,null,null,null,null,null,null,null,null,null,null,null,null,null,null,null,null,null,null,null,null,null,null,null,null,null,null,null,null,null,null,null,null,null,null,null,null,454,"",null,"","",{"$f":"IF(BN457>1,\"\",MAX(BM$3:BM456)+1)","v":""},{"$f":"IF(BL457=\"\",\"\",COUNTIF(BL$4:BL457,BL457))","v":""},"",""]
[null,null,null,null,null,null,null,null,null,null,null,null,null,null,null,null,null,null,null,null,null,null,null,null,null,null,null,null,null,null,null,null,null,null,null,null,null,null,null,null,null,null,null,null,null,null,null,null,null,null,null,null,null,null,null,null,null,null,null,455,"",null,"","",{"$f":"IF(BN458>1,\"\",MAX(BM$3:BM457)+1)","v":""},{"$f":"IF(BL458=\"\",\"\",COUNTIF(BL$4:BL458,BL458))","v":""},"",""]
[null,null,null,null,null,null,null,null,null,null,null,null,null,null,null,null,null,null,null,null,null,null,null,null,null,null,null,null,null,null,null,null,null,null,null,null,null,null,null,null,null,null,null,null,null,null,null,null,null,null,null,null,null,null,null,null,null,null,null,456,"",null,"","",{"$f":"IF(BN459>1,\"\",MAX(BM$3:BM458)+1)","v":""},{"$f":"IF(BL459=\"\",\"\",COUNTIF(BL$4:BL459,BL459))","v":""},"",""]
[null,null,null,null,null,null,null,null,null,null,null,null,null,null,null,null,null,null,null,null,null,null,null,null,null,null,null,null,null,null,null,null,null,null,null,null,null,null,null,null,null,null,null,null,null,null,null,null,null,null,null,null,null,null,null,null,null,null,null,457,"",null,"","",{"$f":"IF(BN460>1,\"\",MAX(BM$3:BM459)+1)","v":""},{"$f":"IF(BL460=\"\",\"\",COUNTIF(BL$4:BL460,BL460))","v":""},"",""]
[null,null,null,null,null,null,null,null,null,null,null,null,null,null,null,null,null,null,null,null,null,null,null,null,null,null,null,null,null,null,null,null,null,null,null,null,null,null,null,null,null,null,null,null,null,null,null,null,null,null,null,null,null,null,null,null,null,null,null,458,"",null,"","",{"$f":"IF(BN461>1,\"\",MAX(BM$3:BM460)+1)","v":""},{"$f":"IF(BL461=\"\",\"\",COUNTIF(BL$4:BL461,BL461))","v":""},"",""]
[null,null,null,null,null,null,null,null,null,null,null,null,null,null,null,null,null,null,null,null,null,null,null,null,null,null,null,null,null,null,null,null,null,null,null,null,null,null,null,null,null,null,null,null,null,null,null,null,null,null,null,null,null,null,null,null,null,null,null,459,"",null,"","",{"$f":"IF(BN462>1,\"\",MAX(BM$3:BM461)+1)","v":""},{"$f":"IF(BL462=\"\",\"\",COUNTIF(BL$4:BL462,BL462))","v":""},"",""]
[null,null,null,null,null,null,null,null,null,null,null,null,null,null,null,null,null,null,null,null,null,null,null,null,null,null,null,null,null,null,null,null,null,null,null,null,null,null,null,null,null,null,null,null,null,null,null,null,null,null,null,null,null,null,null,null,null,null,null,460,"",null,"","",{"$f":"IF(BN463>1,\"\",MAX(BM$3:BM462)+1)","v":""},{"$f":"IF(BL463=\"\",\"\",COUNTIF(BL$4:BL463,BL463))","v":""},"",""]
[null,null,null,null,null,null,null,null,null,null,null,null,null,null,null,null,null,null,null,null,null,null,null,null,null,null,null,null,null,null,null,null,null,null,null,null,null,null,null,null,null,null,null,null,null,null,null,null,null,null,null,null,null,null,null,null,null,null,null,461,"",null,"","",{"$f":"IF(BN464>1,\"\",MAX(BM$3:BM463)+1)","v":""},{"$f":"IF(BL464=\"\",\"\",COUNTIF(BL$4:BL464,BL464))","v":""},"",""]
[null,null,null,null,null,null,null,null,null,null,null,null,null,null,null,null,null,null,null,null,null,null,null,null,null,null,null,null,null,null,null,null,null,null,null,null,null,null,null,null,null,null,null,null,null,null,null,null,null,null,null,null,null,null,null,null,null,null,null,462,"",null,"","",{"$f":"IF(BN465>1,\"\",MAX(BM$3:BM464)+1)","v":""},{"$f":"IF(BL465=\"\",\"\",COUNTIF(BL$4:BL465,BL465))","v":""},"",""]
[null,null,null,null,null,null,null,null,null,null,null,null,null,null,null,null,null,null,null,null,null,null,null,null,null,null,null,null,null,null,null,null,null,null,null,null,null,null,null,null,null,null,null,null,null,null,null,null,null,null,null,null,null,null,null,null,null,null,null,463,"",null,"","",{"$f":"IF(BN466>1,\"\",MAX(BM$3:BM465)+1)","v":""},{"$f":"IF(BL466=\"\",\"\",COUNTIF(BL$4:BL466,BL466))","v":""},"",""]
[null,null,null,null,null,null,null,null,null,null,null,null,null,null,null,null,null,null,null,null,null,null,null,null,null,null,null,null,null,null,null,null,null,null,null,null,null,null,null,null,null,null,null,null,null,null,null,null,null,null,null,null,null,null,null,null,null,null,null,464,"",null,"","",{"$f":"IF(BN467>1,\"\",MAX(BM$3:BM466)+1)","v":""},{"$f":"IF(BL467=\"\",\"\",COUNTIF(BL$4:BL467,BL467))","v":""},"",""]
[null,null,null,null,null,null,null,null,null,null,null,null,null,null,null,null,null,null,null,null,null,null,null,null,null,null,null,null,null,null,null,null,null,null,null,null,null,null,null,null,null,null,null,null,null,null,null,null,null,null,null,null,null,null,null,null,null,null,null,465,"",null,"","",{"$f":"IF(BN468>1,\"\",MAX(BM$3:BM467)+1)","v":""},{"$f":"IF(BL468=\"\",\"\",COUNTIF(BL$4:BL468,BL468))","v":""},"",""]
[null,null,null,null,null,null,null,null,null,null,null,null,null,null,null,null,null,null,null,null,null,null,null,null,null,null,null,null,null,null,null,null,null,null,null,null,null,null,null,null,null,null,null,null,null,null,null,null,null,null,null,null,null,null,null,null,null,null,null,466,"",null,"","",{"$f":"IF(BN469>1,\"\",MAX(BM$3:BM468)+1)","v":""},{"$f":"IF(BL469=\"\",\"\",COUNTIF(BL$4:BL469,BL469))","v":""},"",""]
[null,null,null,null,null,null,null,null,null,null,null,null,null,null,null,null,null,null,null,null,null,null,null,null,null,null,null,null,null,null,null,null,null,null,null,null,null,null,null,null,null,null,null,null,null,null,null,null,null,null,null,null,null,null,null,null,null,null,null,467,"",null,"","",{"$f":"IF(BN470>1,\"\",MAX(BM$3:BM469)+1)","v":""},{"$f":"IF(BL470=\"\",\"\",COUNTIF(BL$4:BL470,BL470))","v":""},"",""]
[null,null,null,null,null,null,null,null,null,null,null,null,null,null,null,null,null,null,null,null,null,null,null,null,null,null,null,null,null,null,null,null,null,null,null,null,null,null,null,null,null,null,null,null,null,null,null,null,null,null,null,null,null,null,null,null,null,null,null,468,"",null,"","",{"$f":"IF(BN471>1,\"\",MAX(BM$3:BM470)+1)","v":""},{"$f":"IF(BL471=\"\",\"\",COUNTIF(BL$4:BL471,BL471))","v":""},"",""]
[null,null,null,null,null,null,null,null,null,null,null,null,null,null,null,null,null,null,null,null,null,null,null,null,null,null,null,null,null,null,null,null,null,null,null,null,null,null,null,null,null,null,null,null,null,null,null,null,null,null,null,null,null,null,null,null,null,null,null,469,"",null,"","",{"$f":"IF(BN472>1,\"\",MAX(BM$3:BM471)+1)","v":""},{"$f":"IF(BL472=\"\",\"\",COUNTIF(BL$4:BL472,BL472))","v":""},"",""]
[null,null,null,null,null,null,null,null,null,null,null,null,null,null,null,null,null,null,null,null,null,null,null,null,null,null,null,null,null,null,null,null,null,null,null,null,null,null,null,null,null,null,null,null,null,null,null,null,null,null,null,null,null,null,null,null,null,null,null,470,"",null,"","",{"$f":"IF(BN473>1,\"\",MAX(BM$3:BM472)+1)","v":""},{"$f":"IF(BL473=\"\",\"\",COUNTIF(BL$4:BL473,BL473))","v":""},"",""]
[null,null,null,null,null,null,null,null,null,null,null,null,null,null,null,null,null,null,null,null,null,null,null,null,null,null,null,null,null,null,null,null,null,null,null,null,null,null,null,null,null,null,null,null,null,null,null,null,null,null,null,null,null,null,null,null,null,null,null,471,"",null,"","",{"$f":"IF(BN474>1,\"\",MAX(BM$3:BM473)+1)","v":""},{"$f":"IF(BL474=\"\",\"\",COUNTIF(BL$4:BL474,BL474))","v":""},"",""]
[null,null,null,null,null,null,null,null,null,null,null,null,null,null,null,null,null,null,null,null,null,null,null,null,null,null,null,null,null,null,null,null,null,null,null,null,null,null,null,null,null,null,null,null,null,null,null,null,null,null,null,null,null,null,null,null,null,null,null,472,"",null,"","",{"$f":"IF(BN475>1,\"\",MAX(BM$3:BM474)+1)","v":""},{"$f":"IF(BL475=\"\",\"\",COUNTIF(BL$4:BL475,BL475))","v":""},"",""]
[null,null,null,null,null,null,null,null,null,null,null,null,null,null,null,null,null,null,null,null,null,null,null,null,null,null,null,null,null,null,null,null,null,null,null,null,null,null,null,null,null,null,null,null,null,null,null,null,null,null,null,null,null,null,null,null,null,null,null,473,"",null,"","",{"$f":"IF(BN476>1,\"\",MAX(BM$3:BM475)+1)","v":""},{"$f":"IF(BL476=\"\",\"\",COUNTIF(BL$4:BL476,BL476))","v":""},"",""]
[null,null,null,null,null,null,null,null,null,null,null,null,null,null,null,null,null,null,null,null,null,null,null,null,null,null,null,null,null,null,null,null,null,null,null,null,null,null,null,null,null,null,null,null,null,null,null,null,null,null,null,null,null,null,null,null,null,null,null,474,"",null,"","",{"$f":"IF(BN477>1,\"\",MAX(BM$3:BM476)+1)","v":""},{"$f":"IF(BL477=\"\",\"\",COUNTIF(BL$4:BL477,BL477))","v":""},"",""]
[null,null,null,null,null,null,null,null,null,null,null,null,null,null,null,null,null,null,null,null,null,null,null,null,null,null,null,null,null,null,null,null,null,null,null,null,null,null,null,null,null,null,null,null,null,null,null,null,null,null,null,null,null,null,null,null,null,null,null,475,"",null,"","",{"$f":"IF(BN478>1,\"\",MAX(BM$3:BM477)+1)","v":""},{"$f":"IF(BL478=\"\",\"\",COUNTIF(BL$4:BL478,BL478))","v":""},"",""]
[null,null,null,null,null,null,null,null,null,null,null,null,null,null,null,null,null,null,null,null,null,null,null,null,null,null,null,null,null,null,null,null,null,null,null,null,null,null,null,null,null,null,null,null,null,null,null,null,null,null,null,null,null,null,null,null,null,null,null,476,"",null,"","",{"$f":"IF(BN479>1,\"\",MAX(BM$3:BM478)+1)","v":""},{"$f":"IF(BL479=\"\",\"\",COUNTIF(BL$4:BL479,BL479))","v":""},"",""]
[null,null,null,null,null,null,null,null,null,null,null,null,null,null,null,null,null,null,null,null,null,null,null,null,null,null,null,null,null,null,null,null,null,null,null,null,null,null,null,null,null,null,null,null,null,null,null,null,null,null,null,null,null,null,null,null,null,null,null,477,"",null,"","",{"$f":"IF(BN480>1,\"\",MAX(BM$3:BM479)+1)","v":""},{"$f":"IF(BL480=\"\",\"\",COUNTIF(BL$4:BL480,BL480))","v":""},"",""]
[null,null,null,null,null,null,null,null,null,null,null,null,null,null,null,null,null,null,null,null,null,null,null,null,null,null,null,null,null,null,null,null,null,null,null,null,null,null,null,null,null,null,null,null,null,null,null,null,null,null,null,null,null,null,null,null,null,null,null,478,"",null,"","",{"$f":"IF(BN481>1,\"\",MAX(BM$3:BM480)+1)","v":""},{"$f":"IF(BL481=\"\",\"\",COUNTIF(BL$4:BL481,BL481))","v":""},"",""]
[null,null,null,null,null,null,null,null,null,null,null,null,null,null,null,null,null,null,null,null,null,null,null,null,null,null,null,null,null,null,null,null,null,null,null,null,null,null,null,null,null,null,null,null,null,null,null,null,null,null,null,null,null,null,null,null,null,null,null,479,"",null,"","",{"$f":"IF(BN482>1,\"\",MAX(BM$3:BM481)+1)","v":""},{"$f":"IF(BL482=\"\",\"\",COUNTIF(BL$4:BL482,BL482))","v":""},"",""]
[null,null,null,null,null,null,null,null,null,null,null,null,null,null,null,null,null,null,null,null,null,null,null,null,null,null,null,null,null,null,null,null,null,null,null,null,null,null,null,null,null,null,null,null,null,null,null,null,null,null,null,null,null,null,null,null,null,null,null,480,"",null,"","",{"$f":"IF(BN483>1,\"\",MAX(BM$3:BM482)+1)","v":""},{"$f":"IF(BL483=\"\",\"\",COUNTIF(BL$4:BL483,BL483))","v":""},"",""]
[null,null,null,null,null,null,null,null,null,null,null,null,null,null,null,null,null,null,null,null,null,null,null,null,null,null,null,null,null,null,null,null,null,null,null,null,null,null,null,null,null,null,null,null,null,null,null,null,null,null,null,null,null,null,null,null,null,null,null,481,"",null,"","",{"$f":"IF(BN484>1,\"\",MAX(BM$3:BM483)+1)","v":""},{"$f":"IF(BL484=\"\",\"\",COUNTIF(BL$4:BL484,BL484))","v":""},"",""]
[null,null,null,null,null,null,null,null,null,null,null,null,null,null,null,null,null,null,null,null,null,null,null,null,null,null,null,null,null,null,null,null,null,null,null,null,null,null,null,null,null,null,null,null,null,null,null,null,null,null,null,null,null,null,null,null,null,null,null,482,"",null,"","",{"$f":"IF(BN485>1,\"\",MAX(BM$3:BM484)+1)","v":""},{"$f":"IF(BL485=\"\",\"\",COUNTIF(BL$4:BL485,BL485))","v":""},"",""]
[null,null,null,null,null,null,null,null,null,null,null,null,null,null,null,null,null,null,null,null,null,null,null,null,null,null,null,null,null,null,null,null,null,null,null,null,null,null,null,null,null,null,null,null,null,null,null,null,null,null,null,null,null,null,null,null,null,null,null,483,"",null,"","",{"$f":"IF(BN486>1,\"\",MAX(BM$3:BM485)+1)","v":""},{"$f":"IF(BL486=\"\",\"\",COUNTIF(BL$4:BL486,BL486))","v":""},"",""]
[null,null,null,null,null,null,null,null,null,null,null,null,null,null,null,null,null,null,null,null,null,null,null,null,null,null,null,null,null,null,null,null,null,null,null,null,null,null,null,null,null,null,null,null,null,null,null,null,null,null,null,null,null,null,null,null,null,null,null,484,"",null,"","",{"$f":"IF(BN487>1,\"\",MAX(BM$3:BM486)+1)","v":""},{"$f":"IF(BL487=\"\",\"\",COUNTIF(BL$4:BL487,BL487))","v":""},"",""]
[null,null,null,null,null,null,null,null,null,null,null,null,null,null,null,null,null,null,null,null,null,null,null,null,null,null,null,null,null,null,null,null,null,null,null,null,null,null,null,null,null,null,null,null,null,null,null,null,null,null,null,null,null,null,null,null,null,null,null,485,"",null,"","",{"$f":"IF(BN488>1,\"\",MAX(BM$3:BM487)+1)","v":""},{"$f":"IF(BL488=\"\",\"\",COUNTIF(BL$4:BL488,BL488))","v":""},"",""]
[null,null,null,null,null,null,null,null,null,null,null,null,null,null,null,null,null,null,null,null,null,null,null,null,null,null,null,null,null,null,null,null,null,null,null,null,null,null,null,null,null,null,null,null,null,null,null,null,null,null,null,null,null,null,null,null,null,null,null,486,"",null,"","",{"$f":"IF(BN489>1,\"\",MAX(BM$3:BM488)+1)","v":""},{"$f":"IF(BL489=\"\",\"\",COUNTIF(BL$4:BL489,BL489))","v":""},"",""]
[null,null,null,null,null,null,null,null,null,null,null,null,null,null,null,null,null,null,null,null,null,null,null,null,null,null,null,null,null,null,null,null,null,null,null,null,null,null,null,null,null,null,null,null,null,null,null,null,null,null,null,null,null,null,null,null,null,null,null,487,"",null,"","",{"$f":"IF(BN490>1,\"\",MAX(BM$3:BM489)+1)","v":""},{"$f":"IF(BL490=\"\",\"\",COUNTIF(BL$4:BL490,BL490))","v":""},"",""]
[null,null,null,null,null,null,null,null,null,null,null,null,null,null,null,null,null,null,null,null,null,null,null,null,null,null,null,null,null,null,null,null,null,null,null,null,null,null,null,null,null,null,null,null,null,null,null,null,null,null,null,null,null,null,null,null,null,null,null,488,"",null,"","",{"$f":"IF(BN491>1,\"\",MAX(BM$3:BM490)+1)","v":""},{"$f":"IF(BL491=\"\",\"\",COUNTIF(BL$4:BL491,BL491))","v":""},"",""]
[null,null,null,null,null,null,null,null,null,null,null,null,null,null,null,null,null,null,null,null,null,null,null,null,null,null,null,null,null,null,null,null,null,null,null,null,null,null,null,null,null,null,null,null,null,null,null,null,null,null,null,null,null,null,null,null,null,null,null,489,"",null,"","",{"$f":"IF(BN492>1,\"\",MAX(BM$3:BM491)+1)","v":""},{"$f":"IF(BL492=\"\",\"\",COUNTIF(BL$4:BL492,BL492))","v":""},"",""]
[null,null,null,null,null,null,null,null,null,null,null,null,null,null,null,null,null,null,null,null,null,null,null,null,null,null,null,null,null,null,null,null,null,null,null,null,null,null,null,null,null,null,null,null,null,null,null,null,null,null,null,null,null,null,null,null,null,null,null,490,"",null,"","",{"$f":"IF(BN493>1,\"\",MAX(BM$3:BM492)+1)","v":""},{"$f":"IF(BL493=\"\",\"\",COUNTIF(BL$4:BL493,BL493))","v":""},"",""]
[null,null,null,null,null,null,null,null,null,null,null,null,null,null,null,null,null,null,null,null,null,null,null,null,null,null,null,null,null,null,null,null,null,null,null,null,null,null,null,null,null,null,null,null,null,null,null,null,null,null,null,null,null,null,null,null,null,null,null,491,"",null,"","",{"$f":"IF(BN494>1,\"\",MAX(BM$3:BM493)+1)","v":""},{"$f":"IF(BL494=\"\",\"\",COUNTIF(BL$4:BL494,BL494))","v":""},"",""]
[null,null,null,null,null,null,null,null,null,null,null,null,null,null,null,null,null,null,null,null,null,null,null,null,null,null,null,null,null,null,null,null,null,null,null,null,null,null,null,null,null,null,null,null,null,null,null,null,null,null,null,null,null,null,null,null,null,null,null,492,"",null,"","",{"$f":"IF(BN495>1,\"\",MAX(BM$3:BM494)+1)","v":""},{"$f":"IF(BL495=\"\",\"\",COUNTIF(BL$4:BL495,BL495))","v":""},"",""]
[null,null,null,null,null,null,null,null,null,null,null,null,null,null,null,null,null,null,null,null,null,null,null,null,null,null,null,null,null,null,null,null,null,null,null,null,null,null,null,null,null,null,null,null,null,null,null,null,null,null,null,null,null,null,null,null,null,null,null,493,"",null,"","",{"$f":"IF(BN496>1,\"\",MAX(BM$3:BM495)+1)","v":""},{"$f":"IF(BL496=\"\",\"\",COUNTIF(BL$4:BL496,BL496))","v":""},"",""]
[null,null,null,null,null,null,null,null,null,null,null,null,null,null,null,null,null,null,null,null,null,null,null,null,null,null,null,null,null,null,null,null,null,null,null,null,null,null,null,null,null,null,null,null,null,null,null,null,null,null,null,null,null,null,null,null,null,null,null,494,"",null,"","",{"$f":"IF(BN497>1,\"\",MAX(BM$3:BM496)+1)","v":""},{"$f":"IF(BL497=\"\",\"\",COUNTIF(BL$4:BL497,BL497))","v":""},"",""]
[null,null,null,null,null,null,null,null,null,null,null,null,null,null,null,null,null,null,null,null,null,null,null,null,null,null,null,null,null,null,null,null,null,null,null,null,null,null,null,null,null,null,null,null,null,null,null,null,null,null,null,null,null,null,null,null,null,null,null,495,"",null,"","",{"$f":"IF(BN498>1,\"\",MAX(BM$3:BM497)+1)","v":""},{"$f":"IF(BL498=\"\",\"\",COUNTIF(BL$4:BL498,BL498))","v":""},"",""]
[null,null,null,null,null,null,null,null,null,null,null,null,null,null,null,null,null,null,null,null,null,null,null,null,null,null,null,null,null,null,null,null,null,null,null,null,null,null,null,null,null,null,null,null,null,null,null,null,null,null,null,null,null,null,null,null,null,null,null,496,"",null,{"$f":"BM499","v":""},{"$f":"IF(B499=\"\",\"\",B499)","v":""},{"$f":"IF(BN499>1,\"\",MAX(BM$3:BM498)+1)","v":""},{"$f":"IF(BL499=\"\",\"\",COUNTIF(BL$4:BL499,BL499))","v":""},"",{"$f":"IF(C499=\"\",\"\",C499)","v":""}]
[null,null,null,null,null,null,null,null,null,null,null,null,null,null,null,null,null,null,null,null,null,null,null,null,null,null,null,null,null,null,null,null,null,null,null,null,null,null,null,null,null,null,null,null,null,null,null,null,null,null,null,null,null,null,null,null,null,null,null,497,"",null,"","",{"$f":"IF(BN500>1,\"\",MAX(BM$3:BM499)+1)","v":""},{"$f":"IF(BL500=\"\",\"\",COUNTIF(BL$4:BL500,BL500))","v":""},"",""]
[null,null,null,null,null,null,null,null,null,null,null,null,null,null,null,null,null,null,null,null,null,null,null,null,null,null,null,null,null,null,null,null,null,null,null,null,null,null,null,null,null,null,null,null,null,null,null,null,null,null,null,null,null,null,null,null,null,null,null,498,"",null,"","",{"$f":"IF(BN501>1,\"\",MAX(BM$3:BM500)+1)","v":""},{"$f":"IF(BL501=\"\",\"\",COUNTIF(BL$4:BL501,BL501))","v":""},"",""]
[null,null,null,null,null,null,null,null,null,null,null,null,null,null,null,null,null,null,null,null,null,null,null,null,null,null,null,null,null,null,null,null,null,null,null,null,null,null,null,null,null,null,null,null,null,null,null,null,null,null,null,null,null,null,null,null,null,null,null,499,"",null,"","",{"$f":"IF(BN502>1,\"\",MAX(BM$3:BM501)+1)","v":""},{"$f":"IF(BL502=\"\",\"\",COUNTIF(BL$4:BL502,BL502))","v":""},"",""]
[null,null,null,null,null,null,null,null,null,null,null,null,null,null,null,null,null,null,null,null,null,null,null,null,null,null,null,null,null,null,null,null,null,null,null,null,null,null,null,null,null,null,null,null,null,null,null,null,null,null,null,null,null,null,null,null,null,null,null,500,"",null,"","",{"$f":"IF(BN503>1,\"\",MAX(BM$3:BM502)+1)","v":""},{"$f":"IF(BL503=\"\",\"\",COUNTIF(BL$4:BL503,BL503))","v":""},"",""]
[null,null,null,null,null,null,null,null,null,null,null,null,null,null,null,null,null,null,null,null,null,null,null,null,null,null,null,null,null,null,null,null,null,null,null,null,null,null,null,null,null,null,null,null,null,null,null,null,null,null,null,null,null,null,null,null,null,null,null,501,"",null,"","",{"$f":"IF(BN504>1,\"\",MAX(BM$3:BM503)+1)","v":""},{"$f":"IF(BL504=\"\",\"\",COUNTIF(BL$4:BL504,BL504))","v":""},"",""]
[null,null,null,null,null,null,null,null,null,null,null,null,null,null,null,null,null,null,null,null,null,null,null,null,null,null,null,null,null,null,null,null,null,null,null,null,null,null,null,null,null,null,null,null,null,null,null,null,null,null,null,null,null,null,null,null,null,null,null,502,"",null,"","",{"$f":"IF(BN505>1,\"\",MAX(BM$3:BM504)+1)","v":""},{"$f":"IF(BL505=\"\",\"\",COUNTIF(BL$4:BL505,BL505))","v":""},"",""]
[null,null,null,null,null,null,null,null,null,null,null,null,null,null,null,null,null,null,null,null,null,null,null,null,null,null,null,null,null,null,null,null,null,null,null,null,null,null,null,null,null,null,null,null,null,null,null,null,null,null,null,null,null,null,null,null,null,null,null,503,"",null,"","",{"$f":"IF(BN506>1,\"\",MAX(BM$3:BM505)+1)","v":""},{"$f":"IF(BL506=\"\",\"\",COUNTIF(BL$4:BL506,BL506))","v":""},"",""]
[null,null,null,null,null,null,null,null,null,null,null,null,null,null,null,null,null,null,null,null,null,null,null,null,null,null,null,null,null,null,null,null,null,null,null,null,null,null,null,null,null,null,null,null,null,null,null,null,null,null,null,null,null,null,null,null,null,null,null,504,"",null,"","",{"$f":"IF(BN507>1,\"\",MAX(BM$3:BM506)+1)","v":""},{"$f":"IF(BL507=\"\",\"\",COUNTIF(BL$4:BL507,BL507))","v":""},"",""]
[null,null,null,null,null,null,null,null,null,null,null,null,null,null,null,null,null,null,null,null,null,null,null,null,null,null,null,null,null,null,null,null,null,null,null,null,null,null,null,null,null,null,null,null,null,null,null,null,null,null,null,null,null,null,null,null,null,null,null,505,"",null,"","",{"$f":"IF(BN508>1,\"\",MAX(BM$3:BM507)+1)","v":""},{"$f":"IF(BL508=\"\",\"\",COUNTIF(BL$4:BL508,BL508))","v":""},"",""]
[null,null,null,null,null,null,null,null,null,null,null,null,null,null,null,null,null,null,null,null,null,null,null,null,null,null,null,null,null,null,null,null,null,null,null,null,null,null,null,null,null,null,null,null,null,null,null,null,null,null,null,null,null,null,null,null,null,null,null,506,"",null,"","",{"$f":"IF(BN509>1,\"\",MAX(BM$3:BM508)+1)","v":""},{"$f":"IF(BL509=\"\",\"\",COUNTIF(BL$4:BL509,BL509))","v":""},"",""]
[null,null,null,null,null,null,null,null,null,null,null,null,null,null,null,null,null,null,null,null,null,null,null,null,null,null,null,null,null,null,null,null,null,null,null,null,null,null,null,null,null,null,null,null,null,null,null,null,null,null,null,null,null,null,null,null,null,null,null,507,"",null,"","",{"$f":"IF(BN510>1,\"\",MAX(BM$3:BM509)+1)","v":""},{"$f":"IF(BL510=\"\",\"\",COUNTIF(BL$4:BL510,BL510))","v":""},"",""]
[null,null,null,null,null,null,null,null,null,null,null,null,null,null,null,null,null,null,null,null,null,null,null,null,null,null,null,null,null,null,null,null,null,null,null,null,null,null,null,null,null,null,null,null,null,null,null,null,null,null,null,null,null,null,null,null,null,null,null,508,"",null,"","",{"$f":"IF(BN511>1,\"\",MAX(BM$3:BM510)+1)","v":""},{"$f":"IF(BL511=\"\",\"\",COUNTIF(BL$4:BL511,BL511))","v":""},"",""]
[null,null,null,null,null,null,null,null,null,null,null,null,null,null,null,null,null,null,null,null,null,null,null,null,null,null,null,null,null,null,null,null,null,null,null,null,null,null,null,null,null,null,null,null,null,null,null,null,null,null,null,null,null,null,null,null,null,null,null,509,"",null,"","",{"$f":"IF(BN512>1,\"\",MAX(BM$3:BM511)+1)","v":""},{"$f":"IF(BL512=\"\",\"\",COUNTIF(BL$4:BL512,BL512))","v":""},"",""]
[null,null,null,null,null,null,null,null,null,null,null,null,null,null,null,null,null,null,null,null,null,null,null,null,null,null,null,null,null,null,null,null,null,null,null,null,null,null,null,null,null,null,null,null,null,null,null,null,null,null,null,null,null,null,null,null,null,null,null,510,"",null,"","",{"$f":"IF(BN513>1,\"\",MAX(BM$3:BM512)+1)","v":""},{"$f":"IF(BL513=\"\",\"\",COUNTIF(BL$4:BL513,BL513))","v":""},"",""]
[null,null,null,null,null,null,null,null,null,null,null,null,null,null,null,null,null,null,null,null,null,null,null,null,null,null,null,null,null,null,null,null,null,null,null,null,null,null,null,null,null,null,null,null,null,null,null,null,null,null,null,null,null,null,null,null,null,null,null,511,"",null,"","",{"$f":"IF(BN514>1,\"\",MAX(BM$3:BM513)+1)","v":""},{"$f":"IF(BL514=\"\",\"\",COUNTIF(BL$4:BL514,BL514))","v":""},"",""]
[null,null,null,null,null,null,null,null,null,null,null,null,null,null,null,null,null,null,null,null,null,null,null,null,null,null,null,null,null,null,null,null,null,null,null,null,null,null,null,null,null,null,null,null,null,null,null,null,null,null,null,null,null,null,null,null,null,null,null,512,"",null,"","",{"$f":"IF(BN515>1,\"\",MAX(BM$3:BM514)+1)","v":""},{"$f":"IF(BL515=\"\",\"\",COUNTIF(BL$4:BL515,BL515))","v":""},"",""]
[null,null,null,null,null,null,null,null,null,null,null,null,null,null,null,null,null,null,null,null,null,null,null,null,null,null,null,null,null,null,null,null,null,null,null,null,null,null,null,null,null,null,null,null,null,null,null,null,null,null,null,null,null,null,null,null,null,null,null,513,{"$f":"IF(BH516>MAX(BK$4:BK$940),\"\",VLOOKUP(BH516,BK$4:BL$940,2,FALSE))","v":""},null,"","",{"$f":"IF(BN516>1,\"\",MAX(BM$3:BM515)+1)","v":""},{"$f":"IF(BL516=\"\",\"\",COUNTIF(BL$4:BL516,BL516))","v":""},{"$f":"IF(BL516=\"\",\"\",thousand*VLOOKUP(BL516,BL$4:BM$940,2,FALSE)+BN516)","v":""},""]
[null,null,null,null,null,null,null,null,null,null,null,null,null,null,null,null,null,null,null,null,null,null,null,null,null,null,null,null,null,null,null,null,null,null,null,null,null,null,null,null,null,null,null,null,null,null,null,null,null,null,null,null,null,null,null,null,null,null,null,514,"",null,"","",{"$f":"IF(BN517>1,\"\",MAX(BM$3:BM516)+1)","v":""},{"$f":"IF(BL517=\"\",\"\",COUNTIF(BL$4:BL517,BL517))","v":""},"",""]
[null,null,null,null,null,null,null,null,null,null,null,null,null,null,null,null,null,null,null,null,null,null,null,null,null,null,null,null,null,null,null,null,null,null,null,null,null,null,null,null,null,null,null,null,null,null,null,null,null,null,null,null,null,null,null,null,null,null,null,515,"",null,"","",{"$f":"IF(BN518>1,\"\",MAX(BM$3:BM517)+1)","v":""},{"$f":"IF(BL518=\"\",\"\",COUNTIF(BL$4:BL518,BL518))","v":""},"",""]
[null,null,null,null,null,null,null,null,null,null,null,null,null,null,null,null,null,null,null,null,null,null,null,null,null,null,null,null,null,null,null,null,null,null,null,null,null,null,null,null,null,null,null,null,null,null,null,null,null,null,null,null,null,null,null,null,null,null,null,516,"",null,"","",{"$f":"IF(BN519>1,\"\",MAX(BM$3:BM518)+1)","v":""},{"$f":"IF(BL519=\"\",\"\",COUNTIF(BL$4:BL519,BL519))","v":""},"",""]
[null,null,null,null,null,null,null,null,null,null,null,null,null,null,null,null,null,null,null,null,null,null,null,null,null,null,null,null,null,null,null,null,null,null,null,null,null,null,null,null,null,null,null,null,null,null,null,null,null,null,null,null,null,null,null,null,null,null,null,517,"",null,"","",{"$f":"IF(BN520>1,\"\",MAX(BM$3:BM519)+1)","v":""},{"$f":"IF(BL520=\"\",\"\",COUNTIF(BL$4:BL520,BL520))","v":""},"",""]
[null,null,null,null,null,null,null,null,null,null,null,null,null,null,null,null,null,null,null,null,null,null,null,null,null,null,null,null,null,null,null,null,null,null,null,null,null,null,null,null,null,null,null,null,null,null,null,null,null,null,null,null,null,null,null,null,null,null,null,518,"",null,"","",{"$f":"IF(BN521>1,\"\",MAX(BM$3:BM520)+1)","v":""},{"$f":"IF(BL521=\"\",\"\",COUNTIF(BL$4:BL521,BL521))","v":""},"",""]
[null,null,null,null,null,null,null,null,null,null,null,null,null,null,null,null,null,null,null,null,null,null,null,null,null,null,null,null,null,null,null,null,null,null,null,null,null,null,null,null,null,null,null,null,null,null,null,null,null,null,null,null,null,null,null,null,null,null,null,519,"",null,"","",{"$f":"IF(BN522>1,\"\",MAX(BM$3:BM521)+1)","v":""},{"$f":"IF(BL522=\"\",\"\",COUNTIF(BL$4:BL522,BL522))","v":""},"",""]
[null,null,null,null,null,null,null,null,null,null,null,null,null,null,null,null,null,null,null,null,null,null,null,null,null,null,null,null,null,null,null,null,null,null,null,null,null,null,null,null,null,null,null,null,null,null,null,null,null,null,null,null,null,null,null,null,null,null,null,520,"",null,"","",{"$f":"IF(BN523>1,\"\",MAX(BM$3:BM522)+1)","v":""},{"$f":"IF(BL523=\"\",\"\",COUNTIF(BL$4:BL523,BL523))","v":""},"",""]
[null,null,null,null,null,null,null,null,null,null,null,null,null,null,null,null,null,null,null,null,null,null,null,null,null,null,null,null,null,null,null,null,null,null,null,null,null,null,null,null,null,null,null,null,null,null,null,null,null,null,null,null,null,null,null,null,null,null,null,521,"",null,"","",{"$f":"IF(BN524>1,\"\",MAX(BM$3:BM523)+1)","v":""},{"$f":"IF(BL524=\"\",\"\",COUNTIF(BL$4:BL524,BL524))","v":""},"",""]
[null,null,null,null,null,null,null,null,null,null,null,null,null,null,null,null,null,null,null,null,null,null,null,null,null,null,null,null,null,null,null,null,null,null,null,null,null,null,null,null,null,null,null,null,null,null,null,null,null,null,null,null,null,null,null,null,null,null,null,522,"",null,"","",{"$f":"IF(BN525>1,\"\",MAX(BM$3:BM524)+1)","v":""},{"$f":"IF(BL525=\"\",\"\",COUNTIF(BL$4:BL525,BL525))","v":""},"",""]
[null,null,null,null,null,null,null,null,null,null,null,null,null,null,null,null,null,null,null,null,null,null,null,null,null,null,null,null,null,null,null,null,null,null,null,null,null,null,null,null,null,null,null,null,null,null,null,null,null,null,null,null,null,null,null,null,null,null,null,523,"",null,"","",{"$f":"IF(BN526>1,\"\",MAX(BM$3:BM525)+1)","v":""},{"$f":"IF(BL526=\"\",\"\",COUNTIF(BL$4:BL526,BL526))","v":""},"",""]
[null,null,null,null,null,null,null,null,null,null,null,null,null,null,null,null,null,null,null,null,null,null,null,null,null,null,null,null,null,null,null,null,null,null,null,null,null,null,null,null,null,null,null,null,null,null,null,null,null,null,null,null,null,null,null,null,null,null,null,524,"",null,"","",{"$f":"IF(BN527>1,\"\",MAX(BM$3:BM526)+1)","v":""},{"$f":"IF(BL527=\"\",\"\",COUNTIF(BL$4:BL527,BL527))","v":""},"",""]
[null,null,null,null,null,null,null,null,null,null,null,null,null,null,null,null,null,null,null,null,null,null,null,null,null,null,null,null,null,null,null,null,null,null,null,null,null,null,null,null,null,null,null,null,null,null,null,null,null,null,null,null,null,null,null,null,null,null,null,525,"",null,"","",{"$f":"IF(BN528>1,\"\",MAX(BM$3:BM527)+1)","v":""},{"$f":"IF(BL528=\"\",\"\",COUNTIF(BL$4:BL528,BL528))","v":""},"",""]
[null,null,null,null,null,null,null,null,null,null,null,null,null,null,null,null,null,null,null,null,null,null,null,null,null,null,null,null,null,null,null,null,null,null,null,null,null,null,null,null,null,null,null,null,null,null,null,null,null,null,null,null,null,null,null,null,null,null,null,526,"",null,"","",{"$f":"IF(BN529>1,\"\",MAX(BM$3:BM528)+1)","v":""},{"$f":"IF(BL529=\"\",\"\",COUNTIF(BL$4:BL529,BL529))","v":""},"",""]
[null,null,null,null,null,null,null,null,null,null,null,null,null,null,null,null,null,null,null,null,null,null,null,null,null,null,null,null,null,null,null,null,null,null,null,null,null,null,null,null,null,null,null,null,null,null,null,null,null,null,null,null,null,null,null,null,null,null,null,527,"",null,"","",{"$f":"IF(BN530>1,\"\",MAX(BM$3:BM529)+1)","v":""},{"$f":"IF(BL530=\"\",\"\",COUNTIF(BL$4:BL530,BL530))","v":""},"",""]
[null,null,null,null,null,null,null,null,null,null,null,null,null,null,null,null,null,null,null,null,null,null,null,null,null,null,null,null,null,null,null,null,null,null,null,null,null,null,null,null,null,null,null,null,null,null,null,null,null,null,null,null,null,null,null,null,null,null,null,528,"",null,"","",{"$f":"IF(BN531>1,\"\",MAX(BM$3:BM530)+1)","v":""},{"$f":"IF(BL531=\"\",\"\",COUNTIF(BL$4:BL531,BL531))","v":""},"",""]
[null,null,null,null,null,null,null,null,null,null,null,null,null,null,null,null,null,null,null,null,null,null,null,null,null,null,null,null,null,null,null,null,null,null,null,null,null,null,null,null,null,null,null,null,null,null,null,null,null,null,null,null,null,null,null,null,null,null,null,529,"",null,"","",{"$f":"IF(BN532>1,\"\",MAX(BM$3:BM531)+1)","v":""},{"$f":"IF(BL532=\"\",\"\",COUNTIF(BL$4:BL532,BL532))","v":""},"",""]
[null,null,null,null,null,null,null,null,null,null,null,null,null,null,null,null,null,null,null,null,null,null,null,null,null,null,null,null,null,null,null,null,null,null,null,null,null,null,null,null,null,null,null,null,null,null,null,null,null,null,null,null,null,null,null,null,null,null,null,530,"",null,"","",{"$f":"IF(BN533>1,\"\",MAX(BM$3:BM532)+1)","v":""},{"$f":"IF(BL533=\"\",\"\",COUNTIF(BL$4:BL533,BL533))","v":""},"",""]
[null,null,null,null,null,null,null,null,null,null,null,null,null,null,null,null,null,null,null,null,null,null,null,null,null,null,null,null,null,null,null,null,null,null,null,null,null,null,null,null,null,null,null,null,null,null,null,null,null,null,null,null,null,null,null,null,null,null,null,531,"",null,"","",{"$f":"IF(BN534>1,\"\",MAX(BM$3:BM533)+1)","v":""},{"$f":"IF(BL534=\"\",\"\",COUNTIF(BL$4:BL534,BL534))","v":""},"",""]
[null,null,null,null,null,null,null,null,null,null,null,null,null,null,null,null,null,null,null,null,null,null,null,null,null,null,null,null,null,null,null,null,null,null,null,null,null,null,null,null,null,null,null,null,null,null,null,null,null,null,null,null,null,null,null,null,null,null,null,532,"",null,"","",{"$f":"IF(BN535>1,\"\",MAX(BM$3:BM534)+1)","v":""},{"$f":"IF(BL535=\"\",\"\",COUNTIF(BL$4:BL535,BL535))","v":""},"",""]
[null,null,null,null,null,null,null,null,null,null,null,null,null,null,null,null,null,null,null,null,null,null,null,null,null,null,null,null,null,null,null,null,null,null,null,null,null,null,null,null,null,null,null,null,null,null,null,null,null,null,null,null,null,null,null,null,null,null,null,533,"",null,"","",{"$f":"IF(BN536>1,\"\",MAX(BM$3:BM535)+1)","v":""},{"$f":"IF(BL536=\"\",\"\",COUNTIF(BL$4:BL536,BL536))","v":""},"",""]
[null,null,null,null,null,null,null,null,null,null,null,null,null,null,null,null,null,null,null,null,null,null,null,null,null,null,null,null,null,null,null,null,null,null,null,null,null,null,null,null,null,null,null,null,null,null,null,null,null,null,null,null,null,null,null,null,null,null,null,534,"",null,"","",{"$f":"IF(BN537>1,\"\",MAX(BM$3:BM536)+1)","v":""},{"$f":"IF(BL537=\"\",\"\",COUNTIF(BL$4:BL537,BL537))","v":""},"",""]
[null,null,null,null,null,null,null,null,null,null,null,null,null,null,null,null,null,null,null,null,null,null,null,null,null,null,null,null,null,null,null,null,null,null,null,null,null,null,null,null,null,null,null,null,null,null,null,null,null,null,null,null,null,null,null,null,null,null,null,535,"",null,"","",{"$f":"IF(BN538>1,\"\",MAX(BM$3:BM537)+1)","v":""},{"$f":"IF(BL538=\"\",\"\",COUNTIF(BL$4:BL538,BL538))","v":""},"",""]
[null,null,null,null,null,null,null,null,null,null,null,null,null,null,null,null,null,null,null,null,null,null,null,null,null,null,null,null,null,null,null,null,null,null,null,null,null,null,null,null,null,null,null,null,null,null,null,null,null,null,null,null,null,null,null,null,null,null,null,536,"",null,"","",{"$f":"IF(BN539>1,\"\",MAX(BM$3:BM538)+1)","v":""},{"$f":"IF(BL539=\"\",\"\",COUNTIF(BL$4:BL539,BL539))","v":""},"",""]
[null,null,null,null,null,null,null,null,null,null,null,null,null,null,null,null,null,null,null,null,null,null,null,null,null,null,null,null,null,null,null,null,null,null,null,null,null,null,null,null,null,null,null,null,null,null,null,null,null,null,null,null,null,null,null,null,null,null,null,537,"",null,"","",{"$f":"IF(BN540>1,\"\",MAX(BM$3:BM539)+1)","v":""},{"$f":"IF(BL540=\"\",\"\",COUNTIF(BL$4:BL540,BL540))","v":""},"",""]
[null,null,null,null,null,null,null,null,null,null,null,null,null,null,null,null,null,null,null,null,null,null,null,null,null,null,null,null,null,null,null,null,null,null,null,null,null,null,null,null,null,null,null,null,null,null,null,null,null,null,null,null,null,null,null,null,null,null,null,538,"",null,"","",{"$f":"IF(BN541>1,\"\",MAX(BM$3:BM540)+1)","v":""},{"$f":"IF(BL541=\"\",\"\",COUNTIF(BL$4:BL541,BL541))","v":""},"",""]
[null,null,null,null,null,null,null,null,null,null,null,null,null,null,null,null,null,null,null,null,null,null,null,null,null,null,null,null,null,null,null,null,null,null,null,null,null,null,null,null,null,null,null,null,null,null,null,null,null,null,null,null,null,null,null,null,null,null,null,539,"",null,"","",{"$f":"IF(BN542>1,\"\",MAX(BM$3:BM541)+1)","v":""},{"$f":"IF(BL542=\"\",\"\",COUNTIF(BL$4:BL542,BL542))","v":""},"",""]
[null,null,null,null,null,null,null,null,null,null,null,null,null,null,null,null,null,null,null,null,null,null,null,null,null,null,null,null,null,null,null,null,null,null,null,null,null,null,null,null,null,null,null,null,null,null,null,null,null,null,null,null,null,null,null,null,null,null,null,540,"",null,"","",{"$f":"IF(BN543>1,\"\",MAX(BM$3:BM542)+1)","v":""},{"$f":"IF(BL543=\"\",\"\",COUNTIF(BL$4:BL543,BL543))","v":""},"",""]
[null,null,null,null,null,null,null,null,null,null,null,null,null,null,null,null,null,null,null,null,null,null,null,null,null,null,null,null,null,null,null,null,null,null,null,null,null,null,null,null,null,null,null,null,null,null,null,null,null,null,null,null,null,null,null,null,null,null,null,541,"",null,"","",{"$f":"IF(BN544>1,\"\",MAX(BM$3:BM543)+1)","v":""},{"$f":"IF(BL544=\"\",\"\",COUNTIF(BL$4:BL544,BL544))","v":""},"",""]
[null,null,null,null,null,null,null,null,null,null,null,null,null,null,null,null,null,null,null,null,null,null,null,null,null,null,null,null,null,null,null,null,null,null,null,null,null,null,null,null,null,null,null,null,null,null,null,null,null,null,null,null,null,null,null,null,null,null,null,542,"",null,"","",{"$f":"IF(BN545>1,\"\",MAX(BM$3:BM544)+1)","v":""},{"$f":"IF(BL545=\"\",\"\",COUNTIF(BL$4:BL545,BL545))","v":""},"",""]
[null,null,null,null,null,null,null,null,null,null,null,null,null,null,null,null,null,null,null,null,null,null,null,null,null,null,null,null,null,null,null,null,null,null,null,null,null,null,null,null,null,null,null,null,null,null,null,null,null,null,null,null,null,null,null,null,null,null,null,543,"",null,"","",{"$f":"IF(BN546>1,\"\",MAX(BM$3:BM545)+1)","v":""},{"$f":"IF(BL546=\"\",\"\",COUNTIF(BL$4:BL546,BL546))","v":""},"",""]
[null,null,null,null,null,null,null,null,null,null,null,null,null,null,null,null,null,null,null,null,null,null,null,null,null,null,null,null,null,null,null,null,null,null,null,null,null,null,null,null,null,null,null,null,null,null,null,null,null,null,null,null,null,null,null,null,null,null,null,544,"",null,"","",{"$f":"IF(BN547>1,\"\",MAX(BM$3:BM546)+1)","v":""},{"$f":"IF(BL547=\"\",\"\",COUNTIF(BL$4:BL547,BL547))","v":""},"",""]
[null,null,null,null,null,null,null,null,null,null,null,null,null,null,null,null,null,null,null,null,null,null,null,null,null,null,null,null,null,null,null,null,null,null,null,null,null,null,null,null,null,null,null,null,null,null,null,null,null,null,null,null,null,null,null,null,null,null,null,545,"",null,"","",{"$f":"IF(BN548>1,\"\",MAX(BM$3:BM547)+1)","v":""},{"$f":"IF(BL548=\"\",\"\",COUNTIF(BL$4:BL548,BL548))","v":""},"",""]
[null,null,null,null,null,null,null,null,null,null,null,null,null,null,null,null,null,null,null,null,null,null,null,null,null,null,null,null,null,null,null,null,null,null,null,null,null,null,null,null,null,null,null,null,null,null,null,null,null,null,null,null,null,null,null,null,null,null,null,546,"",null,"","",{"$f":"IF(BN549>1,\"\",MAX(BM$3:BM548)+1)","v":""},{"$f":"IF(BL549=\"\",\"\",COUNTIF(BL$4:BL549,BL549))","v":""},"",""]
[null,null,null,null,null,null,null,null,null,null,null,null,null,null,null,null,null,null,null,null,null,null,null,null,null,null,null,null,null,null,null,null,null,null,null,null,null,null,null,null,null,null,null,null,null,null,null,null,null,null,null,null,null,null,null,null,null,null,null,547,"",null,"","",{"$f":"IF(BN550>1,\"\",MAX(BM$3:BM549)+1)","v":""},{"$f":"IF(BL550=\"\",\"\",COUNTIF(BL$4:BL550,BL550))","v":""},"",""]
[null,null,null,null,null,null,null,null,null,null,null,null,null,null,null,null,null,null,null,null,null,null,null,null,null,null,null,null,null,null,null,null,null,null,null,null,null,null,null,null,null,null,null,null,null,null,null,null,null,null,null,null,null,null,null,null,null,null,null,548,"",null,"","",{"$f":"IF(BN551>1,\"\",MAX(BM$3:BM550)+1)","v":""},{"$f":"IF(BL551=\"\",\"\",COUNTIF(BL$4:BL551,BL551))","v":""},"",""]
[null,null,null,null,null,null,null,null,null,null,null,null,null,null,null,null,null,null,null,null,null,null,null,null,null,null,null,null,null,null,null,null,null,null,null,null,null,null,null,null,null,null,null,null,null,null,null,null,null,null,null,null,null,null,null,null,null,null,null,549,"",null,"","",{"$f":"IF(BN552>1,\"\",MAX(BM$3:BM551)+1)","v":""},{"$f":"IF(BL552=\"\",\"\",COUNTIF(BL$4:BL552,BL552))","v":""},"",""]
[null,null,null,null,null,null,null,null,null,null,null,null,null,null,null,null,null,null,null,null,null,null,null,null,null,null,null,null,null,null,null,null,null,null,null,null,null,null,null,null,null,null,null,null,null,null,null,null,null,null,null,null,null,null,null,null,null,null,null,550,"",null,"","",{"$f":"IF(BN553>1,\"\",MAX(BM$3:BM552)+1)","v":""},{"$f":"IF(BL553=\"\",\"\",COUNTIF(BL$4:BL553,BL553))","v":""},"",""]
[null,null,null,null,null,null,null,null,null,null,null,null,null,null,null,null,null,null,null,null,null,null,null,null,null,null,null,null,null,null,null,null,null,null,null,null,null,null,null,null,null,null,null,null,null,null,null,null,null,null,null,null,null,null,null,null,null,null,null,551,"",null,"","",{"$f":"IF(BN554>1,\"\",MAX(BM$3:BM553)+1)","v":""},{"$f":"IF(BL554=\"\",\"\",COUNTIF(BL$4:BL554,BL554))","v":""},"",""]
[null,null,null,null,null,null,null,null,null,null,null,null,null,null,null,null,null,null,null,null,null,null,null,null,null,null,null,null,null,null,null,null,null,null,null,null,null,null,null,null,null,null,null,null,null,null,null,null,null,null,null,null,null,null,null,null,null,null,null,552,"",null,"","",{"$f":"IF(BN555>1,\"\",MAX(BM$3:BM554)+1)","v":""},{"$f":"IF(BL555=\"\",\"\",COUNTIF(BL$4:BL555,BL555))","v":""},"",""]
[null,null,null,null,null,null,null,null,null,null,null,null,null,null,null,null,null,null,null,null,null,null,null,null,null,null,null,null,null,null,null,null,null,null,null,null,null,null,null,null,null,null,null,null,null,null,null,null,null,null,null,null,null,null,null,null,null,null,null,553,"",null,"","",{"$f":"IF(BN556>1,\"\",MAX(BM$3:BM555)+1)","v":""},{"$f":"IF(BL556=\"\",\"\",COUNTIF(BL$4:BL556,BL556))","v":""},"",""]
[null,null,null,null,null,null,null,null,null,null,null,null,null,null,null,null,null,null,null,null,null,null,null,null,null,null,null,null,null,null,null,null,null,null,null,null,null,null,null,null,null,null,null,null,null,null,null,null,null,null,null,null,null,null,null,null,null,null,null,554,"",null,"","",{"$f":"IF(BN557>1,\"\",MAX(BM$3:BM556)+1)","v":""},{"$f":"IF(BL557=\"\",\"\",COUNTIF(BL$4:BL557,BL557))","v":""},"",""]
[null,null,null,null,null,null,null,null,null,null,null,null,null,null,null,null,null,null,null,null,null,null,null,null,null,null,null,null,null,null,null,null,null,null,null,null,null,null,null,null,null,null,null,null,null,null,null,null,null,null,null,null,null,null,null,null,null,null,null,555,"",null,"","",{"$f":"IF(BN558>1,\"\",MAX(BM$3:BM557)+1)","v":""},{"$f":"IF(BL558=\"\",\"\",COUNTIF(BL$4:BL558,BL558))","v":""},"",""]
[null,null,null,null,null,null,null,null,null,null,null,null,null,null,null,null,null,null,null,null,null,null,null,null,null,null,null,null,null,null,null,null,null,null,null,null,null,null,null,null,null,null,null,null,null,null,null,null,null,null,null,null,null,null,null,null,null,null,null,556,"",null,"","",{"$f":"IF(BN559>1,\"\",MAX(BM$3:BM558)+1)","v":""},{"$f":"IF(BL559=\"\",\"\",COUNTIF(BL$4:BL559,BL559))","v":""},"",""]
[null,null,null,null,null,null,null,null,null,null,null,null,null,null,null,null,null,null,null,null,null,null,null,null,null,null,null,null,null,null,null,null,null,null,null,null,null,null,null,null,null,null,null,null,null,null,null,null,null,null,null,null,null,null,null,null,null,null,null,557,"",null,"","",{"$f":"IF(BN560>1,\"\",MAX(BM$3:BM559)+1)","v":""},{"$f":"IF(BL560=\"\",\"\",COUNTIF(BL$4:BL560,BL560))","v":""},"",""]
[null,null,null,null,null,null,null,null,null,null,null,null,null,null,null,null,null,null,null,null,null,null,null,null,null,null,null,null,null,null,null,null,null,null,null,null,null,null,null,null,null,null,null,null,null,null,null,null,null,null,null,null,null,null,null,null,null,null,null,558,"",null,"","",{"$f":"IF(BN561>1,\"\",MAX(BM$3:BM560)+1)","v":""},{"$f":"IF(BL561=\"\",\"\",COUNTIF(BL$4:BL561,BL561))","v":""},"",""]
[null,null,null,null,null,null,null,null,null,null,null,null,null,null,null,null,null,null,null,null,null,null,null,null,null,null,null,null,null,null,null,null,null,null,null,null,null,null,null,null,null,null,null,null,null,null,null,null,null,null,null,null,null,null,null,null,null,null,null,559,"",null,"","",{"$f":"IF(BN562>1,\"\",MAX(BM$3:BM561)+1)","v":""},{"$f":"IF(BL562=\"\",\"\",COUNTIF(BL$4:BL562,BL562))","v":""},"",""]
[null,null,null,null,null,null,null,null,null,null,null,null,null,null,null,null,null,null,null,null,null,null,null,null,null,null,null,null,null,null,null,null,null,null,null,null,null,null,null,null,null,null,null,null,null,null,null,null,null,null,null,null,null,null,null,null,null,null,null,560,"",null,{"$f":"BM563","v":""},{"$f":"IF(B563=\"\",\"\",B563)","v":""},{"$f":"IF(BN563>1,\"\",MAX(BM$3:BM562)+1)","v":""},{"$f":"IF(BL563=\"\",\"\",COUNTIF(BL$4:BL563,BL563))","v":""},"",{"$f":"IF(C563=\"\",\"\",C563)","v":""}]
[null,null,null,null,null,null,null,null,null,null,null,null,null,null,null,null,null,null,null,null,null,null,null,null,null,null,null,null,null,null,null,null,null,null,null,null,null,null,null,null,null,null,null,null,null,null,null,null,null,null,null,null,null,null,null,null,null,null,null,561,"",null,"","",{"$f":"IF(BN564>1,\"\",MAX(BM$3:BM563)+1)","v":""},{"$f":"IF(BL564=\"\",\"\",COUNTIF(BL$4:BL564,BL564))","v":""},"",""]
[null,null,null,null,null,null,null,null,null,null,null,null,null,null,null,null,null,null,null,null,null,null,null,null,null,null,null,null,null,null,null,null,null,null,null,null,null,null,null,null,null,null,null,null,null,null,null,null,null,null,null,null,null,null,null,null,null,null,null,562,"",null,"","",{"$f":"IF(BN565>1,\"\",MAX(BM$3:BM564)+1)","v":""},{"$f":"IF(BL565=\"\",\"\",COUNTIF(BL$4:BL565,BL565))","v":""},"",""]
[null,null,null,null,null,null,null,null,null,null,null,null,null,null,null,null,null,null,null,null,null,null,null,null,null,null,null,null,null,null,null,null,null,null,null,null,null,null,null,null,null,null,null,null,null,null,null,null,null,null,null,null,null,null,null,null,null,null,null,563,"",null,"","",{"$f":"IF(BN566>1,\"\",MAX(BM$3:BM565)+1)","v":""},{"$f":"IF(BL566=\"\",\"\",COUNTIF(BL$4:BL566,BL566))","v":""},"",""]
[null,null,null,null,null,null,null,null,null,null,null,null,null,null,null,null,null,null,null,null,null,null,null,null,null,null,null,null,null,null,null,null,null,null,null,null,null,null,null,null,null,null,null,null,null,null,null,null,null,null,null,null,null,null,null,null,null,null,null,564,"",null,"","",{"$f":"IF(BN567>1,\"\",MAX(BM$3:BM566)+1)","v":""},{"$f":"IF(BL567=\"\",\"\",COUNTIF(BL$4:BL567,BL567))","v":""},"",""]
[null,null,null,null,null,null,null,null,null,null,null,null,null,null,null,null,null,null,null,null,null,null,null,null,null,null,null,null,null,null,null,null,null,null,null,null,null,null,null,null,null,null,null,null,null,null,null,null,null,null,null,null,null,null,null,null,null,null,null,565,"",null,"","",{"$f":"IF(BN568>1,\"\",MAX(BM$3:BM567)+1)","v":""},{"$f":"IF(BL568=\"\",\"\",COUNTIF(BL$4:BL568,BL568))","v":""},"",""]
[null,null,null,null,null,null,null,null,null,null,null,null,null,null,null,null,null,null,null,null,null,null,null,null,null,null,null,null,null,null,null,null,null,null,null,null,null,null,null,null,null,null,null,null,null,null,null,null,null,null,null,null,null,null,null,null,null,null,null,566,"",null,"","",{"$f":"IF(BN569>1,\"\",MAX(BM$3:BM568)+1)","v":""},{"$f":"IF(BL569=\"\",\"\",COUNTIF(BL$4:BL569,BL569))","v":""},"",""]
[null,null,null,null,null,null,null,null,null,null,null,null,null,null,null,null,null,null,null,null,null,null,null,null,null,null,null,null,null,null,null,null,null,null,null,null,null,null,null,null,null,null,null,null,null,null,null,null,null,null,null,null,null,null,null,null,null,null,null,567,"",null,"","",{"$f":"IF(BN570>1,\"\",MAX(BM$3:BM569)+1)","v":""},{"$f":"IF(BL570=\"\",\"\",COUNTIF(BL$4:BL570,BL570))","v":""},"",""]
[null,null,null,null,null,null,null,null,null,null,null,null,null,null,null,null,null,null,null,null,null,null,null,null,null,null,null,null,null,null,null,null,null,null,null,null,null,null,null,null,null,null,null,null,null,null,null,null,null,null,null,null,null,null,null,null,null,null,null,568,"",null,"","",{"$f":"IF(BN571>1,\"\",MAX(BM$3:BM570)+1)","v":""},{"$f":"IF(BL571=\"\",\"\",COUNTIF(BL$4:BL571,BL571))","v":""},"",""]
[null,null,null,null,null,null,null,null,null,null,null,null,null,null,null,null,null,null,null,null,null,null,null,null,null,null,null,null,null,null,null,null,null,null,null,null,null,null,null,null,null,null,null,null,null,null,null,null,null,null,null,null,null,null,null,null,null,null,null,569,"",null,"","",{"$f":"IF(BN572>1,\"\",MAX(BM$3:BM571)+1)","v":""},{"$f":"IF(BL572=\"\",\"\",COUNTIF(BL$4:BL572,BL572))","v":""},"",""]
[null,null,null,null,null,null,null,null,null,null,null,null,null,null,null,null,null,null,null,null,null,null,null,null,null,null,null,null,null,null,null,null,null,null,null,null,null,null,null,null,null,null,null,null,null,null,null,null,null,null,null,null,null,null,null,null,null,null,null,570,"",null,"","",{"$f":"IF(BN573>1,\"\",MAX(BM$3:BM572)+1)","v":""},{"$f":"IF(BL573=\"\",\"\",COUNTIF(BL$4:BL573,BL573))","v":""},"",""]
[null,null,null,null,null,null,null,null,null,null,null,null,null,null,null,null,null,null,null,null,null,null,null,null,null,null,null,null,null,null,null,null,null,null,null,null,null,null,null,null,null,null,null,null,null,null,null,null,null,null,null,null,null,null,null,null,null,null,null,571,"",null,"","",{"$f":"IF(BN574>1,\"\",MAX(BM$3:BM573)+1)","v":""},{"$f":"IF(BL574=\"\",\"\",COUNTIF(BL$4:BL574,BL574))","v":""},"",""]
[null,null,null,null,null,null,null,null,null,null,null,null,null,null,null,null,null,null,null,null,null,null,null,null,null,null,null,null,null,null,null,null,null,null,null,null,null,null,null,null,null,null,null,null,null,null,null,null,null,null,null,null,null,null,null,null,null,null,null,572,"",null,"","",{"$f":"IF(BN575>1,\"\",MAX(BM$3:BM574)+1)","v":""},{"$f":"IF(BL575=\"\",\"\",COUNTIF(BL$4:BL575,BL575))","v":""},"",""]
[null,null,null,null,null,null,null,null,null,null,null,null,null,null,null,null,null,null,null,null,null,null,null,null,null,null,null,null,null,null,null,null,null,null,null,null,null,null,null,null,null,null,null,null,null,null,null,null,null,null,null,null,null,null,null,null,null,null,null,573,"",null,"","",{"$f":"IF(BN576>1,\"\",MAX(BM$3:BM575)+1)","v":""},{"$f":"IF(BL576=\"\",\"\",COUNTIF(BL$4:BL576,BL576))","v":""},"",""]
[null,null,null,null,null,null,null,null,null,null,null,null,null,null,null,null,null,null,null,null,null,null,null,null,null,null,null,null,null,null,null,null,null,null,null,null,null,null,null,null,null,null,null,null,null,null,null,null,null,null,null,null,null,null,null,null,null,null,null,574,"",null,"","",{"$f":"IF(BN577>1,\"\",MAX(BM$3:BM576)+1)","v":""},{"$f":"IF(BL577=\"\",\"\",COUNTIF(BL$4:BL577,BL577))","v":""},"",""]
[null,null,null,null,null,null,null,null,null,null,null,null,null,null,null,null,null,null,null,null,null,null,null,null,null,null,null,null,null,null,null,null,null,null,null,null,null,null,null,null,null,null,null,null,null,null,null,null,null,null,null,null,null,null,null,null,null,null,null,575,"",null,"","",{"$f":"IF(BN578>1,\"\",MAX(BM$3:BM577)+1)","v":""},{"$f":"IF(BL578=\"\",\"\",COUNTIF(BL$4:BL578,BL578))","v":""},"",""]
[null,null,null,null,null,null,null,null,null,null,null,null,null,null,null,null,null,null,null,null,null,null,null,null,null,null,null,null,null,null,null,null,null,null,null,null,null,null,null,null,null,null,null,null,null,null,null,null,null,null,null,null,null,null,null,null,null,null,null,576,"",null,"","",{"$f":"IF(BN579>1,\"\",MAX(BM$3:BM578)+1)","v":""},{"$f":"IF(BL579=\"\",\"\",COUNTIF(BL$4:BL579,BL579))","v":""},"",""]
[null,null,null,null,null,null,null,null,null,null,null,null,null,null,null,null,null,null,null,null,null,null,null,null,null,null,null,null,null,null,null,null,null,null,null,null,null,null,null,null,null,null,null,null,null,null,null,null,null,null,null,null,null,null,null,null,null,null,null,577,{"$f":"IF(BH580>MAX(BK$4:BK$940),\"\",VLOOKUP(BH580,BK$4:BL$940,2,FALSE))","v":""},null,"","",{"$f":"IF(BN580>1,\"\",MAX(BM$3:BM579)+1)","v":""},{"$f":"IF(BL580=\"\",\"\",COUNTIF(BL$4:BL580,BL580))","v":""},{"$f":"IF(BL580=\"\",\"\",thousand*VLOOKUP(BL580,BL$4:BM$940,2,FALSE)+BN580)","v":""},""]
[null,null,null,null,null,null,null,null,null,null,null,null,null,null,null,null,null,null,null,null,null,null,null,null,null,null,null,null,null,null,null,null,null,null,null,null,null,null,null,null,null,null,null,null,null,null,null,null,null,null,null,null,null,null,null,null,null,null,null,578,"",null,"","",{"$f":"IF(BN581>1,\"\",MAX(BM$3:BM580)+1)","v":""},{"$f":"IF(BL581=\"\",\"\",COUNTIF(BL$4:BL581,BL581))","v":""},"",""]
[null,null,null,null,null,null,null,null,null,null,null,null,null,null,null,null,null,null,null,null,null,null,null,null,null,null,null,null,null,null,null,null,null,null,null,null,null,null,null,null,null,null,null,null,null,null,null,null,null,null,null,null,null,null,null,null,null,null,null,579,"",null,"","",{"$f":"IF(BN582>1,\"\",MAX(BM$3:BM581)+1)","v":""},{"$f":"IF(BL582=\"\",\"\",COUNTIF(BL$4:BL582,BL582))","v":""},"",""]
[null,null,null,null,null,null,null,null,null,null,null,null,null,null,null,null,null,null,null,null,null,null,null,null,null,null,null,null,null,null,null,null,null,null,null,null,null,null,null,null,null,null,null,null,null,null,null,null,null,null,null,null,null,null,null,null,null,null,null,580,"",null,"","",{"$f":"IF(BN583>1,\"\",MAX(BM$3:BM582)+1)","v":""},{"$f":"IF(BL583=\"\",\"\",COUNTIF(BL$4:BL583,BL583))","v":""},"",""]
[null,null,null,null,null,null,null,null,null,null,null,null,null,null,null,null,null,null,null,null,null,null,null,null,null,null,null,null,null,null,null,null,null,null,null,null,null,null,null,null,null,null,null,null,null,null,null,null,null,null,null,null,null,null,null,null,null,null,null,581,"",null,"","",{"$f":"IF(BN584>1,\"\",MAX(BM$3:BM583)+1)","v":""},{"$f":"IF(BL584=\"\",\"\",COUNTIF(BL$4:BL584,BL584))","v":""},"",""]
[null,null,null,null,null,null,null,null,null,null,null,null,null,null,null,null,null,null,null,null,null,null,null,null,null,null,null,null,null,null,null,null,null,null,null,null,null,null,null,null,null,null,null,null,null,null,null,null,null,null,null,null,null,null,null,null,null,null,null,582,"",null,"","",{"$f":"IF(BN585>1,\"\",MAX(BM$3:BM584)+1)","v":""},{"$f":"IF(BL585=\"\",\"\",COUNTIF(BL$4:BL585,BL585))","v":""},"",""]
[null,null,null,null,null,null,null,null,null,null,null,null,null,null,null,null,null,null,null,null,null,null,null,null,null,null,null,null,null,null,null,null,null,null,null,null,null,null,null,null,null,null,null,null,null,null,null,null,null,null,null,null,null,null,null,null,null,null,null,583,"",null,"","",{"$f":"IF(BN586>1,\"\",MAX(BM$3:BM585)+1)","v":""},{"$f":"IF(BL586=\"\",\"\",COUNTIF(BL$4:BL586,BL586))","v":""},"",""]
[null,null,null,null,null,null,null,null,null,null,null,null,null,null,null,null,null,null,null,null,null,null,null,null,null,null,null,null,null,null,null,null,null,null,null,null,null,null,null,null,null,null,null,null,null,null,null,null,null,null,null,null,null,null,null,null,null,null,null,584,"",null,"","",{"$f":"IF(BN587>1,\"\",MAX(BM$3:BM586)+1)","v":""},{"$f":"IF(BL587=\"\",\"\",COUNTIF(BL$4:BL587,BL587))","v":""},"",""]
[null,null,null,null,null,null,null,null,null,null,null,null,null,null,null,null,null,null,null,null,null,null,null,null,null,null,null,null,null,null,null,null,null,null,null,null,null,null,null,null,null,null,null,null,null,null,null,null,null,null,null,null,null,null,null,null,null,null,null,585,"",null,"","",{"$f":"IF(BN588>1,\"\",MAX(BM$3:BM587)+1)","v":""},{"$f":"IF(BL588=\"\",\"\",COUNTIF(BL$4:BL588,BL588))","v":""},"",""]
[null,null,null,null,null,null,null,null,null,null,null,null,null,null,null,null,null,null,null,null,null,null,null,null,null,null,null,null,null,null,null,null,null,null,null,null,null,null,null,null,null,null,null,null,null,null,null,null,null,null,null,null,null,null,null,null,null,null,null,586,"",null,"","",{"$f":"IF(BN589>1,\"\",MAX(BM$3:BM588)+1)","v":""},{"$f":"IF(BL589=\"\",\"\",COUNTIF(BL$4:BL589,BL589))","v":""},"",""]
[null,null,null,null,null,null,null,null,null,null,null,null,null,null,null,null,null,null,null,null,null,null,null,null,null,null,null,null,null,null,null,null,null,null,null,null,null,null,null,null,null,null,null,null,null,null,null,null,null,null,null,null,null,null,null,null,null,null,null,587,"",null,"","",{"$f":"IF(BN590>1,\"\",MAX(BM$3:BM589)+1)","v":""},{"$f":"IF(BL590=\"\",\"\",COUNTIF(BL$4:BL590,BL590))","v":""},"",""]
[null,null,null,null,null,null,null,null,null,null,null,null,null,null,null,null,null,null,null,null,null,null,null,null,null,null,null,null,null,null,null,null,null,null,null,null,null,null,null,null,null,null,null,null,null,null,null,null,null,null,null,null,null,null,null,null,null,null,null,588,"",null,"","",{"$f":"IF(BN591>1,\"\",MAX(BM$3:BM590)+1)","v":""},{"$f":"IF(BL591=\"\",\"\",COUNTIF(BL$4:BL591,BL591))","v":""},"",""]
[null,null,null,null,null,null,null,null,null,null,null,null,null,null,null,null,null,null,null,null,null,null,null,null,null,null,null,null,null,null,null,null,null,null,null,null,null,null,null,null,null,null,null,null,null,null,null,null,null,null,null,null,null,null,null,null,null,null,null,589,"",null,"","",{"$f":"IF(BN592>1,\"\",MAX(BM$3:BM591)+1)","v":""},{"$f":"IF(BL592=\"\",\"\",COUNTIF(BL$4:BL592,BL592))","v":""},"",""]
[null,null,null,null,null,null,null,null,null,null,null,null,null,null,null,null,null,null,null,null,null,null,null,null,null,null,null,null,null,null,null,null,null,null,null,null,null,null,null,null,null,null,null,null,null,null,null,null,null,null,null,null,null,null,null,null,null,null,null,590,"",null,"","",{"$f":"IF(BN593>1,\"\",MAX(BM$3:BM592)+1)","v":""},{"$f":"IF(BL593=\"\",\"\",COUNTIF(BL$4:BL593,BL593))","v":""},"",""]
[null,null,null,null,null,null,null,null,null,null,null,null,null,null,null,null,null,null,null,null,null,null,null,null,null,null,null,null,null,null,null,null,null,null,null,null,null,null,null,null,null,null,null,null,null,null,null,null,null,null,null,null,null,null,null,null,null,null,null,591,"",null,"","",{"$f":"IF(BN594>1,\"\",MAX(BM$3:BM593)+1)","v":""},{"$f":"IF(BL594=\"\",\"\",COUNTIF(BL$4:BL594,BL594))","v":""},"",""]
[null,null,null,null,null,null,null,null,null,null,null,null,null,null,null,null,null,null,null,null,null,null,null,null,null,null,null,null,null,null,null,null,null,null,null,null,null,null,null,null,null,null,null,null,null,null,null,null,null,null,null,null,null,null,null,null,null,null,null,592,"",null,"","",{"$f":"IF(BN595>1,\"\",MAX(BM$3:BM594)+1)","v":""},{"$f":"IF(BL595=\"\",\"\",COUNTIF(BL$4:BL595,BL595))","v":""},"",""]
[null,null,null,null,null,null,null,null,null,null,null,null,null,null,null,null,null,null,null,null,null,null,null,null,null,null,null,null,null,null,null,null,null,null,null,null,null,null,null,null,null,null,null,null,null,null,null,null,null,null,null,null,null,null,null,null,null,null,null,593,"",null,"","",{"$f":"IF(BN596>1,\"\",MAX(BM$3:BM595)+1)","v":""},{"$f":"IF(BL596=\"\",\"\",COUNTIF(BL$4:BL596,BL596))","v":""},"",""]
[null,null,null,null,null,null,null,null,null,null,null,null,null,null,null,null,null,null,null,null,null,null,null,null,null,null,null,null,null,null,null,null,null,null,null,null,null,null,null,null,null,null,null,null,null,null,null,null,null,null,null,null,null,null,null,null,null,null,null,594,"",null,"","",{"$f":"IF(BN597>1,\"\",MAX(BM$3:BM596)+1)","v":""},{"$f":"IF(BL597=\"\",\"\",COUNTIF(BL$4:BL597,BL597))","v":""},"",""]
[null,null,null,null,null,null,null,null,null,null,null,null,null,null,null,null,null,null,null,null,null,null,null,null,null,null,null,null,null,null,null,null,null,null,null,null,null,null,null,null,null,null,null,null,null,null,null,null,null,null,null,null,null,null,null,null,null,null,null,595,"",null,"","",{"$f":"IF(BN598>1,\"\",MAX(BM$3:BM597)+1)","v":""},{"$f":"IF(BL598=\"\",\"\",COUNTIF(BL$4:BL598,BL598))","v":""},"",""]
[null,null,null,null,null,null,null,null,null,null,null,null,null,null,null,null,null,null,null,null,null,null,null,null,null,null,null,null,null,null,null,null,null,null,null,null,null,null,null,null,null,null,null,null,null,null,null,null,null,null,null,null,null,null,null,null,null,null,null,596,"",null,"","",{"$f":"IF(BN599>1,\"\",MAX(BM$3:BM598)+1)","v":""},{"$f":"IF(BL599=\"\",\"\",COUNTIF(BL$4:BL599,BL599))","v":""},"",""]
[null,null,null,null,null,null,null,null,null,null,null,null,null,null,null,null,null,null,null,null,null,null,null,null,null,null,null,null,null,null,null,null,null,null,null,null,null,null,null,null,null,null,null,null,null,null,null,null,null,null,null,null,null,null,null,null,null,null,null,597,"",null,"","",{"$f":"IF(BN600>1,\"\",MAX(BM$3:BM599)+1)","v":""},{"$f":"IF(BL600=\"\",\"\",COUNTIF(BL$4:BL600,BL600))","v":""},"",""]
[null,null,null,null,null,null,null,null,null,null,null,null,null,null,null,null,null,null,null,null,null,null,null,null,null,null,null,null,null,null,null,null,null,null,null,null,null,null,null,null,null,null,null,null,null,null,null,null,null,null,null,null,null,null,null,null,null,null,null,598,"",null,"","",{"$f":"IF(BN601>1,\"\",MAX(BM$3:BM600)+1)","v":""},{"$f":"IF(BL601=\"\",\"\",COUNTIF(BL$4:BL601,BL601))","v":""},"",""]
[null,null,null,null,null,null,null,null,null,null,null,null,null,null,null,null,null,null,null,null,null,null,null,null,null,null,null,null,null,null,null,null,null,null,null,null,null,null,null,null,null,null,null,null,null,null,null,null,null,null,null,null,null,null,null,null,null,null,null,599,"",null,"","",{"$f":"IF(BN602>1,\"\",MAX(BM$3:BM601)+1)","v":""},{"$f":"IF(BL602=\"\",\"\",COUNTIF(BL$4:BL602,BL602))","v":""},"",""]
[null,null,null,null,null,null,null,null,null,null,null,null,null,null,null,null,null,null,null,null,null,null,null,null,null,null,null,null,null,null,null,null,null,null,null,null,null,null,null,null,null,null,null,null,null,null,null,null,null,null,null,null,null,null,null,null,null,null,null,600,"",null,"","",{"$f":"IF(BN603>1,\"\",MAX(BM$3:BM602)+1)","v":""},{"$f":"IF(BL603=\"\",\"\",COUNTIF(BL$4:BL603,BL603))","v":""},"",""]
[null,null,null,null,null,null,null,null,null,null,null,null,null,null,null,null,null,null,null,null,null,null,null,null,null,null,null,null,null,null,null,null,null,null,null,null,null,null,null,null,null,null,null,null,null,null,null,null,null,null,null,null,null,null,null,null,null,null,null,601,"",null,"","",{"$f":"IF(BN604>1,\"\",MAX(BM$3:BM603)+1)","v":""},{"$f":"IF(BL604=\"\",\"\",COUNTIF(BL$4:BL604,BL604))","v":""},"",""]
[null,null,null,null,null,null,null,null,null,null,null,null,null,null,null,null,null,null,null,null,null,null,null,null,null,null,null,null,null,null,null,null,null,null,null,null,null,null,null,null,null,null,null,null,null,null,null,null,null,null,null,null,null,null,null,null,null,null,null,602,"",null,"","",{"$f":"IF(BN605>1,\"\",MAX(BM$3:BM604)+1)","v":""},{"$f":"IF(BL605=\"\",\"\",COUNTIF(BL$4:BL605,BL605))","v":""},"",""]
[null,null,null,null,null,null,null,null,null,null,null,null,null,null,null,null,null,null,null,null,null,null,null,null,null,null,null,null,null,null,null,null,null,null,null,null,null,null,null,null,null,null,null,null,null,null,null,null,null,null,null,null,null,null,null,null,null,null,null,603,"",null,"","",{"$f":"IF(BN606>1,\"\",MAX(BM$3:BM605)+1)","v":""},{"$f":"IF(BL606=\"\",\"\",COUNTIF(BL$4:BL606,BL606))","v":""},"",""]
[null,null,null,null,null,null,null,null,null,null,null,null,null,null,null,null,null,null,null,null,null,null,null,null,null,null,null,null,null,null,null,null,null,null,null,null,null,null,null,null,null,null,null,null,null,null,null,null,null,null,null,null,null,null,null,null,null,null,null,604,"",null,"","",{"$f":"IF(BN607>1,\"\",MAX(BM$3:BM606)+1)","v":""},{"$f":"IF(BL607=\"\",\"\",COUNTIF(BL$4:BL607,BL607))","v":""},"",""]
[null,null,null,null,null,null,null,null,null,null,null,null,null,null,null,null,null,null,null,null,null,null,null,null,null,null,null,null,null,null,null,null,null,null,null,null,null,null,null,null,null,null,null,null,null,null,null,null,null,null,null,null,null,null,null,null,null,null,null,605,"",null,"","",{"$f":"IF(BN608>1,\"\",MAX(BM$3:BM607)+1)","v":""},{"$f":"IF(BL608=\"\",\"\",COUNTIF(BL$4:BL608,BL608))","v":""},"",""]
[null,null,null,null,null,null,null,null,null,null,null,null,null,null,null,null,null,null,null,null,null,null,null,null,null,null,null,null,null,null,null,null,null,null,null,null,null,null,null,null,null,null,null,null,null,null,null,null,null,null,null,null,null,null,null,null,null,null,null,606,"",null,"","",{"$f":"IF(BN609>1,\"\",MAX(BM$3:BM608)+1)","v":""},{"$f":"IF(BL609=\"\",\"\",COUNTIF(BL$4:BL609,BL609))","v":""},"",""]
[null,null,null,null,null,null,null,null,null,null,null,null,null,null,null,null,null,null,null,null,null,null,null,null,null,null,null,null,null,null,null,null,null,null,null,null,null,null,null,null,null,null,null,null,null,null,null,null,null,null,null,null,null,null,null,null,null,null,null,607,"",null,"","",{"$f":"IF(BN610>1,\"\",MAX(BM$3:BM609)+1)","v":""},{"$f":"IF(BL610=\"\",\"\",COUNTIF(BL$4:BL610,BL610))","v":""},"",""]
[null,null,null,null,null,null,null,null,null,null,null,null,null,null,null,null,null,null,null,null,null,null,null,null,null,null,null,null,null,null,null,null,null,null,null,null,null,null,null,null,null,null,null,null,null,null,null,null,null,null,null,null,null,null,null,null,null,null,null,608,"",null,"","",{"$f":"IF(BN611>1,\"\",MAX(BM$3:BM610)+1)","v":""},{"$f":"IF(BL611=\"\",\"\",COUNTIF(BL$4:BL611,BL611))","v":""},"",""]
[null,null,null,null,null,null,null,null,null,null,null,null,null,null,null,null,null,null,null,null,null,null,null,null,null,null,null,null,null,null,null,null,null,null,null,null,null,null,null,null,null,null,null,null,null,null,null,null,null,null,null,null,null,null,null,null,null,null,null,609,"",null,"","",{"$f":"IF(BN612>1,\"\",MAX(BM$3:BM611)+1)","v":""},{"$f":"IF(BL612=\"\",\"\",COUNTIF(BL$4:BL612,BL612))","v":""},"",""]
[null,null,null,null,null,null,null,null,null,null,null,null,null,null,null,null,null,null,null,null,null,null,null,null,null,null,null,null,null,null,null,null,null,null,null,null,null,null,null,null,null,null,null,null,null,null,null,null,null,null,null,null,null,null,null,null,null,null,null,610,"",null,"","",{"$f":"IF(BN613>1,\"\",MAX(BM$3:BM612)+1)","v":""},{"$f":"IF(BL613=\"\",\"\",COUNTIF(BL$4:BL613,BL613))","v":""},"",""]
[null,null,null,null,null,null,null,null,null,null,null,null,null,null,null,null,null,null,null,null,null,null,null,null,null,null,null,null,null,null,null,null,null,null,null,null,null,null,null,null,null,null,null,null,null,null,null,null,null,null,null,null,null,null,null,null,null,null,null,611,"",null,"","",{"$f":"IF(BN614>1,\"\",MAX(BM$3:BM613)+1)","v":""},{"$f":"IF(BL614=\"\",\"\",COUNTIF(BL$4:BL614,BL614))","v":""},"",""]
[null,null,null,null,null,null,null,null,null,null,null,null,null,null,null,null,null,null,null,null,null,null,null,null,null,null,null,null,null,null,null,null,null,null,null,null,null,null,null,null,null,null,null,null,null,null,null,null,null,null,null,null,null,null,null,null,null,null,null,612,"",null,"","",{"$f":"IF(BN615>1,\"\",MAX(BM$3:BM614)+1)","v":""},{"$f":"IF(BL615=\"\",\"\",COUNTIF(BL$4:BL615,BL615))","v":""},"",""]
[null,null,null,null,null,null,null,null,null,null,null,null,null,null,null,null,null,null,null,null,null,null,null,null,null,null,null,null,null,null,null,null,null,null,null,null,null,null,null,null,null,null,null,null,null,null,null,null,null,null,null,null,null,null,null,null,null,null,null,613,"",null,"","",{"$f":"IF(BN616>1,\"\",MAX(BM$3:BM615)+1)","v":""},{"$f":"IF(BL616=\"\",\"\",COUNTIF(BL$4:BL616,BL616))","v":""},"",""]
[null,null,null,null,null,null,null,null,null,null,null,null,null,null,null,null,null,null,null,null,null,null,null,null,null,null,null,null,null,null,null,null,null,null,null,null,null,null,null,null,null,null,null,null,null,null,null,null,null,null,null,null,null,null,null,null,null,null,null,614,"",null,"","",{"$f":"IF(BN617>1,\"\",MAX(BM$3:BM616)+1)","v":""},{"$f":"IF(BL617=\"\",\"\",COUNTIF(BL$4:BL617,BL617))","v":""},"",""]
[null,null,null,null,null,null,null,null,null,null,null,null,null,null,null,null,null,null,null,null,null,null,null,null,null,null,null,null,null,null,null,null,null,null,null,null,null,null,null,null,null,null,null,null,null,null,null,null,null,null,null,null,null,null,null,null,null,null,null,615,"",null,"","",{"$f":"IF(BN618>1,\"\",MAX(BM$3:BM617)+1)","v":""},{"$f":"IF(BL618=\"\",\"\",COUNTIF(BL$4:BL618,BL618))","v":""},"",""]
[null,null,null,null,null,null,null,null,null,null,null,null,null,null,null,null,null,null,null,null,null,null,null,null,null,null,null,null,null,null,null,null,null,null,null,null,null,null,null,null,null,null,null,null,null,null,null,null,null,null,null,null,null,null,null,null,null,null,null,616,"",null,"","",{"$f":"IF(BN619>1,\"\",MAX(BM$3:BM618)+1)","v":""},{"$f":"IF(BL619=\"\",\"\",COUNTIF(BL$4:BL619,BL619))","v":""},"",""]
[null,null,null,null,null,null,null,null,null,null,null,null,null,null,null,null,null,null,null,null,null,null,null,null,null,null,null,null,null,null,null,null,null,null,null,null,null,null,null,null,null,null,null,null,null,null,null,null,null,null,null,null,null,null,null,null,null,null,null,617,"",null,"","",{"$f":"IF(BN620>1,\"\",MAX(BM$3:BM619)+1)","v":""},{"$f":"IF(BL620=\"\",\"\",COUNTIF(BL$4:BL620,BL620))","v":""},"",""]
[null,null,null,null,null,null,null,null,null,null,null,null,null,null,null,null,null,null,null,null,null,null,null,null,null,null,null,null,null,null,null,null,null,null,null,null,null,null,null,null,null,null,null,null,null,null,null,null,null,null,null,null,null,null,null,null,null,null,null,618,"",null,"","",{"$f":"IF(BN621>1,\"\",MAX(BM$3:BM620)+1)","v":""},{"$f":"IF(BL621=\"\",\"\",COUNTIF(BL$4:BL621,BL621))","v":""},"",""]
[null,null,null,null,null,null,null,null,null,null,null,null,null,null,null,null,null,null,null,null,null,null,null,null,null,null,null,null,null,null,null,null,null,null,null,null,null,null,null,null,null,null,null,null,null,null,null,null,null,null,null,null,null,null,null,null,null,null,null,619,"",null,"","",{"$f":"IF(BN622>1,\"\",MAX(BM$3:BM621)+1)","v":""},{"$f":"IF(BL622=\"\",\"\",COUNTIF(BL$4:BL622,BL622))","v":""},"",""]
[null,null,null,null,null,null,null,null,null,null,null,null,null,null,null,null,null,null,null,null,null,null,null,null,null,null,null,null,null,null,null,null,null,null,null,null,null,null,null,null,null,null,null,null,null,null,null,null,null,null,null,null,null,null,null,null,null,null,null,620,"",null,"","",{"$f":"IF(BN623>1,\"\",MAX(BM$3:BM622)+1)","v":""},{"$f":"IF(BL623=\"\",\"\",COUNTIF(BL$4:BL623,BL623))","v":""},"",""]
[null,null,null,null,null,null,null,null,null,null,null,null,null,null,null,null,null,null,null,null,null,null,null,null,null,null,null,null,null,null,null,null,null,null,null,null,null,null,null,null,null,null,null,null,null,null,null,null,null,null,null,null,null,null,null,null,null,null,null,621,"",null,"","",{"$f":"IF(BN624>1,\"\",MAX(BM$3:BM623)+1)","v":""},{"$f":"IF(BL624=\"\",\"\",COUNTIF(BL$4:BL624,BL624))","v":""},"",""]
[null,null,null,null,null,null,null,null,null,null,null,null,null,null,null,null,null,null,null,null,null,null,null,null,null,null,null,null,null,null,null,null,null,null,null,null,null,null,null,null,null,null,null,null,null,null,null,null,null,null,null,null,null,null,null,null,null,null,null,622,"",null,"","",{"$f":"IF(BN625>1,\"\",MAX(BM$3:BM624)+1)","v":""},{"$f":"IF(BL625=\"\",\"\",COUNTIF(BL$4:BL625,BL625))","v":""},"",""]
[null,null,null,null,null,null,null,null,null,null,null,null,null,null,null,null,null,null,null,null,null,null,null,null,null,null,null,null,null,null,null,null,null,null,null,null,null,null,null,null,null,null,null,null,null,null,null,null,null,null,null,null,null,null,null,null,null,null,null,623,"",null,"","",{"$f":"IF(BN626>1,\"\",MAX(BM$3:BM625)+1)","v":""},{"$f":"IF(BL626=\"\",\"\",COUNTIF(BL$4:BL626,BL626))","v":""},"",""]
[null,null,null,null,null,null,null,null,null,null,null,null,null,null,null,null,null,null,null,null,null,null,null,null,null,null,null,null,null,null,null,null,null,null,null,null,null,null,null,null,null,null,null,null,null,null,null,null,null,null,null,null,null,null,null,null,null,null,null,624,"",null,{"$f":"BM627","v":""},{"$f":"IF(B627=\"\",\"\",B627)","v":""},{"$f":"IF(BN627>1,\"\",MAX(BM$3:BM626)+1)","v":""},{"$f":"IF(BL627=\"\",\"\",COUNTIF(BL$4:BL627,BL627))","v":""},"",{"$f":"IF(C627=\"\",\"\",C627)","v":""}]
[null,null,null,null,null,null,null,null,null,null,null,null,null,null,null,null,null,null,null,null,null,null,null,null,null,null,null,null,null,null,null,null,null,null,null,null,null,null,null,null,null,null,null,null,null,null,null,null,null,null,null,null,null,null,null,null,null,null,null,625,"",null,"","",{"$f":"IF(BN628>1,\"\",MAX(BM$3:BM627)+1)","v":""},{"$f":"IF(BL628=\"\",\"\",COUNTIF(BL$4:BL628,BL628))","v":""},"",""]
[null,null,null,null,null,null,null,null,null,null,null,null,null,null,null,null,null,null,null,null,null,null,null,null,null,null,null,null,null,null,null,null,null,null,null,null,null,null,null,null,null,null,null,null,null,null,null,null,null,null,null,null,null,null,null,null,null,null,null,626,"",null,"","",{"$f":"IF(BN629>1,\"\",MAX(BM$3:BM628)+1)","v":""},{"$f":"IF(BL629=\"\",\"\",COUNTIF(BL$4:BL629,BL629))","v":""},"",""]
[null,null,null,null,null,null,null,null,null,null,null,null,null,null,null,null,null,null,null,null,null,null,null,null,null,null,null,null,null,null,null,null,null,null,null,null,null,null,null,null,null,null,null,null,null,null,null,null,null,null,null,null,null,null,null,null,null,null,null,627,"",null,"","",{"$f":"IF(BN630>1,\"\",MAX(BM$3:BM629)+1)","v":""},{"$f":"IF(BL630=\"\",\"\",COUNTIF(BL$4:BL630,BL630))","v":""},"",""]
[null,null,null,null,null,null,null,null,null,null,null,null,null,null,null,null,null,null,null,null,null,null,null,null,null,null,null,null,null,null,null,null,null,null,null,null,null,null,null,null,null,null,null,null,null,null,null,null,null,null,null,null,null,null,null,null,null,null,null,628,"",null,"","",{"$f":"IF(BN631>1,\"\",MAX(BM$3:BM630)+1)","v":""},{"$f":"IF(BL631=\"\",\"\",COUNTIF(BL$4:BL631,BL631))","v":""},"",""]
[null,null,null,null,null,null,null,null,null,null,null,null,null,null,null,null,null,null,null,null,null,null,null,null,null,null,null,null,null,null,null,null,null,null,null,null,null,null,null,null,null,null,null,null,null,null,null,null,null,null,null,null,null,null,null,null,null,null,null,629,"",null,"","",{"$f":"IF(BN632>1,\"\",MAX(BM$3:BM631)+1)","v":""},{"$f":"IF(BL632=\"\",\"\",COUNTIF(BL$4:BL632,BL632))","v":""},"",""]
[null,null,null,null,null,null,null,null,null,null,null,null,null,null,null,null,null,null,null,null,null,null,null,null,null,null,null,null,null,null,null,null,null,null,null,null,null,null,null,null,null,null,null,null,null,null,null,null,null,null,null,null,null,null,null,null,null,null,null,630,"",null,"","",{"$f":"IF(BN633>1,\"\",MAX(BM$3:BM632)+1)","v":""},{"$f":"IF(BL633=\"\",\"\",COUNTIF(BL$4:BL633,BL633))","v":""},"",""]
[null,null,null,null,null,null,null,null,null,null,null,null,null,null,null,null,null,null,null,null,null,null,null,null,null,null,null,null,null,null,null,null,null,null,null,null,null,null,null,null,null,null,null,null,null,null,null,null,null,null,null,null,null,null,null,null,null,null,null,631,"",null,"","",{"$f":"IF(BN634>1,\"\",MAX(BM$3:BM633)+1)","v":""},{"$f":"IF(BL634=\"\",\"\",COUNTIF(BL$4:BL634,BL634))","v":""},"",""]
[null,null,null,null,null,null,null,null,null,null,null,null,null,null,null,null,null,null,null,null,null,null,null,null,null,null,null,null,null,null,null,null,null,null,null,null,null,null,null,null,null,null,null,null,null,null,null,null,null,null,null,null,null,null,null,null,null,null,null,632,"",null,"","",{"$f":"IF(BN635>1,\"\",MAX(BM$3:BM634)+1)","v":""},{"$f":"IF(BL635=\"\",\"\",COUNTIF(BL$4:BL635,BL635))","v":""},"",""]
[null,null,null,null,null,null,null,null,null,null,null,null,null,null,null,null,null,null,null,null,null,null,null,null,null,null,null,null,null,null,null,null,null,null,null,null,null,null,null,null,null,null,null,null,null,null,null,null,null,null,null,null,null,null,null,null,null,null,null,633,"",null,"","",{"$f":"IF(BN636>1,\"\",MAX(BM$3:BM635)+1)","v":""},{"$f":"IF(BL636=\"\",\"\",COUNTIF(BL$4:BL636,BL636))","v":""},"",""]
[null,null,null,null,null,null,null,null,null,null,null,null,null,null,null,null,null,null,null,null,null,null,null,null,null,null,null,null,null,null,null,null,null,null,null,null,null,null,null,null,null,null,null,null,null,null,null,null,null,null,null,null,null,null,null,null,null,null,null,634,"",null,"","",{"$f":"IF(BN637>1,\"\",MAX(BM$3:BM636)+1)","v":""},{"$f":"IF(BL637=\"\",\"\",COUNTIF(BL$4:BL637,BL637))","v":""},"",""]
[null,null,null,null,null,null,null,null,null,null,null,null,null,null,null,null,null,null,null,null,null,null,null,null,null,null,null,null,null,null,null,null,null,null,null,null,null,null,null,null,null,null,null,null,null,null,null,null,null,null,null,null,null,null,null,null,null,null,null,635,"",null,"","",{"$f":"IF(BN638>1,\"\",MAX(BM$3:BM637)+1)","v":""},{"$f":"IF(BL638=\"\",\"\",COUNTIF(BL$4:BL638,BL638))","v":""},"",""]
[null,null,null,null,null,null,null,null,null,null,null,null,null,null,null,null,null,null,null,null,null,null,null,null,null,null,null,null,null,null,null,null,null,null,null,null,null,null,null,null,null,null,null,null,null,null,null,null,null,null,null,null,null,null,null,null,null,null,null,636,"",null,"","",{"$f":"IF(BN639>1,\"\",MAX(BM$3:BM638)+1)","v":""},{"$f":"IF(BL639=\"\",\"\",COUNTIF(BL$4:BL639,BL639))","v":""},"",""]
[null,null,null,null,null,null,null,null,null,null,null,null,null,null,null,null,null,null,null,null,null,null,null,null,null,null,null,null,null,null,null,null,null,null,null,null,null,null,null,null,null,null,null,null,null,null,null,null,null,null,null,null,null,null,null,null,null,null,null,637,"",null,"","",{"$f":"IF(BN640>1,\"\",MAX(BM$3:BM639)+1)","v":""},{"$f":"IF(BL640=\"\",\"\",COUNTIF(BL$4:BL640,BL640))","v":""},"",""]
[null,null,null,null,null,null,null,null,null,null,null,null,null,null,null,null,null,null,null,null,null,null,null,null,null,null,null,null,null,null,null,null,null,null,null,null,null,null,null,null,null,null,null,null,null,null,null,null,null,null,null,null,null,null,null,null,null,null,null,638,"",null,"","",{"$f":"IF(BN641>1,\"\",MAX(BM$3:BM640)+1)","v":""},{"$f":"IF(BL641=\"\",\"\",COUNTIF(BL$4:BL641,BL641))","v":""},"",""]
[null,null,null,null,null,null,null,null,null,null,null,null,null,null,null,null,null,null,null,null,null,null,null,null,null,null,null,null,null,null,null,null,null,null,null,null,null,null,null,null,null,null,null,null,null,null,null,null,null,null,null,null,null,null,null,null,null,null,null,639,"",null,"","",{"$f":"IF(BN642>1,\"\",MAX(BM$3:BM641)+1)","v":""},{"$f":"IF(BL642=\"\",\"\",COUNTIF(BL$4:BL642,BL642))","v":""},"",""]
[null,null,null,null,null,null,null,null,null,null,null,null,null,null,null,null,null,null,null,null,null,null,null,null,null,null,null,null,null,null,null,null,null,null,null,null,null,null,null,null,null,null,null,null,null,null,null,null,null,null,null,null,null,null,null,null,null,null,null,640,"",null,"","",{"$f":"IF(BN643>1,\"\",MAX(BM$3:BM642)+1)","v":""},{"$f":"IF(BL643=\"\",\"\",COUNTIF(BL$4:BL643,BL643))","v":""},"",""]
[null,null,null,null,null,null,null,null,null,null,null,null,null,null,null,null,null,null,null,null,null,null,null,null,null,null,null,null,null,null,null,null,null,null,null,null,null,null,null,null,null,null,null,null,null,null,null,null,null,null,null,null,null,null,null,null,null,null,null,641,{"$f":"IF(BH644>MAX(BK$4:BK$940),\"\",VLOOKUP(BH644,BK$4:BL$940,2,FALSE))","v":""},null,"","",{"$f":"IF(BN644>1,\"\",MAX(BM$3:BM643)+1)","v":""},{"$f":"IF(BL644=\"\",\"\",COUNTIF(BL$4:BL644,BL644))","v":""},{"$f":"IF(BL644=\"\",\"\",thousand*VLOOKUP(BL644,BL$4:BM$940,2,FALSE)+BN644)","v":""},""]
[null,null,null,null,null,null,null,null,null,null,null,null,null,null,null,null,null,null,null,null,null,null,null,null,null,null,null,null,null,null,null,null,null,null,null,null,null,null,null,null,null,null,null,null,null,null,null,null,null,null,null,null,null,null,null,null,null,null,null,642,"",null,"","",{"$f":"IF(BN645>1,\"\",MAX(BM$3:BM644)+1)","v":""},{"$f":"IF(BL645=\"\",\"\",COUNTIF(BL$4:BL645,BL645))","v":""},"",""]
[null,null,null,null,null,null,null,null,null,null,null,null,null,null,null,null,null,null,null,null,null,null,null,null,null,null,null,null,null,null,null,null,null,null,null,null,null,null,null,null,null,null,null,null,null,null,null,null,null,null,null,null,null,null,null,null,null,null,null,643,"",null,"","",{"$f":"IF(BN646>1,\"\",MAX(BM$3:BM645)+1)","v":""},{"$f":"IF(BL646=\"\",\"\",COUNTIF(BL$4:BL646,BL646))","v":""},"",""]
[null,null,null,null,null,null,null,null,null,null,null,null,null,null,null,null,null,null,null,null,null,null,null,null,null,null,null,null,null,null,null,null,null,null,null,null,null,null,null,null,null,null,null,null,null,null,null,null,null,null,null,null,null,null,null,null,null,null,null,644,"",null,"","",{"$f":"IF(BN647>1,\"\",MAX(BM$3:BM646)+1)","v":""},{"$f":"IF(BL647=\"\",\"\",COUNTIF(BL$4:BL647,BL647))","v":""},"",""]
[null,null,null,null,null,null,null,null,null,null,null,null,null,null,null,null,null,null,null,null,null,null,null,null,null,null,null,null,null,null,null,null,null,null,null,null,null,null,null,null,null,null,null,null,null,null,null,null,null,null,null,null,null,null,null,null,null,null,null,645,"",null,"","",{"$f":"IF(BN648>1,\"\",MAX(BM$3:BM647)+1)","v":""},{"$f":"IF(BL648=\"\",\"\",COUNTIF(BL$4:BL648,BL648))","v":""},"",""]
[null,null,null,null,null,null,null,null,null,null,null,null,null,null,null,null,null,null,null,null,null,null,null,null,null,null,null,null,null,null,null,null,null,null,null,null,null,null,null,null,null,null,null,null,null,null,null,null,null,null,null,null,null,null,null,null,null,null,null,646,"",null,"","",{"$f":"IF(BN649>1,\"\",MAX(BM$3:BM648)+1)","v":""},{"$f":"IF(BL649=\"\",\"\",COUNTIF(BL$4:BL649,BL649))","v":""},"",""]
[null,null,null,null,null,null,null,null,null,null,null,null,null,null,null,null,null,null,null,null,null,null,null,null,null,null,null,null,null,null,null,null,null,null,null,null,null,null,null,null,null,null,null,null,null,null,null,null,null,null,null,null,null,null,null,null,null,null,null,647,"",null,"","",{"$f":"IF(BN650>1,\"\",MAX(BM$3:BM649)+1)","v":""},{"$f":"IF(BL650=\"\",\"\",COUNTIF(BL$4:BL650,BL650))","v":""},"",""]
[null,null,null,null,null,null,null,null,null,null,null,null,null,null,null,null,null,null,null,null,null,null,null,null,null,null,null,null,null,null,null,null,null,null,null,null,null,null,null,null,null,null,null,null,null,null,null,null,null,null,null,null,null,null,null,null,null,null,null,648,"",null,"","",{"$f":"IF(BN651>1,\"\",MAX(BM$3:BM650)+1)","v":""},{"$f":"IF(BL651=\"\",\"\",COUNTIF(BL$4:BL651,BL651))","v":""},"",""]
[null,null,null,null,null,null,null,null,null,null,null,null,null,null,null,null,null,null,null,null,null,null,null,null,null,null,null,null,null,null,null,null,null,null,null,null,null,null,null,null,null,null,null,null,null,null,null,null,null,null,null,null,null,null,null,null,null,null,null,649,"",null,"","",{"$f":"IF(BN652>1,\"\",MAX(BM$3:BM651)+1)","v":""},{"$f":"IF(BL652=\"\",\"\",COUNTIF(BL$4:BL652,BL652))","v":""},"",""]
[null,null,null,null,null,null,null,null,null,null,null,null,null,null,null,null,null,null,null,null,null,null,null,null,null,null,null,null,null,null,null,null,null,null,null,null,null,null,null,null,null,null,null,null,null,null,null,null,null,null,null,null,null,null,null,null,null,null,null,650,"",null,"","",{"$f":"IF(BN653>1,\"\",MAX(BM$3:BM652)+1)","v":""},{"$f":"IF(BL653=\"\",\"\",COUNTIF(BL$4:BL653,BL653))","v":""},"",""]
[null,null,null,null,null,null,null,null,null,null,null,null,null,null,null,null,null,null,null,null,null,null,null,null,null,null,null,null,null,null,null,null,null,null,null,null,null,null,null,null,null,null,null,null,null,null,null,null,null,null,null,null,null,null,null,null,null,null,null,651,"",null,"","",{"$f":"IF(BN654>1,\"\",MAX(BM$3:BM653)+1)","v":""},{"$f":"IF(BL654=\"\",\"\",COUNTIF(BL$4:BL654,BL654))","v":""},"",""]
[null,null,null,null,null,null,null,null,null,null,null,null,null,null,null,null,null,null,null,null,null,null,null,null,null,null,null,null,null,null,null,null,null,null,null,null,null,null,null,null,null,null,null,null,null,null,null,null,null,null,null,null,null,null,null,null,null,null,null,652,"",null,"","",{"$f":"IF(BN655>1,\"\",MAX(BM$3:BM654)+1)","v":""},{"$f":"IF(BL655=\"\",\"\",COUNTIF(BL$4:BL655,BL655))","v":""},"",""]
[null,null,null,null,null,null,null,null,null,null,null,null,null,null,null,null,null,null,null,null,null,null,null,null,null,null,null,null,null,null,null,null,null,null,null,null,null,null,null,null,null,null,null,null,null,null,null,null,null,null,null,null,null,null,null,null,null,null,null,653,"",null,"","",{"$f":"IF(BN656>1,\"\",MAX(BM$3:BM655)+1)","v":""},{"$f":"IF(BL656=\"\",\"\",COUNTIF(BL$4:BL656,BL656))","v":""},"",""]
[null,null,null,null,null,null,null,null,null,null,null,null,null,null,null,null,null,null,null,null,null,null,null,null,null,null,null,null,null,null,null,null,null,null,null,null,null,null,null,null,null,null,null,null,null,null,null,null,null,null,null,null,null,null,null,null,null,null,null,654,"",null,"","",{"$f":"IF(BN657>1,\"\",MAX(BM$3:BM656)+1)","v":""},{"$f":"IF(BL657=\"\",\"\",COUNTIF(BL$4:BL657,BL657))","v":""},"",""]
[null,null,null,null,null,null,null,null,null,null,null,null,null,null,null,null,null,null,null,null,null,null,null,null,null,null,null,null,null,null,null,null,null,null,null,null,null,null,null,null,null,null,null,null,null,null,null,null,null,null,null,null,null,null,null,null,null,null,null,655,"",null,"","",{"$f":"IF(BN658>1,\"\",MAX(BM$3:BM657)+1)","v":""},{"$f":"IF(BL658=\"\",\"\",COUNTIF(BL$4:BL658,BL658))","v":""},"",""]
[null,null,null,null,null,null,null,null,null,null,null,null,null,null,null,null,null,null,null,null,null,null,null,null,null,null,null,null,null,null,null,null,null,null,null,null,null,null,null,null,null,null,null,null,null,null,null,null,null,null,null,null,null,null,null,null,null,null,null,656,"",null,"","",{"$f":"IF(BN659>1,\"\",MAX(BM$3:BM658)+1)","v":""},{"$f":"IF(BL659=\"\",\"\",COUNTIF(BL$4:BL659,BL659))","v":""},"",""]
[null,null,null,null,null,null,null,null,null,null,null,null,null,null,null,null,null,null,null,null,null,null,null,null,null,null,null,null,null,null,null,null,null,null,null,null,null,null,null,null,null,null,null,null,null,null,null,null,null,null,null,null,null,null,null,null,null,null,null,657,"",null,"","",{"$f":"IF(BN660>1,\"\",MAX(BM$3:BM659)+1)","v":""},{"$f":"IF(BL660=\"\",\"\",COUNTIF(BL$4:BL660,BL660))","v":""},"",""]
[null,null,null,null,null,null,null,null,null,null,null,null,null,null,null,null,null,null,null,null,null,null,null,null,null,null,null,null,null,null,null,null,null,null,null,null,null,null,null,null,null,null,null,null,null,null,null,null,null,null,null,null,null,null,null,null,null,null,null,658,"",null,"","",{"$f":"IF(BN661>1,\"\",MAX(BM$3:BM660)+1)","v":""},{"$f":"IF(BL661=\"\",\"\",COUNTIF(BL$4:BL661,BL661))","v":""},"",""]
[null,null,null,null,null,null,null,null,null,null,null,null,null,null,null,null,null,null,null,null,null,null,null,null,null,null,null,null,null,null,null,null,null,null,null,null,null,null,null,null,null,null,null,null,null,null,null,null,null,null,null,null,null,null,null,null,null,null,null,659,"",null,"","",{"$f":"IF(BN662>1,\"\",MAX(BM$3:BM661)+1)","v":""},{"$f":"IF(BL662=\"\",\"\",COUNTIF(BL$4:BL662,BL662))","v":""},"",""]
[null,null,null,null,null,null,null,null,null,null,null,null,null,null,null,null,null,null,null,null,null,null,null,null,null,null,null,null,null,null,null,null,null,null,null,null,null,null,null,null,null,null,null,null,null,null,null,null,null,null,null,null,null,null,null,null,null,null,null,660,"",null,"","",{"$f":"IF(BN663>1,\"\",MAX(BM$3:BM662)+1)","v":""},{"$f":"IF(BL663=\"\",\"\",COUNTIF(BL$4:BL663,BL663))","v":""},"",""]
[null,null,null,null,null,null,null,null,null,null,null,null,null,null,null,null,null,null,null,null,null,null,null,null,null,null,null,null,null,null,null,null,null,null,null,null,null,null,null,null,null,null,null,null,null,null,null,null,null,null,null,null,null,null,null,null,null,null,null,661,"",null,"","",{"$f":"IF(BN664>1,\"\",MAX(BM$3:BM663)+1)","v":""},{"$f":"IF(BL664=\"\",\"\",COUNTIF(BL$4:BL664,BL664))","v":""},"",""]
[null,null,null,null,null,null,null,null,null,null,null,null,null,null,null,null,null,null,null,null,null,null,null,null,null,null,null,null,null,null,null,null,null,null,null,null,null,null,null,null,null,null,null,null,null,null,null,null,null,null,null,null,null,null,null,null,null,null,null,662,"",null,"","",{"$f":"IF(BN665>1,\"\",MAX(BM$3:BM664)+1)","v":""},{"$f":"IF(BL665=\"\",\"\",COUNTIF(BL$4:BL665,BL665))","v":""},"",""]
[null,null,null,null,null,null,null,null,null,null,null,null,null,null,null,null,null,null,null,null,null,null,null,null,null,null,null,null,null,null,null,null,null,null,null,null,null,null,null,null,null,null,null,null,null,null,null,null,null,null,null,null,null,null,null,null,null,null,null,663,"",null,"","",{"$f":"IF(BN666>1,\"\",MAX(BM$3:BM665)+1)","v":""},{"$f":"IF(BL666=\"\",\"\",COUNTIF(BL$4:BL666,BL666))","v":""},"",""]
[null,null,null,null,null,null,null,null,null,null,null,null,null,null,null,null,null,null,null,null,null,null,null,null,null,null,null,null,null,null,null,null,null,null,null,null,null,null,null,null,null,null,null,null,null,null,null,null,null,null,null,null,null,null,null,null,null,null,null,664,"",null,"","",{"$f":"IF(BN667>1,\"\",MAX(BM$3:BM666)+1)","v":""},{"$f":"IF(BL667=\"\",\"\",COUNTIF(BL$4:BL667,BL667))","v":""},"",""]
[null,null,null,null,null,null,null,null,null,null,null,null,null,null,null,null,null,null,null,null,null,null,null,null,null,null,null,null,null,null,null,null,null,null,null,null,null,null,null,null,null,null,null,null,null,null,null,null,null,null,null,null,null,null,null,null,null,null,null,665,"",null,"","",{"$f":"IF(BN668>1,\"\",MAX(BM$3:BM667)+1)","v":""},{"$f":"IF(BL668=\"\",\"\",COUNTIF(BL$4:BL668,BL668))","v":""},"",""]
[null,null,null,null,null,null,null,null,null,null,null,null,null,null,null,null,null,null,null,null,null,null,null,null,null,null,null,null,null,null,null,null,null,null,null,null,null,null,null,null,null,null,null,null,null,null,null,null,null,null,null,null,null,null,null,null,null,null,null,666,"",null,"","",{"$f":"IF(BN669>1,\"\",MAX(BM$3:BM668)+1)","v":""},{"$f":"IF(BL669=\"\",\"\",COUNTIF(BL$4:BL669,BL669))","v":""},"",""]
[null,null,null,null,null,null,null,null,null,null,null,null,null,null,null,null,null,null,null,null,null,null,null,null,null,null,null,null,null,null,null,null,null,null,null,null,null,null,null,null,null,null,null,null,null,null,null,null,null,null,null,null,null,null,null,null,null,null,null,667,"",null,"","",{"$f":"IF(BN670>1,\"\",MAX(BM$3:BM669)+1)","v":""},{"$f":"IF(BL670=\"\",\"\",COUNTIF(BL$4:BL670,BL670))","v":""},"",""]
[null,null,null,null,null,null,null,null,null,null,null,null,null,null,null,null,null,null,null,null,null,null,null,null,null,null,null,null,null,null,null,null,null,null,null,null,null,null,null,null,null,null,null,null,null,null,null,null,null,null,null,null,null,null,null,null,null,null,null,668,"",null,"","",{"$f":"IF(BN671>1,\"\",MAX(BM$3:BM670)+1)","v":""},{"$f":"IF(BL671=\"\",\"\",COUNTIF(BL$4:BL671,BL671))","v":""},"",""]
[null,null,null,null,null,null,null,null,null,null,null,null,null,null,null,null,null,null,null,null,null,null,null,null,null,null,null,null,null,null,null,null,null,null,null,null,null,null,null,null,null,null,null,null,null,null,null,null,null,null,null,null,null,null,null,null,null,null,null,669,"",null,"","",{"$f":"IF(BN672>1,\"\",MAX(BM$3:BM671)+1)","v":""},{"$f":"IF(BL672=\"\",\"\",COUNTIF(BL$4:BL672,BL672))","v":""},"",""]
[null,null,null,null,null,null,null,null,null,null,null,null,null,null,null,null,null,null,null,null,null,null,null,null,null,null,null,null,null,null,null,null,null,null,null,null,null,null,null,null,null,null,null,null,null,null,null,null,null,null,null,null,null,null,null,null,null,null,null,670,"",null,"","",{"$f":"IF(BN673>1,\"\",MAX(BM$3:BM672)+1)","v":""},{"$f":"IF(BL673=\"\",\"\",COUNTIF(BL$4:BL673,BL673))","v":""},"",""]
[null,null,null,null,null,null,null,null,null,null,null,null,null,null,null,null,null,null,null,null,null,null,null,null,null,null,null,null,null,null,null,null,null,null,null,null,null,null,null,null,null,null,null,null,null,null,null,null,null,null,null,null,null,null,null,null,null,null,null,671,"",null,"","",{"$f":"IF(BN674>1,\"\",MAX(BM$3:BM673)+1)","v":""},{"$f":"IF(BL674=\"\",\"\",COUNTIF(BL$4:BL674,BL674))","v":""},"",""]
[null,null,null,null,null,null,null,null,null,null,null,null,null,null,null,null,null,null,null,null,null,null,null,null,null,null,null,null,null,null,null,null,null,null,null,null,null,null,null,null,null,null,null,null,null,null,null,null,null,null,null,null,null,null,null,null,null,null,null,672,"",null,"","",{"$f":"IF(BN675>1,\"\",MAX(BM$3:BM674)+1)","v":""},{"$f":"IF(BL675=\"\",\"\",COUNTIF(BL$4:BL675,BL675))","v":""},"",""]
[null,null,null,null,null,null,null,null,null,null,null,null,null,null,null,null,null,null,null,null,null,null,null,null,null,null,null,null,null,null,null,null,null,null,null,null,null,null,null,null,null,null,null,null,null,null,null,null,null,null,null,null,null,null,null,null,null,null,null,673,"",null,"","",{"$f":"IF(BN676>1,\"\",MAX(BM$3:BM675)+1)","v":""},{"$f":"IF(BL676=\"\",\"\",COUNTIF(BL$4:BL676,BL676))","v":""},"",""]
[null,null,null,null,null,null,null,null,null,null,null,null,null,null,null,null,null,null,null,null,null,null,null,null,null,null,null,null,null,null,null,null,null,null,null,null,null,null,null,null,null,null,null,null,null,null,null,null,null,null,null,null,null,null,null,null,null,null,null,674,"",null,"","",{"$f":"IF(BN677>1,\"\",MAX(BM$3:BM676)+1)","v":""},{"$f":"IF(BL677=\"\",\"\",COUNTIF(BL$4:BL677,BL677))","v":""},"",""]
[null,null,null,null,null,null,null,null,null,null,null,null,null,null,null,null,null,null,null,null,null,null,null,null,null,null,null,null,null,null,null,null,null,null,null,null,null,null,null,null,null,null,null,null,null,null,null,null,null,null,null,null,null,null,null,null,null,null,null,675,"",null,"","",{"$f":"IF(BN678>1,\"\",MAX(BM$3:BM677)+1)","v":""},{"$f":"IF(BL678=\"\",\"\",COUNTIF(BL$4:BL678,BL678))","v":""},"",""]
[null,null,null,null,null,null,null,null,null,null,null,null,null,null,null,null,null,null,null,null,null,null,null,null,null,null,null,null,null,null,null,null,null,null,null,null,null,null,null,null,null,null,null,null,null,null,null,null,null,null,null,null,null,null,null,null,null,null,null,676,"",null,"","",{"$f":"IF(BN679>1,\"\",MAX(BM$3:BM678)+1)","v":""},{"$f":"IF(BL679=\"\",\"\",COUNTIF(BL$4:BL679,BL679))","v":""},"",""]
[null,null,null,null,null,null,null,null,null,null,null,null,null,null,null,null,null,null,null,null,null,null,null,null,null,null,null,null,null,null,null,null,null,null,null,null,null,null,null,null,null,null,null,null,null,null,null,null,null,null,null,null,null,null,null,null,null,null,null,677,"",null,"","",{"$f":"IF(BN680>1,\"\",MAX(BM$3:BM679)+1)","v":""},{"$f":"IF(BL680=\"\",\"\",COUNTIF(BL$4:BL680,BL680))","v":""},"",""]
[null,null,null,null,null,null,null,null,null,null,null,null,null,null,null,null,null,null,null,null,null,null,null,null,null,null,null,null,null,null,null,null,null,null,null,null,null,null,null,null,null,null,null,null,null,null,null,null,null,null,null,null,null,null,null,null,null,null,null,678,"",null,"","",{"$f":"IF(BN681>1,\"\",MAX(BM$3:BM680)+1)","v":""},{"$f":"IF(BL681=\"\",\"\",COUNTIF(BL$4:BL681,BL681))","v":""},"",""]
[null,null,null,null,null,null,null,null,null,null,null,null,null,null,null,null,null,null,null,null,null,null,null,null,null,null,null,null,null,null,null,null,null,null,null,null,null,null,null,null,null,null,null,null,null,null,null,null,null,null,null,null,null,null,null,null,null,null,null,679,"",null,"","",{"$f":"IF(BN682>1,\"\",MAX(BM$3:BM681)+1)","v":""},{"$f":"IF(BL682=\"\",\"\",COUNTIF(BL$4:BL682,BL682))","v":""},"",""]
[null,null,null,null,null,null,null,null,null,null,null,null,null,null,null,null,null,null,null,null,null,null,null,null,null,null,null,null,null,null,null,null,null,null,null,null,null,null,null,null,null,null,null,null,null,null,null,null,null,null,null,null,null,null,null,null,null,null,null,680,"",null,"","",{"$f":"IF(BN683>1,\"\",MAX(BM$3:BM682)+1)","v":""},{"$f":"IF(BL683=\"\",\"\",COUNTIF(BL$4:BL683,BL683))","v":""},"",""]
[null,null,null,null,null,null,null,null,null,null,null,null,null,null,null,null,null,null,null,null,null,null,null,null,null,null,null,null,null,null,null,null,null,null,null,null,null,null,null,null,null,null,null,null,null,null,null,null,null,null,null,null,null,null,null,null,null,null,null,681,"",null,"","",{"$f":"IF(BN684>1,\"\",MAX(BM$3:BM683)+1)","v":""},{"$f":"IF(BL684=\"\",\"\",COUNTIF(BL$4:BL684,BL684))","v":""},"",""]
[null,null,null,null,null,null,null,null,null,null,null,null,null,null,null,null,null,null,null,null,null,null,null,null,null,null,null,null,null,null,null,null,null,null,null,null,null,null,null,null,null,null,null,null,null,null,null,null,null,null,null,null,null,null,null,null,null,null,null,682,"",null,"","",{"$f":"IF(BN685>1,\"\",MAX(BM$3:BM684)+1)","v":""},{"$f":"IF(BL685=\"\",\"\",COUNTIF(BL$4:BL685,BL685))","v":""},"",""]
[null,null,null,null,null,null,null,null,null,null,null,null,null,null,null,null,null,null,null,null,null,null,null,null,null,null,null,null,null,null,null,null,null,null,null,null,null,null,null,null,null,null,null,null,null,null,null,null,null,null,null,null,null,null,null,null,null,null,null,683,"",null,"","",{"$f":"IF(BN686>1,\"\",MAX(BM$3:BM685)+1)","v":""},{"$f":"IF(BL686=\"\",\"\",COUNTIF(BL$4:BL686,BL686))","v":""},"",""]
[null,null,null,null,null,null,null,null,null,null,null,null,null,null,null,null,null,null,null,null,null,null,null,null,null,null,null,null,null,null,null,null,null,null,null,null,null,null,null,null,null,null,null,null,null,null,null,null,null,null,null,null,null,null,null,null,null,null,null,684,"",null,"","",{"$f":"IF(BN687>1,\"\",MAX(BM$3:BM686)+1)","v":""},{"$f":"IF(BL687=\"\",\"\",COUNTIF(BL$4:BL687,BL687))","v":""},"",""]
[null,null,null,null,null,null,null,null,null,null,null,null,null,null,null,null,null,null,null,null,null,null,null,null,null,null,null,null,null,null,null,null,null,null,null,null,null,null,null,null,null,null,null,null,null,null,null,null,null,null,null,null,null,null,null,null,null,null,null,685,"",null,"","",{"$f":"IF(BN688>1,\"\",MAX(BM$3:BM687)+1)","v":""},{"$f":"IF(BL688=\"\",\"\",COUNTIF(BL$4:BL688,BL688))","v":""},"",""]
[null,null,null,null,null,null,null,null,null,null,null,null,null,null,null,null,null,null,null,null,null,null,null,null,null,null,null,null,null,null,null,null,null,null,null,null,null,null,null,null,null,null,null,null,null,null,null,null,null,null,null,null,null,null,null,null,null,null,null,686,"",null,"","",{"$f":"IF(BN689>1,\"\",MAX(BM$3:BM688)+1)","v":""},{"$f":"IF(BL689=\"\",\"\",COUNTIF(BL$4:BL689,BL689))","v":""},"",""]
[null,null,null,null,null,null,null,null,null,null,null,null,null,null,null,null,null,null,null,null,null,null,null,null,null,null,null,null,null,null,null,null,null,null,null,null,null,null,null,null,null,null,null,null,null,null,null,null,null,null,null,null,null,null,null,null,null,null,null,687,"",null,"","",{"$f":"IF(BN690>1,\"\",MAX(BM$3:BM689)+1)","v":""},{"$f":"IF(BL690=\"\",\"\",COUNTIF(BL$4:BL690,BL690))","v":""},"",""]
[null,null,null,null,null,null,null,null,null,null,null,null,null,null,null,null,null,null,null,null,null,null,null,null,null,null,null,null,null,null,null,null,null,null,null,null,null,null,null,null,null,null,null,null,null,null,null,null,null,null,null,null,null,null,null,null,null,null,null,688,"",null,{"$f":"BM691","v":""},{"$f":"IF(B691=\"\",\"\",B691)","v":""},{"$f":"IF(BN691>1,\"\",MAX(BM$3:BM690)+1)","v":""},{"$f":"IF(BL691=\"\",\"\",COUNTIF(BL$4:BL691,BL691))","v":""},"",{"$f":"IF(C691=\"\",\"\",C691)","v":""}]
[null,null,null,null,null,null,null,null,null,null,null,null,null,null,null,null,null,null,null,null,null,null,null,null,null,null,null,null,null,null,null,null,null,null,null,null,null,null,null,null,null,null,null,null,null,null,null,null,null,null,null,null,null,null,null,null,null,null,null,689,"",null,"","",{"$f":"IF(BN692>1,\"\",MAX(BM$3:BM691)+1)","v":""},{"$f":"IF(BL692=\"\",\"\",COUNTIF(BL$4:BL692,BL692))","v":""},"",""]
[null,null,null,null,null,null,null,null,null,null,null,null,null,null,null,null,null,null,null,null,null,null,null,null,null,null,null,null,null,null,null,null,null,null,null,null,null,null,null,null,null,null,null,null,null,null,null,null,null,null,null,null,null,null,null,null,null,null,null,690,"",null,"","",{"$f":"IF(BN693>1,\"\",MAX(BM$3:BM692)+1)","v":""},{"$f":"IF(BL693=\"\",\"\",COUNTIF(BL$4:BL693,BL693))","v":""},"",""]
[null,null,null,null,null,null,null,null,null,null,null,null,null,null,null,null,null,null,null,null,null,null,null,null,null,null,null,null,null,null,null,null,null,null,null,null,null,null,null,null,null,null,null,null,null,null,null,null,null,null,null,null,null,null,null,null,null,null,null,691,"",null,"","",{"$f":"IF(BN694>1,\"\",MAX(BM$3:BM693)+1)","v":""},{"$f":"IF(BL694=\"\",\"\",COUNTIF(BL$4:BL694,BL694))","v":""},"",""]
[null,null,null,null,null,null,null,null,null,null,null,null,null,null,null,null,null,null,null,null,null,null,null,null,null,null,null,null,null,null,null,null,null,null,null,null,null,null,null,null,null,null,null,null,null,null,null,null,null,null,null,null,null,null,null,null,null,null,null,692,"",null,"","",{"$f":"IF(BN695>1,\"\",MAX(BM$3:BM694)+1)","v":""},{"$f":"IF(BL695=\"\",\"\",COUNTIF(BL$4:BL695,BL695))","v":""},"",""]
[null,null,null,null,null,null,null,null,null,null,null,null,null,null,null,null,null,null,null,null,null,null,null,null,null,null,null,null,null,null,null,null,null,null,null,null,null,null,null,null,null,null,null,null,null,null,null,null,null,null,null,null,null,null,null,null,null,null,null,693,"",null,"","",{"$f":"IF(BN696>1,\"\",MAX(BM$3:BM695)+1)","v":""},{"$f":"IF(BL696=\"\",\"\",COUNTIF(BL$4:BL696,BL696))","v":""},"",""]
[null,null,null,null,null,null,null,null,null,null,null,null,null,null,null,null,null,null,null,null,null,null,null,null,null,null,null,null,null,null,null,null,null,null,null,null,null,null,null,null,null,null,null,null,null,null,null,null,null,null,null,null,null,null,null,null,null,null,null,694,"",null,"","",{"$f":"IF(BN697>1,\"\",MAX(BM$3:BM696)+1)","v":""},{"$f":"IF(BL697=\"\",\"\",COUNTIF(BL$4:BL697,BL697))","v":""},"",""]
[null,null,null,null,null,null,null,null,null,null,null,null,null,null,null,null,null,null,null,null,null,null,null,null,null,null,null,null,null,null,null,null,null,null,null,null,null,null,null,null,null,null,null,null,null,null,null,null,null,null,null,null,null,null,null,null,null,null,null,695,"",null,"","",{"$f":"IF(BN698>1,\"\",MAX(BM$3:BM697)+1)","v":""},{"$f":"IF(BL698=\"\",\"\",COUNTIF(BL$4:BL698,BL698))","v":""},"",""]
[null,null,null,null,null,null,null,null,null,null,null,null,null,null,null,null,null,null,null,null,null,null,null,null,null,null,null,null,null,null,null,null,null,null,null,null,null,null,null,null,null,null,null,null,null,null,null,null,null,null,null,null,null,null,null,null,null,null,null,696,"",null,"","",{"$f":"IF(BN699>1,\"\",MAX(BM$3:BM698)+1)","v":""},{"$f":"IF(BL699=\"\",\"\",COUNTIF(BL$4:BL699,BL699))","v":""},"",""]
[null,null,null,null,null,null,null,null,null,null,null,null,null,null,null,null,null,null,null,null,null,null,null,null,null,null,null,null,null,null,null,null,null,null,null,null,null,null,null,null,null,null,null,null,null,null,null,null,null,null,null,null,null,null,null,null,null,null,null,697,"",null,"","",{"$f":"IF(BN700>1,\"\",MAX(BM$3:BM699)+1)","v":""},{"$f":"IF(BL700=\"\",\"\",COUNTIF(BL$4:BL700,BL700))","v":""},"",""]
[null,null,null,null,null,null,null,null,null,null,null,null,null,null,null,null,null,null,null,null,null,null,null,null,null,null,null,null,null,null,null,null,null,null,null,null,null,null,null,null,null,null,null,null,null,null,null,null,null,null,null,null,null,null,null,null,null,null,null,698,"",null,"","",{"$f":"IF(BN701>1,\"\",MAX(BM$3:BM700)+1)","v":""},{"$f":"IF(BL701=\"\",\"\",COUNTIF(BL$4:BL701,BL701))","v":""},"",""]
[null,null,null,null,null,null,null,null,null,null,null,null,null,null,null,null,null,null,null,null,null,null,null,null,null,null,null,null,null,null,null,null,null,null,null,null,null,null,null,null,null,null,null,null,null,null,null,null,null,null,null,null,null,null,null,null,null,null,null,699,"",null,"","",{"$f":"IF(BN702>1,\"\",MAX(BM$3:BM701)+1)","v":""},{"$f":"IF(BL702=\"\",\"\",COUNTIF(BL$4:BL702,BL702))","v":""},"",""]
[null,null,null,null,null,null,null,null,null,null,null,null,null,null,null,null,null,null,null,null,null,null,null,null,null,null,null,null,null,null,null,null,null,null,null,null,null,null,null,null,null,null,null,null,null,null,null,null,null,null,null,null,null,null,null,null,null,null,null,700,"",null,"","",{"$f":"IF(BN703>1,\"\",MAX(BM$3:BM702)+1)","v":""},{"$f":"IF(BL703=\"\",\"\",COUNTIF(BL$4:BL703,BL703))","v":""},"",""]
[null,null,null,null,null,null,null,null,null,null,null,null,null,null,null,null,null,null,null,null,null,null,null,null,null,null,null,null,null,null,null,null,null,null,null,null,null,null,null,null,null,null,null,null,null,null,null,null,null,null,null,null,null,null,null,null,null,null,null,701,"",null,"","",{"$f":"IF(BN704>1,\"\",MAX(BM$3:BM703)+1)","v":""},{"$f":"IF(BL704=\"\",\"\",COUNTIF(BL$4:BL704,BL704))","v":""},"",""]
[null,null,null,null,null,null,null,null,null,null,null,null,null,null,null,null,null,null,null,null,null,null,null,null,null,null,null,null,null,null,null,null,null,null,null,null,null,null,null,null,null,null,null,null,null,null,null,null,null,null,null,null,null,null,null,null,null,null,null,702,"",null,"","",{"$f":"IF(BN705>1,\"\",MAX(BM$3:BM704)+1)","v":""},{"$f":"IF(BL705=\"\",\"\",COUNTIF(BL$4:BL705,BL705))","v":""},"",""]
[null,null,null,null,null,null,null,null,null,null,null,null,null,null,null,null,null,null,null,null,null,null,null,null,null,null,null,null,null,null,null,null,null,null,null,null,null,null,null,null,null,null,null,null,null,null,null,null,null,null,null,null,null,null,null,null,null,null,null,703,"",null,"","",{"$f":"IF(BN706>1,\"\",MAX(BM$3:BM705)+1)","v":""},{"$f":"IF(BL706=\"\",\"\",COUNTIF(BL$4:BL706,BL706))","v":""},"",""]
[null,null,null,null,null,null,null,null,null,null,null,null,null,null,null,null,null,null,null,null,null,null,null,null,null,null,null,null,null,null,null,null,null,null,null,null,null,null,null,null,null,null,null,null,null,null,null,null,null,null,null,null,null,null,null,null,null,null,null,704,"",null,"","",{"$f":"IF(BN707>1,\"\",MAX(BM$3:BM706)+1)","v":""},{"$f":"IF(BL707=\"\",\"\",COUNTIF(BL$4:BL707,BL707))","v":""},"",""]
[null,null,null,null,null,null,null,null,null,null,null,null,null,null,null,null,null,null,null,null,null,null,null,null,null,null,null,null,null,null,null,null,null,null,null,null,null,null,null,null,null,null,null,null,null,null,null,null,null,null,null,null,null,null,null,null,null,null,null,705,{"$f":"IF(BH708>MAX(BK$4:BK$940),\"\",VLOOKUP(BH708,BK$4:BL$940,2,FALSE))","v":""},null,"","",{"$f":"IF(BN708>1,\"\",MAX(BM$3:BM707)+1)","v":""},{"$f":"IF(BL708=\"\",\"\",COUNTIF(BL$4:BL708,BL708))","v":""},{"$f":"IF(BL708=\"\",\"\",thousand*VLOOKUP(BL708,BL$4:BM$940,2,FALSE)+BN708)","v":""},""]
[null,null,null,null,null,null,null,null,null,null,null,null,null,null,null,null,null,null,null,null,null,null,null,null,null,null,null,null,null,null,null,null,null,null,null,null,null,null,null,null,null,null,null,null,null,null,null,null,null,null,null,null,null,null,null,null,null,null,null,706,"",null,"","",{"$f":"IF(BN709>1,\"\",MAX(BM$3:BM708)+1)","v":""},{"$f":"IF(BL709=\"\",\"\",COUNTIF(BL$4:BL709,BL709))","v":""},"",""]
[null,null,null,null,null,null,null,null,null,null,null,null,null,null,null,null,null,null,null,null,null,null,null,null,null,null,null,null,null,null,null,null,null,null,null,null,null,null,null,null,null,null,null,null,null,null,null,null,null,null,null,null,null,null,null,null,null,null,null,707,"",null,"","",{"$f":"IF(BN710>1,\"\",MAX(BM$3:BM709)+1)","v":""},{"$f":"IF(BL710=\"\",\"\",COUNTIF(BL$4:BL710,BL710))","v":""},"",""]
[null,null,null,null,null,null,null,null,null,null,null,null,null,null,null,null,null,null,null,null,null,null,null,null,null,null,null,null,null,null,null,null,null,null,null,null,null,null,null,null,null,null,null,null,null,null,null,null,null,null,null,null,null,null,null,null,null,null,null,708,"",null,"","",{"$f":"IF(BN711>1,\"\",MAX(BM$3:BM710)+1)","v":""},{"$f":"IF(BL711=\"\",\"\",COUNTIF(BL$4:BL711,BL711))","v":""},"",""]
[null,null,null,null,null,null,null,null,null,null,null,null,null,null,null,null,null,null,null,null,null,null,null,null,null,null,null,null,null,null,null,null,null,null,null,null,null,null,null,null,null,null,null,null,null,null,null,null,null,null,null,null,null,null,null,null,null,null,null,709,"",null,"","",{"$f":"IF(BN712>1,\"\",MAX(BM$3:BM711)+1)","v":""},{"$f":"IF(BL712=\"\",\"\",COUNTIF(BL$4:BL712,BL712))","v":""},"",""]
[null,null,null,null,null,null,null,null,null,null,null,null,null,null,null,null,null,null,null,null,null,null,null,null,null,null,null,null,null,null,null,null,null,null,null,null,null,null,null,null,null,null,null,null,null,null,null,null,null,null,null,null,null,null,null,null,null,null,null,710,"",null,"","",{"$f":"IF(BN713>1,\"\",MAX(BM$3:BM712)+1)","v":""},{"$f":"IF(BL713=\"\",\"\",COUNTIF(BL$4:BL713,BL713))","v":""},"",""]
[null,null,null,null,null,null,null,null,null,null,null,null,null,null,null,null,null,null,null,null,null,null,null,null,null,null,null,null,null,null,null,null,null,null,null,null,null,null,null,null,null,null,null,null,null,null,null,null,null,null,null,null,null,null,null,null,null,null,null,711,"",null,"","",{"$f":"IF(BN714>1,\"\",MAX(BM$3:BM713)+1)","v":""},{"$f":"IF(BL714=\"\",\"\",COUNTIF(BL$4:BL714,BL714))","v":""},"",""]
[null,null,null,null,null,null,null,null,null,null,null,null,null,null,null,null,null,null,null,null,null,null,null,null,null,null,null,null,null,null,null,null,null,null,null,null,null,null,null,null,null,null,null,null,null,null,null,null,null,null,null,null,null,null,null,null,null,null,null,712,"",null,"","",{"$f":"IF(BN715>1,\"\",MAX(BM$3:BM714)+1)","v":""},{"$f":"IF(BL715=\"\",\"\",COUNTIF(BL$4:BL715,BL715))","v":""},"",""]
[null,null,null,null,null,null,null,null,null,null,null,null,null,null,null,null,null,null,null,null,null,null,null,null,null,null,null,null,null,null,null,null,null,null,null,null,null,null,null,null,null,null,null,null,null,null,null,null,null,null,null,null,null,null,null,null,null,null,null,713,"",null,"","",{"$f":"IF(BN716>1,\"\",MAX(BM$3:BM715)+1)","v":""},{"$f":"IF(BL716=\"\",\"\",COUNTIF(BL$4:BL716,BL716))","v":""},"",""]
[null,null,null,null,null,null,null,null,null,null,null,null,null,null,null,null,null,null,null,null,null,null,null,null,null,null,null,null,null,null,null,null,null,null,null,null,null,null,null,null,null,null,null,null,null,null,null,null,null,null,null,null,null,null,null,null,null,null,null,714,"",null,"","",{"$f":"IF(BN717>1,\"\",MAX(BM$3:BM716)+1)","v":""},{"$f":"IF(BL717=\"\",\"\",COUNTIF(BL$4:BL717,BL717))","v":""},"",""]
[null,null,null,null,null,null,null,null,null,null,null,null,null,null,null,null,null,null,null,null,null,null,null,null,null,null,null,null,null,null,null,null,null,null,null,null,null,null,null,null,null,null,null,null,null,null,null,null,null,null,null,null,null,null,null,null,null,null,null,715,"",null,"","",{"$f":"IF(BN718>1,\"\",MAX(BM$3:BM717)+1)","v":""},{"$f":"IF(BL718=\"\",\"\",COUNTIF(BL$4:BL718,BL718))","v":""},"",""]
[null,null,null,null,null,null,null,null,null,null,null,null,null,null,null,null,null,null,null,null,null,null,null,null,null,null,null,null,null,null,null,null,null,null,null,null,null,null,null,null,null,null,null,null,null,null,null,null,null,null,null,null,null,null,null,null,null,null,null,716,"",null,"","",{"$f":"IF(BN719>1,\"\",MAX(BM$3:BM718)+1)","v":""},{"$f":"IF(BL719=\"\",\"\",COUNTIF(BL$4:BL719,BL719))","v":""},"",""]
[null,null,null,null,null,null,null,null,null,null,null,null,null,null,null,null,null,null,null,null,null,null,null,null,null,null,null,null,null,null,null,null,null,null,null,null,null,null,null,null,null,null,null,null,null,null,null,null,null,null,null,null,null,null,null,null,null,null,null,717,"",null,"","",{"$f":"IF(BN720>1,\"\",MAX(BM$3:BM719)+1)","v":""},{"$f":"IF(BL720=\"\",\"\",COUNTIF(BL$4:BL720,BL720))","v":""},"",""]
[null,null,null,null,null,null,null,null,null,null,null,null,null,null,null,null,null,null,null,null,null,null,null,null,null,null,null,null,null,null,null,null,null,null,null,null,null,null,null,null,null,null,null,null,null,null,null,null,null,null,null,null,null,null,null,null,null,null,null,718,"",null,"","",{"$f":"IF(BN721>1,\"\",MAX(BM$3:BM720)+1)","v":""},{"$f":"IF(BL721=\"\",\"\",COUNTIF(BL$4:BL721,BL721))","v":""},"",""]
[null,null,null,null,null,null,null,null,null,null,null,null,null,null,null,null,null,null,null,null,null,null,null,null,null,null,null,null,null,null,null,null,null,null,null,null,null,null,null,null,null,null,null,null,null,null,null,null,null,null,null,null,null,null,null,null,null,null,null,719,"",null,"","",{"$f":"IF(BN722>1,\"\",MAX(BM$3:BM721)+1)","v":""},{"$f":"IF(BL722=\"\",\"\",COUNTIF(BL$4:BL722,BL722))","v":""},"",""]
[null,null,null,null,null,null,null,null,null,null,null,null,null,null,null,null,null,null,null,null,null,null,null,null,null,null,null,null,null,null,null,null,null,null,null,null,null,null,null,null,null,null,null,null,null,null,null,null,null,null,null,null,null,null,null,null,null,null,null,720,"",null,"","",{"$f":"IF(BN723>1,\"\",MAX(BM$3:BM722)+1)","v":""},{"$f":"IF(BL723=\"\",\"\",COUNTIF(BL$4:BL723,BL723))","v":""},"",""]
[null,null,null,null,null,null,null,null,null,null,null,null,null,null,null,null,null,null,null,null,null,null,null,null,null,null,null,null,null,null,null,null,null,null,null,null,null,null,null,null,null,null,null,null,null,null,null,null,null,null,null,null,null,null,null,null,null,null,null,721,"",null,"","",{"$f":"IF(BN724>1,\"\",MAX(BM$3:BM723)+1)","v":""},{"$f":"IF(BL724=\"\",\"\",COUNTIF(BL$4:BL724,BL724))","v":""},"",""]
[null,null,null,null,null,null,null,null,null,null,null,null,null,null,null,null,null,null,null,null,null,null,null,null,null,null,null,null,null,null,null,null,null,null,null,null,null,null,null,null,null,null,null,null,null,null,null,null,null,null,null,null,null,null,null,null,null,null,null,722,"",null,"","",{"$f":"IF(BN725>1,\"\",MAX(BM$3:BM724)+1)","v":""},{"$f":"IF(BL725=\"\",\"\",COUNTIF(BL$4:BL725,BL725))","v":""},"",""]
[null,null,null,null,null,null,null,null,null,null,null,null,null,null,null,null,null,null,null,null,null,null,null,null,null,null,null,null,null,null,null,null,null,null,null,null,null,null,null,null,null,null,null,null,null,null,null,null,null,null,null,null,null,null,null,null,null,null,null,723,"",null,"","",{"$f":"IF(BN726>1,\"\",MAX(BM$3:BM725)+1)","v":""},{"$f":"IF(BL726=\"\",\"\",COUNTIF(BL$4:BL726,BL726))","v":""},"",""]
[null,null,null,null,null,null,null,null,null,null,null,null,null,null,null,null,null,null,null,null,null,null,null,null,null,null,null,null,null,null,null,null,null,null,null,null,null,null,null,null,null,null,null,null,null,null,null,null,null,null,null,null,null,null,null,null,null,null,null,724,"",null,"","",{"$f":"IF(BN727>1,\"\",MAX(BM$3:BM726)+1)","v":""},{"$f":"IF(BL727=\"\",\"\",COUNTIF(BL$4:BL727,BL727))","v":""},"",""]
[null,null,null,null,null,null,null,null,null,null,null,null,null,null,null,null,null,null,null,null,null,null,null,null,null,null,null,null,null,null,null,null,null,null,null,null,null,null,null,null,null,null,null,null,null,null,null,null,null,null,null,null,null,null,null,null,null,null,null,725,"",null,"","",{"$f":"IF(BN728>1,\"\",MAX(BM$3:BM727)+1)","v":""},{"$f":"IF(BL728=\"\",\"\",COUNTIF(BL$4:BL728,BL728))","v":""},"",""]
[null,null,null,null,null,null,null,null,null,null,null,null,null,null,null,null,null,null,null,null,null,null,null,null,null,null,null,null,null,null,null,null,null,null,null,null,null,null,null,null,null,null,null,null,null,null,null,null,null,null,null,null,null,null,null,null,null,null,null,726,"",null,"","",{"$f":"IF(BN729>1,\"\",MAX(BM$3:BM728)+1)","v":""},{"$f":"IF(BL729=\"\",\"\",COUNTIF(BL$4:BL729,BL729))","v":""},"",""]
[null,null,null,null,null,null,null,null,null,null,null,null,null,null,null,null,null,null,null,null,null,null,null,null,null,null,null,null,null,null,null,null,null,null,null,null,null,null,null,null,null,null,null,null,null,null,null,null,null,null,null,null,null,null,null,null,null,null,null,727,"",null,"","",{"$f":"IF(BN730>1,\"\",MAX(BM$3:BM729)+1)","v":""},{"$f":"IF(BL730=\"\",\"\",COUNTIF(BL$4:BL730,BL730))","v":""},"",""]
[null,null,null,null,null,null,null,null,null,null,null,null,null,null,null,null,null,null,null,null,null,null,null,null,null,null,null,null,null,null,null,null,null,null,null,null,null,null,null,null,null,null,null,null,null,null,null,null,null,null,null,null,null,null,null,null,null,null,null,728,"",null,"","",{"$f":"IF(BN731>1,\"\",MAX(BM$3:BM730)+1)","v":""},{"$f":"IF(BL731=\"\",\"\",COUNTIF(BL$4:BL731,BL731))","v":""},"",""]
[null,null,null,null,null,null,null,null,null,null,null,null,null,null,null,null,null,null,null,null,null,null,null,null,null,null,null,null,null,null,null,null,null,null,null,null,null,null,null,null,null,null,null,null,null,null,null,null,null,null,null,null,null,null,null,null,null,null,null,729,"",null,"","",{"$f":"IF(BN732>1,\"\",MAX(BM$3:BM731)+1)","v":""},{"$f":"IF(BL732=\"\",\"\",COUNTIF(BL$4:BL732,BL732))","v":""},"",""]
[null,null,null,null,null,null,null,null,null,null,null,null,null,null,null,null,null,null,null,null,null,null,null,null,null,null,null,null,null,null,null,null,null,null,null,null,null,null,null,null,null,null,null,null,null,null,null,null,null,null,null,null,null,null,null,null,null,null,null,730,"",null,"","",{"$f":"IF(BN733>1,\"\",MAX(BM$3:BM732)+1)","v":""},{"$f":"IF(BL733=\"\",\"\",COUNTIF(BL$4:BL733,BL733))","v":""},"",""]
[null,null,null,null,null,null,null,null,null,null,null,null,null,null,null,null,null,null,null,null,null,null,null,null,null,null,null,null,null,null,null,null,null,null,null,null,null,null,null,null,null,null,null,null,null,null,null,null,null,null,null,null,null,null,null,null,null,null,null,731,"",null,"","",{"$f":"IF(BN734>1,\"\",MAX(BM$3:BM733)+1)","v":""},{"$f":"IF(BL734=\"\",\"\",COUNTIF(BL$4:BL734,BL734))","v":""},"",""]
[null,null,null,null,null,null,null,null,null,null,null,null,null,null,null,null,null,null,null,null,null,null,null,null,null,null,null,null,null,null,null,null,null,null,null,null,null,null,null,null,null,null,null,null,null,null,null,null,null,null,null,null,null,null,null,null,null,null,null,732,"",null,"","",{"$f":"IF(BN735>1,\"\",MAX(BM$3:BM734)+1)","v":""},{"$f":"IF(BL735=\"\",\"\",COUNTIF(BL$4:BL735,BL735))","v":""},"",""]
[null,null,null,null,null,null,null,null,null,null,null,null,null,null,null,null,null,null,null,null,null,null,null,null,null,null,null,null,null,null,null,null,null,null,null,null,null,null,null,null,null,null,null,null,null,null,null,null,null,null,null,null,null,null,null,null,null,null,null,733,"",null,"","",{"$f":"IF(BN736>1,\"\",MAX(BM$3:BM735)+1)","v":""},{"$f":"IF(BL736=\"\",\"\",COUNTIF(BL$4:BL736,BL736))","v":""},"",""]
[null,null,null,null,null,null,null,null,null,null,null,null,null,null,null,null,null,null,null,null,null,null,null,null,null,null,null,null,null,null,null,null,null,null,null,null,null,null,null,null,null,null,null,null,null,null,null,null,null,null,null,null,null,null,null,null,null,null,null,734,"",null,"","",{"$f":"IF(BN737>1,\"\",MAX(BM$3:BM736)+1)","v":""},{"$f":"IF(BL737=\"\",\"\",COUNTIF(BL$4:BL737,BL737))","v":""},"",""]
[null,null,null,null,null,null,null,null,null,null,null,null,null,null,null,null,null,null,null,null,null,null,null,null,null,null,null,null,null,null,null,null,null,null,null,null,null,null,null,null,null,null,null,null,null,null,null,null,null,null,null,null,null,null,null,null,null,null,null,735,"",null,"","",{"$f":"IF(BN738>1,\"\",MAX(BM$3:BM737)+1)","v":""},{"$f":"IF(BL738=\"\",\"\",COUNTIF(BL$4:BL738,BL738))","v":""},"",""]
[null,null,null,null,null,null,null,null,null,null,null,null,null,null,null,null,null,null,null,null,null,null,null,null,null,null,null,null,null,null,null,null,null,null,null,null,null,null,null,null,null,null,null,null,null,null,null,null,null,null,null,null,null,null,null,null,null,null,null,736,"",null,"","",{"$f":"IF(BN739>1,\"\",MAX(BM$3:BM738)+1)","v":""},{"$f":"IF(BL739=\"\",\"\",COUNTIF(BL$4:BL739,BL739))","v":""},"",""]
[null,null,null,null,null,null,null,null,null,null,null,null,null,null,null,null,null,null,null,null,null,null,null,null,null,null,null,null,null,null,null,null,null,null,null,null,null,null,null,null,null,null,null,null,null,null,null,null,null,null,null,null,null,null,null,null,null,null,null,737,"",null,"","",{"$f":"IF(BN740>1,\"\",MAX(BM$3:BM739)+1)","v":""},{"$f":"IF(BL740=\"\",\"\",COUNTIF(BL$4:BL740,BL740))","v":""},"",""]
[null,null,null,null,null,null,null,null,null,null,null,null,null,null,null,null,null,null,null,null,null,null,null,null,null,null,null,null,null,null,null,null,null,null,null,null,null,null,null,null,null,null,null,null,null,null,null,null,null,null,null,null,null,null,null,null,null,null,null,738,"",null,"","",{"$f":"IF(BN741>1,\"\",MAX(BM$3:BM740)+1)","v":""},{"$f":"IF(BL741=\"\",\"\",COUNTIF(BL$4:BL741,BL741))","v":""},"",""]
[null,null,null,null,null,null,null,null,null,null,null,null,null,null,null,null,null,null,null,null,null,null,null,null,null,null,null,null,null,null,null,null,null,null,null,null,null,null,null,null,null,null,null,null,null,null,null,null,null,null,null,null,null,null,null,null,null,null,null,739,"",null,"","",{"$f":"IF(BN742>1,\"\",MAX(BM$3:BM741)+1)","v":""},{"$f":"IF(BL742=\"\",\"\",COUNTIF(BL$4:BL742,BL742))","v":""},"",""]
[null,null,null,null,null,null,null,null,null,null,null,null,null,null,null,null,null,null,null,null,null,null,null,null,null,null,null,null,null,null,null,null,null,null,null,null,null,null,null,null,null,null,null,null,null,null,null,null,null,null,null,null,null,null,null,null,null,null,null,740,"",null,"","",{"$f":"IF(BN743>1,\"\",MAX(BM$3:BM742)+1)","v":""},{"$f":"IF(BL743=\"\",\"\",COUNTIF(BL$4:BL743,BL743))","v":""},"",""]
[null,null,null,null,null,null,null,null,null,null,null,null,null,null,null,null,null,null,null,null,null,null,null,null,null,null,null,null,null,null,null,null,null,null,null,null,null,null,null,null,null,null,null,null,null,null,null,null,null,null,null,null,null,null,null,null,null,null,null,741,"",null,"","",{"$f":"IF(BN744>1,\"\",MAX(BM$3:BM743)+1)","v":""},{"$f":"IF(BL744=\"\",\"\",COUNTIF(BL$4:BL744,BL744))","v":""},"",""]
[null,null,null,null,null,null,null,null,null,null,null,null,null,null,null,null,null,null,null,null,null,null,null,null,null,null,null,null,null,null,null,null,null,null,null,null,null,null,null,null,null,null,null,null,null,null,null,null,null,null,null,null,null,null,null,null,null,null,null,742,"",null,"","",{"$f":"IF(BN745>1,\"\",MAX(BM$3:BM744)+1)","v":""},{"$f":"IF(BL745=\"\",\"\",COUNTIF(BL$4:BL745,BL745))","v":""},"",""]
[null,null,null,null,null,null,null,null,null,null,null,null,null,null,null,null,null,null,null,null,null,null,null,null,null,null,null,null,null,null,null,null,null,null,null,null,null,null,null,null,null,null,null,null,null,null,null,null,null,null,null,null,null,null,null,null,null,null,null,743,"",null,"","",{"$f":"IF(BN746>1,\"\",MAX(BM$3:BM745)+1)","v":""},{"$f":"IF(BL746=\"\",\"\",COUNTIF(BL$4:BL746,BL746))","v":""},"",""]
[null,null,null,null,null,null,null,null,null,null,null,null,null,null,null,null,null,null,null,null,null,null,null,null,null,null,null,null,null,null,null,null,null,null,null,null,null,null,null,null,null,null,null,null,null,null,null,null,null,null,null,null,null,null,null,null,null,null,null,744,"",null,"","",{"$f":"IF(BN747>1,\"\",MAX(BM$3:BM746)+1)","v":""},{"$f":"IF(BL747=\"\",\"\",COUNTIF(BL$4:BL747,BL747))","v":""},"",""]
[null,null,null,null,null,null,null,null,null,null,null,null,null,null,null,null,null,null,null,null,null,null,null,null,null,null,null,null,null,null,null,null,null,null,null,null,null,null,null,null,null,null,null,null,null,null,null,null,null,null,null,null,null,null,null,null,null,null,null,745,"",null,"","",{"$f":"IF(BN748>1,\"\",MAX(BM$3:BM747)+1)","v":""},{"$f":"IF(BL748=\"\",\"\",COUNTIF(BL$4:BL748,BL748))","v":""},"",""]
[null,null,null,null,null,null,null,null,null,null,null,null,null,null,null,null,null,null,null,null,null,null,null,null,null,null,null,null,null,null,null,null,null,null,null,null,null,null,null,null,null,null,null,null,null,null,null,null,null,null,null,null,null,null,null,null,null,null,null,746,"",null,"","",{"$f":"IF(BN749>1,\"\",MAX(BM$3:BM748)+1)","v":""},{"$f":"IF(BL749=\"\",\"\",COUNTIF(BL$4:BL749,BL749))","v":""},"",""]
[null,null,null,null,null,null,null,null,null,null,null,null,null,null,null,null,null,null,null,null,null,null,null,null,null,null,null,null,null,null,null,null,null,null,null,null,null,null,null,null,null,null,null,null,null,null,null,null,null,null,null,null,null,null,null,null,null,null,null,747,"",null,"","",{"$f":"IF(BN750>1,\"\",MAX(BM$3:BM749)+1)","v":""},{"$f":"IF(BL750=\"\",\"\",COUNTIF(BL$4:BL750,BL750))","v":""},"",""]
[null,null,null,null,null,null,null,null,null,null,null,null,null,null,null,null,null,null,null,null,null,null,null,null,null,null,null,null,null,null,null,null,null,null,null,null,null,null,null,null,null,null,null,null,null,null,null,null,null,null,null,null,null,null,null,null,null,null,null,748,"",null,"","",{"$f":"IF(BN751>1,\"\",MAX(BM$3:BM750)+1)","v":""},{"$f":"IF(BL751=\"\",\"\",COUNTIF(BL$4:BL751,BL751))","v":""},"",""]
[null,null,null,null,null,null,null,null,null,null,null,null,null,null,null,null,null,null,null,null,null,null,null,null,null,null,null,null,null,null,null,null,null,null,null,null,null,null,null,null,null,null,null,null,null,null,null,null,null,null,null,null,null,null,null,null,null,null,null,749,"",null,"","",{"$f":"IF(BN752>1,\"\",MAX(BM$3:BM751)+1)","v":""},{"$f":"IF(BL752=\"\",\"\",COUNTIF(BL$4:BL752,BL752))","v":""},"",""]
[null,null,null,null,null,null,null,null,null,null,null,null,null,null,null,null,null,null,null,null,null,null,null,null,null,null,null,null,null,null,null,null,null,null,null,null,null,null,null,null,null,null,null,null,null,null,null,null,null,null,null,null,null,null,null,null,null,null,null,750,"",null,"","",{"$f":"IF(BN753>1,\"\",MAX(BM$3:BM752)+1)","v":""},{"$f":"IF(BL753=\"\",\"\",COUNTIF(BL$4:BL753,BL753))","v":""},"",""]
[null,null,null,null,null,null,null,null,null,null,null,null,null,null,null,null,null,null,null,null,null,null,null,null,null,null,null,null,null,null,null,null,null,null,null,null,null,null,null,null,null,null,null,null,null,null,null,null,null,null,null,null,null,null,null,null,null,null,null,751,"",null,"","",{"$f":"IF(BN754>1,\"\",MAX(BM$3:BM753)+1)","v":""},{"$f":"IF(BL754=\"\",\"\",COUNTIF(BL$4:BL754,BL754))","v":""},"",""]
[null,null,null,null,null,null,null,null,null,null,null,null,null,null,null,null,null,null,null,null,null,null,null,null,null,null,null,null,null,null,null,null,null,null,null,null,null,null,null,null,null,null,null,null,null,null,null,null,null,null,null,null,null,null,null,null,null,null,null,752,"",null,{"$f":"BM755","v":""},{"$f":"IF(B755=\"\",\"\",B755)","v":""},{"$f":"IF(BN755>1,\"\",MAX(BM$3:BM754)+1)","v":""},{"$f":"IF(BL755=\"\",\"\",COUNTIF(BL$4:BL755,BL755))","v":""},"",{"$f":"IF(C755=\"\",\"\",C755)","v":""}]
[null,null,null,null,null,null,null,null,null,null,null,null,null,null,null,null,null,null,null,null,null,null,null,null,null,null,null,null,null,null,null,null,null,null,null,null,null,null,null,null,null,null,null,null,null,null,null,null,null,null,null,null,null,null,null,null,null,null,null,753,"",null,"","",{"$f":"IF(BN756>1,\"\",MAX(BM$3:BM755)+1)","v":""},{"$f":"IF(BL756=\"\",\"\",COUNTIF(BL$4:BL756,BL756))","v":""},"",""]
[null,null,null,null,null,null,null,null,null,null,null,null,null,null,null,null,null,null,null,null,null,null,null,null,null,null,null,null,null,null,null,null,null,null,null,null,null,null,null,null,null,null,null,null,null,null,null,null,null,null,null,null,null,null,null,null,null,null,null,754,"",null,"","",{"$f":"IF(BN757>1,\"\",MAX(BM$3:BM756)+1)","v":""},{"$f":"IF(BL757=\"\",\"\",COUNTIF(BL$4:BL757,BL757))","v":""},"",""]
[null,null,null,null,null,null,null,null,null,null,null,null,null,null,null,null,null,null,null,null,null,null,null,null,null,null,null,null,null,null,null,null,null,null,null,null,null,null,null,null,null,null,null,null,null,null,null,null,null,null,null,null,null,null,null,null,null,null,null,755,"",null,"","",{"$f":"IF(BN758>1,\"\",MAX(BM$3:BM757)+1)","v":""},{"$f":"IF(BL758=\"\",\"\",COUNTIF(BL$4:BL758,BL758))","v":""},"",""]
[null,null,null,null,null,null,null,null,null,null,null,null,null,null,null,null,null,null,null,null,null,null,null,null,null,null,null,null,null,null,null,null,null,null,null,null,null,null,null,null,null,null,null,null,null,null,null,null,null,null,null,null,null,null,null,null,null,null,null,756,"",null,"","",{"$f":"IF(BN759>1,\"\",MAX(BM$3:BM758)+1)","v":""},{"$f":"IF(BL759=\"\",\"\",COUNTIF(BL$4:BL759,BL759))","v":""},"",""]
[null,null,null,null,null,null,null,null,null,null,null,null,null,null,null,null,null,null,null,null,null,null,null,null,null,null,null,null,null,null,null,null,null,null,null,null,null,null,null,null,null,null,null,null,null,null,null,null,null,null,null,null,null,null,null,null,null,null,null,757,"",null,"","",{"$f":"IF(BN760>1,\"\",MAX(BM$3:BM759)+1)","v":""},{"$f":"IF(BL760=\"\",\"\",COUNTIF(BL$4:BL760,BL760))","v":""},"",""]
[null,null,null,null,null,null,null,null,null,null,null,null,null,null,null,null,null,null,null,null,null,null,null,null,null,null,null,null,null,null,null,null,null,null,null,null,null,null,null,null,null,null,null,null,null,null,null,null,null,null,null,null,null,null,null,null,null,null,null,758,"",null,"","",{"$f":"IF(BN761>1,\"\",MAX(BM$3:BM760)+1)","v":""},{"$f":"IF(BL761=\"\",\"\",COUNTIF(BL$4:BL761,BL761))","v":""},"",""]
[null,null,null,null,null,null,null,null,null,null,null,null,null,null,null,null,null,null,null,null,null,null,null,null,null,null,null,null,null,null,null,null,null,null,null,null,null,null,null,null,null,null,null,null,null,null,null,null,null,null,null,null,null,null,null,null,null,null,null,759,"",null,"","",{"$f":"IF(BN762>1,\"\",MAX(BM$3:BM761)+1)","v":""},{"$f":"IF(BL762=\"\",\"\",COUNTIF(BL$4:BL762,BL762))","v":""},"",""]
[null,null,null,null,null,null,null,null,null,null,null,null,null,null,null,null,null,null,null,null,null,null,null,null,null,null,null,null,null,null,null,null,null,null,null,null,null,null,null,null,null,null,null,null,null,null,null,null,null,null,null,null,null,null,null,null,null,null,null,760,"",null,"","",{"$f":"IF(BN763>1,\"\",MAX(BM$3:BM762)+1)","v":""},{"$f":"IF(BL763=\"\",\"\",COUNTIF(BL$4:BL763,BL763))","v":""},"",""]
[null,null,null,null,null,null,null,null,null,null,null,null,null,null,null,null,null,null,null,null,null,null,null,null,null,null,null,null,null,null,null,null,null,null,null,null,null,null,null,null,null,null,null,null,null,null,null,null,null,null,null,null,null,null,null,null,null,null,null,761,"",null,"","",{"$f":"IF(BN764>1,\"\",MAX(BM$3:BM763)+1)","v":""},{"$f":"IF(BL764=\"\",\"\",COUNTIF(BL$4:BL764,BL764))","v":""},"",""]
[null,null,null,null,null,null,null,null,null,null,null,null,null,null,null,null,null,null,null,null,null,null,null,null,null,null,null,null,null,null,null,null,null,null,null,null,null,null,null,null,null,null,null,null,null,null,null,null,null,null,null,null,null,null,null,null,null,null,null,762,"",null,"","",{"$f":"IF(BN765>1,\"\",MAX(BM$3:BM764)+1)","v":""},{"$f":"IF(BL765=\"\",\"\",COUNTIF(BL$4:BL765,BL765))","v":""},"",""]
[null,null,null,null,null,null,null,null,null,null,null,null,null,null,null,null,null,null,null,null,null,null,null,null,null,null,null,null,null,null,null,null,null,null,null,null,null,null,null,null,null,null,null,null,null,null,null,null,null,null,null,null,null,null,null,null,null,null,null,763,"",null,"","",{"$f":"IF(BN766>1,\"\",MAX(BM$3:BM765)+1)","v":""},{"$f":"IF(BL766=\"\",\"\",COUNTIF(BL$4:BL766,BL766))","v":""},"",""]
[null,null,null,null,null,null,null,null,null,null,null,null,null,null,null,null,null,null,null,null,null,null,null,null,null,null,null,null,null,null,null,null,null,null,null,null,null,null,null,null,null,null,null,null,null,null,null,null,null,null,null,null,null,null,null,null,null,null,null,764,"",null,"","",{"$f":"IF(BN767>1,\"\",MAX(BM$3:BM766)+1)","v":""},{"$f":"IF(BL767=\"\",\"\",COUNTIF(BL$4:BL767,BL767))","v":""},"",""]
[null,null,null,null,null,null,null,null,null,null,null,null,null,null,null,null,null,null,null,null,null,null,null,null,null,null,null,null,null,null,null,null,null,null,null,null,null,null,null,null,null,null,null,null,null,null,null,null,null,null,null,null,null,null,null,null,null,null,null,765,"",null,"","",{"$f":"IF(BN768>1,\"\",MAX(BM$3:BM767)+1)","v":""},{"$f":"IF(BL768=\"\",\"\",COUNTIF(BL$4:BL768,BL768))","v":""},"",""]
[null,null,null,null,null,null,null,null,null,null,null,null,null,null,null,null,null,null,null,null,null,null,null,null,null,null,null,null,null,null,null,null,null,null,null,null,null,null,null,null,null,null,null,null,null,null,null,null,null,null,null,null,null,null,null,null,null,null,null,766,"",null,"","",{"$f":"IF(BN769>1,\"\",MAX(BM$3:BM768)+1)","v":""},{"$f":"IF(BL769=\"\",\"\",COUNTIF(BL$4:BL769,BL769))","v":""},"",""]
[null,null,null,null,null,null,null,null,null,null,null,null,null,null,null,null,null,null,null,null,null,null,null,null,null,null,null,null,null,null,null,null,null,null,null,null,null,null,null,null,null,null,null,null,null,null,null,null,null,null,null,null,null,null,null,null,null,null,null,767,"",null,"","",{"$f":"IF(BN770>1,\"\",MAX(BM$3:BM769)+1)","v":""},{"$f":"IF(BL770=\"\",\"\",COUNTIF(BL$4:BL770,BL770))","v":""},"",""]
[null,null,null,null,null,null,null,null,null,null,null,null,null,null,null,null,null,null,null,null,null,null,null,null,null,null,null,null,null,null,null,null,null,null,null,null,null,null,null,null,null,null,null,null,null,null,null,null,null,null,null,null,null,null,null,null,null,null,null,768,"",null,"","",{"$f":"IF(BN771>1,\"\",MAX(BM$3:BM770)+1)","v":""},{"$f":"IF(BL771=\"\",\"\",COUNTIF(BL$4:BL771,BL771))","v":""},"",""]
[null,null,null,null,null,null,null,null,null,null,null,null,null,null,null,null,null,null,null,null,null,null,null,null,null,null,null,null,null,null,null,null,null,null,null,null,null,null,null,null,null,null,null,null,null,null,null,null,null,null,null,null,null,null,null,null,null,null,null,769,{"$f":"IF(BH772>MAX(BK$4:BK$940),\"\",VLOOKUP(BH772,BK$4:BL$940,2,FALSE))","v":""},null,"","",{"$f":"IF(BN772>1,\"\",MAX(BM$3:BM771)+1)","v":""},{"$f":"IF(BL772=\"\",\"\",COUNTIF(BL$4:BL772,BL772))","v":""},{"$f":"IF(BL772=\"\",\"\",thousand*VLOOKUP(BL772,BL$4:BM$940,2,FALSE)+BN772)","v":""},""]
[null,null,null,null,null,null,null,null,null,null,null,null,null,null,null,null,null,null,null,null,null,null,null,null,null,null,null,null,null,null,null,null,null,null,null,null,null,null,null,null,null,null,null,null,null,null,null,null,null,null,null,null,null,null,null,null,null,null,null,770,"",null,"","",{"$f":"IF(BN773>1,\"\",MAX(BM$3:BM772)+1)","v":""},{"$f":"IF(BL773=\"\",\"\",COUNTIF(BL$4:BL773,BL773))","v":""},"",""]
[null,null,null,null,null,null,null,null,null,null,null,null,null,null,null,null,null,null,null,null,null,null,null,null,null,null,null,null,null,null,null,null,null,null,null,null,null,null,null,null,null,null,null,null,null,null,null,null,null,null,null,null,null,null,null,null,null,null,null,771,"",null,"","",{"$f":"IF(BN774>1,\"\",MAX(BM$3:BM773)+1)","v":""},{"$f":"IF(BL774=\"\",\"\",COUNTIF(BL$4:BL774,BL774))","v":""},"",""]
[null,null,null,null,null,null,null,null,null,null,null,null,null,null,null,null,null,null,null,null,null,null,null,null,null,null,null,null,null,null,null,null,null,null,null,null,null,null,null,null,null,null,null,null,null,null,null,null,null,null,null,null,null,null,null,null,null,null,null,772,"",null,"","",{"$f":"IF(BN775>1,\"\",MAX(BM$3:BM774)+1)","v":""},{"$f":"IF(BL775=\"\",\"\",COUNTIF(BL$4:BL775,BL775))","v":""},"",""]
[null,null,null,null,null,null,null,null,null,null,null,null,null,null,null,null,null,null,null,null,null,null,null,null,null,null,null,null,null,null,null,null,null,null,null,null,null,null,null,null,null,null,null,null,null,null,null,null,null,null,null,null,null,null,null,null,null,null,null,773,"",null,"","",{"$f":"IF(BN776>1,\"\",MAX(BM$3:BM775)+1)","v":""},{"$f":"IF(BL776=\"\",\"\",COUNTIF(BL$4:BL776,BL776))","v":""},"",""]
[null,null,null,null,null,null,null,null,null,null,null,null,null,null,null,null,null,null,null,null,null,null,null,null,null,null,null,null,null,null,null,null,null,null,null,null,null,null,null,null,null,null,null,null,null,null,null,null,null,null,null,null,null,null,null,null,null,null,null,774,"",null,"","",{"$f":"IF(BN777>1,\"\",MAX(BM$3:BM776)+1)","v":""},{"$f":"IF(BL777=\"\",\"\",COUNTIF(BL$4:BL777,BL777))","v":""},"",""]
[null,null,null,null,null,null,null,null,null,null,null,null,null,null,null,null,null,null,null,null,null,null,null,null,null,null,null,null,null,null,null,null,null,null,null,null,null,null,null,null,null,null,null,null,null,null,null,null,null,null,null,null,null,null,null,null,null,null,null,775,"",null,"","",{"$f":"IF(BN778>1,\"\",MAX(BM$3:BM777)+1)","v":""},{"$f":"IF(BL778=\"\",\"\",COUNTIF(BL$4:BL778,BL778))","v":""},"",""]
[null,null,null,null,null,null,null,null,null,null,null,null,null,null,null,null,null,null,null,null,null,null,null,null,null,null,null,null,null,null,null,null,null,null,null,null,null,null,null,null,null,null,null,null,null,null,null,null,null,null,null,null,null,null,null,null,null,null,null,776,"",null,"","",{"$f":"IF(BN779>1,\"\",MAX(BM$3:BM778)+1)","v":""},{"$f":"IF(BL779=\"\",\"\",COUNTIF(BL$4:BL779,BL779))","v":""},"",""]
[null,null,null,null,null,null,null,null,null,null,null,null,null,null,null,null,null,null,null,null,null,null,null,null,null,null,null,null,null,null,null,null,null,null,null,null,null,null,null,null,null,null,null,null,null,null,null,null,null,null,null,null,null,null,null,null,null,null,null,777,"",null,"","",{"$f":"IF(BN780>1,\"\",MAX(BM$3:BM779)+1)","v":""},{"$f":"IF(BL780=\"\",\"\",COUNTIF(BL$4:BL780,BL780))","v":""},"",""]
[null,null,null,null,null,null,null,null,null,null,null,null,null,null,null,null,null,null,null,null,null,null,null,null,null,null,null,null,null,null,null,null,null,null,null,null,null,null,null,null,null,null,null,null,null,null,null,null,null,null,null,null,null,null,null,null,null,null,null,778,"",null,"","",{"$f":"IF(BN781>1,\"\",MAX(BM$3:BM780)+1)","v":""},{"$f":"IF(BL781=\"\",\"\",COUNTIF(BL$4:BL781,BL781))","v":""},"",""]
[null,null,null,null,null,null,null,null,null,null,null,null,null,null,null,null,null,null,null,null,null,null,null,null,null,null,null,null,null,null,null,null,null,null,null,null,null,null,null,null,null,null,null,null,null,null,null,null,null,null,null,null,null,null,null,null,null,null,null,779,"",null,"","",{"$f":"IF(BN782>1,\"\",MAX(BM$3:BM781)+1)","v":""},{"$f":"IF(BL782=\"\",\"\",COUNTIF(BL$4:BL782,BL782))","v":""},"",""]
[null,null,null,null,null,null,null,null,null,null,null,null,null,null,null,null,null,null,null,null,null,null,null,null,null,null,null,null,null,null,null,null,null,null,null,null,null,null,null,null,null,null,null,null,null,null,null,null,null,null,null,null,null,null,null,null,null,null,null,780,"",null,"","",{"$f":"IF(BN783>1,\"\",MAX(BM$3:BM782)+1)","v":""},{"$f":"IF(BL783=\"\",\"\",COUNTIF(BL$4:BL783,BL783))","v":""},"",""]
[null,null,null,null,null,null,null,null,null,null,null,null,null,null,null,null,null,null,null,null,null,null,null,null,null,null,null,null,null,null,null,null,null,null,null,null,null,null,null,null,null,null,null,null,null,null,null,null,null,null,null,null,null,null,null,null,null,null,null,781,"",null,"","",{"$f":"IF(BN784>1,\"\",MAX(BM$3:BM783)+1)","v":""},{"$f":"IF(BL784=\"\",\"\",COUNTIF(BL$4:BL784,BL784))","v":""},"",""]
[null,null,null,null,null,null,null,null,null,null,null,null,null,null,null,null,null,null,null,null,null,null,null,null,null,null,null,null,null,null,null,null,null,null,null,null,null,null,null,null,null,null,null,null,null,null,null,null,null,null,null,null,null,null,null,null,null,null,null,782,"",null,"","",{"$f":"IF(BN785>1,\"\",MAX(BM$3:BM784)+1)","v":""},{"$f":"IF(BL785=\"\",\"\",COUNTIF(BL$4:BL785,BL785))","v":""},"",""]
[null,null,null,null,null,null,null,null,null,null,null,null,null,null,null,null,null,null,null,null,null,null,null,null,null,null,null,null,null,null,null,null,null,null,null,null,null,null,null,null,null,null,null,null,null,null,null,null,null,null,null,null,null,null,null,null,null,null,null,783,"",null,"","",{"$f":"IF(BN786>1,\"\",MAX(BM$3:BM785)+1)","v":""},{"$f":"IF(BL786=\"\",\"\",COUNTIF(BL$4:BL786,BL786))","v":""},"",""]
[null,null,null,null,null,null,null,null,null,null,null,null,null,null,null,null,null,null,null,null,null,null,null,null,null,null,null,null,null,null,null,null,null,null,null,null,null,null,null,null,null,null,null,null,null,null,null,null,null,null,null,null,null,null,null,null,null,null,null,784,"",null,"","",{"$f":"IF(BN787>1,\"\",MAX(BM$3:BM786)+1)","v":""},{"$f":"IF(BL787=\"\",\"\",COUNTIF(BL$4:BL787,BL787))","v":""},"",""]
[null,null,null,null,null,null,null,null,null,null,null,null,null,null,null,null,null,null,null,null,null,null,null,null,null,null,null,null,null,null,null,null,null,null,null,null,null,null,null,null,null,null,null,null,null,null,null,null,null,null,null,null,null,null,null,null,null,null,null,785,"",null,"","",{"$f":"IF(BN788>1,\"\",MAX(BM$3:BM787)+1)","v":""},{"$f":"IF(BL788=\"\",\"\",COUNTIF(BL$4:BL788,BL788))","v":""},"",""]
[null,null,null,null,null,null,null,null,null,null,null,null,null,null,null,null,null,null,null,null,null,null,null,null,null,null,null,null,null,null,null,null,null,null,null,null,null,null,null,null,null,null,null,null,null,null,null,null,null,null,null,null,null,null,null,null,null,null,null,786,"",null,"","",{"$f":"IF(BN789>1,\"\",MAX(BM$3:BM788)+1)","v":""},{"$f":"IF(BL789=\"\",\"\",COUNTIF(BL$4:BL789,BL789))","v":""},"",""]
[null,null,null,null,null,null,null,null,null,null,null,null,null,null,null,null,null,null,null,null,null,null,null,null,null,null,null,null,null,null,null,null,null,null,null,null,null,null,null,null,null,null,null,null,null,null,null,null,null,null,null,null,null,null,null,null,null,null,null,787,"",null,"","",{"$f":"IF(BN790>1,\"\",MAX(BM$3:BM789)+1)","v":""},{"$f":"IF(BL790=\"\",\"\",COUNTIF(BL$4:BL790,BL790))","v":""},"",""]
[null,null,null,null,null,null,null,null,null,null,null,null,null,null,null,null,null,null,null,null,null,null,null,null,null,null,null,null,null,null,null,null,null,null,null,null,null,null,null,null,null,null,null,null,null,null,null,null,null,null,null,null,null,null,null,null,null,null,null,788,"",null,"","",{"$f":"IF(BN791>1,\"\",MAX(BM$3:BM790)+1)","v":""},{"$f":"IF(BL791=\"\",\"\",COUNTIF(BL$4:BL791,BL791))","v":""},"",""]
[null,null,null,null,null,null,null,null,null,null,null,null,null,null,null,null,null,null,null,null,null,null,null,null,null,null,null,null,null,null,null,null,null,null,null,null,null,null,null,null,null,null,null,null,null,null,null,null,null,null,null,null,null,null,null,null,null,null,null,789,"",null,"","",{"$f":"IF(BN792>1,\"\",MAX(BM$3:BM791)+1)","v":""},{"$f":"IF(BL792=\"\",\"\",COUNTIF(BL$4:BL792,BL792))","v":""},"",""]
[null,null,null,null,null,null,null,null,null,null,null,null,null,null,null,null,null,null,null,null,null,null,null,null,null,null,null,null,null,null,null,null,null,null,null,null,null,null,null,null,null,null,null,null,null,null,null,null,null,null,null,null,null,null,null,null,null,null,null,790,"",null,"","",{"$f":"IF(BN793>1,\"\",MAX(BM$3:BM792)+1)","v":""},{"$f":"IF(BL793=\"\",\"\",COUNTIF(BL$4:BL793,BL793))","v":""},"",""]
[null,null,null,null,null,null,null,null,null,null,null,null,null,null,null,null,null,null,null,null,null,null,null,null,null,null,null,null,null,null,null,null,null,null,null,null,null,null,null,null,null,null,null,null,null,null,null,null,null,null,null,null,null,null,null,null,null,null,null,791,"",null,"","",{"$f":"IF(BN794>1,\"\",MAX(BM$3:BM793)+1)","v":""},{"$f":"IF(BL794=\"\",\"\",COUNTIF(BL$4:BL794,BL794))","v":""},"",""]
[null,null,null,null,null,null,null,null,null,null,null,null,null,null,null,null,null,null,null,null,null,null,null,null,null,null,null,null,null,null,null,null,null,null,null,null,null,null,null,null,null,null,null,null,null,null,null,null,null,null,null,null,null,null,null,null,null,null,null,792,"",null,"","",{"$f":"IF(BN795>1,\"\",MAX(BM$3:BM794)+1)","v":""},{"$f":"IF(BL795=\"\",\"\",COUNTIF(BL$4:BL795,BL795))","v":""},"",""]
[null,null,null,null,null,null,null,null,null,null,null,null,null,null,null,null,null,null,null,null,null,null,null,null,null,null,null,null,null,null,null,null,null,null,null,null,null,null,null,null,null,null,null,null,null,null,null,null,null,null,null,null,null,null,null,null,null,null,null,793,"",null,"","",{"$f":"IF(BN796>1,\"\",MAX(BM$3:BM795)+1)","v":""},{"$f":"IF(BL796=\"\",\"\",COUNTIF(BL$4:BL796,BL796))","v":""},"",""]
[null,null,null,null,null,null,null,null,null,null,null,null,null,null,null,null,null,null,null,null,null,null,null,null,null,null,null,null,null,null,null,null,null,null,null,null,null,null,null,null,null,null,null,null,null,null,null,null,null,null,null,null,null,null,null,null,null,null,null,794,"",null,"","",{"$f":"IF(BN797>1,\"\",MAX(BM$3:BM796)+1)","v":""},{"$f":"IF(BL797=\"\",\"\",COUNTIF(BL$4:BL797,BL797))","v":""},"",""]
[null,null,null,null,null,null,null,null,null,null,null,null,null,null,null,null,null,null,null,null,null,null,null,null,null,null,null,null,null,null,null,null,null,null,null,null,null,null,null,null,null,null,null,null,null,null,null,null,null,null,null,null,null,null,null,null,null,null,null,795,"",null,"","",{"$f":"IF(BN798>1,\"\",MAX(BM$3:BM797)+1)","v":""},{"$f":"IF(BL798=\"\",\"\",COUNTIF(BL$4:BL798,BL798))","v":""},"",""]
[null,null,null,null,null,null,null,null,null,null,null,null,null,null,null,null,null,null,null,null,null,null,null,null,null,null,null,null,null,null,null,null,null,null,null,null,null,null,null,null,null,null,null,null,null,null,null,null,null,null,null,null,null,null,null,null,null,null,null,796,"",null,"","",{"$f":"IF(BN799>1,\"\",MAX(BM$3:BM798)+1)","v":""},{"$f":"IF(BL799=\"\",\"\",COUNTIF(BL$4:BL799,BL799))","v":""},"",""]
[null,null,null,null,null,null,null,null,null,null,null,null,null,null,null,null,null,null,null,null,null,null,null,null,null,null,null,null,null,null,null,null,null,null,null,null,null,null,null,null,null,null,null,null,null,null,null,null,null,null,null,null,null,null,null,null,null,null,null,797,"",null,"","",{"$f":"IF(BN800>1,\"\",MAX(BM$3:BM799)+1)","v":""},{"$f":"IF(BL800=\"\",\"\",COUNTIF(BL$4:BL800,BL800))","v":""},"",""]
[null,null,null,null,null,null,null,null,null,null,null,null,null,null,null,null,null,null,null,null,null,null,null,null,null,null,null,null,null,null,null,null,null,null,null,null,null,null,null,null,null,null,null,null,null,null,null,null,null,null,null,null,null,null,null,null,null,null,null,798,"",null,"","",{"$f":"IF(BN801>1,\"\",MAX(BM$3:BM800)+1)","v":""},{"$f":"IF(BL801=\"\",\"\",COUNTIF(BL$4:BL801,BL801))","v":""},"",""]
[null,null,null,null,null,null,null,null,null,null,null,null,null,null,null,null,null,null,null,null,null,null,null,null,null,null,null,null,null,null,null,null,null,null,null,null,null,null,null,null,null,null,null,null,null,null,null,null,null,null,null,null,null,null,null,null,null,null,null,799,"",null,"","",{"$f":"IF(BN802>1,\"\",MAX(BM$3:BM801)+1)","v":""},{"$f":"IF(BL802=\"\",\"\",COUNTIF(BL$4:BL802,BL802))","v":""},"",""]
[null,null,null,null,null,null,null,null,null,null,null,null,null,null,null,null,null,null,null,null,null,null,null,null,null,null,null,null,null,null,null,null,null,null,null,null,null,null,null,null,null,null,null,null,null,null,null,null,null,null,null,null,null,null,null,null,null,null,null,800,"",null,"","",{"$f":"IF(BN803>1,\"\",MAX(BM$3:BM802)+1)","v":""},{"$f":"IF(BL803=\"\",\"\",COUNTIF(BL$4:BL803,BL803))","v":""},"",""]
[null,null,null,null,null,null,null,null,null,null,null,null,null,null,null,null,null,null,null,null,null,null,null,null,null,null,null,null,null,null,null,null,null,null,null,null,null,null,null,null,null,null,null,null,null,null,null,null,null,null,null,null,null,null,null,null,null,null,null,801,"",null,"","",{"$f":"IF(BN804>1,\"\",MAX(BM$3:BM803)+1)","v":""},{"$f":"IF(BL804=\"\",\"\",COUNTIF(BL$4:BL804,BL804))","v":""},"",""]
[null,null,null,null,null,null,null,null,null,null,null,null,null,null,null,null,null,null,null,null,null,null,null,null,null,null,null,null,null,null,null,null,null,null,null,null,null,null,null,null,null,null,null,null,null,null,null,null,null,null,null,null,null,null,null,null,null,null,null,802,"",null,"","",{"$f":"IF(BN805>1,\"\",MAX(BM$3:BM804)+1)","v":""},{"$f":"IF(BL805=\"\",\"\",COUNTIF(BL$4:BL805,BL805))","v":""},"",""]
[null,null,null,null,null,null,null,null,null,null,null,null,null,null,null,null,null,null,null,null,null,null,null,null,null,null,null,null,null,null,null,null,null,null,null,null,null,null,null,null,null,null,null,null,null,null,null,null,null,null,null,null,null,null,null,null,null,null,null,803,"",null,"","",{"$f":"IF(BN806>1,\"\",MAX(BM$3:BM805)+1)","v":""},{"$f":"IF(BL806=\"\",\"\",COUNTIF(BL$4:BL806,BL806))","v":""},"",""]
[null,null,null,null,null,null,null,null,null,null,null,null,null,null,null,null,null,null,null,null,null,null,null,null,null,null,null,null,null,null,null,null,null,null,null,null,null,null,null,null,null,null,null,null,null,null,null,null,null,null,null,null,null,null,null,null,null,null,null,804,"",null,"","",{"$f":"IF(BN807>1,\"\",MAX(BM$3:BM806)+1)","v":""},{"$f":"IF(BL807=\"\",\"\",COUNTIF(BL$4:BL807,BL807))","v":""},"",""]
[null,null,null,null,null,null,null,null,null,null,null,null,null,null,null,null,null,null,null,null,null,null,null,null,null,null,null,null,null,null,null,null,null,null,null,null,null,null,null,null,null,null,null,null,null,null,null,null,null,null,null,null,null,null,null,null,null,null,null,805,"",null,"","",{"$f":"IF(BN808>1,\"\",MAX(BM$3:BM807)+1)","v":""},{"$f":"IF(BL808=\"\",\"\",COUNTIF(BL$4:BL808,BL808))","v":""},"",""]
[null,null,null,null,null,null,null,null,null,null,null,null,null,null,null,null,null,null,null,null,null,null,null,null,null,null,null,null,null,null,null,null,null,null,null,null,null,null,null,null,null,null,null,null,null,null,null,null,null,null,null,null,null,null,null,null,null,null,null,806,"",null,"","",{"$f":"IF(BN809>1,\"\",MAX(BM$3:BM808)+1)","v":""},{"$f":"IF(BL809=\"\",\"\",COUNTIF(BL$4:BL809,BL809))","v":""},"",""]
[null,null,null,null,null,null,null,null,null,null,null,null,null,null,null,null,null,null,null,null,null,null,null,null,null,null,null,null,null,null,null,null,null,null,null,null,null,null,null,null,null,null,null,null,null,null,null,null,null,null,null,null,null,null,null,null,null,null,null,807,"",null,"","",{"$f":"IF(BN810>1,\"\",MAX(BM$3:BM809)+1)","v":""},{"$f":"IF(BL810=\"\",\"\",COUNTIF(BL$4:BL810,BL810))","v":""},"",""]
[null,null,null,null,null,null,null,null,null,null,null,null,null,null,null,null,null,null,null,null,null,null,null,null,null,null,null,null,null,null,null,null,null,null,null,null,null,null,null,null,null,null,null,null,null,null,null,null,null,null,null,null,null,null,null,null,null,null,null,808,"",null,"","",{"$f":"IF(BN811>1,\"\",MAX(BM$3:BM810)+1)","v":""},{"$f":"IF(BL811=\"\",\"\",COUNTIF(BL$4:BL811,BL811))","v":""},"",""]
[null,null,null,null,null,null,null,null,null,null,null,null,null,null,null,null,null,null,null,null,null,null,null,null,null,null,null,null,null,null,null,null,null,null,null,null,null,null,null,null,null,null,null,null,null,null,null,null,null,null,null,null,null,null,null,null,null,null,null,809,"",null,"","",{"$f":"IF(BN812>1,\"\",MAX(BM$3:BM811)+1)","v":""},{"$f":"IF(BL812=\"\",\"\",COUNTIF(BL$4:BL812,BL812))","v":""},"",""]
[null,null,null,null,null,null,null,null,null,null,null,null,null,null,null,null,null,null,null,null,null,null,null,null,null,null,null,null,null,null,null,null,null,null,null,null,null,null,null,null,null,null,null,null,null,null,null,null,null,null,null,null,null,null,null,null,null,null,null,810,"",null,"","",{"$f":"IF(BN813>1,\"\",MAX(BM$3:BM812)+1)","v":""},{"$f":"IF(BL813=\"\",\"\",COUNTIF(BL$4:BL813,BL813))","v":""},"",""]
[null,null,null,null,null,null,null,null,null,null,null,null,null,null,null,null,null,null,null,null,null,null,null,null,null,null,null,null,null,null,null,null,null,null,null,null,null,null,null,null,null,null,null,null,null,null,null,null,null,null,null,null,null,null,null,null,null,null,null,811,"",null,"","",{"$f":"IF(BN814>1,\"\",MAX(BM$3:BM813)+1)","v":""},{"$f":"IF(BL814=\"\",\"\",COUNTIF(BL$4:BL814,BL814))","v":""},"",""]
[null,null,null,null,null,null,null,null,null,null,null,null,null,null,null,null,null,null,null,null,null,null,null,null,null,null,null,null,null,null,null,null,null,null,null,null,null,null,null,null,null,null,null,null,null,null,null,null,null,null,null,null,null,null,null,null,null,null,null,812,"",null,"","",{"$f":"IF(BN815>1,\"\",MAX(BM$3:BM814)+1)","v":""},{"$f":"IF(BL815=\"\",\"\",COUNTIF(BL$4:BL815,BL815))","v":""},"",""]
[null,null,null,null,null,null,null,null,null,null,null,null,null,null,null,null,null,null,null,null,null,null,null,null,null,null,null,null,null,null,null,null,null,null,null,null,null,null,null,null,null,null,null,null,null,null,null,null,null,null,null,null,null,null,null,null,null,null,null,813,"",null,"","",{"$f":"IF(BN816>1,\"\",MAX(BM$3:BM815)+1)","v":""},{"$f":"IF(BL816=\"\",\"\",COUNTIF(BL$4:BL816,BL816))","v":""},"",""]
[null,null,null,null,null,null,null,null,null,null,null,null,null,null,null,null,null,null,null,null,null,null,null,null,null,null,null,null,null,null,null,null,null,null,null,null,null,null,null,null,null,null,null,null,null,null,null,null,null,null,null,null,null,null,null,null,null,null,null,814,"",null,"","",{"$f":"IF(BN817>1,\"\",MAX(BM$3:BM816)+1)","v":""},{"$f":"IF(BL817=\"\",\"\",COUNTIF(BL$4:BL817,BL817))","v":""},"",""]
[null,null,null,null,null,null,null,null,null,null,null,null,null,null,null,null,null,null,null,null,null,null,null,null,null,null,null,null,null,null,null,null,null,null,null,null,null,null,null,null,null,null,null,null,null,null,null,null,null,null,null,null,null,null,null,null,null,null,null,815,"",null,"","",{"$f":"IF(BN818>1,\"\",MAX(BM$3:BM817)+1)","v":""},{"$f":"IF(BL818=\"\",\"\",COUNTIF(BL$4:BL818,BL818))","v":""},"",""]
[null,null,null,null,null,null,null,null,null,null,null,null,null,null,null,null,null,null,null,null,null,null,null,null,null,null,null,null,null,null,null,null,null,null,null,null,null,null,null,null,null,null,null,null,null,null,null,null,null,null,null,null,null,null,null,null,null,null,null,816,"",null,{"$f":"BM819","v":""},{"$f":"IF(B819=\"\",\"\",B819)","v":""},{"$f":"IF(BN819>1,\"\",MAX(BM$3:BM818)+1)","v":""},{"$f":"IF(BL819=\"\",\"\",COUNTIF(BL$4:BL819,BL819))","v":""},"",{"$f":"IF(C819=\"\",\"\",C819)","v":""}]
[null,null,null,null,null,null,null,null,null,null,null,null,null,null,null,null,null,null,null,null,null,null,null,null,null,null,null,null,null,null,null,null,null,null,null,null,null,null,null,null,null,null,null,null,null,null,null,null,null,null,null,null,null,null,null,null,null,null,null,817,"",null,"","",{"$f":"IF(BN820>1,\"\",MAX(BM$3:BM819)+1)","v":""},{"$f":"IF(BL820=\"\",\"\",COUNTIF(BL$4:BL820,BL820))","v":""},"",""]
[null,null,null,null,null,null,null,null,null,null,null,null,null,null,null,null,null,null,null,null,null,null,null,null,null,null,null,null,null,null,null,null,null,null,null,null,null,null,null,null,null,null,null,null,null,null,null,null,null,null,null,null,null,null,null,null,null,null,null,818,"",null,"","",{"$f":"IF(BN821>1,\"\",MAX(BM$3:BM820)+1)","v":""},{"$f":"IF(BL821=\"\",\"\",COUNTIF(BL$4:BL821,BL821))","v":""},"",""]
[null,null,null,null,null,null,null,null,null,null,null,null,null,null,null,null,null,null,null,null,null,null,null,null,null,null,null,null,null,null,null,null,null,null,null,null,null,null,null,null,null,null,null,null,null,null,null,null,null,null,null,null,null,null,null,null,null,null,null,819,"",null,"","",{"$f":"IF(BN822>1,\"\",MAX(BM$3:BM821)+1)","v":""},{"$f":"IF(BL822=\"\",\"\",COUNTIF(BL$4:BL822,BL822))","v":""},"",""]
[null,null,null,null,null,null,null,null,null,null,null,null,null,null,null,null,null,null,null,null,null,null,null,null,null,null,null,null,null,null,null,null,null,null,null,null,null,null,null,null,null,null,null,null,null,null,null,null,null,null,null,null,null,null,null,null,null,null,null,820,"",null,"","",{"$f":"IF(BN823>1,\"\",MAX(BM$3:BM822)+1)","v":""},{"$f":"IF(BL823=\"\",\"\",COUNTIF(BL$4:BL823,BL823))","v":""},"",""]
[null,null,null,null,null,null,null,null,null,null,null,null,null,null,null,null,null,null,null,null,null,null,null,null,null,null,null,null,null,null,null,null,null,null,null,null,null,null,null,null,null,null,null,null,null,null,null,null,null,null,null,null,null,null,null,null,null,null,null,821,"",null,"","",{"$f":"IF(BN824>1,\"\",MAX(BM$3:BM823)+1)","v":""},{"$f":"IF(BL824=\"\",\"\",COUNTIF(BL$4:BL824,BL824))","v":""},"",""]
[null,null,null,null,null,null,null,null,null,null,null,null,null,null,null,null,null,null,null,null,null,null,null,null,null,null,null,null,null,null,null,null,null,null,null,null,null,null,null,null,null,null,null,null,null,null,null,null,null,null,null,null,null,null,null,null,null,null,null,822,"",null,"","",{"$f":"IF(BN825>1,\"\",MAX(BM$3:BM824)+1)","v":""},{"$f":"IF(BL825=\"\",\"\",COUNTIF(BL$4:BL825,BL825))","v":""},"",""]
[null,null,null,null,null,null,null,null,null,null,null,null,null,null,null,null,null,null,null,null,null,null,null,null,null,null,null,null,null,null,null,null,null,null,null,null,null,null,null,null,null,null,null,null,null,null,null,null,null,null,null,null,null,null,null,null,null,null,null,823,"",null,"","",{"$f":"IF(BN826>1,\"\",MAX(BM$3:BM825)+1)","v":""},{"$f":"IF(BL826=\"\",\"\",COUNTIF(BL$4:BL826,BL826))","v":""},"",""]
[null,null,null,null,null,null,null,null,null,null,null,null,null,null,null,null,null,null,null,null,null,null,null,null,null,null,null,null,null,null,null,null,null,null,null,null,null,null,null,null,null,null,null,null,null,null,null,null,null,null,null,null,null,null,null,null,null,null,null,824,"",null,"","",{"$f":"IF(BN827>1,\"\",MAX(BM$3:BM826)+1)","v":""},{"$f":"IF(BL827=\"\",\"\",COUNTIF(BL$4:BL827,BL827))","v":""},"",""]
[null,null,null,null,null,null,null,null,null,null,null,null,null,null,null,null,null,null,null,null,null,null,null,null,null,null,null,null,null,null,null,null,null,null,null,null,null,null,null,null,null,null,null,null,null,null,null,null,null,null,null,null,null,null,null,null,null,null,null,825,"",null,"","",{"$f":"IF(BN828>1,\"\",MAX(BM$3:BM827)+1)","v":""},{"$f":"IF(BL828=\"\",\"\",COUNTIF(BL$4:BL828,BL828))","v":""},"",""]
[null,null,null,null,null,null,null,null,null,null,null,null,null,null,null,null,null,null,null,null,null,null,null,null,null,null,null,null,null,null,null,null,null,null,null,null,null,null,null,null,null,null,null,null,null,null,null,null,null,null,null,null,null,null,null,null,null,null,null,826,"",null,"","",{"$f":"IF(BN829>1,\"\",MAX(BM$3:BM828)+1)","v":""},{"$f":"IF(BL829=\"\",\"\",COUNTIF(BL$4:BL829,BL829))","v":""},"",""]
[null,null,null,null,null,null,null,null,null,null,null,null,null,null,null,null,null,null,null,null,null,null,null,null,null,null,null,null,null,null,null,null,null,null,null,null,null,null,null,null,null,null,null,null,null,null,null,null,null,null,null,null,null,null,null,null,null,null,null,827,"",null,"","",{"$f":"IF(BN830>1,\"\",MAX(BM$3:BM829)+1)","v":""},{"$f":"IF(BL830=\"\",\"\",COUNTIF(BL$4:BL830,BL830))","v":""},"",""]
[null,null,null,null,null,null,null,null,null,null,null,null,null,null,null,null,null,null,null,null,null,null,null,null,null,null,null,null,null,null,null,null,null,null,null,null,null,null,null,null,null,null,null,null,null,null,null,null,null,null,null,null,null,null,null,null,null,null,null,828,"",null,"","",{"$f":"IF(BN831>1,\"\",MAX(BM$3:BM830)+1)","v":""},{"$f":"IF(BL831=\"\",\"\",COUNTIF(BL$4:BL831,BL831))","v":""},"",""]
[null,null,null,null,null,null,null,null,null,null,null,null,null,null,null,null,null,null,null,null,null,null,null,null,null,null,null,null,null,null,null,null,null,null,null,null,null,null,null,null,null,null,null,null,null,null,null,null,null,null,null,null,null,null,null,null,null,null,null,829,"",null,"","",{"$f":"IF(BN832>1,\"\",MAX(BM$3:BM831)+1)","v":""},{"$f":"IF(BL832=\"\",\"\",COUNTIF(BL$4:BL832,BL832))","v":""},"",""]
[null,null,null,null,null,null,null,null,null,null,null,null,null,null,null,null,null,null,null,null,null,null,null,null,null,null,null,null,null,null,null,null,null,null,null,null,null,null,null,null,null,null,null,null,null,null,null,null,null,null,null,null,null,null,null,null,null,null,null,830,"",null,"","",{"$f":"IF(BN833>1,\"\",MAX(BM$3:BM832)+1)","v":""},{"$f":"IF(BL833=\"\",\"\",COUNTIF(BL$4:BL833,BL833))","v":""},"",""]
[null,null,null,null,null,null,null,null,null,null,null,null,null,null,null,null,null,null,null,null,null,null,null,null,null,null,null,null,null,null,null,null,null,null,null,null,null,null,null,null,null,null,null,null,null,null,null,null,null,null,null,null,null,null,null,null,null,null,null,831,"",null,"","",{"$f":"IF(BN834>1,\"\",MAX(BM$3:BM833)+1)","v":""},{"$f":"IF(BL834=\"\",\"\",COUNTIF(BL$4:BL834,BL834))","v":""},"",""]
[null,null,null,null,null,null,null,null,null,null,null,null,null,null,null,null,null,null,null,null,null,null,null,null,null,null,null,null,null,null,null,null,null,null,null,null,null,null,null,null,null,null,null,null,null,null,null,null,null,null,null,null,null,null,null,null,null,null,null,832,"",null,"","",{"$f":"IF(BN835>1,\"\",MAX(BM$3:BM834)+1)","v":""},{"$f":"IF(BL835=\"\",\"\",COUNTIF(BL$4:BL835,BL835))","v":""},"",""]
[null,null,null,null,null,null,null,null,null,null,null,null,null,null,null,null,null,null,null,null,null,null,null,null,null,null,null,null,null,null,null,null,null,null,null,null,null,null,null,null,null,null,null,null,null,null,null,null,null,null,null,null,null,null,null,null,null,null,null,833,{"$f":"IF(BH836>MAX(BK$4:BK$940),\"\",VLOOKUP(BH836,BK$4:BL$940,2,FALSE))","v":""},null,"","",{"$f":"IF(BN836>1,\"\",MAX(BM$3:BM835)+1)","v":""},{"$f":"IF(BL836=\"\",\"\",COUNTIF(BL$4:BL836,BL836))","v":""},{"$f":"IF(BL836=\"\",\"\",thousand*VLOOKUP(BL836,BL$4:BM$940,2,FALSE)+BN836)","v":""},""]
[null,null,null,null,null,null,null,null,null,null,null,null,null,null,null,null,null,null,null,null,null,null,null,null,null,null,null,null,null,null,null,null,null,null,null,null,null,null,null,null,null,null,null,null,null,null,null,null,null,null,null,null,null,null,null,null,null,null,null,834,"",null,"","",{"$f":"IF(BN837>1,\"\",MAX(BM$3:BM836)+1)","v":""},{"$f":"IF(BL837=\"\",\"\",COUNTIF(BL$4:BL837,BL837))","v":""},"",""]
[null,null,null,null,null,null,null,null,null,null,null,null,null,null,null,null,null,null,null,null,null,null,null,null,null,null,null,null,null,null,null,null,null,null,null,null,null,null,null,null,null,null,null,null,null,null,null,null,null,null,null,null,null,null,null,null,null,null,null,835,"",null,"","",{"$f":"IF(BN838>1,\"\",MAX(BM$3:BM837)+1)","v":""},{"$f":"IF(BL838=\"\",\"\",COUNTIF(BL$4:BL838,BL838))","v":""},"",""]
[null,null,null,null,null,null,null,null,null,null,null,null,null,null,null,null,null,null,null,null,null,null,null,null,null,null,null,null,null,null,null,null,null,null,null,null,null,null,null,null,null,null,null,null,null,null,null,null,null,null,null,null,null,null,null,null,null,null,null,836,"",null,"","",{"$f":"IF(BN839>1,\"\",MAX(BM$3:BM838)+1)","v":""},{"$f":"IF(BL839=\"\",\"\",COUNTIF(BL$4:BL839,BL839))","v":""},"",""]
[null,null,null,null,null,null,null,null,null,null,null,null,null,null,null,null,null,null,null,null,null,null,null,null,null,null,null,null,null,null,null,null,null,null,null,null,null,null,null,null,null,null,null,null,null,null,null,null,null,null,null,null,null,null,null,null,null,null,null,837,"",null,"","",{"$f":"IF(BN840>1,\"\",MAX(BM$3:BM839)+1)","v":""},{"$f":"IF(BL840=\"\",\"\",COUNTIF(BL$4:BL840,BL840))","v":""},"",""]
[null,null,null,null,null,null,null,null,null,null,null,null,null,null,null,null,null,null,null,null,null,null,null,null,null,null,null,null,null,null,null,null,null,null,null,null,null,null,null,null,null,null,null,null,null,null,null,null,null,null,null,null,null,null,null,null,null,null,null,838,"",null,"","",{"$f":"IF(BN841>1,\"\",MAX(BM$3:BM840)+1)","v":""},{"$f":"IF(BL841=\"\",\"\",COUNTIF(BL$4:BL841,BL841))","v":""},"",""]
[null,null,null,null,null,null,null,null,null,null,null,null,null,null,null,null,null,null,null,null,null,null,null,null,null,null,null,null,null,null,null,null,null,null,null,null,null,null,null,null,null,null,null,null,null,null,null,null,null,null,null,null,null,null,null,null,null,null,null,839,"",null,"","",{"$f":"IF(BN842>1,\"\",MAX(BM$3:BM841)+1)","v":""},{"$f":"IF(BL842=\"\",\"\",COUNTIF(BL$4:BL842,BL842))","v":""},"",""]
[null,null,null,null,null,null,null,null,null,null,null,null,null,null,null,null,null,null,null,null,null,null,null,null,null,null,null,null,null,null,null,null,null,null,null,null,null,null,null,null,null,null,null,null,null,null,null,null,null,null,null,null,null,null,null,null,null,null,null,840,"",null,"","",{"$f":"IF(BN843>1,\"\",MAX(BM$3:BM842)+1)","v":""},{"$f":"IF(BL843=\"\",\"\",COUNTIF(BL$4:BL843,BL843))","v":""},"",""]
[null,null,null,null,null,null,null,null,null,null,null,null,null,null,null,null,null,null,null,null,null,null,null,null,null,null,null,null,null,null,null,null,null,null,null,null,null,null,null,null,null,null,null,null,null,null,null,null,null,null,null,null,null,null,null,null,null,null,null,841,"",null,"","",{"$f":"IF(BN844>1,\"\",MAX(BM$3:BM843)+1)","v":""},{"$f":"IF(BL844=\"\",\"\",COUNTIF(BL$4:BL844,BL844))","v":""},"",""]
[null,null,null,null,null,null,null,null,null,null,null,null,null,null,null,null,null,null,null,null,null,null,null,null,null,null,null,null,null,null,null,null,null,null,null,null,null,null,null,null,null,null,null,null,null,null,null,null,null,null,null,null,null,null,null,null,null,null,null,842,"",null,"","",{"$f":"IF(BN845>1,\"\",MAX(BM$3:BM844)+1)","v":""},{"$f":"IF(BL845=\"\",\"\",COUNTIF(BL$4:BL845,BL845))","v":""},"",""]
[null,null,null,null,null,null,null,null,null,null,null,null,null,null,null,null,null,null,null,null,null,null,null,null,null,null,null,null,null,null,null,null,null,null,null,null,null,null,null,null,null,null,null,null,null,null,null,null,null,null,null,null,null,null,null,null,null,null,null,843,"",null,"","",{"$f":"IF(BN846>1,\"\",MAX(BM$3:BM845)+1)","v":""},{"$f":"IF(BL846=\"\",\"\",COUNTIF(BL$4:BL846,BL846))","v":""},"",""]
[null,null,null,null,null,null,null,null,null,null,null,null,null,null,null,null,null,null,null,null,null,null,null,null,null,null,null,null,null,null,null,null,null,null,null,null,null,null,null,null,null,null,null,null,null,null,null,null,null,null,null,null,null,null,null,null,null,null,null,844,"",null,"","",{"$f":"IF(BN847>1,\"\",MAX(BM$3:BM846)+1)","v":""},{"$f":"IF(BL847=\"\",\"\",COUNTIF(BL$4:BL847,BL847))","v":""},"",""]
[null,null,null,null,null,null,null,null,null,null,null,null,null,null,null,null,null,null,null,null,null,null,null,null,null,null,null,null,null,null,null,null,null,null,null,null,null,null,null,null,null,null,null,null,null,null,null,null,null,null,null,null,null,null,null,null,null,null,null,845,"",null,"","",{"$f":"IF(BN848>1,\"\",MAX(BM$3:BM847)+1)","v":""},{"$f":"IF(BL848=\"\",\"\",COUNTIF(BL$4:BL848,BL848))","v":""},"",""]
[null,null,null,null,null,null,null,null,null,null,null,null,null,null,null,null,null,null,null,null,null,null,null,null,null,null,null,null,null,null,null,null,null,null,null,null,null,null,null,null,null,null,null,null,null,null,null,null,null,null,null,null,null,null,null,null,null,null,null,846,"",null,"","",{"$f":"IF(BN849>1,\"\",MAX(BM$3:BM848)+1)","v":""},{"$f":"IF(BL849=\"\",\"\",COUNTIF(BL$4:BL849,BL849))","v":""},"",""]
[null,null,null,null,null,null,null,null,null,null,null,null,null,null,null,null,null,null,null,null,null,null,null,null,null,null,null,null,null,null,null,null,null,null,null,null,null,null,null,null,null,null,null,null,null,null,null,null,null,null,null,null,null,null,null,null,null,null,null,847,"",null,"","",{"$f":"IF(BN850>1,\"\",MAX(BM$3:BM849)+1)","v":""},{"$f":"IF(BL850=\"\",\"\",COUNTIF(BL$4:BL850,BL850))","v":""},"",""]
[null,null,null,null,null,null,null,null,null,null,null,null,null,null,null,null,null,null,null,null,null,null,null,null,null,null,null,null,null,null,null,null,null,null,null,null,null,null,null,null,null,null,null,null,null,null,null,null,null,null,null,null,null,null,null,null,null,null,null,848,"",null,"","",{"$f":"IF(BN851>1,\"\",MAX(BM$3:BM850)+1)","v":""},{"$f":"IF(BL851=\"\",\"\",COUNTIF(BL$4:BL851,BL851))","v":""},"",""]
[null,null,null,null,null,null,null,null,null,null,null,null,null,null,null,null,null,null,null,null,null,null,null,null,null,null,null,null,null,null,null,null,null,null,null,null,null,null,null,null,null,null,null,null,null,null,null,null,null,null,null,null,null,null,null,null,null,null,null,849,"",null,"","",{"$f":"IF(BN852>1,\"\",MAX(BM$3:BM851)+1)","v":""},{"$f":"IF(BL852=\"\",\"\",COUNTIF(BL$4:BL852,BL852))","v":""},"",""]
[null,null,null,null,null,null,null,null,null,null,null,null,null,null,null,null,null,null,null,null,null,null,null,null,null,null,null,null,null,null,null,null,null,null,null,null,null,null,null,null,null,null,null,null,null,null,null,null,null,null,null,null,null,null,null,null,null,null,null,850,"",null,"","",{"$f":"IF(BN853>1,\"\",MAX(BM$3:BM852)+1)","v":""},{"$f":"IF(BL853=\"\",\"\",COUNTIF(BL$4:BL853,BL853))","v":""},"",""]
[null,null,null,null,null,null,null,null,null,null,null,null,null,null,null,null,null,null,null,null,null,null,null,null,null,null,null,null,null,null,null,null,null,null,null,null,null,null,null,null,null,null,null,null,null,null,null,null,null,null,null,null,null,null,null,null,null,null,null,851,"",null,"","",{"$f":"IF(BN854>1,\"\",MAX(BM$3:BM853)+1)","v":""},{"$f":"IF(BL854=\"\",\"\",COUNTIF(BL$4:BL854,BL854))","v":""},"",""]
[null,null,null,null,null,null,null,null,null,null,null,null,null,null,null,null,null,null,null,null,null,null,null,null,null,null,null,null,null,null,null,null,null,null,null,null,null,null,null,null,null,null,null,null,null,null,null,null,null,null,null,null,null,null,null,null,null,null,null,852,"",null,"","",{"$f":"IF(BN855>1,\"\",MAX(BM$3:BM854)+1)","v":""},{"$f":"IF(BL855=\"\",\"\",COUNTIF(BL$4:BL855,BL855))","v":""},"",""]
[null,null,null,null,null,null,null,null,null,null,null,null,null,null,null,null,null,null,null,null,null,null,null,null,null,null,null,null,null,null,null,null,null,null,null,null,null,null,null,null,null,null,null,null,null,null,null,null,null,null,null,null,null,null,null,null,null,null,null,853,"",null,"","",{"$f":"IF(BN856>1,\"\",MAX(BM$3:BM855)+1)","v":""},{"$f":"IF(BL856=\"\",\"\",COUNTIF(BL$4:BL856,BL856))","v":""},"",""]
[null,null,null,null,null,null,null,null,null,null,null,null,null,null,null,null,null,null,null,null,null,null,null,null,null,null,null,null,null,null,null,null,null,null,null,null,null,null,null,null,null,null,null,null,null,null,null,null,null,null,null,null,null,null,null,null,null,null,null,854,"",null,"","",{"$f":"IF(BN857>1,\"\",MAX(BM$3:BM856)+1)","v":""},{"$f":"IF(BL857=\"\",\"\",COUNTIF(BL$4:BL857,BL857))","v":""},"",""]
[null,null,null,null,null,null,null,null,null,null,null,null,null,null,null,null,null,null,null,null,null,null,null,null,null,null,null,null,null,null,null,null,null,null,null,null,null,null,null,null,null,null,null,null,null,null,null,null,null,null,null,null,null,null,null,null,null,null,null,855,"",null,"","",{"$f":"IF(BN858>1,\"\",MAX(BM$3:BM857)+1)","v":""},{"$f":"IF(BL858=\"\",\"\",COUNTIF(BL$4:BL858,BL858))","v":""},"",""]
[null,null,null,null,null,null,null,null,null,null,null,null,null,null,null,null,null,null,null,null,null,null,null,null,null,null,null,null,null,null,null,null,null,null,null,null,null,null,null,null,null,null,null,null,null,null,null,null,null,null,null,null,null,null,null,null,null,null,null,856,"",null,"","",{"$f":"IF(BN859>1,\"\",MAX(BM$3:BM858)+1)","v":""},{"$f":"IF(BL859=\"\",\"\",COUNTIF(BL$4:BL859,BL859))","v":""},"",""]
[null,null,null,null,null,null,null,null,null,null,null,null,null,null,null,null,null,null,null,null,null,null,null,null,null,null,null,null,null,null,null,null,null,null,null,null,null,null,null,null,null,null,null,null,null,null,null,null,null,null,null,null,null,null,null,null,null,null,null,857,"",null,"","",{"$f":"IF(BN860>1,\"\",MAX(BM$3:BM859)+1)","v":""},{"$f":"IF(BL860=\"\",\"\",COUNTIF(BL$4:BL860,BL860))","v":""},"",""]
[null,null,null,null,null,null,null,null,null,null,null,null,null,null,null,null,null,null,null,null,null,null,null,null,null,null,null,null,null,null,null,null,null,null,null,null,null,null,null,null,null,null,null,null,null,null,null,null,null,null,null,null,null,null,null,null,null,null,null,858,"",null,"","",{"$f":"IF(BN861>1,\"\",MAX(BM$3:BM860)+1)","v":""},{"$f":"IF(BL861=\"\",\"\",COUNTIF(BL$4:BL861,BL861))","v":""},"",""]
[null,null,null,null,null,null,null,null,null,null,null,null,null,null,null,null,null,null,null,null,null,null,null,null,null,null,null,null,null,null,null,null,null,null,null,null,null,null,null,null,null,null,null,null,null,null,null,null,null,null,null,null,null,null,null,null,null,null,null,859,"",null,"","",{"$f":"IF(BN862>1,\"\",MAX(BM$3:BM861)+1)","v":""},{"$f":"IF(BL862=\"\",\"\",COUNTIF(BL$4:BL862,BL862))","v":""},"",""]
[null,null,null,null,null,null,null,null,null,null,null,null,null,null,null,null,null,null,null,null,null,null,null,null,null,null,null,null,null,null,null,null,null,null,null,null,null,null,null,null,null,null,null,null,null,null,null,null,null,null,null,null,null,null,null,null,null,null,null,860,"",null,"","",{"$f":"IF(BN863>1,\"\",MAX(BM$3:BM862)+1)","v":""},{"$f":"IF(BL863=\"\",\"\",COUNTIF(BL$4:BL863,BL863))","v":""},"",""]
[null,null,null,null,null,null,null,null,null,null,null,null,null,null,null,null,null,null,null,null,null,null,null,null,null,null,null,null,null,null,null,null,null,null,null,null,null,null,null,null,null,null,null,null,null,null,null,null,null,null,null,null,null,null,null,null,null,null,null,861,"",null,"","",{"$f":"IF(BN864>1,\"\",MAX(BM$3:BM863)+1)","v":""},{"$f":"IF(BL864=\"\",\"\",COUNTIF(BL$4:BL864,BL864))","v":""},"",""]
[null,null,null,null,null,null,null,null,null,null,null,null,null,null,null,null,null,null,null,null,null,null,null,null,null,null,null,null,null,null,null,null,null,null,null,null,null,null,null,null,null,null,null,null,null,null,null,null,null,null,null,null,null,null,null,null,null,null,null,862,"",null,"","",{"$f":"IF(BN865>1,\"\",MAX(BM$3:BM864)+1)","v":""},{"$f":"IF(BL865=\"\",\"\",COUNTIF(BL$4:BL865,BL865))","v":""},"",""]
[null,null,null,null,null,null,null,null,null,null,null,null,null,null,null,null,null,null,null,null,null,null,null,null,null,null,null,null,null,null,null,null,null,null,null,null,null,null,null,null,null,null,null,null,null,null,null,null,null,null,null,null,null,null,null,null,null,null,null,863,"",null,"","",{"$f":"IF(BN866>1,\"\",MAX(BM$3:BM865)+1)","v":""},{"$f":"IF(BL866=\"\",\"\",COUNTIF(BL$4:BL866,BL866))","v":""},"",""]
[null,null,null,null,null,null,null,null,null,null,null,null,null,null,null,null,null,null,null,null,null,null,null,null,null,null,null,null,null,null,null,null,null,null,null,null,null,null,null,null,null,null,null,null,null,null,null,null,null,null,null,null,null,null,null,null,null,null,null,864,"",null,"","",{"$f":"IF(BN867>1,\"\",MAX(BM$3:BM866)+1)","v":""},{"$f":"IF(BL867=\"\",\"\",COUNTIF(BL$4:BL867,BL867))","v":""},"",""]
[null,null,null,null,null,null,null,null,null,null,null,null,null,null,null,null,null,null,null,null,null,null,null,null,null,null,null,null,null,null,null,null,null,null,null,null,null,null,null,null,null,null,null,null,null,null,null,null,null,null,null,null,null,null,null,null,null,null,null,865,"",null,"","",{"$f":"IF(BN868>1,\"\",MAX(BM$3:BM867)+1)","v":""},{"$f":"IF(BL868=\"\",\"\",COUNTIF(BL$4:BL868,BL868))","v":""},"",""]
[null,null,null,null,null,null,null,null,null,null,null,null,null,null,null,null,null,null,null,null,null,null,null,null,null,null,null,null,null,null,null,null,null,null,null,null,null,null,null,null,null,null,null,null,null,null,null,null,null,null,null,null,null,null,null,null,null,null,null,866,"",null,"","",{"$f":"IF(BN869>1,\"\",MAX(BM$3:BM868)+1)","v":""},{"$f":"IF(BL869=\"\",\"\",COUNTIF(BL$4:BL869,BL869))","v":""},"",""]
[null,null,null,null,null,null,null,null,null,null,null,null,null,null,null,null,null,null,null,null,null,null,null,null,null,null,null,null,null,null,null,null,null,null,null,null,null,null,null,null,null,null,null,null,null,null,null,null,null,null,null,null,null,null,null,null,null,null,null,867,"",null,"","",{"$f":"IF(BN870>1,\"\",MAX(BM$3:BM869)+1)","v":""},{"$f":"IF(BL870=\"\",\"\",COUNTIF(BL$4:BL870,BL870))","v":""},"",""]
[null,null,null,null,null,null,null,null,null,null,null,null,null,null,null,null,null,null,null,null,null,null,null,null,null,null,null,null,null,null,null,null,null,null,null,null,null,null,null,null,null,null,null,null,null,null,null,null,null,null,null,null,null,null,null,null,null,null,null,868,"",null,"","",{"$f":"IF(BN871>1,\"\",MAX(BM$3:BM870)+1)","v":""},{"$f":"IF(BL871=\"\",\"\",COUNTIF(BL$4:BL871,BL871))","v":""},"",""]
[null,null,null,null,null,null,null,null,null,null,null,null,null,null,null,null,null,null,null,null,null,null,null,null,null,null,null,null,null,null,null,null,null,null,null,null,null,null,null,null,null,null,null,null,null,null,null,null,null,null,null,null,null,null,null,null,null,null,null,869,"",null,"","",{"$f":"IF(BN872>1,\"\",MAX(BM$3:BM871)+1)","v":""},{"$f":"IF(BL872=\"\",\"\",COUNTIF(BL$4:BL872,BL872))","v":""},"",""]
[null,null,null,null,null,null,null,null,null,null,null,null,null,null,null,null,null,null,null,null,null,null,null,null,null,null,null,null,null,null,null,null,null,null,null,null,null,null,null,null,null,null,null,null,null,null,null,null,null,null,null,null,null,null,null,null,null,null,null,870,"",null,"","",{"$f":"IF(BN873>1,\"\",MAX(BM$3:BM872)+1)","v":""},{"$f":"IF(BL873=\"\",\"\",COUNTIF(BL$4:BL873,BL873))","v":""},"",""]
[null,null,null,null,null,null,null,null,null,null,null,null,null,null,null,null,null,null,null,null,null,null,null,null,null,null,null,null,null,null,null,null,null,null,null,null,null,null,null,null,null,null,null,null,null,null,null,null,null,null,null,null,null,null,null,null,null,null,null,871,"",null,"","",{"$f":"IF(BN874>1,\"\",MAX(BM$3:BM873)+1)","v":""},{"$f":"IF(BL874=\"\",\"\",COUNTIF(BL$4:BL874,BL874))","v":""},"",""]
[null,null,null,null,null,null,null,null,null,null,null,null,null,null,null,null,null,null,null,null,null,null,null,null,null,null,null,null,null,null,null,null,null,null,null,null,null,null,null,null,null,null,null,null,null,null,null,null,null,null,null,null,null,null,null,null,null,null,null,872,"",null,"","",{"$f":"IF(BN875>1,\"\",MAX(BM$3:BM874)+1)","v":""},{"$f":"IF(BL875=\"\",\"\",COUNTIF(BL$4:BL875,BL875))","v":""},"",""]
[null,null,null,null,null,null,null,null,null,null,null,null,null,null,null,null,null,null,null,null,null,null,null,null,null,null,null,null,null,null,null,null,null,null,null,null,null,null,null,null,null,null,null,null,null,null,null,null,null,null,null,null,null,null,null,null,null,null,null,873,"",null,"","",{"$f":"IF(BN876>1,\"\",MAX(BM$3:BM875)+1)","v":""},{"$f":"IF(BL876=\"\",\"\",COUNTIF(BL$4:BL876,BL876))","v":""},"",""]
[null,null,null,null,null,null,null,null,null,null,null,null,null,null,null,null,null,null,null,null,null,null,null,null,null,null,null,null,null,null,null,null,null,null,null,null,null,null,null,null,null,null,null,null,null,null,null,null,null,null,null,null,null,null,null,null,null,null,null,874,"",null,"","",{"$f":"IF(BN877>1,\"\",MAX(BM$3:BM876)+1)","v":""},{"$f":"IF(BL877=\"\",\"\",COUNTIF(BL$4:BL877,BL877))","v":""},"",""]
[null,null,null,null,null,null,null,null,null,null,null,null,null,null,null,null,null,null,null,null,null,null,null,null,null,null,null,null,null,null,null,null,null,null,null,null,null,null,null,null,null,null,null,null,null,null,null,null,null,null,null,null,null,null,null,null,null,null,null,875,"",null,"","",{"$f":"IF(BN878>1,\"\",MAX(BM$3:BM877)+1)","v":""},{"$f":"IF(BL878=\"\",\"\",COUNTIF(BL$4:BL878,BL878))","v":""},"",""]
[null,null,null,null,null,null,null,null,null,null,null,null,null,null,null,null,null,null,null,null,null,null,null,null,null,null,null,null,null,null,null,null,null,null,null,null,null,null,null,null,null,null,null,null,null,null,null,null,null,null,null,null,null,null,null,null,null,null,null,876,"",null,"","",{"$f":"IF(BN879>1,\"\",MAX(BM$3:BM878)+1)","v":""},{"$f":"IF(BL879=\"\",\"\",COUNTIF(BL$4:BL879,BL879))","v":""},"",""]
[null,null,null,null,null,null,null,null,null,null,null,null,null,null,null,null,null,null,null,null,null,null,null,null,null,null,null,null,null,null,null,null,null,null,null,null,null,null,null,null,null,null,null,null,null,null,null,null,null,null,null,null,null,null,null,null,null,null,null,877,"",null,"","",{"$f":"IF(BN880>1,\"\",MAX(BM$3:BM879)+1)","v":""},{"$f":"IF(BL880=\"\",\"\",COUNTIF(BL$4:BL880,BL880))","v":""},"",""]
[null,null,null,null,null,null,null,null,null,null,null,null,null,null,null,null,null,null,null,null,null,null,null,null,null,null,null,null,null,null,null,null,null,null,null,null,null,null,null,null,null,null,null,null,null,null,null,null,null,null,null,null,null,null,null,null,null,null,null,878,"",null,"","",{"$f":"IF(BN881>1,\"\",MAX(BM$3:BM880)+1)","v":""},{"$f":"IF(BL881=\"\",\"\",COUNTIF(BL$4:BL881,BL881))","v":""},"",""]
[null,null,null,null,null,null,null,null,null,null,null,null,null,null,null,null,null,null,null,null,null,null,null,null,null,null,null,null,null,null,null,null,null,null,null,null,null,null,null,null,null,null,null,null,null,null,null,null,null,null,null,null,null,null,null,null,null,null,null,879,"",null,"","",{"$f":"IF(BN882>1,\"\",MAX(BM$3:BM881)+1)","v":""},{"$f":"IF(BL882=\"\",\"\",COUNTIF(BL$4:BL882,BL882))","v":""},"",""]
[null,null,null,null,null,null,null,null,null,null,null,null,null,null,null,null,null,null,null,null,null,null,null,null,null,null,null,null,null,null,null,null,null,null,null,null,null,null,null,null,null,null,null,null,null,null,null,null,null,null,null,null,null,null,null,null,null,null,null,880,"",null,{"$f":"BM883","v":""},{"$f":"IF(B883=\"\",\"\",B883)","v":""},{"$f":"IF(BN883>1,\"\",MAX(BM$3:BM882)+1)","v":""},{"$f":"IF(BL883=\"\",\"\",COUNTIF(BL$4:BL883,BL883))","v":""},"",{"$f":"IF(C883=\"\",\"\",C883)","v":""}]
[null,null,null,null,null,null,null,null,null,null,null,null,null,null,null,null,null,null,null,null,null,null,null,null,null,null,null,null,null,null,null,null,null,null,null,null,null,null,null,null,null,null,null,null,null,null,null,null,null,null,null,null,null,null,null,null,null,null,null,881,"",null,"","",{"$f":"IF(BN884>1,\"\",MAX(BM$3:BM883)+1)","v":""},{"$f":"IF(BL884=\"\",\"\",COUNTIF(BL$4:BL884,BL884))","v":""},"",""]
[null,null,null,null,null,null,null,null,null,null,null,null,null,null,null,null,null,null,null,null,null,null,null,null,null,null,null,null,null,null,null,null,null,null,null,null,null,null,null,null,null,null,null,null,null,null,null,null,null,null,null,null,null,null,null,null,null,null,null,882,"",null,"","",{"$f":"IF(BN885>1,\"\",MAX(BM$3:BM884)+1)","v":""},{"$f":"IF(BL885=\"\",\"\",COUNTIF(BL$4:BL885,BL885))","v":""},"",""]
[null,null,null,null,null,null,null,null,null,null,null,null,null,null,null,null,null,null,null,null,null,null,null,null,null,null,null,null,null,null,null,null,null,null,null,null,null,null,null,null,null,null,null,null,null,null,null,null,null,null,null,null,null,null,null,null,null,null,null,883,"",null,"","",{"$f":"IF(BN886>1,\"\",MAX(BM$3:BM885)+1)","v":""},{"$f":"IF(BL886=\"\",\"\",COUNTIF(BL$4:BL886,BL886))","v":""},"",""]
[null,null,null,null,null,null,null,null,null,null,null,null,null,null,null,null,null,null,null,null,null,null,null,null,null,null,null,null,null,null,null,null,null,null,null,null,null,null,null,null,null,null,null,null,null,null,null,null,null,null,null,null,null,null,null,null,null,null,null,884,"",null,"","",{"$f":"IF(BN887>1,\"\",MAX(BM$3:BM886)+1)","v":""},{"$f":"IF(BL887=\"\",\"\",COUNTIF(BL$4:BL887,BL887))","v":""},"",""]
[null,null,null,null,null,null,null,null,null,null,null,null,null,null,null,null,null,null,null,null,null,null,null,null,null,null,null,null,null,null,null,null,null,null,null,null,null,null,null,null,null,null,null,null,null,null,null,null,null,null,null,null,null,null,null,null,null,null,null,885,"",null,"","",{"$f":"IF(BN888>1,\"\",MAX(BM$3:BM887)+1)","v":""},{"$f":"IF(BL888=\"\",\"\",COUNTIF(BL$4:BL888,BL888))","v":""},"",""]
[null,null,null,null,null,null,null,null,null,null,null,null,null,null,null,null,null,null,null,null,null,null,null,null,null,null,null,null,null,null,null,null,null,null,null,null,null,null,null,null,null,null,null,null,null,null,null,null,null,null,null,null,null,null,null,null,null,null,null,886,"",null,"","",{"$f":"IF(BN889>1,\"\",MAX(BM$3:BM888)+1)","v":""},{"$f":"IF(BL889=\"\",\"\",COUNTIF(BL$4:BL889,BL889))","v":""},"",""]
[null,null,null,null,null,null,null,null,null,null,null,null,null,null,null,null,null,null,null,null,null,null,null,null,null,null,null,null,null,null,null,null,null,null,null,null,null,null,null,null,null,null,null,null,null,null,null,null,null,null,null,null,null,null,null,null,null,null,null,887,"",null,"","",{"$f":"IF(BN890>1,\"\",MAX(BM$3:BM889)+1)","v":""},{"$f":"IF(BL890=\"\",\"\",COUNTIF(BL$4:BL890,BL890))","v":""},"",""]
[null,null,null,null,null,null,null,null,null,null,null,null,null,null,null,null,null,null,null,null,null,null,null,null,null,null,null,null,null,null,null,null,null,null,null,null,null,null,null,null,null,null,null,null,null,null,null,null,null,null,null,null,null,null,null,null,null,null,null,888,"",null,"","",{"$f":"IF(BN891>1,\"\",MAX(BM$3:BM890)+1)","v":""},{"$f":"IF(BL891=\"\",\"\",COUNTIF(BL$4:BL891,BL891))","v":""},"",""]
[null,null,null,null,null,null,null,null,null,null,null,null,null,null,null,null,null,null,null,null,null,null,null,null,null,null,null,null,null,null,null,null,null,null,null,null,null,null,null,null,null,null,null,null,null,null,null,null,null,null,null,null,null,null,null,null,null,null,null,889,"",null,"","",{"$f":"IF(BN892>1,\"\",MAX(BM$3:BM891)+1)","v":""},{"$f":"IF(BL892=\"\",\"\",COUNTIF(BL$4:BL892,BL892))","v":""},"",""]
[null,null,null,null,null,null,null,null,null,null,null,null,null,null,null,null,null,null,null,null,null,null,null,null,null,null,null,null,null,null,null,null,null,null,null,null,null,null,null,null,null,null,null,null,null,null,null,null,null,null,null,null,null,null,null,null,null,null,null,890,"",null,"","",{"$f":"IF(BN893>1,\"\",MAX(BM$3:BM892)+1)","v":""},{"$f":"IF(BL893=\"\",\"\",COUNTIF(BL$4:BL893,BL893))","v":""},"",""]
[null,null,null,null,null,null,null,null,null,null,null,null,null,null,null,null,null,null,null,null,null,null,null,null,null,null,null,null,null,null,null,null,null,null,null,null,null,null,null,null,null,null,null,null,null,null,null,null,null,null,null,null,null,null,null,null,null,null,null,891,"",null,"","",{"$f":"IF(BN894>1,\"\",MAX(BM$3:BM893)+1)","v":""},{"$f":"IF(BL894=\"\",\"\",COUNTIF(BL$4:BL894,BL894))","v":""},"",""]
[null,null,null,null,null,null,null,null,null,null,null,null,null,null,null,null,null,null,null,null,null,null,null,null,null,null,null,null,null,null,null,null,null,null,null,null,null,null,null,null,null,null,null,null,null,null,null,null,null,null,null,null,null,null,null,null,null,null,null,892,"",null,"","",{"$f":"IF(BN895>1,\"\",MAX(BM$3:BM894)+1)","v":""},{"$f":"IF(BL895=\"\",\"\",COUNTIF(BL$4:BL895,BL895))","v":""},"",""]
[null,null,null,null,null,null,null,null,null,null,null,null,null,null,null,null,null,null,null,null,null,null,null,null,null,null,null,null,null,null,null,null,null,null,null,null,null,null,null,null,null,null,null,null,null,null,null,null,null,null,null,null,null,null,null,null,null,null,null,893,"",null,"","",{"$f":"IF(BN896>1,\"\",MAX(BM$3:BM895)+1)","v":""},{"$f":"IF(BL896=\"\",\"\",COUNTIF(BL$4:BL896,BL896))","v":""},"",""]
[null,null,null,null,null,null,null,null,null,null,null,null,null,null,null,null,null,null,null,null,null,null,null,null,null,null,null,null,null,null,null,null,null,null,null,null,null,null,null,null,null,null,null,null,null,null,null,null,null,null,null,null,null,null,null,null,null,null,null,894,"",null,"","",{"$f":"IF(BN897>1,\"\",MAX(BM$3:BM896)+1)","v":""},{"$f":"IF(BL897=\"\",\"\",COUNTIF(BL$4:BL897,BL897))","v":""},"",""]
[null,null,null,null,null,null,null,null,null,null,null,null,null,null,null,null,null,null,null,null,null,null,null,null,null,null,null,null,null,null,null,null,null,null,null,null,null,null,null,null,null,null,null,null,null,null,null,null,null,null,null,null,null,null,null,null,null,null,null,895,"",null,"","",{"$f":"IF(BN898>1,\"\",MAX(BM$3:BM897)+1)","v":""},{"$f":"IF(BL898=\"\",\"\",COUNTIF(BL$4:BL898,BL898))","v":""},"",""]
[null,null,null,null,null,null,null,null,null,null,null,null,null,null,null,null,null,null,null,null,null,null,null,null,null,null,null,null,null,null,null,null,null,null,null,null,null,null,null,null,null,null,null,null,null,null,null,null,null,null,null,null,null,null,null,null,null,null,null,896,"",null,"","",{"$f":"IF(BN899>1,\"\",MAX(BM$3:BM898)+1)","v":""},{"$f":"IF(BL899=\"\",\"\",COUNTIF(BL$4:BL899,BL899))","v":""},"",""]
[null,null,null,null,null,null,null,null,null,null,null,null,null,null,null,null,null,null,null,null,null,null,null,null,null,null,null,null,null,null,null,null,null,null,null,null,null,null,null,null,null,null,null,null,null,null,null,null,null,null,null,null,null,null,null,null,null,null,null,897,{"$f":"IF(BH900>MAX(BK$4:BK$940),\"\",VLOOKUP(BH900,BK$4:BL$940,2,FALSE))","v":""},null,"","",{"$f":"IF(BN900>1,\"\",MAX(BM$3:BM899)+1)","v":""},{"$f":"IF(BL900=\"\",\"\",COUNTIF(BL$4:BL900,BL900))","v":""},{"$f":"IF(BL900=\"\",\"\",thousand*VLOOKUP(BL900,BL$4:BM$940,2,FALSE)+BN900)","v":""},""]
[null,null,null,null,null,null,null,null,null,null,null,null,null,null,null,null,null,null,null,null,null,null,null,null,null,null,null,null,null,null,null,null,null,null,null,null,null,null,null,null,null,null,null,null,null,null,null,null,null,null,null,null,null,null,null,null,null,null,null,898,"",null,"","",{"$f":"IF(BN901>1,\"\",MAX(BM$3:BM900)+1)","v":""},{"$f":"IF(BL901=\"\",\"\",COUNTIF(BL$4:BL901,BL901))","v":""},"",""]
[null,null,null,null,null,null,null,null,null,null,null,null,null,null,null,null,null,null,null,null,null,null,null,null,null,null,null,null,null,null,null,null,null,null,null,null,null,null,null,null,null,null,null,null,null,null,null,null,null,null,null,null,null,null,null,null,null,null,null,899,"",null,"","",{"$f":"IF(BN902>1,\"\",MAX(BM$3:BM901)+1)","v":""},{"$f":"IF(BL902=\"\",\"\",COUNTIF(BL$4:BL902,BL902))","v":""},"",""]
[null,null,null,null,null,null,null,null,null,null,null,null,null,null,null,null,null,null,null,null,null,null,null,null,null,null,null,null,null,null,null,null,null,null,null,null,null,null,null,null,null,null,null,null,null,null,null,null,null,null,null,null,null,null,null,null,null,null,null,900,"",null,"","",{"$f":"IF(BN903>1,\"\",MAX(BM$3:BM902)+1)","v":""},{"$f":"IF(BL903=\"\",\"\",COUNTIF(BL$4:BL903,BL903))","v":""},"",""]
[null,null,null,null,null,null,null,null,null,null,null,null,null,null,null,null,null,null,null,null,null,null,null,null,null,null,null,null,null,null,null,null,null,null,null,null,null,null,null,null,null,null,null,null,null,null,null,null,null,null,null,null,null,null,null,null,null,null,null,901,"",null,"","",{"$f":"IF(BN904>1,\"\",MAX(BM$3:BM903)+1)","v":""},{"$f":"IF(BL904=\"\",\"\",COUNTIF(BL$4:BL904,BL904))","v":""},"",""]
[null,null,null,null,null,null,null,null,null,null,null,null,null,null,null,null,null,null,null,null,null,null,null,null,null,null,null,null,null,null,null,null,null,null,null,null,null,null,null,null,null,null,null,null,null,null,null,null,null,null,null,null,null,null,null,null,null,null,null,902,"",null,"","",{"$f":"IF(BN905>1,\"\",MAX(BM$3:BM904)+1)","v":""},{"$f":"IF(BL905=\"\",\"\",COUNTIF(BL$4:BL905,BL905))","v":""},"",""]
[null,null,null,null,null,null,null,null,null,null,null,null,null,null,null,null,null,null,null,null,null,null,null,null,null,null,null,null,null,null,null,null,null,null,null,null,null,null,null,null,null,null,null,null,null,null,null,null,null,null,null,null,null,null,null,null,null,null,null,903,"",null,"","",{"$f":"IF(BN906>1,\"\",MAX(BM$3:BM905)+1)","v":""},{"$f":"IF(BL906=\"\",\"\",COUNTIF(BL$4:BL906,BL906))","v":""},"",""]
[null,null,null,null,null,null,null,null,null,null,null,null,null,null,null,null,null,null,null,null,null,null,null,null,null,null,null,null,null,null,null,null,null,null,null,null,null,null,null,null,null,null,null,null,null,null,null,null,null,null,null,null,null,null,null,null,null,null,null,904,"",null,"","",{"$f":"IF(BN907>1,\"\",MAX(BM$3:BM906)+1)","v":""},{"$f":"IF(BL907=\"\",\"\",COUNTIF(BL$4:BL907,BL907))","v":""},"",""]
[null,null,null,null,null,null,null,null,null,null,null,null,null,null,null,null,null,null,null,null,null,null,null,null,null,null,null,null,null,null,null,null,null,null,null,null,null,null,null,null,null,null,null,null,null,null,null,null,null,null,null,null,null,null,null,null,null,null,null,905,"",null,"","",{"$f":"IF(BN908>1,\"\",MAX(BM$3:BM907)+1)","v":""},{"$f":"IF(BL908=\"\",\"\",COUNTIF(BL$4:BL908,BL908))","v":""},"",""]
[null,null,null,null,null,null,null,null,null,null,null,null,null,null,null,null,null,null,null,null,null,null,null,null,null,null,null,null,null,null,null,null,null,null,null,null,null,null,null,null,null,null,null,null,null,null,null,null,null,null,null,null,null,null,null,null,null,null,null,906,"",null,"","",{"$f":"IF(BN909>1,\"\",MAX(BM$3:BM908)+1)","v":""},{"$f":"IF(BL909=\"\",\"\",COUNTIF(BL$4:BL909,BL909))","v":""},"",""]
[null,null,null,null,null,null,null,null,null,null,null,null,null,null,null,null,null,null,null,null,null,null,null,null,null,null,null,null,null,null,null,null,null,null,null,null,null,null,null,null,null,null,null,null,null,null,null,null,null,null,null,null,null,null,null,null,null,null,null,907,"",null,"","",{"$f":"IF(BN910>1,\"\",MAX(BM$3:BM909)+1)","v":""},{"$f":"IF(BL910=\"\",\"\",COUNTIF(BL$4:BL910,BL910))","v":""},"",""]
[null,null,null,null,null,null,null,null,null,null,null,null,null,null,null,null,null,null,null,null,null,null,null,null,null,null,null,null,null,null,null,null,null,null,null,null,null,null,null,null,null,null,null,null,null,null,null,null,null,null,null,null,null,null,null,null,null,null,null,908,"",null,"","",{"$f":"IF(BN911>1,\"\",MAX(BM$3:BM910)+1)","v":""},{"$f":"IF(BL911=\"\",\"\",COUNTIF(BL$4:BL911,BL911))","v":""},"",""]
[null,null,null,null,null,null,null,null,null,null,null,null,null,null,null,null,null,null,null,null,null,null,null,null,null,null,null,null,null,null,null,null,null,null,null,null,null,null,null,null,null,null,null,null,null,null,null,null,null,null,null,null,null,null,null,null,null,null,null,909,"",null,"","",{"$f":"IF(BN912>1,\"\",MAX(BM$3:BM911)+1)","v":""},{"$f":"IF(BL912=\"\",\"\",COUNTIF(BL$4:BL912,BL912))","v":""},"",""]
[null,null,null,null,null,null,null,null,null,null,null,null,null,null,null,null,null,null,null,null,null,null,null,null,null,null,null,null,null,null,null,null,null,null,null,null,null,null,null,null,null,null,null,null,null,null,null,null,null,null,null,null,null,null,null,null,null,null,null,910,"",null,"","",{"$f":"IF(BN913>1,\"\",MAX(BM$3:BM912)+1)","v":""},{"$f":"IF(BL913=\"\",\"\",COUNTIF(BL$4:BL913,BL913))","v":""},"",""]
[null,null,null,null,null,null,null,null,null,null,null,null,null,null,null,null,null,null,null,null,null,null,null,null,null,null,null,null,null,null,null,null,null,null,null,null,null,null,null,null,null,null,null,null,null,null,null,null,null,null,null,null,null,null,null,null,null,null,null,911,"",null,"","",{"$f":"IF(BN914>1,\"\",MAX(BM$3:BM913)+1)","v":""},{"$f":"IF(BL914=\"\",\"\",COUNTIF(BL$4:BL914,BL914))","v":""},"",""]
[null,null,null,null,null,null,null,null,null,null,null,null,null,null,null,null,null,null,null,null,null,null,null,null,null,null,null,null,null,null,null,null,null,null,null,null,null,null,null,null,null,null,null,null,null,null,null,null,null,null,null,null,null,null,null,null,null,null,null,912,"",null,"","",{"$f":"IF(BN915>1,\"\",MAX(BM$3:BM914)+1)","v":""},{"$f":"IF(BL915=\"\",\"\",COUNTIF(BL$4:BL915,BL915))","v":""},"",""]
[null,null,null,null,null,null,null,null,null,null,null,null,null,null,null,null,null,null,null,null,null,null,null,null,null,null,null,null,null,null,null,null,null,null,null,null,null,null,null,null,null,null,null,null,null,null,null,null,null,null,null,null,null,null,null,null,null,null,null,913,"",null,"","",{"$f":"IF(BN916>1,\"\",MAX(BM$3:BM915)+1)","v":""},{"$f":"IF(BL916=\"\",\"\",COUNTIF(BL$4:BL916,BL916))","v":""},"",""]
[null,null,null,null,null,null,null,null,null,null,null,null,null,null,null,null,null,null,null,null,null,null,null,null,null,null,null,null,null,null,null,null,null,null,null,null,null,null,null,null,null,null,null,null,null,null,null,null,null,null,null,null,null,null,null,null,null,null,null,914,"",null,"","",{"$f":"IF(BN917>1,\"\",MAX(BM$3:BM916)+1)","v":""},{"$f":"IF(BL917=\"\",\"\",COUNTIF(BL$4:BL917,BL917))","v":""},"",""]
[null,null,null,null,null,null,null,null,null,null,null,null,null,null,null,null,null,null,null,null,null,null,null,null,null,null,null,null,null,null,null,null,null,null,null,null,null,null,null,null,null,null,null,null,null,null,null,null,null,null,null,null,null,null,null,null,null,null,null,915,"",null,"","",{"$f":"IF(BN918>1,\"\",MAX(BM$3:BM917)+1)","v":""},{"$f":"IF(BL918=\"\",\"\",COUNTIF(BL$4:BL918,BL918))","v":""},"",""]
[null,null,null,null,null,null,null,null,null,null,null,null,null,null,null,null,null,null,null,null,null,null,null,null,null,null,null,null,null,null,null,null,null,null,null,null,null,null,null,null,null,null,null,null,null,null,null,null,null,null,null,null,null,null,null,null,null,null,null,916,"",null,"","",{"$f":"IF(BN919>1,\"\",MAX(BM$3:BM918)+1)","v":""},{"$f":"IF(BL919=\"\",\"\",COUNTIF(BL$4:BL919,BL919))","v":""},"",""]
[null,null,null,null,null,null,null,null,null,null,null,null,null,null,null,null,null,null,null,null,null,null,null,null,null,null,null,null,null,null,null,null,null,null,null,null,null,null,null,null,null,null,null,null,null,null,null,null,null,null,null,null,null,null,null,null,null,null,null,917,"",null,"","",{"$f":"IF(BN920>1,\"\",MAX(BM$3:BM919)+1)","v":""},{"$f":"IF(BL920=\"\",\"\",COUNTIF(BL$4:BL920,BL920))","v":""},"",""]
[null,null,null,null,null,null,null,null,null,null,null,null,null,null,null,null,null,null,null,null,null,null,null,null,null,null,null,null,null,null,null,null,null,null,null,null,null,null,null,null,null,null,null,null,null,null,null,null,null,null,null,null,null,null,null,null,null,null,null,918,"",null,"","",{"$f":"IF(BN921>1,\"\",MAX(BM$3:BM920)+1)","v":""},{"$f":"IF(BL921=\"\",\"\",COUNTIF(BL$4:BL921,BL921))","v":""},"",""]
[null,null,null,null,null,null,null,null,null,null,null,null,null,null,null,null,null,null,null,null,null,null,null,null,null,null,null,null,null,null,null,null,null,null,null,null,null,null,null,null,null,null,null,null,null,null,null,null,null,null,null,null,null,null,null,null,null,null,null,919,"",null,"","",{"$f":"IF(BN922>1,\"\",MAX(BM$3:BM921)+1)","v":""},{"$f":"IF(BL922=\"\",\"\",COUNTIF(BL$4:BL922,BL922))","v":""},"",""]
[null,null,null,null,null,null,null,null,null,null,null,null,null,null,null,null,null,null,null,null,null,null,null,null,null,null,null,null,null,null,null,null,null,null,null,null,null,null,null,null,null,null,null,null,null,null,null,null,null,null,null,null,null,null,null,null,null,null,null,920,"",null,"","",{"$f":"IF(BN923>1,\"\",MAX(BM$3:BM922)+1)","v":""},{"$f":"IF(BL923=\"\",\"\",COUNTIF(BL$4:BL923,BL923))","v":""},"",""]
[null,null,null,null,null,null,null,null,null,null,null,null,null,null,null,null,null,null,null,null,null,null,null,null,null,null,null,null,null,null,null,null,null,null,null,null,null,null,null,null,null,null,null,null,null,null,null,null,null,null,null,null,null,null,null,null,null,null,null,921,"",null,"","",{"$f":"IF(BN924>1,\"\",MAX(BM$3:BM923)+1)","v":""},{"$f":"IF(BL924=\"\",\"\",COUNTIF(BL$4:BL924,BL924))","v":""},"",""]
[null,null,null,null,null,null,null,null,null,null,null,null,null,null,null,null,null,null,null,null,null,null,null,null,null,null,null,null,null,null,null,null,null,null,null,null,null,null,null,null,null,null,null,null,null,null,null,null,null,null,null,null,null,null,null,null,null,null,null,922,"",null,"","",{"$f":"IF(BN925>1,\"\",MAX(BM$3:BM924)+1)","v":""},{"$f":"IF(BL925=\"\",\"\",COUNTIF(BL$4:BL925,BL925))","v":""},"",""]
[null,null,null,null,null,null,null,null,null,null,null,null,null,null,null,null,null,null,null,null,null,null,null,null,null,null,null,null,null,null,null,null,null,null,null,null,null,null,null,null,null,null,null,null,null,null,null,null,null,null,null,null,null,null,null,null,null,null,null,923,"",null,"","",{"$f":"IF(BN926>1,\"\",MAX(BM$3:BM925)+1)","v":""},{"$f":"IF(BL926=\"\",\"\",COUNTIF(BL$4:BL926,BL926))","v":""},"",""]
[null,null,null,null,null,null,null,null,null,null,null,null,null,null,null,null,null,null,null,null,null,null,null,null,null,null,null,null,null,null,null,null,null,null,null,null,null,null,null,null,null,null,null,null,null,null,null,null,null,null,null,null,null,null,null,null,null,null,null,924,"",null,"","",{"$f":"IF(BN927>1,\"\",MAX(BM$3:BM926)+1)","v":""},{"$f":"IF(BL927=\"\",\"\",COUNTIF(BL$4:BL927,BL927))","v":""},"",""]
[null,null,null,null,null,null,null,null,null,null,null,null,null,null,null,null,null,null,null,null,null,null,null,null,null,null,null,null,null,null,null,null,null,null,null,null,null,null,null,null,null,null,null,null,null,null,null,null,null,null,null,null,null,null,null,null,null,null,null,925,"",null,"","",{"$f":"IF(BN928>1,\"\",MAX(BM$3:BM927)+1)","v":""},{"$f":"IF(BL928=\"\",\"\",COUNTIF(BL$4:BL928,BL928))","v":""},"",""]
[null,null,null,null,null,null,null,null,null,null,null,null,null,null,null,null,null,null,null,null,null,null,null,null,null,null,null,null,null,null,null,null,null,null,null,null,null,null,null,null,null,null,null,null,null,null,null,null,null,null,null,null,null,null,null,null,null,null,null,926,"",null,"","",{"$f":"IF(BN929>1,\"\",MAX(BM$3:BM928)+1)","v":""},{"$f":"IF(BL929=\"\",\"\",COUNTIF(BL$4:BL929,BL929))","v":""},"",""]
[null,null,null,null,null,null,null,null,null,null,null,null,null,null,null,null,null,null,null,null,null,null,null,null,null,null,null,null,null,null,null,null,null,null,null,null,null,null,null,null,null,null,null,null,null,null,null,null,null,null,null,null,null,null,null,null,null,null,null,927,"",null,"","",{"$f":"IF(BN930>1,\"\",MAX(BM$3:BM929)+1)","v":""},{"$f":"IF(BL930=\"\",\"\",COUNTIF(BL$4:BL930,BL930))","v":""},"",""]
[null,null,null,null,null,null,null,null,null,null,null,null,null,null,null,null,null,null,null,null,null,null,null,null,null,null,null,null,null,null,null,null,null,null,null,null,null,null,null,null,null,null,null,null,null,null,null,null,null,null,null,null,null,null,null,null,null,null,null,928,"",null,"","",{"$f":"IF(BN931>1,\"\",MAX(BM$3:BM930)+1)","v":""},{"$f":"IF(BL931=\"\",\"\",COUNTIF(BL$4:BL931,BL931))","v":""},"",""]
[null,null,null,null,null,null,null,null,null,null,null,null,null,null,null,null,null,null,null,null,null,null,null,null,null,null,null,null,null,null,null,null,null,null,null,null,null,null,null,null,null,null,null,null,null,null,null,null,null,null,null,null,null,null,null,null,null,null,null,929,"",null,"","",{"$f":"IF(BN932>1,\"\",MAX(BM$3:BM931)+1)","v":""},{"$f":"IF(BL932=\"\",\"\",COUNTIF(BL$4:BL932,BL932))","v":""},"",""]
[null,null,null,null,null,null,null,null,null,null,null,null,null,null,null,null,null,null,null,null,null,null,null,null,null,null,null,null,null,null,null,null,null,null,null,null,null,null,null,null,null,null,null,null,null,null,null,null,null,null,null,null,null,null,null,null,null,null,null,930,"",null,"","",{"$f":"IF(BN933>1,\"\",MAX(BM$3:BM932)+1)","v":""},{"$f":"IF(BL933=\"\",\"\",COUNTIF(BL$4:BL933,BL933))","v":""},"",""]
[null,null,null,null,null,null,null,null,null,null,null,null,null,null,null,null,null,null,null,null,null,null,null,null,null,null,null,null,null,null,null,null,null,null,null,null,null,null,null,null,null,null,null,null,null,null,null,null,null,null,null,null,null,null,null,null,null,null,null,931,"",null,"","",{"$f":"IF(BN934>1,\"\",MAX(BM$3:BM933)+1)","v":""},{"$f":"IF(BL934=\"\",\"\",COUNTIF(BL$4:BL934,BL934))","v":""},"",""]
[null,null,null,null,null,null,null,null,null,null,null,null,null,null,null,null,null,null,null,null,null,null,null,null,null,null,null,null,null,null,null,null,null,null,null,null,null,null,null,null,null,null,null,null,null,null,null,null,null,null,null,null,null,null,null,null,null,null,null,932,"",null,"","",{"$f":"IF(BN935>1,\"\",MAX(BM$3:BM934)+1)","v":""},{"$f":"IF(BL935=\"\",\"\",COUNTIF(BL$4:BL935,BL935))","v":""},"",""]
[null,null,null,null,null,null,null,null,null,null,null,null,null,null,null,null,null,null,null,null,null,null,null,null,null,null,null,null,null,null,null,null,null,null,null,null,null,null,null,null,null,null,null,null,null,null,null,null,null,null,null,null,null,null,null,null,null,null,null,933,"",null,"","",{"$f":"IF(BN936>1,\"\",MAX(BM$3:BM935)+1)","v":""},{"$f":"IF(BL936=\"\",\"\",COUNTIF(BL$4:BL936,BL936))","v":""},"",""]
[null,null,null,null,null,null,null,null,null,null,null,null,null,null,null,null,null,null,null,null,null,null,null,null,null,null,null,null,null,null,null,null,null,null,null,null,null,null,null,null,null,null,null,null,null,null,null,null,null,null,null,null,null,null,null,null,null,null,null,934,"",null,"","",{"$f":"IF(BN937>1,\"\",MAX(BM$3:BM936)+1)","v":""},{"$f":"IF(BL937=\"\",\"\",COUNTIF(BL$4:BL937,BL937))","v":""},"",""]
[null,null,null,null,null,null,null,null,null,null,null,null,null,null,null,null,null,null,null,null,null,null,null,null,null,null,null,null,null,null,null,null,null,null,null,null,null,null,null,null,null,null,null,null,null,null,null,null,null,null,null,null,null,null,null,null,null,null,null,935,"",null,"","",{"$f":"IF(BN938>1,\"\",MAX(BM$3:BM937)+1)","v":""},{"$f":"IF(BL938=\"\",\"\",COUNTIF(BL$4:BL938,BL938))","v":""},"",""]
[null,null,null,null,null,null,null,null,null,null,null,null,null,null,null,null,null,null,null,null,null,null,null,null,null,null,null,null,null,null,null,null,null,null,null,null,null,null,null,null,null,null,null,null,null,null,null,null,null,null,null,null,null,null,null,null,null,null,null,936,"",null,"","",{"$f":"IF(BN939>1,\"\",MAX(BM$3:BM938)+1)","v":""},{"$f":"IF(BL939=\"\",\"\",COUNTIF(BL$4:BL939,BL939))","v":""},"",""]
[null,null,null,null,null,null,null,null,null,null,null,null,null,null,null,null,null,null,null,null,null,null,null,null,null,null,null,null,null,null,null,null,null,null,null,null,null,null,null,null,null,null,null,null,null,null,null,null,null,null,null,null,null,null,null,null,null,null,null,937,"",null,"","",{"$f":"IF(BN940>1,\"\",MAX(BM$3:BM939)+1)","v":""},{"$f":"IF(BL940=\"\",\"\",COUNTIF(BL$4:BL940,BL940))","v":""},"",""]
[null,null,null,null,null,null,null,null,null,null,null,null,null,null,null,null,null,null,null,null,null,null,null,null,null,null,null,null,null,null,null,null,null,null,null,null,null,null,null,null,null,null,null,null,null,null,null,null,null,null,null,null,null,null,null,null,null,null,null,938]
[null,null,null,null,null,null,null,null,null,null,null,null,null,null,null,null,null,null,null,null,null,null,null,null,null,null,null,null,null,null,null,null,null,null,null,null,null,null,null,null,null,null,null,null,null,null,null,null,null,null,null,null,null,null,null,null,null,null,null,939]
[null,null,null,null,null,null,null,null,null,null,null,null,null,null,null,null,null,null,null,null,null,null,null,null,null,null,null,null,null,null,null,null,null,null,null,null,null,null,null,null,null,null,null,null,null,null,null,null,null,null,null,null,null,null,null,null,null,null,null,940]
[null,null,null,null,null,null,null,null,null,null,null,null,null,null,null,null,null,null,null,null,null,null,null,null,null,null,null,null,null,null,null,null,null,null,null,null,null,null,null,null,null,null,null,null,null,null,null,null,null,null,null,null,null,null,null,null,null,null,null,941]
[null,null,null,null,null,null,null,null,null,null,null,null,null,null,null,null,null,null,null,null,null,null,null,null,null,null,null,null,null,null,null,null,null,null,null,null,null,null,null,null,null,null,null,null,null,null,null,null,null,null,null,null,null,null,null,null,null,null,null,942]
[null,null,null,null,null,null,null,null,null,null,null,null,null,null,null,null,null,null,null,null,null,null,null,null,null,null,null,null,null,null,null,null,null,null,null,null,null,null,null,null,null,null,null,null,null,null,null,null,null,null,null,null,null,null,null,null,null,null,null,943]
[null,null,null,null,null,null,null,null,null,null,null,null,null,null,null,null,null,null,null,null,null,null,null,null,null,null,null,null,null,null,null,null,null,null,null,null,null,null,null,null,null,null,null,null,null,null,null,null,null,null,null,null,null,null,null,null,null,null,null,944]
[null,null,null,null,null,null,null,null,null,null,null,null,null,null,null,null,null,null,null,null,null,null,null,null,null,null,null,null,null,null,null,null,null,null,null,null,null,null,null,null,null,null,null,null,null,null,null,null,null,null,null,null,null,null,null,null,null,null,null,945]
[null,null,null,null,null,null,null,null,null,null,null,null,null,null,null,null,null,null,null,null,null,null,null,null,null,null,null,null,null,null,null,null,null,null,null,null,null,null,null,null,null,null,null,null,null,null,null,null,null,null,null,null,null,null,null,null,null,null,null,946]
[null,null,null,null,null,null,null,null,null,null,null,null,null,null,null,null,null,null,null,null,null,null,null,null,null,null,null,null,null,null,null,null,null,null,null,null,null,null,null,null,null,null,null,null,null,null,null,null,null,null,null,null,null,null,null,null,null,null,null,947]
[null,null,null,null,null,null,null,null,null,null,null,null,null,null,null,null,null,null,null,null,null,null,null,null,null,null,null,null,null,null,null,null,null,null,null,null,null,null,null,null,null,null,null,null,null,null,null,null,null,null,null,null,null,null,null,null,null,null,null,948]
[null,null,null,null,null,null,null,null,null,null,null,null,null,null,null,null,null,null,null,null,null,null,null,null,null,null,null,null,null,null,null,null,null,null,null,null,null,null,null,null,null,null,null,null,null,null,null,null,null,null,null,null,null,null,null,null,null,null,null,949]
[null,null,null,null,null,null,null,null,null,null,null,null,null,null,null,null,null,null,null,null,null,null,null,null,null,null,null,null,null,null,null,null,null,null,null,null,null,null,null,null,null,null,null,null,null,null,null,null,null,null,null,null,null,null,null,null,null,null,null,950]
[null,null,null,null,null,null,null,null,null,null,null,null,null,null,null,null,null,null,null,null,null,null,null,null,null,null,null,null,null,null,null,null,null,null,null,null,null,null,null,null,null,null,null,null,null,null,null,null,null,null,null,null,null,null,null,null,null,null,null,951]
[null,null,null,null,null,null,null,null,null,null,null,null,null,null,null,null,null,null,null,null,null,null,null,null,null,null,null,null,null,null,null,null,null,null,null,null,null,null,null,null,null,null,null,null,null,null,null,null,null,null,null,null,null,null,null,null,null,null,null,952]
[null,null,null,null,null,null,null,null,null,null,null,null,null,null,null,null,null,null,null,null,null,null,null,null,null,null,null,null,null,null,null,null,null,null,null,null,null,null,null,null,null,null,null,null,null,null,null,null,null,null,null,null,null,null,null,null,null,null,null,953]
[null,null,null,null,null,null,null,null,null,null,null,null,null,null,null,null,null,null,null,null,null,null,null,null,null,null,null,null,null,null,null,null,null,null,null,null,null,null,null,null,null,null,null,null,null,null,null,null,null,null,null,null,null,null,null,null,null,null,null,954]
[null,null,null,null,null,null,null,null,null,null,null,null,null,null,null,null,null,null,null,null,null,null,null,null,null,null,null,null,null,null,null,null,null,null,null,null,null,null,null,null,null,null,null,null,null,null,null,null,null,null,null,null,null,null,null,null,null,null,null,955]
[null,null,null,null,null,null,null,null,null,null,null,null,null,null,null,null,null,null,null,null,null,null,null,null,null,null,null,null,null,null,null,null,null,null,null,null,null,null,null,null,null,null,null,null,null,null,null,null,null,null,null,null,null,null,null,null,null,null,null,956]
[null,null,null,null,null,null,null,null,null,null,null,null,null,null,null,null,null,null,null,null,null,null,null,null,null,null,null,null,null,null,null,null,null,null,null,null,null,null,null,null,null,null,null,null,null,null,null,null,null,null,null,null,null,null,null,null,null,null,null,957]
[null,null,null,null,null,null,null,null,null,null,null,null,null,null,null,null,null,null,null,null,null,null,null,null,null,null,null,null,null,null,null,null,null,null,null,null,null,null,null,null,null,null,null,null,null,null,null,null,null,null,null,null,null,null,null,null,null,null,null,958]
[null,null,null,null,null,null,null,null,null,null,null,null,null,null,null,null,null,null,null,null,null,null,null,null,null,null,null,null,null,null,null,null,null,null,null,null,null,null,null,null,null,null,null,null,null,null,null,null,null,null,null,null,null,null,null,null,null,null,null,959]
[null,null,null,null,null,null,null,null,null,null,null,null,null,null,null,null,null,null,null,null,null,null,null,null,null,null,null,null,null,null,null,null,null,null,null,null,null,null,null,null,null,null,null,null,null,null,null,null,null,null,null,null,null,null,null,null,null,null,null,960]
[null,null,null,null,null,null,null,null,null,null,null,null,null,null,null,null,null,null,null,null,null,null,null,null,null,null,null,null,null,null,null,null,null,null,null,null,null,null,null,null,null,null,null,null,null,null,null,null,null,null,null,null,null,null,null,null,null,null,null,961]
[null,null,null,null,null,null,null,null,null,null,null,null,null,null,null,null,null,null,null,null,null,null,null,null,null,null,null,null,null,null,null,null,null,null,null,null,null,null,null,null,null,null,null,null,null,null,null,null,null,null,null,null,null,null,null,null,null,null,null,962]
[null,null,null,null,null,null,null,null,null,null,null,null,null,null,null,null,null,null,null,null,null,null,null,null,null,null,null,null,null,null,null,null,null,null,null,null,null,null,null,null,null,null,null,null,null,null,null,null,null,null,null,null,null,null,null,null,null,null,null,963]
[null,null,null,null,null,null,null,null,null,null,null,null,null,null,null,null,null,null,null,null,null,null,null,null,null,null,null,null,null,null,null,null,null,null,null,null,null,null,null,null,null,null,null,null,null,null,null,null,null,null,null,null,null,null,null,null,null,null,null,964]
[null,null,null,null,null,null,null,null,null,null,null,null,null,null,null,null,null,null,null,null,null,null,null,null,null,null,null,null,null,null,null,null,null,null,null,null,null,null,null,null,null,null,null,null,null,null,null,null,null,null,null,null,null,null,null,null,null,null,null,965]

{"sheet":"Language","index":7,"n_rows":98,"n_cols":18,"rows_kept":98,"cut":false,"hidden":true,"merged":[]}
[null,null,null,null,null,null,null,null,null,null,null,null,null,null,null,null,"SUN2000",2]
["中文","English","Deutsch","French",null,null,null,null,null,null,null,null,null,null,null,null,null,2]
["组件数：","Module number:","Anzahl Module:","nombre module",null,null,null,null,null,null,null,null,null,null,null,null,{"$f":"A2","v":"中文"}]
["组件标称功率：","PV Nominal Power:","PV Nennleistung:","Puissance nominale PV",null,null,null,null,null,null,null,null,null,null,null,null,{"$f":"B2","v":"English"}]
["串联组件数：","Module in Series","Module in Reihe","Module en série",null,null,null,null,null,null,null,null,null,null,null,null,{"$f":"C2","v":"Deutsch"}]
["并联串数：","Number of strings","Anzahl Strings ","nombre de strings",null,null,null,null,null,null,null,null,null,null,null,null,{"$f":"D2","v":"French"}]
["逆变器选择：","Inverter Type","Wechslerichtertyp","type d'onduleur",null,null,null,null,null,null,null,null,null,null,null,null,{"$f":"E2","v":0}]
["环境温度：","Ambient Temperature","Umgebungstemperatur","température ambiante",null,null,null,null,null,null,null,null,null,null,null,null,{"$f":"F2","v":0}]
["组件选择：","PV Module Type","PV Modultyp","type de module PV",null,null,null,null,null,null,null,null,null,null,null,null,{"$f":"G2","v":0}]
["制造商:","Manufacturer","Hersteller","Fabricant",null,null,null,null,null,null,null,null,null,null,null,null,{"$f":"H2","v":0}]
["型号:","Model","Modell","Model"]
["组件参数（STC：辐照 1000W/m²,组件温度 25℃,AM=1.5）","PV Parameters（STC：Irradiance 1000W/m²,module temperature 25℃,AM=1.5）","PV Felddaten（STC：Einstrahlung 1000W/m²,Modul 25℃,AM=1.5）","paramètres PV ….température module"]
["逆变器参数","Inverter Parameters","Wechselrichterdaten","paramètres de l'onduleur"]
["最大MPPT电流：","Max.MPPT Current:","Maximaler MPPT Strom:","Intensité max MPPT"]
["组件总数：","Total modules:","∑  Module:","total modules"]
["输入总功率：","Total Input Power:","Gesamteingangsl.:","Puissance d'entrée totale"]
["语言：","Language","Sprache","langue"]
["系统参数：","System Result","Systemergebnis","résultat du système"]
["配置因素"," Layout factor:","Layout Faktor:","Facteur de puissance "]
["（组件功率 / 逆变器有功功率）","(Nominal PV Power / Inverter active power\n )","PV Nennleistung /  Wechselrichterwirkleistung","Puissance nominale PV/Inverseur puissance active"]
["额定输出功率","Rated output power ：","Nennausgangsleistung:","Puissance de sortie"]
["最大输入功率","Max.input Power：","Max. Eingangsleistung:","puissance max entrée"]
["最大输入电压","Max.input Voltage：","Max. Eingangsspannung:","tension max entrée"]
["工作电压","Operating Voltage：","Betriebsspannung:","tension de fonctionnement"]
["MPP电压范围","MPP Voltage Range：","MPP Spannungsbereich:","plage de tension MPP"]
["额定输入电压","Rated input Voltage：","Enigangsnennspannung:","Tension d'entrée nominale"]
["输入路数","Number of input：","Anzahl der Eingänge:","nombre d'entrée"]
["MPPT路数","Number of MPP trackers：","Anzahl der MPP Tracker:","Nombre de tracker MPP"]
["最大输入MPPT电流","Max. MPP Current：","Max. MPP Strom:","intensité max MPP"]
["最大输出功率","Max. output Power：","Max. Ausgangsleistung:","Puissance max de sortie"]
["额定输出电压","Rated output Voltage：","Nennausgangsspannung:","tension nominale de sortie"]
["输出频率","AC Power Frequency：","Netzfrequenz:","Fréquence d'alimentation CA"]
["最大输出电流","Max. output current：","Max. Ausgangsstrom:","intensité max de sortie"]
["功率因数","Power Factor：","Leistungsfaktor:","Facteur de puissance"]
["最大总谐波","Max. Total Harmonic Distortion(THD)：","Maximaler THDv:","Distorsion Harmoniques max THD"]
["工作温度","Operating Temperature：","Betriebstemperatur:","température de fonctionnement"]
["最大效率","Max. efficiency：","Max. Wirkungsgrad:","rendement max"]
["欧洲效率","Euro. Efficiency：","Europäischer Wirkungsgrad:","rendement Eur"]
["行号","Row number","Anzahl Strings:","nombre de strings"]
["请确认所有参数的正确性！","Please make sure that all parameters are correct!","Bitte stellen Sie sicher dass alle Einstellungen korrekt sind!","s'il vous plait, veuillez vérifier que tous les paramètres sont corrects"]
["方位角:","Azimuth ","Azimut(0=S)","azimut"]
[]
["在删除之前，请仔细确认组件是否正确！","Please make sure you want to delete the module","Sind Sie sicher, dass Sie dieses Modul löschen wollen?","êtes vous sur de vouloir supprimer le module?"]
[{"$f":"\"\"","v":""}," before pressing the \"DEL\" button!","bitte drücken Sie die Taste \"Entf\"","avant d'appuyer sur le bouton \"DEL\""]
["位置：","Location","Ort:","Lieu"]
["倾角：","Inclination","Neigung","inclinaison"]
["水平辐照","Global Irradiation","Globale Einstrahlung","irradiation globale"]
["组件辐照","Irradiation on module","Modul Einstrahlung","irradiation sur le module"]
["效率","Efficiency:","Wirkungsgrad:","rendement"]
["组件面积","Module area:","Modulfläche:","surface module"]
["年发电量","Yield yearly:","Jährlicher Ertrag:","production annuelle"]
["最大电压","Max. Voltage:","Max. Spannung:","tension max"]
["国家","Country","Land","pays"]
["城市","City","Stadt","ville"]
["经度","Longitude","Längengrad","longitude"]
["纬度","Latitude","Breitengrad","latitude"]
["总辐照","Global Irradiation","Globale Einstrahlung","irradiation globale"]
["散射辐照","Diffuse Irradiation","Diffuse Einstrahlung","Irradiation diffuse"]
["月份","Monthly","Monatlich","mensuel/ mensuelle"]
["请输入制造商名！","Please input the manufacturer name!","Bitte geben Sie den Namen des Herstellers ein!","s'il vous plait, précisez le nom du fabricant"]
["请输入组件型号！","Please input the model name!","Bitte geben Sie den Namen des Modells ein!","s'il vous plait, précisez le modèle"]
["在删除之前，请仔细确认地点信息是否正确！","Please make sure you want to delete the site","Wollen Sie diese Daten wirklich löschen?","êtes vous sur de vouloir supprimer le site?"]
["(如果没有散射数据，该项可以不填)","(It could be left blank if no information available for diffuse irradiation.)","(Diese Feld kann leer gelassen werden, wenn keine Information zur diffusen Einstrahlung vorliegt.)","pas nécessaire si aucune information disponible pour l'irradiation diffuse"]
["你确定要添加该组件吗？","Do you want to add this module?","Wollen Sie dieses Modul hinzufügen?","voulez vous ajouter ce module?"]
["添加成功！","Successfully added!","Erfolgreich!","ajout réussi!"]
["请填写完地点名！","Please complete the site name!","Bitte geben sie einen Ort ein !","s'il vous plait, précisez le nom du site "]
["请输入纬度！","Please input the latitude!","Bitte geben Sie den Breitengrad ein!","s'il vous plait, précisez la latitude"]
["你确定要添加该地点吗？","Do you want to add this location?","Wollen Sie diesen Ort einfügen?","voulez vous ajouter ce lieu?"]
["请选择一个组件！","Please select one module!","Bitte wählen Sie ein Modul!","s'il vous plait, selectionnez un module"]
["你确定要删除该组件？","Do you really want to delete this model?","Wollen Sie dieses Modell wirklich löschen?","voulez vous réellement supprimer ce modèle"]
["删除成功！","Successfully deleted！","Erfolgreich gelöscht!","supression réussi"]
["请选择一个地点！","Please select one location!","Bitte wählen Sie einen Ort!","s'il vous plait, selectionnez un lieu"]
["你确定要删除该地点？","Do you really want to delete this location?","Wollen Sie diesen Ort wirklich löschen?","voulez vous réellement supprimer ce lieu"]
["性能比PR","Performance Ratio:","Performance Ratio:","taux de performance"]
["电压太高","Too high","zu hoch","trop élevé"]
["电压太低","Too low","zu niedrig","trop faible"]
["过流","Over current","Überstrom","sur intensité"]
["设定配置因数","Defined Layout factor","Definition Layout Faktor","Facteur de puissance "]
[]
["输入功率太大","Input power too large","Eingangsleistung zu hoch","puissance d'entrée trop large"]
["添加地点","Add Site","Hinzufügen","ajouter site"]
["删除地点","Delete Site","Entfernen","supprimer site"]
["删除","Del","Entf","Suppr."]
["添加","Add","Add","Ajouter"]
["添加组件","Add Module","Modul Hinzufügen","ajouter module"]
["删除组件","Delete Module","Modul Entfernen","supprimer module"]
["安装方式","Mounting Mode","Aufstellung","type d'installation"]
["平铺","Roof top ","Dachmontage","toiture"]
["倾斜","Ground mounted","Freiflächenanlage","au sol"]
["架空","Built on tracker","Montage auf Tracker ","sur tracker"]
["电池板平铺在安装表面","The module are installed on a roof top.","Die Module sind auf einer Dachfläche montiert.","le module est installé sur une toiture"]
["电池板倾斜，底部立于安装表面","The module are on racks. ","Die Module sind auf Gestelle montiert.","le module est installé sur des rails"]
["电池板架空，底部远离安装表面","The modules are mounted on Tracker.","Die Module sind auf Nachführungssysteme montiert.","le module est installé sur un tracker"]
["取消","Back","Zurück","retour"]
["继续","Continue","Weiter","continuer"]
["高辐照时组件温升","Temperature rise ","Temperaturanstieg","élévation de la température du"]
["该组件已经存在，无法重复添加","The module already exists, you can not add again","Die Montage bereits vorhanden ist, können Sie nicht duplizieren hinzufügen","L'ensemble existe déjà, vous ne pouvez pas dupliquer ajouter"]
["添加组件个数超过上限，无法继续添加","The module number exceeds max limit, can't continue to add","Die Zahl der zusatz - obergrenze überschreiten, nicht auch noch","Ajouter un nombre dépasse la limite supérieure, ne peut pas continuer à ajouter"]

{"sheet":"test","index":8,"n_rows":3,"n_cols":3,"rows_kept":3,"cut":false,"hidden":true,"merged":[]}
[null,null,155]
[null,null,187]
[null,null,89]